{"text_format":"1","workbook":"xlsx","n_sheets":19,"sheets":["申込書","遠隔機能","平面図","表紙","ExtList","ﾋｱﾘﾝｸﾞｼｰﾄ(基本)","List","回線関係","ListWork","内線種別","キー割付","ﾋｱﾘﾝｸﾞｼｰﾄ(着信拒否)","ﾋｱﾘﾝｸﾞｼｰﾄ(ﾓｰﾄﾞ切替・留守応答)","ﾋｱﾘﾝｸﾞｼｰﾄ(ガイダンス設定)","着信拒否","ﾓｰﾄﾞ切替・特定日・留守応答","ガイダンス設定","key","key_編集用"],"not_rendered":{"charts":0,"images":26,"macros":1,"external_links":0,"defined_names":916,"comments":1,"pivot_tables":0},"unopened":[],"bounds":{"document_bytes":16777216,"sheet_cells":100000,"rows_first":2000,"rows_last":500,"rows_between":2000,"halvings":0,"cell_chars":16384,"cell_head_chars":4096},"cells_cut":0,"cells_raw":0,"read":"whole","date_system":"1900"}

{"sheet":"申込書","index":0,"n_rows":104,"n_cols":57,"rows_kept":104,"cut":false,"hidden":false,"merged":[[31,14,31,15],[31,16,31,25],[31,26,31,28],[31,29,31,31],[32,14,32,15],[32,16,32,25],[32,26,32,28],[30,14,30,15],[30,16,30,25],[53,42,53,58],[15,39,15,53],[17,39,17,53],[53,36,53,41],[53,29,53,35],[17,33,17,38],[30,26,30,28],[30,29,30,31],[30,32,32,58],[37,38,37,58],[43,36,44,48],[43,49,43,53],[43,54,43,55],[43,56,43,57],[44,24,44,28],[44,29,44,30],[44,31,44,32],[44,49,44,53],[44,54,44,55],[44,56,44,57],[45,36,46,48],[45,49,45,53],[45,54,45,55],[47,36,48,48],[86,34,86,39],[86,40,86,58],[12,1,14,8],[12,9,12,11],[12,12,12,53],[13,9,14,53],[15,1,16,8],[15,9,15,10],[15,11,15,13],[15,15,15,18],[15,33,15,38],[17,27,17,32],[18,1,18,2],[18,3,18,8],[18,9,18,53],[15,27,15,32],[16,9,16,53],[17,1,17,8],[17,9,17,10],[17,11,17,13],[17,15,17,18],[15,19,15,26],[17,19,17,26],[49,36,49,58],[1,1,1,53],[3,45,3,52],[11,1,11,8],[11,9,11,10],[11,11,11,14],[11,16,11,20],[11,21,11,24],[11,25,11,28],[11,29,11,31],[25,1,25,8],[25,9,25,53],[27,1,27,58],[19,1,19,8],[20,1,24,8],[20,9,21,13],[20,14,21,53],[22,9,24,13],[22,14,22,16],[22,17,22,53],[23,14,24,53],[19,41,19,53],[19,9,19,40],[36,1,36,8],[36,9,36,10],[36,11,36,22],[36,23,36,24],[36,25,36,35],[36,36,36,58],[32,29,32,31],[34,1,34,58],[35,1,35,8],[35,9,35,10],[35,11,35,22],[35,23,35,24],[35,25,35,35],[35,36,35,37],[35,47,35,48],[35,49,35,58],[28,1,32,8],[28,9,29,13],[28,14,28,15],[28,16,28,26],[28,27,29,58],[29,14,29,15],[29,16,29,26],[30,9,32,13],[39,1,39,8],[39,9,39,10],[39,11,39,33],[39,34,39,35],[39,36,39,58],[37,1,37,8],[37,9,37,10],[37,11,37,22],[37,23,37,24],[37,25,37,35],[37,36,37,37],[40,1,40,8],[40,9,40,10],[40,11,40,33],[40,34,40,35],[40,36,40,58],[41,1,48,8],[41,9,42,10],[41,11,42,23],[41,24,41,28],[41,29,41,30],[42,49,42,53],[42,54,42,55],[42,56,42,57],[41,31,41,32],[41,34,42,35],[41,36,42,48],[41,49,41,53],[41,54,41,55],[41,56,41,57],[43,9,44,10],[43,11,44,23],[43,24,43,28],[43,29,43,30],[43,31,43,32],[45,9,46,10],[45,11,46,23],[45,24,45,28],[45,29,45,30],[45,31,45,32],[45,34,46,35],[43,34,44,35],[42,24,42,28],[42,29,42,30],[42,31,42,32],[52,49,52,58],[45,56,45,57],[46,24,46,28],[46,29,46,30],[46,31,46,32],[46,49,46,53],[46,54,46,55],[46,56,46,57],[47,56,47,57],[48,24,48,28],[48,29,48,30],[48,31,48,32],[48,49,48,53],[48,54,48,55],[48,56,48,57],[49,34,49,35],[49,11,49,28],[49,31,49,33],[51,1,51,8],[51,9,51,33],[51,34,51,58],[47,9,48,10],[47,11,48,23],[47,24,47,28],[47,29,47,30],[47,31,47,32],[47,34,48,35],[49,1,50,8],[50,9,50,10],[49,9,49,10],[50,11,50,33],[50,34,50,58],[49,29,49,30],[47,49,47,53],[47,54,47,55],[56,1,58,8],[56,9,56,19],[56,20,56,39],[56,40,58,58],[57,9,57,19],[57,20,57,39],[58,9,58,19],[58,20,58,39],[54,9,55,12],[54,13,55,30],[54,31,55,36],[54,37,54,39],[54,40,54,58],[55,37,55,58],[53,9,53,10],[52,1,55,8],[52,9,52,12],[52,13,52,26],[52,27,52,30],[52,31,52,42],[52,43,52,48],[69,1,69,58],[72,1,74,8],[72,9,72,17],[72,18,72,58],[73,9,73,17],[73,18,73,58],[74,9,74,17],[74,18,74,58],[60,1,60,58],[64,1,67,8],[64,9,64,13],[64,14,64,33],[64,34,64,58],[65,9,65,13],[65,14,65,33],[65,35,65,58],[66,9,67,13],[66,14,67,33],[66,34,67,39],[66,40,66,42],[66,43,66,58],[67,40,67,58],[78,1,78,53],[80,1,82,8],[80,15,80,24],[80,27,80,31],[80,32,82,58],[81,10,81,13],[82,15,82,22],[82,27,82,31],[84,1,84,53],[79,1,79,8],[79,9,79,31],[79,32,79,58],[90,1,91,58],[93,1,93,9],[93,10,93,11],[93,12,93,31],[93,32,93,33],[93,34,93,58],[87,9,88,26],[87,27,88,31],[87,32,87,34],[87,35,87,58],[88,32,88,58],[85,1,88,8],[85,9,85,29],[85,30,85,32],[85,33,85,58],[86,9,86,10],[86,11,86,13],[86,15,86,18],[86,19,86,26],[86,27,86,33],[99,27,99,36],[99,37,99,58],[94,42,94,58],[95,1,95,9],[95,10,95,13],[95,14,95,16],[95,17,95,28],[95,29,95,31],[95,32,95,41],[95,42,95,58],[94,1,94,9],[94,10,94,13],[94,14,94,16],[94,17,94,28],[94,29,94,31],[94,32,94,41],[96,1,96,9],[96,10,96,13],[96,14,96,16],[96,17,96,28],[96,29,96,31],[96,32,96,41],[96,42,96,58],[53,11,53,13],[53,15,53,18],[53,19,53,28],[106,1,106,53],[102,1,102,13],[102,14,102,26],[102,27,102,36],[102,37,102,58],[103,1,105,13],[103,14,105,58],[100,1,100,13],[100,14,100,26],[100,27,100,36],[100,37,100,58],[101,1,101,13],[101,14,101,26],[101,27,101,36],[101,37,101,58],[98,1,98,13],[98,14,98,26],[98,27,98,36],[98,37,98,58],[99,1,99,13],[99,14,99,26]]}
[]
[null,"おまかせオフィステレフォンサービス申込書"]
[]
[null,"おまかせオフィステレフォンの利用規約に同意の上、以下のとおり申し込みます。"]
[]
[null,"□　おまかせオフィステレフォンの利用規約及び重要説明事項に同意の上、以下のとおり申し込みます。"]
[null,"□　最低利用期間内※に解約した際の解約金について了承します。　※5年プラン：60カ月以内、2年プラン：24か月以内"]
[null,"おまかせオフィステレフォンサービス利用規約：XXXXXX.pdf"]
[]
[]
[null,"■基本情報"]
[null,"お申し込み日",null,null,null,null,null,null,null,"西暦",null,null,null,null,null,"年",null,null,null,null,null,"月",null,null,null,null,null,null,null,"日"]
[null,"ご契約者名\n（法人・企業名）",null,null,null,null,null,null,null,"フリガナ"]
[]
[]
[null,"契約者住所",null,null,null,null,null,null,null,"〒",null,null,null,null,"-",null,null,null,null,"都道府県を選択してください",null,null,null,null,null,null,null,null,null,null,null,null,null,"市・区・町・村・郡"]
[]
[null,"設置場所住所",null,null,null,null,null,null,null,"〒",null,null,null,null,"-",null,null,null,null,"都道府県を選択してください",null,null,null,null,null,null,null,null,null,null,null,null,null,"市・区・町・村・郡"]
[null,"□",null,"契約者住所と同じ"]
[null,"契約者電話番号",null,null,null,null,null,null,null,null,null,null,null,null,null,null,null,null,null,null,null,null,null,null,null,null,null,null,null,null,null,null,null,null,null,null,null,null,null,null,null,"※電話番号は半角数字でご記入ください。"]
[null,"お申し込み者",null,null,null,null,null,null,null,"部署名"]
[]
[null,null,null,null,null,null,null,null,null,"氏名",null,null,null,null,"フリガナ"]
[]
[]
[null,"お申し込み者電話番号"]
[]
[null,"■ご契約状況"]
[null,"ひかり電話利用状況",null,null,null,null,null,null,null,"ご契約状況",null,null,null,null,"□",null,"利用中",null,null,null,null,null,null,null,null,null,null,"※新規にフレッツ光をお申し込みされる場合はフレッツ光の申し込みフローにしたがってください。\n※新規の場合も、必ずひかり電話契約内容をご記入ください。"]
[null,null,null,null,null,null,null,null,null,null,null,null,null,null,"□",null,"新規にお申し込み"]
[null,null,null,null,null,null,null,null,null,"ご契約内容",null,null,null,null,"□",null,"ひかり電話オフィスA",null,null,null,null,null,null,null,null,null,null,null,null,"チャネル",null,null,"※ひかり電話、ひかり電話オフィスタイプをご利用のお客様で、着信時に電話番号の表示を\n   希望される場合は別途ナンバーディスプレイのご契約が必要です。"]
[null,null,null,null,null,null,null,null,null,null,null,null,null,null,"□",null,"ひかり電話オフィスタイプ",null,null,null,null,null,null,null,null,null,null,null,null,"チャネル"]
[null,null,null,null,null,null,null,null,null,null,null,null,null,null,"□",null,"ひかり電話/ひかり電話A",null,null,null,null,null,null,null,null,null,null,null,null,"チャネル"]
[]
[null,"■お申込み情報"]
[null,"申込み形態",null,null,null,null,null,null,null,"□",null,"サービスの新規お申込み",null,null,null,null,null,null,null,null,null,null,null,"□",null,"オプション品の追加・廃止",null,null,null,null,null,null,null,null,null,null,"□",null,"サービスの廃止",null,null,null,null,null,null,null,null,"□",null,"サービスの移転"]
[null,"設置工事",null,null,null,null,null,null,null,"□",null,"NTT工事",null,null,null,null,null,null,null,null,null,null,null,"□",null,"お客様設置（ＤＩＹ）"]
[null,"LAN配線",null,null,null,null,null,null,null,"□",null,"NTT工事",null,null,null,null,null,null,null,null,null,null,null,"□",null,"お客様設置（ＤＩＹ）",null,null,null,null,null,null,null,null,null,null,"□",null,"おまかせLAN配線メニュー"]
[]
[null,"提供形態",null,null,null,null,null,null,null,"□",null," レンタル",null,null,null,null,null,null,null,null,null,null,null,null,null,null,null,null,null,null,null,null,null,null,"□",null," お買上げ"]
[null,"プラン",null,null,null,null,null,null,null,"□",null," 5年プラン",null,null,null,null,null,null,null,null,null,null,null,null,null,null,null,null,null,null,null,null,null,null,"□",null," 2年プラン"]
[null,"オプション",null,null,null,null,null,null,null,"□",null," IP多機能電話機",null,null,null,null,null,null,null,null,null,null,null,null,"新規・追加",null,null,null,null,null,null,"台",null,null,"□",null,"　DECLDIV-IP8スロットCS",null,null,null,null,null,null,null,null,null,null,null,null,"新規・追加",null,null,null,null,null,null,"台"]
[null,null,null,null,null,null,null,null,null,null,null,null,null,null,null,null,null,null,null,null,null,null,null,null,"廃止",null,null,null,null,null,null,"台",null,null,null,null,null,null,null,null,null,null,null,null,null,null,null,null,null,"廃止",null,null,null,null,null,null,"台"]
[null,null,null,null,null,null,null,null,null,"□",null," IPカールコードレス電話機",null,null,null,null,null,null,null,null,null,null,null,null,"新規・追加",null,null,null,null,null,null,"台",null,null,"□",null," ZX-8ポート給電HUB",null,null,null,null,null,null,null,null,null,null,null,null,"新規・追加",null,null,null,null,null,null,"台"]
[null,null,null,null,null,null,null,null,null,null,null,null,null,null,null,null,null,null,null,null,null,null,null,null,"廃止",null,null,null,null,null,null,"台",null,null,null,null,null,null,null,null,null,null,null,null,null,null,null,null,null,"廃止",null,null,null,null,null,null,"台"]
[null,null,null,null,null,null,null,null,null,"□",null," DECLDIV-コードレス電話機\n ※ハンディタイプ\n    DECLDIV-IP8スロットCS必須",null,null,null,null,null,null,null,null,null,null,null,null,"新規・追加",null,null,null,null,null,null,"台",null,null,"□",null," ZX-給電アダプタ",null,null,null,null,null,null,null,null,null,null,null,null,"新規・追加",null,null,null,null,null,null,"台"]
[null,null,null,null,null,null,null,null,null,null,null,null,null,null,null,null,null,null,null,null,null,null,null,null,"廃止",null,null,null,null,null,null,"台",null,null,null,null,null,null,null,null,null,null,null,null,null,null,null,null,null,"廃止",null,null,null,null,null,null,"台"]
[null,null,null,null,null,null,null,null,null,"□",null," DECLDIV-KT型コードレス電話機\n ※標準電話機タイプ\n　　DECLDIV-IP8スロットCS必須",null,null,null,null,null,null,null,null,null,null,null,null,"新規・追加",null,null,null,null,null,null,"台",null,null,"□",null," IP単体電話機アダプタ\n（レンタル無し）",null,null,null,null,null,null,null,null,null,null,null,null,"新規・追加",null,null,null,null,null,null,"台"]
[null,null,null,null,null,null,null,null,null,null,null,null,null,null,null,null,null,null,null,null,null,null,null,null,"廃止",null,null,null,null,null,null,"台",null,null,null,null,null,null,null,null,null,null,null,null,null,null,null,null,null,"廃止",null,null,null,null,null,null,"台"]
[null,"ライセンス類利用有無",null,null,null,null,null,null,null,"□",null,"ひかり電話ライセンス",null,null,null,null,null,null,null,null,null,null,null,null,null,null,null,null,null,null,null,"ライセンス",null,null,"□",null,"迷惑電話ブロックライセンス"]
[null,null,null,null,null,null,null,null,null,"□",null,"音声合成ライセンス"]
[null,"ご利用希望開始日",null,null,null,null,null,null,null,null,null,null,null,null,null,null,null,null,null,null,null,null,null,null,null,null,null,null,null,null,null,null,null,null,"※サービス廃止・移転の申込み時は、廃止日・移転日をご記入ください。"]
[null,"機器配送先住所\n※お客様設置の場合のみ",null,null,null,null,null,null,null,"□",null,null,null,"設置場所住所と同じ",null,null,null,null,null,null,null,null,null,null,null,null,null,"□",null,null,null,"契約者住所と同じ",null,null,null,null,null,null,null,null,null,null,null,"□",null,null,null,null,null,"その他 （下記記載）"]
[null,null,null,null,null,null,null,null,null,"〒",null,null,null,null,"-",null,null,null,null,"都道府県を選択してください",null,null,null,null,null,null,null,null,null,null,null,null,null,null,null,null,"市・区・町・村・郡"]
[null,null,null,null,null,null,null,null,null,"（建物名）",null,null,null,null,null,null,null,null,null,null,null,null,null,null,null,null,null,null,null,null,null,"氏名",null,null,null,null,null,"フリガナ"]
[]
[null,"工事希望日\n※NTT設置工事の場合のみ",null,null,null,null,null,null,null,"第一希望日"]
[null,null,null,null,null,null,null,null,null,"第二希望日"]
[null,null,null,null,null,null,null,null,null,"第三希望日"]
[null,null,null,null,null,null,null,null,null,{"$f":"IF(IFERROR(VALUE(申込_電話機_降1),\"0\")+IFERROR(VALUE(申込_電話機_降2),\"0\")>IFERROR(VALUE(申込_IP8スロットCS),\"0\")*8,1,0)","v":0},{"$f":"SUM(申込_電話機_昇1,申込_電話機_昇2,申込_電話機_降1,申込_電話機_降2,申込_電話機_降3)","v":0},null,null,null,null,null,null,null,null,null,null,null,null,null,null,null,null,null,null,null,null,null,null,null,null,null,null,null,null,null,{"$f":"IF(40<K60,\"電話機は40台まで収容することができます。\",\"\")","v":""}]
[null,"■お客様ご連絡先"]
[null,null,"※日中に必ず連絡が可能な電話番号等とメールアドレスをご記入ください。"]
[null,null,"　メンテナンス情報やサービスに関するご案内をメールでご連絡する場合がございます。"]
[null,null,"※メールアドレスのご記入がない場合は、上記ご案内ができない可能性があることを了承済みとさせていただきます。"]
[null,"お客さま\nご連絡先",null,null,null,null,null,null,null,"電話番号"]
[null,null,null,null,null,null,null,null,null,"メールアドレス",null,null,null,null,null,null,null,null,null,null,null,null,null,null,null,null,null,null,null,null,null,null,null,null,"@"]
[null,null,null,null,null,null,null,null,null,"部署名",null,null,null,null,null,null,null,null,null,null,null,null,null,null,null,null,null,null,null,null,null,null,null,null,"氏名",null,null,null,null,null,"フリガナ"]
[]
[]
[null,"■プロバイダ情報"]
[null,null,"※おまかせオフィステレフォン主装置にプロバイダ情報を登録する場合はご記入ください。"]
[null,null,null,"お客様にて登録、外付けルータでの対応、IPoE接続の場合は記載不要です。"]
[null,"プロバイダ情報",null,null,null,null,null,null,null,"接続先ユーザ名"]
[null,null,null,null,null,null,null,null,null,"接続パスワード"]
[null,null,null,null,null,null,null,null,null,"認証方式",null,null,null,null,null,null,null,null,"自動認証"]
[null,null,null,null,null,null,null,null,null,null,null,null,null,null,null,null,null,null,null,null,null,null,null,null,null,null,null,null,null,null,null,null,null,null,null,null,null,null,"認証方式に関しましては各種プロバイダ情報をご確認ください。"]
[null,"■　請求書送付先"]
[]
[null,"フレッツ光をご利用の場合は、フレッツ光の請求書送付先と同一となります。お客さまＩＤを以下にご入力ください。【回線契約型】"]
[null,"回線種別"]
[null,"お客さまID",null,null,null,null,null,null,null,null,"□","CAF",null,null,"（",null,null,null,null,null,null,null,null,null,null,"）",null,"数字10桁",null,null,null,null,"お客さまIDはフレッツ光の「開通のご案内」でご確認ください。"]
[null,null,null,null,null,null,null,null,null,null,"または"]
[null,null,null,null,null,null,null,null,null,null,"□","COP",null,null,"（",null,null,null,null,null,null,null,null,null,null,null,null,"数字8桁"]
[]
[null,"フレッツ光をご利用でない場合（コラボ回線・他社回線）は、以下に送付先住所をご入力ください。【回線非契約型】"]
[null,"請求書送付先",null,null,null,null,null,null,null,"契約者住所と同一の場合、右にチェックをしてください",null,null,null,null,null,null,null,null,null,null,null,null,null,null,null,null,null,null,null,null,"□"]
[null,null,null,null,null,null,null,null,null,"〒",null,null,null,null,"-",null,null,null,null,"都道府県を選択してください",null,null,null,null,null,null,null,null,null,null,null,null,null,null,"市・区・町・村・郡"]
[null,null,null,null,null,null,null,null,null,null,null,null,null,null,null,null,null,null,null,null,null,null,null,null,null,null,null,"宛名",null,null,null,null,"フリガナ"]
[]
[]
[null,"-------------------------------------------　　以下弊社入力欄　　-------------------------------------------"]
[]
[]
[null,"設定方法",null,null,null,null,null,null,null,null,"□",null,"お客様DIY",null,null,null,null,null,null,null,null,null,null,null,null,null,null,null,null,null,null,null,"□",null,"サポートセンタにて実施"]
[null,"ヒアリングシート",null,null,null,null,null,null,null,null,"有無",null,null,null,"□",null,null,"ヒアリングシートあり",null,null,null,null,null,null,null,null,null,null,null,"□",null,null,"ヒアリングシートなし",null,null,null,null,null,null,null,null,null,"※お客様設置(DIY)かつおまかせオフィステレフォンを初期設定(設定変更無し)でお使いの場合のみ、ヒアリングシート不要です。"]
[null,"詳細設定シート",null,null,null,null,null,null,null,null,"有無",null,null,null,"□",null,null,"詳細設定シートあり",null,null,null,null,null,null,null,null,null,null,null,"□",null,null,"詳細設定シートなし",null,null,null,null,null,null,null,null,null,"※かんたん設定ウィザード上で対応できない設定を希望される場合に必要となります。"]
[null,"旧機種からの設定変更\n※NTTビジ・旧オフィステレフォン\nからの更改の場合のみ",null,null,null,null,null,null,null,null,"有無",null,null,null,"□",null,null,"あり",null,null,null,null,null,null,null,null,null,null,null,"□",null,null,"なし"]
[]
[null,"支社/支店",null,null,null,null,null,null,null,null,null,null,null,null,null,null,null,null,null,null,null,null,null,null,null,null,null,"部"]
[null,"部門",null,null,null,null,null,null,null,null,null,null,null,null,null,null,null,null,null,null,null,null,null,null,null,null,null,"担当名/ユニット"]
[null,"販売担当者名",null,null,null,null,null,null,null,null,null,null,null,null,null,null,null,null,null,null,null,null,null,null,null,null,null,"販売担当者氏名コード"]
[null,"販売chコード",null,null,null,null,null,null,null,null,null,null,null,null,null,null,null,null,null,null,null,null,null,null,null,null,null,"TEL"]
[null,"Mail",null,null,null,null,null,null,null,null,null,null,null,null,null,null,null,null,null,null,null,null,null,null,null,null,null,"FAX"]
[null,"連絡欄\n\n※移転時はこちらに詳細記載"]

{"sheet":"遠隔機能","index":1,"n_rows":10,"n_cols":5,"rows_kept":10,"cut":false,"hidden":false,"merged":[[8,2,8,3],[9,1,9,4],[1,0,1,4],[2,0,2,4],[4,2,4,3],[5,2,5,3],[6,2,6,3],[7,2,7,3]]}
["αZXⅡ-Slim設定依頼書（サポートサーバー連携）"]
["【営業担当者の方へ】\n　お客様からαZXⅡ-Slimの申込を頂いた場合は必ず以下の機能について説明してください。\nまた、サポートサーバ連携機能はデフォルトで全機能を提供していますが、お客様から同意いただけない場合はチェックを外してください。"]
["【工事担当者の方へ】\n　項目①~④のチェックが欄ににチェックがある項目は必ずシステムデータ設定を行ってください。\nまた、設定が完了したら、開通確認のチェックをお願いします。"]
[]
["項目","内容","関連データ",null,"チェック欄\n（営業担当者）"]
["①","データお預かり機能","サービス機能名　：　データバックアップ\nシステムデータ項目　12-61、62、65",null,"✔"]
["②","故障お知らせ機能","サービス機能名　：　アラーム自動発報・運用監視\nシステムデータ項目　12-61、62、71",null,"✔"]
["③","利用状況閲覧機能","サービス機能名　：　機器情報収集\nシステムデータ項目　12-61、62、69、70",null,"✔"]
["④","リモート設定機能","サービス機能名　：　リモート設定\nシステムデータ項目　12-61、62",null,"✔"]
["その他","開通時、リモート監視センタ（03-6658-4522）へ連絡し遠隔保守機能の設定・試験を\n行ってください。※受付時間9:00～21:00\n（休日、夜間の場合は翌営業日に連絡をお願いします。）\n\n　●設定データお預かり機能（必須）\n　　・正常にバックアップデータがオフィス系端末サポートシステムにアップロードできるか確認\n\n試験確認後、リモート監視センタにて死活監視機能を有効にします。"]

{"sheet":"平面図","index":2,"n_rows":42,"n_cols":32,"rows_kept":42,"cut":false,"hidden":false,"merged":[[0,0,0,3],[1,6,1,11],[11,3,11,5],[14,0,15,3],[27,0,27,1]]}
["平面図"]
[null,null,null,null,null,null,{"$f":"IF(申込_基本_契約者名=0,\"\",申込_基本_契約者名)","v":""},null,null,null,null,null,"様"]
[]
[]
[]
[]
[]
[]
[]
[]
[null,null,null,null,null,null,null,null,null,null,null,null,null,null,null,null,null,null,"ZXⅡ-Slim主装置"]
[]
[null,null,null,null,null,null,null,null,null,null,null,null,null,null,null,null,null,null,null,null,null,null,null,null,null,null,"ＬＡＮ配線"]
[]
[]
[null,null,null,null,null,null,null,null,null,null,null,null,null,null,null,null,null,null,null,null,null,"給電HUB"]
[]
[]
[]
[]
[null,null,null,null,null,null,null,null,null,null,null,null,null,null,null,null,null,null,"UPS",null,null,null,null,"標準IP電話機",null,"IPカールコードレス",null,"DECLDIV-PS",null,"DECLDIV-IPCS",null,"PSKT"]
[null,null,null,null,null,null,null,null,null,null,null,null,null,null,null,null,null,null,"有り"]
[]
[]
[]
[]
[]
[]
[]
[]
[]
[null,null,null,null,null,null,null,null,null,null,null,null,null,null,null,null,null,null,null,null,null,null,null,null,null,null,null,"IPSLAP",null,null,"FAX複合機"]
[]
[]
[]
[]
[]
[]
[]
[]
[null,null,null,null,null,null,null,null,null,null,null,null,null,null,null,null,null,null,null,null,null,null,null,null,null,"MB510"]
[null,null,null,null,null,null,null,null,null,null,null,null,null,null,null,null,null,null,null,null,null,"単体電話機"]

{"sheet":"表紙","index":3,"n_rows":22,"n_cols":26,"rows_kept":22,"cut":false,"hidden":false,"merged":[[4,2,5,25],[9,3,9,24],[19,3,19,24],[22,3,22,24],[23,3,23,24],[12,3,12,24],[15,3,15,24],[16,3,16,24]]}
[]
[]
[]
[]
[null,null,"ZXⅡ-Slimヒアリングシート"]
[]
[]
[]
[null,null,"◆お客様名"]
[null,null,null,{"$f":"IF(申込_基本_契約者名=0,\"\",申込_基本_契約者名)","v":""},null,null,null,null,null,null,null,null,null,null,null,null,null,null,null,null,null,null,null,null,null,"様"]
[]
[null,null,"◆お申し込み日"]
[null,null,null,{"$f":"IF(申込_基本_年=0,\"\",申込_基本_年 &\"年\")&IF(申込_基本_月=0,\"\",申込_基本_月 &\"月\")&IF(申込_基本_日=0,\"\",申込_基本_日 &\"日\")","v":""}]
[]
[null,null,"◆お客様ご担当者名"]
[null,null,null,{"$f":"IF(申込_基本_担当者部署=0,\"\",申込_基本_担当者部署)","v":""}]
[null,null,null,{"$f":"IF(申込_基本_担当者氏名=0,\"\",申込_基本_担当者氏名)","v":""}]
[]
[null,null,"◆NTT受付年月日"]
[]
[]
[null,null,"◆NTTヒアリング担当"]

{"sheet":"ExtList","index":4,"n_rows":2,"n_cols":11,"rows_kept":2,"cut":false,"hidden":true,"merged":[]}
["内線種別"]
[null,"電話機No","電話機種別","内線番号",null,null,null,null,"List_内線番号","電話機No(TEN)","キー数"]

{"sheet":"ﾋｱﾘﾝｸﾞｼｰﾄ(基本)","index":5,"n_rows":70,"n_cols":10,"rows_kept":70,"cut":false,"hidden":false,"merged":[[65,6,65,7],[62,3,62,4],[63,3,63,4],[51,3,51,4],[65,3,65,4],[60,6,60,7],[61,6,61,7],[62,6,62,7],[63,6,63,7],[64,6,64,7],[64,3,64,4],[61,3,61,4],[50,6,50,7],[24,3,24,4],[60,3,60,4],[41,0,43,1],[44,0,45,1],[43,3,43,4],[41,3,41,4],[24,0,26,0],[50,3,50,4],[24,1,26,1],[25,3,25,4],[26,3,26,4],[30,0,32,0],[30,1,32,1],[30,2,30,3],[30,4,30,6],[5,2,5,3],[37,3,37,4],[38,3,38,4],[39,3,39,4],[40,3,40,4],[36,3,36,4],[27,3,27,6],[36,6,36,7],[31,2,31,3],[31,4,31,6],[32,2,32,3],[32,4,32,6],[28,3,28,6]]}
["ZXⅡSlim　ヒアリングシート"]
[]
["１．ひかり電話契約情報"]
["ご契約情報:",{"$f":"IFERROR(VLOOKUP(A9,申込_契約_ひか契約内容,3,FALSE),\"\")","v":""}]
["お客さまID:",{"$f":"IFERROR(VLOOKUP(A9,申込_客ID_CAF・CAP,2,FALSE),\"\")&IFERROR(VLOOKUP(A9,申込_客ID_CAF・CAP,6,FALSE),\"\")","v":""}]
["ご契約ch数",null,null,null,"電話番号","利用ch数","割付け順位"]
[{"$f":"IFERROR(VALUE(VLOOKUP(A9,申込_契約_ひか契約内容,13,FALSE)),\"\")","v":""},null,1,"契約番号　　",{"$f":"SUBSTITUTE(A11,\"-\",\"\")","v":""},null,null,{"$f":"IF(COUNTIF(ヒ基_利用ch数01,\"FAX*\"),IF(COUNTIF(ヒ基_利用ch数_all,ヒ基_利用ch数01)>1,ヒ基_利用ch数01 & \"重複選択NG\",\"\"),\"\")","v":""},null,{"$f":"IF(F7<>\"\",IF(NOT(ISNUMBER(F7)),1,F7),0)","v":0}]
[null,null,2,"追加番号 ①",null,null,null,{"$f":"IF(COUNTIF(ヒ基_利用ch数02,\"FAX*\"),IF(COUNTIF(ヒ基_利用ch数_all,ヒ基_利用ch数02)>1,ヒ基_利用ch数02 & \"重複選択NG\",\"\"),\"\")","v":""},null,0]
["■",null,3,"追加番号 ②",null,null,null,{"$f":"IF(COUNTIF(ヒ基_利用ch数03,\"FAX*\"),IF(COUNTIF(ヒ基_利用ch数_all,ヒ基_利用ch数03)>1,ヒ基_利用ch数03 & \"重複選択NG\",\"\"),\"\")","v":""},null,0]
[{"$f":"IF(申込_基本_契約電番=0,\"\",申込_基本_契約電番)","v":""},null,4,"追加番号 ③",null,null,null,{"$f":"IF(COUNTIF(ヒ基_利用ch数04,\"FAX*\"),IF(COUNTIF(ヒ基_利用ch数_all,ヒ基_利用ch数04)>1,ヒ基_利用ch数04 & \"重複選択NG\",\"\"),\"\")","v":""},null,0]
[{"$f":"SUBSTITUTE(A10,\"ー\",\"-\")","v":""},null,5,"追加番号 ④",null,null,null,{"$f":"IF(COUNTIF(ヒ基_利用ch数05,\"FAX*\"),IF(COUNTIF(ヒ基_利用ch数_all,ヒ基_利用ch数05)>1,ヒ基_利用ch数05 & \"重複選択NG\",\"\"),\"\")","v":""},null,0]
[null,null,6,"追加番号 ⑤",null,null,null,{"$f":"IF(COUNTIF(ヒ基_利用ch数06,\"FAX*\"),IF(COUNTIF(ヒ基_利用ch数_all,ヒ基_利用ch数06)>1,ヒ基_利用ch数06 & \"重複選択NG\",\"\"),\"\")","v":""},null,0]
[null,null,7,"追加番号 ⑥",null,null,null,{"$f":"IF(COUNTIF(ヒ基_利用ch数07,\"FAX*\"),IF(COUNTIF(ヒ基_利用ch数_all,ヒ基_利用ch数07)>1,ヒ基_利用ch数07 & \"重複選択NG\",\"\"),\"\")","v":""},null,0]
[null,null,8,"追加番号 ⑦",null,null,null,{"$f":"IF(COUNTIF(ヒ基_利用ch数08,\"FAX*\"),IF(COUNTIF(ヒ基_利用ch数_all,ヒ基_利用ch数08)>1,ヒ基_利用ch数08 & \"重複選択NG\",\"\"),\"\")","v":""},null,0]
[null,null,9,"追加番号 ⑧",null,null,null,{"$f":"IF(COUNTIF(ヒ基_利用ch数09,\"FAX*\"),IF(COUNTIF(ヒ基_利用ch数_all,ヒ基_利用ch数09)>1,ヒ基_利用ch数09 & \"重複選択NG\",\"\"),\"\")","v":""},null,0]
[null,null,10,"追加番号 ⑨",null,null,null,{"$f":"IF(COUNTIF(ヒ基_利用ch数10,\"FAX*\"),IF(COUNTIF(ヒ基_利用ch数_all,ヒ基_利用ch数10)>1,ヒ基_利用ch数10 & \"重複選択NG\",\"\"),\"\")","v":""},null,0]
[null,null,11,"追加番号 ⑩",null,null,null,{"$f":"IF(COUNTIF(ヒ基_利用ch数11,\"FAX*\"),IF(COUNTIF(ヒ基_利用ch数_all,ヒ基_利用ch数11)>1,ヒ基_利用ch数11 & \"重複選択NG\",\"\"),\"\")","v":""},null,0]
[null,null,12,"追加番号 ⑪",null,null,null,{"$f":"IF(COUNTIF(ヒ基_利用ch数12,\"FAX*\"),IF(COUNTIF(ヒ基_利用ch数_all,ヒ基_利用ch数12)>1,ヒ基_利用ch数12 & \"重複選択NG\",\"\"),\"\")","v":""},null,0]
[null,null,null,null,"利用Ch数計",{"$f":"SUM(J7:J18)","v":0},{"$f":"IF(A7<F19,\"ご契約ch数を超えています。利用ch数を見直してください。\",\"\")","v":""}]
[]
[null,"　ナンバーディスプレイ設定"]
[null,null,"FAX1"]
[null,null,"FAX2"]
[]
["ライセンスキー\n情報","⇒","要","ソフトウェアキーコード",null,"認証コード","機能コード"]
[null,null,{"$f":"IF(F19>4,\"●\",\"\")","v":""}]
[null,null,{"$f":"IF(F19>8,\"●\",\"\")","v":""}]
[null,null,null,"※　初期4ch搭載　5～8chでライセンス1つ、9～12chで合計2つライセンスが必要"]
[null,null,null,"※　レンタルの場合は投入不要"]
[]
["プロバイダ\n情報","⇒","接続先ユーザ名",null,{"$f":"IF(申込_プロ_ユーザ名=0,\"\",申込_プロ_ユーザ名)","v":""}]
[null,null,"接続パスワード",null,{"$f":"IF(申込_プロ_PW=0,\"\",申込_プロ_PW)","v":""}]
[null,null,"認証方式",null,{"$f":"IF(申込_プロ_認証方式=0,\"\",申込_プロ_認証方式)","v":"自動認証"}]
[]
["２．内線番号、電話機種類、HUBの数"]
[]
["先頭内線番号",null,"NO","電話機等種別",null,"数量","カナ品名"]
[null,null,1,"24標準IP電話機",null,{"$f":"IFERROR(VALUE(申込_電話機_昇1),\"0\")","v":0},"ZX2-<24>IPTEL-<1><W>"]
[null,null,2,"24IPカールコードレス電話機",null,{"$f":"IFERROR(VALUE(申込_電話機_昇2),\"0\")","v":0},"ZX2-<24>CCLIPTEL-<1><W>"]
[null,null,3,"DECLDIV-コードレス電話機",null,{"$f":"IFERROR(VALUE(申込_電話機_降1),\"0\")","v":0},"ZX-DECLDIV-PS-<1><W>"]
[null,null,4,"DECLDIV-KT形コードレス電話機",null,{"$f":"IFERROR(VALUE(申込_電話機_降2),\"0\")","v":0},"ZX-DECLDIV-PSKT-<1><W>"]
[{"$f":"IF(A47>50,\"使用できない内線番号が\"&CHAR(10)&\"割り振りされます。\"&CHAR(10)&\"「内線番号プレビュー」を\"&CHAR(10)&\"確認してください。\",\"\")","v":""},null,5,"IP単体電話機アダプタ（レンタル対象外）",null,{"$f":"IFERROR(VALUE(申込_電話機_降3),\"0\")","v":0},"ZX-IPSLAP-<1>"]
[null,null,"↓↓↓　以下の物品は電話機数量に含めません（電話機は最大40台収容可能）　↓↓↓"]
[null,null,6,"DECLDIV-IP8スロットCS",null,{"$f":"IFERROR(VALUE(申込_IP8スロットCS),\"0\")","v":0},"ZX-DECLDIV-IP<8>CS-<1>",null,{"$f":"IFERROR(IF((ヒ基_電話機_降1+ヒ基_電話機_降2) > (ヒ基_IP8スロットCS*8),\"注意！『IP8スロットCS』1台につき収容できるDECLDIV電話機（No3＋4）は8台までです。\",\"\"),\"\")","v":""}]
[{"$f":"IF(A47>50,\"「先頭内線番号」の\"&CHAR(10)&\"訂正をしてください。\",\"\")","v":""},null,7,"ZX-8ポート給電HUB",null,{"$f":"IFERROR(VALUE(申込_給電HUB),\"0\")","v":0},"ZX-ｷｭｳﾃﾞﾝｱﾀﾞﾌﾟﾀ-<1>"]
[null,null,8,"ZX-給電アダプタ",null,{"$f":"IFERROR(VALUE(申込_給電アダプタ),\"0\")","v":0},"ZX-<8>POLHUB-<2>"]
[{"$f":"SUM(A38,F47)","v":0},null,null,null,"電話機数量",{"$f":"SUM(F38:F42)","v":0},{"$f":"IF(40<F47,\"電話機の数が40を超えています。\",\"\")","v":""}]
[]
["３．その他の機器"]
["　　　　　　　　　　　　　　　　　　以下の物品はお買い上げ機器として別途要求が必要（工事者派遣が必要となる場合があります）"]
[null,null,"NO","その他機器",null,"数量","カナ品名"]
[null,null,1,"ZX-16ポート給電HUB",null,null,"ZX-<16>POLHUB-<2>"]
[null,null,2,"ZX-給電HUB壁掛用品",null,null,"ZX-POLHUBｶﾍﾞｶｹﾖｳﾋﾝ-<1>"]
[null,null,3,"24標準/CCL電話機用壁掛",null,null,"ZX2-TELｶﾍﾞｶｹ-<1>"]
[null,null,4,"DECLDIV-KT形コードレス電話機用壁掛",null,null,"ZX-TELｶﾍﾞｶｹ-<1>"]
[null,null,5,"HAハンドセット（ヒアリングエイド）",null,null,"ZX-HAﾊﾝﾄﾞｾｯﾄ-<1>"]
[null,null,6,"録音ジャックユニット",null,null,"ZX-REJU-<1>"]
[null,null,7,"LANケーブル（　1m　）",null,null,"VP-LANｹｰﾌﾞﾙ-<1M>"]
[null,null,8,"LANケーブル（　3m　）",null,null,"VP-LANｹｰﾌﾞﾙ-<3M>"]
[null,null,9,"LANケーブル（　5m　）",null,null,"VP-LANｹｰﾌﾞﾙ-<5M>"]
[null,null,10]
[null,null,11]
[null,null,12]
[null,null,13]
[null,null,14]
[null,null,15]
[null,null,null,null,"数量計",{"$f":"SUM(F52:F66)","v":0}]
[]
[]
["４．備考"]

{"sheet":"List","index":6,"n_rows":238,"n_cols":4,"rows_kept":238,"cut":false,"hidden":true,"merged":[[232,0,237,0],[184,0,231,0],[179,0,183,0],[176,0,178,0],[174,0,175,0],[1,0,12,0],[88,0,112,0],[113,0,173,0],[13,0,26,0],[86,0,87,0],[27,0,43,0],[44,0,48,0],[49,0,72,0],[73,0,80,0],[81,0,82,0],[83,0,85,0]]}
["名前定義","No","リスト内容"]
["list_割付順位",1,1]
[null,2,2]
[null,3,3]
[null,4,4]
[null,5,5]
[null,6,6]
[null,7,7]
[null,8,8]
[null,9,9]
[null,10,10]
[null,11,11]
[null,12,12]
["list_利用ch数",1,1]
[null,2,2]
[null,3,3]
[null,4,4]
[null,5,5]
[null,6,6]
[null,7,7]
[null,8,8]
[null,9,9]
[null,10,10]
[null,11,11]
[null,12,12]
[null,13,"FAX1","list_FAX"]
[null,14,"FAX2","list_FAX"]
["list_着信音",1,"着信音なし"]
[null,2,"トーン1"]
[null,3,"トーン2"]
[null,4,"トーン3"]
[null,5,"トーン4"]
[null,6,"トーン5"]
[null,7,"トーン6"]
[null,8,"トーン7"]
[null,9,"無鳴動着信"]
[null,10,"グリーンスリーブス"]
[null,11,"峠の我が家"]
[null,12,"カノン"]
[null,13,"春の歌"]
[null,14,"主よ人の望みの喜びよ"]
[null,15,"メヌエット"]
[null,16,"華麗なる大円舞曲"]
[null,17,"ハンガリア舞曲第5番"]
["list_電話機",1,"ZX2-24キー標準IP電話機","24"]
[null,2,"ZX2-24キーカールコードレスIP電話機","24"]
[null,3,"ZX-DECLDIV-IPコードレス電話機","8"]
[null,4,"ZX-DECLDIV-IPKT形コードレス電話機","24"]
[null,6,"ZX-IP単体電話機アダプタ(PB)","24"]
["list_LK",1,1]
[null,2,2]
[null,3,3]
[null,4,4]
[null,5,5]
[null,6,6]
[null,7,7]
[null,8,8]
[null,9,9]
[null,10,10]
[null,11,11]
[null,12,12]
[null,13,13]
[null,14,14]
[null,15,15]
[null,16,16]
[null,17,17]
[null,18,18]
[null,19,19]
[null,20,20]
[null,21,21]
[null,22,22]
[null,23,23]
[null,24,24]
["list_モード毎鳴動",1,"－－－"]
[null,2,"昼－－"]
[null,3,"－夜－"]
[null,4,"－－休憩"]
[null,5,"昼夜－"]
[null,6,"昼－休憩"]
[null,7,"－夜休憩"]
[null,8,"昼夜休憩"]
["list_レ点",1]
[null,2,"✓"]
["list_モード",1,"昼"]
[null,2,"夜"]
[null,3,"休憩"]
["list_丸",1]
[null,2,"●"]
["list_時",1]
[null,2,"00"]
[null,3,"01"]
[null,4,"02"]
[null,5,"03"]
[null,6,"04"]
[null,7,"05"]
[null,8,"06"]
[null,9,"07"]
[null,10,"08"]
[null,11,"09"]
[null,12,"10"]
[null,13,"11"]
[null,14,"12"]
[null,15,"13"]
[null,16,"14"]
[null,17,"15"]
[null,18,"16"]
[null,19,"17"]
[null,20,"18"]
[null,21,"19"]
[null,22,"20"]
[null,23,"21"]
[null,24,"22"]
[null,25,"23"]
["list_分",1]
[null,2,"00"]
[null,3,"01"]
[null,4,"02"]
[null,5,"03"]
[null,6,"04"]
[null,7,"05"]
[null,8,"06"]
[null,9,"07"]
[null,10,"08"]
[null,11,"09"]
[null,12,"10"]
[null,13,"11"]
[null,14,"12"]
[null,15,"13"]
[null,16,"14"]
[null,17,"15"]
[null,18,"16"]
[null,19,"17"]
[null,20,"18"]
[null,21,"19"]
[null,22,"20"]
[null,23,"21"]
[null,24,"22"]
[null,25,"23"]
[null,26,"24"]
[null,27,"25"]
[null,28,"26"]
[null,29,"27"]
[null,30,"28"]
[null,31,"29"]
[null,32,"30"]
[null,33,"31"]
[null,34,"32"]
[null,35,"33"]
[null,36,"34"]
[null,37,"35"]
[null,38,"36"]
[null,39,"37"]
[null,40,"38"]
[null,41,"39"]
[null,42,"40"]
[null,43,"41"]
[null,44,"42"]
[null,45,"43"]
[null,46,"44"]
[null,47,"45"]
[null,48,"46"]
[null,49,"47"]
[null,50,"48"]
[null,51,"49"]
[null,52,"50"]
[null,53,"51"]
[null,54,"52"]
[null,55,"53"]
[null,56,"54"]
[null,57,"55"]
[null,58,"56"]
[null,59,"57"]
[null,60,"58"]
[null,61,"59"]
["list_ガイダンスの種類",1,"出荷時設定"]
[null,2,"ユーザガイダンス"]
["list_認証方式",1,"自動認証"]
[null,2,"暗号化されていないパスワード（PAP）"]
[null,3,"チャレンジハンドシェーク認証プロトコル（CHAP）"]
["list_回線種別",1,"フレッツ 光クロス"]
[null,2,"フレッツ光 ネクスト ファミリー・ハイスピード"]
[null,3,"フレッツ光 ネクスト ファミリー・ギガライン"]
[null,4,"フレッツ光 ネクスト マンション・ハイスピード"]
[null,5,"フレッツ光 ネクスト マンション・ギガライン"]
["list_都道府県",0,"都道府県を選択してください"]
[null,1,"北海道"]
[null,2,"青森県"]
[null,3,"岩手県"]
[null,4,"宮城県"]
[null,5,"秋田県"]
[null,6,"山形県"]
[null,7,"福島県"]
[null,8,"茨城県"]
[null,9,"栃木県"]
[null,10,"群馬県"]
[null,11,"埼玉県"]
[null,12,"千葉県"]
[null,13,"東京都"]
[null,14,"神奈川県"]
[null,15,"新潟県"]
[null,16,"富山県"]
[null,17,"石川県"]
[null,18,"福井県"]
[null,19,"山梨県"]
[null,20,"長野県"]
[null,21,"岐阜県"]
[null,22,"静岡県"]
[null,23,"愛知県"]
[null,24,"三重県"]
[null,25,"滋賀県"]
[null,26,"京都府"]
[null,27,"大阪府"]
[null,28,"兵庫県"]
[null,29,"奈良県"]
[null,30,"和歌山県"]
[null,31,"鳥取県"]
[null,32,"島根県"]
[null,33,"岡山県"]
[null,34,"広島県"]
[null,35,"山口県"]
[null,36,"徳島県"]
[null,37,"香川県"]
[null,38,"愛媛県"]
[null,39,"高知県"]
[null,40,"福岡県"]
[null,41,"佐賀県"]
[null,42,"長崎県"]
[null,43,"熊本県"]
[null,44,"大分県"]
[null,45,"宮崎県"]
[null,46,"鹿児島県"]
[null,47,"沖縄県"]
["list_市区町村郡",0,"市・区・町・村・郡"]
[null,1,"市"]
[null,2,"区"]
[null,3,"町"]
[null,4,"村"]
[null,5,"郡"]

{"sheet":"回線関係","index":7,"n_rows":31,"n_cols":12,"rows_kept":31,"cut":false,"hidden":true,"merged":[[30,1,30,2],[30,3,30,6],[3,1,3,2],[28,1,28,2],[28,3,28,6],[29,1,29,2],[29,3,29,6],[23,4,23,5],[23,1,23,3],[25,1,25,3],[24,1,24,3],[25,4,25,5],[24,4,24,5]]}
["回線関係"]
[null,"ご契約ch数"]
[]
[null,"番号",null,"電話番号","FAX利用","利用ch数","割付け順番",null,null,"電話番号","利用ch数","割付け順位"]
[null,1,"契約番号　　",null,"",null,null,{"$f":"IF(E5<>\"\",1,IF(ISNUMBER(F5),F5,0))","v":0},null,{"$f":"IF(回線_電話番号01=\"\",\"\",回線_電話番号01)","v":""},{"$f":"IF(回線_利用ch数_01=\"\",\"\",回線_利用ch数_01)","v":""},{"$f":"IF(回線_割付け順番_01=\"\",\"\",回線_割付け順番_01)","v":""}]
[null,2,"追加番号 ①",null,"",null,null,{"$f":"IF(E6<>\"\",1,IF(ISNUMBER(F6),F6,0))","v":0},null,{"$f":"IF(回線_電話番号02=\"\",\"\",回線_電話番号02)","v":""},{"$f":"IF(回線_利用ch数_02=\"\",\"\",回線_利用ch数_02)","v":""},{"$f":"IF(回線_割付け順番_02=\"\",\"\",回線_割付け順番_02)","v":""}]
[null,3,"追加番号 ②",null,"",null,null,0,null,{"$f":"IF(回線_電話番号03=\"\",\"\",回線_電話番号03)","v":""},{"$f":"IF(回線_利用ch数_03=\"\",\"\",回線_利用ch数_03)","v":""},{"$f":"IF(回線_割付け順番_03=\"\",\"\",回線_割付け順番_03)","v":""}]
[null,4,"追加番号 ③",null,"",null,null,0,null,{"$f":"IF(回線_電話番号04=\"\",\"\",回線_電話番号04)","v":""},{"$f":"IF(回線_利用ch数_04=\"\",\"\",回線_利用ch数_04)","v":""},{"$f":"IF(回線_割付け順番_04=\"\",\"\",回線_割付け順番_04)","v":""}]
[null,5,"追加番号 ④",null,"",null,null,0,null,{"$f":"IF(回線_電話番号05=\"\",\"\",回線_電話番号05)","v":""},{"$f":"IF(回線_利用ch数_05=\"\",\"\",回線_利用ch数_05)","v":""},{"$f":"IF(回線_割付け順番_05=\"\",\"\",回線_割付け順番_05)","v":""}]
[null,6,"追加番号 ⑤",null,"",null,null,0,null,{"$f":"IF(回線_電話番号06=\"\",\"\",回線_電話番号06)","v":""},{"$f":"IF(回線_利用ch数_06=\"\",\"\",回線_利用ch数_06)","v":""},{"$f":"IF(回線_割付け順番_06=\"\",\"\",回線_割付け順番_06)","v":""}]
[null,7,"追加番号 ⑥",null,"",null,null,0,null,{"$f":"IF(回線_電話番号07=\"\",\"\",回線_電話番号07)","v":""},{"$f":"IF(回線_利用ch数_07=\"\",\"\",回線_利用ch数_07)","v":""},{"$f":"IF(回線_割付け順番_07=\"\",\"\",回線_割付け順番_07)","v":""}]
[null,8,"追加番号 ⑦",null,"",null,null,0,null,{"$f":"IF(回線_電話番号08=\"\",\"\",回線_電話番号08)","v":""},{"$f":"IF(回線_利用ch数_08=\"\",\"\",回線_利用ch数_08)","v":""},{"$f":"IF(回線_割付け順番_08=\"\",\"\",回線_割付け順番_08)","v":""}]
[null,9,"追加番号 ⑧",null,"",null,null,0,null,{"$f":"IF(回線_電話番号09=\"\",\"\",回線_電話番号09)","v":""},{"$f":"IF(回線_利用ch数_09=\"\",\"\",回線_利用ch数_09)","v":""},{"$f":"IF(回線_割付け順番_09=\"\",\"\",回線_割付け順番_09)","v":""}]
[null,10,"追加番号 ⑨",null,"",null,null,0,null,{"$f":"IF(回線_電話番号10=\"\",\"\",回線_電話番号10)","v":""},{"$f":"IF(回線_利用ch数_10=\"\",\"\",回線_利用ch数_10)","v":""},{"$f":"IF(回線_割付け順番_10=\"\",\"\",回線_割付け順番_10)","v":""}]
[null,11,"追加番号 ⑩",null,"",null,null,0,null,{"$f":"IF(回線_電話番号11=\"\",\"\",回線_電話番号11)","v":""},{"$f":"IF(回線_利用ch数_11=\"\",\"\",回線_利用ch数_11)","v":""},{"$f":"IF(回線_割付け順番_11=\"\",\"\",回線_割付け順番_11)","v":""}]
[null,12,"追加番号 ⑪",null,null,null,null,0,null,{"$f":"IF(回線_電話番号12=\"\",\"\",回線_電話番号12)","v":""},{"$f":"IF(回線_利用ch数_12=\"\",\"\",回線_利用ch数_12)","v":""},{"$f":"IF(回線_割付け順番_12=\"\",\"\",回線_割付け順番_12)","v":""}]
[null,null,null,null,"利用Ch数計",{"$f":"SUM(H5:H16)","v":0},{"$f":"IF(C2<F17,\"ご契約ch数を超えています。利用ch数を見直してください。\",\"\")","v":""}]
[]
[null,"ナンバーディスプレイ設定"]
[null,"FAX1"]
[null,"FAX2"]
[]
[null,"ライセンス情報"]
[null,"ソフトウェアキーコード",null,null,"認証コード",null,"機能コード"]
[]
[]
[]
[null,"プロバイダ設定"]
[null,"接続先ユーザ名"]
[null,"接続パスワード",null,""]
[null,"認証方式",null,"自動認証"]

{"sheet":"ListWork","index":8,"n_rows":101,"n_cols":18,"rows_kept":101,"cut":false,"hidden":true,"merged":[]}
["電話番号"]
["回線関係シートに入力された電話番号をList表示するための加工"]
[null,"電話番号","利用Ch数","List表示する電話番号","list_電話番号","有効な入力値"]
[1,{"$f":"IF(ヒ基_電話番号01<>\"\",ヒ基_電話番号01,\"\")","v":""},{"$f":"IF(ISNUMBER(ヒ基_利用ch数01),ヒ基_利用ch数01,0)","v":0},{"$f":"IF(AND(B4<>\"\",C4>0),B4,\"\")","v":""},{"$f":"IFERROR(_xlfn._xlws.FILTER(D4:D15,D4:D15<>\"\"),\"\")","v":""},{"$f":"COUNTA(list_電話番号)","v":1}]
[2,{"$f":"IF(ヒ基_電話番号02<>\"\",ヒ基_電話番号02,\"\")","v":""},{"$f":"IF(ISNUMBER(ヒ基_利用ch数02),ヒ基_利用ch数02,0)","v":0},{"$f":"IF(AND(B5<>\"\",C5>0),B5,\"\")","v":""}]
[3,{"$f":"IF(ヒ基_電話番号03<>\"\",ヒ基_電話番号03,\"\")","v":""},{"$f":"IF(ISNUMBER(ヒ基_利用ch数03),ヒ基_利用ch数03,0)","v":0},""]
[4,{"$f":"IF(ヒ基_電話番号04<>\"\",ヒ基_電話番号04,\"\")","v":""},{"$f":"IF(ISNUMBER(ヒ基_利用ch数04),ヒ基_利用ch数04,0)","v":0},""]
[5,{"$f":"IF(ヒ基_電話番号05<>\"\",ヒ基_電話番号05,\"\")","v":""},{"$f":"IF(ISNUMBER(ヒ基_利用ch数05),ヒ基_利用ch数05,0)","v":0},""]
[6,{"$f":"IF(ヒ基_電話番号06<>\"\",ヒ基_電話番号06,\"\")","v":""},{"$f":"IF(ISNUMBER(ヒ基_利用ch数06),ヒ基_利用ch数06,0)","v":0},""]
[7,{"$f":"IF(ヒ基_電話番号07<>\"\",ヒ基_電話番号07,\"\")","v":""},{"$f":"IF(ISNUMBER(ヒ基_利用ch数07),ヒ基_利用ch数07,0)","v":0},""]
[8,{"$f":"IF(ヒ基_電話番号08<>\"\",ヒ基_電話番号08,\"\")","v":""},{"$f":"IF(ISNUMBER(ヒ基_利用ch数08),ヒ基_利用ch数08,0)","v":0},""]
[9,{"$f":"IF(ヒ基_電話番号09<>\"\",ヒ基_電話番号09,\"\")","v":""},{"$f":"IF(ISNUMBER(ヒ基_利用ch数09),ヒ基_利用ch数09,0)","v":0},""]
[10,{"$f":"IF(ヒ基_電話番号10<>\"\",ヒ基_電話番号10,\"\")","v":""},{"$f":"IF(ISNUMBER(ヒ基_利用ch数10),ヒ基_利用ch数10,0)","v":0},""]
[11,{"$f":"IF(ヒ基_電話番号11<>\"\",ヒ基_電話番号11,\"\")","v":""},{"$f":"IF(ISNUMBER(ヒ基_利用ch数11),ヒ基_利用ch数11,0)","v":0},""]
[12,{"$f":"IF(ヒ基_電話番号12<>\"\",ヒ基_電話番号12,\"\")","v":""},{"$f":"IF(ISNUMBER(ヒ基_利用ch数12),ヒ基_利用ch数12,0)","v":0},""]
[]
["内線番号",null,null,null,"↓NTT用↓",null,null,null,"キー割付選択済み",null,null,null,null,"キー割付の内線番号リスト",null,null,null,"リストボックス（入力規則コピー用）"]
[null,"電話番号",null,null,"list_内線番号_全量","キー割付で選択しているか","list_内線番号全量_count",null,"項目名","内線番号",null,null,null,"list_内線番号","有効な入力値",null,null,"内線番号リストボックス"]
[1,{"$f":"IF(内線種別!D4<>\"\",内線種別!D4,\"\")","v":""},null,null,{"$f":"IFERROR(_xlfn._xlws.FILTER(B19:B58,B19:B58<>\"\"),\"\")","v":""},{"$f":"IF(E19<>\"\",IFERROR(VLOOKUP(E19,J$19:J$58,1,FALSE),\"未選択\"),\"\")","v":""},{"$f":"IF(E19<>\"\",COUNTA(list_内線番号_全量),0)","v":0},null,"キ割_内線No01",{"$f":"キ割_内線No01","v":0},null,null,null,{"$f":"IFERROR(_xlfn._xlws.FILTER(E19:E58,F19:F58=\"未選択\"),\"\")","v":""},{"$f":"IF(N19<>\"\",COUNTA(list_内線番号),0)","v":0}]
[2,{"$f":"IF(内線種別!D5<>\"\",内線種別!D5,\"\")","v":""},null,null,null,"",null,null,"キ割_内線No02",{"$f":"キ割_内線No02","v":0}]
[3,{"$f":"IF(内線種別!D6<>\"\",内線種別!D6,\"\")","v":""},null,null,null,"",null,null,"キ割_内線No03",{"$f":"キ割_内線No03","v":0}]
[4,{"$f":"IF(内線種別!D7<>\"\",内線種別!D7,\"\")","v":""},null,null,null,"",null,null,"キ割_内線No04",{"$f":"キ割_内線No04","v":0}]
[5,{"$f":"IF(内線種別!D8<>\"\",内線種別!D8,\"\")","v":""},null,null,null,"",null,null,"キ割_内線No05",{"$f":"キ割_内線No05","v":0}]
[6,{"$f":"IF(内線種別!D9<>\"\",内線種別!D9,\"\")","v":""},null,null,null,"",null,null,"キ割_内線No06",{"$f":"キ割_内線No06","v":0}]
[7,{"$f":"IF(内線種別!D10<>\"\",内線種別!D10,\"\")","v":""},null,null,null,"",null,null,"キ割_内線No07",{"$f":"キ割_内線No07","v":0}]
[8,{"$f":"IF(内線種別!D11<>\"\",内線種別!D11,\"\")","v":""},null,null,null,"",null,null,"キ割_内線No08",{"$f":"キ割_内線No08","v":0}]
[9,{"$f":"IF(内線種別!D12<>\"\",内線種別!D12,\"\")","v":""},null,null,null,"",null,null,"キ割_内線No09",{"$f":"キ割_内線No09","v":0}]
[10,{"$f":"IF(内線種別!D13<>\"\",内線種別!D13,\"\")","v":""},null,null,null,"",null,null,"キ割_内線No10",{"$f":"キ割_内線No10","v":0}]
[11,{"$f":"IF(内線種別!D14<>\"\",内線種別!D14,\"\")","v":""},null,null,null,"",null,null,"キ割_内線No11",{"$f":"キ割_内線No11","v":0}]
[12,{"$f":"IF(内線種別!D15<>\"\",内線種別!D15,\"\")","v":""},null,null,null,"",null,null,"キ割_内線No12",{"$f":"キ割_内線No12","v":0}]
[13,{"$f":"IF(内線種別!D16<>\"\",内線種別!D16,\"\")","v":""},null,null,null,"",null,null,"キ割_内線No13",{"$f":"キ割_内線No13","v":0}]
[14,{"$f":"IF(内線種別!D17<>\"\",内線種別!D17,\"\")","v":""},null,null,null,"",null,null,"キ割_内線No14",{"$f":"キ割_内線No14","v":0}]
[15,{"$f":"IF(内線種別!D18<>\"\",内線種別!D18,\"\")","v":""},null,null,null,"",null,null,"キ割_内線No15",{"$f":"キ割_内線No15","v":0}]
[16,{"$f":"IF(内線種別!D19<>\"\",内線種別!D19,\"\")","v":""},null,null,null,"",null,null,"キ割_内線No16",{"$f":"キ割_内線No16","v":0}]
[17,{"$f":"IF(内線種別!D20<>\"\",内線種別!D20,\"\")","v":""},null,null,null,"",null,null,"キ割_内線No17",{"$f":"キ割_内線No17","v":0}]
[18,{"$f":"IF(内線種別!D21<>\"\",内線種別!D21,\"\")","v":""},null,null,null,"",null,null,"キ割_内線No18",{"$f":"キ割_内線No18","v":0}]
[19,{"$f":"IF(内線種別!D22<>\"\",内線種別!D22,\"\")","v":""},null,null,null,"",null,null,"キ割_内線No19",{"$f":"キ割_内線No19","v":0}]
[20,{"$f":"IF(内線種別!D23<>\"\",内線種別!D23,\"\")","v":""},null,null,null,"",null,null,"キ割_内線No20",{"$f":"キ割_内線No20","v":0}]
[21,{"$f":"IF(内線種別!D24<>\"\",内線種別!D24,\"\")","v":""},null,null,null,"",null,null,"キ割_内線No21",{"$f":"キ割_内線No21","v":0}]
[22,{"$f":"IF(内線種別!D25<>\"\",内線種別!D25,\"\")","v":""},null,null,null,"",null,null,"キ割_内線No22",{"$f":"キ割_内線No22","v":0}]
[23,{"$f":"IF(内線種別!D26<>\"\",内線種別!D26,\"\")","v":""},null,null,null,"",null,null,"キ割_内線No23",{"$f":"キ割_内線No23","v":0}]
[24,{"$f":"IF(内線種別!D27<>\"\",内線種別!D27,\"\")","v":""},null,null,null,"",null,null,"キ割_内線No24",{"$f":"キ割_内線No24","v":0}]
[25,{"$f":"IF(内線種別!D28<>\"\",内線種別!D28,\"\")","v":""},null,null,null,"",null,null,"キ割_内線No25",{"$f":"キ割_内線No25","v":0}]
[26,{"$f":"IF(内線種別!D29<>\"\",内線種別!D29,\"\")","v":""},null,null,null,"",null,null,"キ割_内線No26",{"$f":"キ割_内線No26","v":0}]
[27,{"$f":"IF(内線種別!D30<>\"\",内線種別!D30,\"\")","v":""},null,null,null,"",null,null,"キ割_内線No27",{"$f":"キ割_内線No27","v":0}]
[28,{"$f":"IF(内線種別!D31<>\"\",内線種別!D31,\"\")","v":""},null,null,null,"",null,null,"キ割_内線No28",{"$f":"キ割_内線No28","v":0}]
[29,{"$f":"IF(内線種別!D32<>\"\",内線種別!D32,\"\")","v":""},null,null,null,"",null,null,"キ割_内線No29",{"$f":"キ割_内線No29","v":0}]
[30,{"$f":"IF(内線種別!D33<>\"\",内線種別!D33,\"\")","v":""},null,null,null,"",null,null,"キ割_内線No30",{"$f":"キ割_内線No30","v":0}]
[31,{"$f":"IF(内線種別!D34<>\"\",内線種別!D34,\"\")","v":""},null,null,null,"",null,null,"キ割_内線No31",{"$f":"キ割_内線No31","v":0}]
[32,{"$f":"IF(内線種別!D35<>\"\",内線種別!D35,\"\")","v":""},null,null,null,"",null,null,"キ割_内線No32",{"$f":"キ割_内線No32","v":0}]
[33,{"$f":"IF(内線種別!D36<>\"\",内線種別!D36,\"\")","v":""},null,null,null,"",null,null,"キ割_内線No33",{"$f":"キ割_内線No33","v":0}]
[34,{"$f":"IF(内線種別!D37<>\"\",内線種別!D37,\"\")","v":""},null,null,null,"",null,null,"キ割_内線No34",{"$f":"キ割_内線No34","v":0}]
[35,{"$f":"IF(内線種別!D38<>\"\",内線種別!D38,\"\")","v":""},null,null,null,"",null,null,"キ割_内線No35",{"$f":"キ割_内線No35","v":0}]
[36,{"$f":"IF(内線種別!D39<>\"\",内線種別!D39,\"\")","v":""},null,null,null,"",null,null,"キ割_内線No36",{"$f":"キ割_内線No36","v":0}]
[37,{"$f":"IF(内線種別!D40<>\"\",内線種別!D40,\"\")","v":""},null,null,null,"",null,null,"キ割_内線No37",{"$f":"キ割_内線No37","v":0}]
[38,{"$f":"IF(内線種別!D41<>\"\",内線種別!D41,\"\")","v":""},null,null,null,"",null,null,"キ割_内線No38",{"$f":"キ割_内線No38","v":0}]
[39,{"$f":"IF(内線種別!D42<>\"\",内線種別!D42,\"\")","v":""},null,null,null,"",null,null,"キ割_内線No39",{"$f":"キ割_内線No39","v":0}]
[40,{"$f":"IF(内線種別!D43<>\"\",内線種別!D43,\"\")","v":""},null,null,null,"",null,null,"キ割_内線No40",{"$f":"キ割_内線No40","v":0}]
[]
[null,null,null,null,"↓お客様用↓","↓お客様用↓"]
[null,null,null,null,"list_内線番号_全量","list_内線番号全量_count"]
[null,null,null,1,{"$f":"IF(D62<=F62,IF(ISNUMBER(ヒ基_先頭内線番号),ヒ基_先頭内線番号,\"\"),\"\")","v":""},{"$f":"ヒ基_電話機計","v":0}]
[null,null,null,2,{"$f":"IF(D63<=F$62,IF(ISNUMBER(E62),E62+1,\"\"),\"\")","v":""}]
[null,null,null,3,{"$f":"IF(D64<=F$62,IF(ISNUMBER(E63),E63+1,\"\"),\"\")","v":""}]
[null,null,null,4,""]
[null,null,null,5,""]
[null,null,null,6,""]
[null,null,null,7,""]
[null,null,null,8,""]
[null,null,null,9,""]
[null,null,null,10,""]
[null,null,null,11,""]
[null,null,null,12,""]
[null,null,null,13,""]
[null,null,null,14,""]
[null,null,null,15,""]
[null,null,null,16,""]
[null,null,null,17,""]
[null,null,null,18,""]
[null,null,null,19,""]
[null,null,null,20,""]
[null,null,null,21,""]
[null,null,null,22,""]
[null,null,null,23,""]
[null,null,null,24,""]
[null,null,null,25,""]
[null,null,null,26,""]
[null,null,null,27,""]
[null,null,null,28,""]
[null,null,null,29,""]
[null,null,null,30,""]
[null,null,null,31,""]
[null,null,null,32,""]
[null,null,null,33,""]
[null,null,null,34,""]
[null,null,null,35,""]
[null,null,null,36,""]
[null,null,null,37,""]
[null,null,null,38,""]
[null,null,null,39,""]
[null,null,null,40,""]

{"sheet":"内線種別","index":9,"n_rows":44,"n_cols":16,"rows_kept":44,"cut":false,"hidden":true,"merged":[]}
["内線種別"]
[null,"電話機計",{"$f":"COUNTA(C4:C43)","v":0},null,null,null,null,null,null,null,null,null,"キー割付"]
[null,"電話機No(TEN)","電話機種別","内線番号",null,null,null,null,"List_内線番号","電話機No(TEN)","キー数",null,"内線No.","電話機No(TEN)","電話機種別","内線番号"]
[null,1,null,null,{"$f":"IF(ISNUMBER(D4),IF(OR(VALUE(D4)<10,VALUE(D4)>49),\"内線番号は10～49の範囲で入力してください。\",\"\"),\"\")","v":""},null,null,null,null,null,null,null,1,{"$f":"_xlfn._xlws.FILTER(B4:D43,(C4:C43<>\"\")*(D4:D43<>\"\"))","v":{"$error":"#VALUE!"}}]
[null,2,null,null,{"$f":"IF(ISNUMBER(D5),IF(OR(VALUE(D5)<10,VALUE(D5)>49),\"内線番号は10～49の範囲で入力してください。\",\"\"),\"\")","v":""},null,null,null,{"$f":"IF(D4<>\"\",D4,\"\")","v":""},1,{"$f":"IFERROR(VLOOKUP(C4,List!C:D,2,FALSE),0)","v":0},null,2]
[null,3,null,null,"",null,null,null,{"$f":"IF(D5<>\"\",D5,\"\")","v":""},2,{"$f":"IFERROR(VLOOKUP(C5,List!C:D,2,FALSE),0)","v":0},null,3]
[null,4,null,null,"",null,null,null,"",3,{"$f":"IFERROR(VLOOKUP(C6,List!C:D,2,FALSE),0)","v":0},null,4]
[null,5,null,null,"",null,null,null,"",4,{"$f":"IFERROR(VLOOKUP(C7,List!C:D,2,FALSE),0)","v":0},null,5]
[null,6,null,null,"",null,null,null,"",5,{"$f":"IFERROR(VLOOKUP(C8,List!C:D,2,FALSE),0)","v":0},null,6]
[null,7,null,null,"",null,null,null,"",6,{"$f":"IFERROR(VLOOKUP(C9,List!C:D,2,FALSE),0)","v":0},null,7]
[null,8,null,null,"",null,null,null,"",7,{"$f":"IFERROR(VLOOKUP(C10,List!C:D,2,FALSE),0)","v":0},null,8]
[null,9,null,null,"",null,null,null,"",8,{"$f":"IFERROR(VLOOKUP(C11,List!C:D,2,FALSE),0)","v":0},null,9]
[null,10,null,null,"",null,null,null,"",9,{"$f":"IFERROR(VLOOKUP(C12,List!C:D,2,FALSE),0)","v":0},null,10]
[null,11,null,null,"",null,null,null,"",10,{"$f":"IFERROR(VLOOKUP(C13,List!C:D,2,FALSE),0)","v":0},null,11]
[null,12,null,null,"",null,null,null,"",11,{"$f":"IFERROR(VLOOKUP(C14,List!C:D,2,FALSE),0)","v":0},null,12]
[null,13,null,null,"",null,null,null,"",12,{"$f":"IFERROR(VLOOKUP(C15,List!C:D,2,FALSE),0)","v":0},null,13]
[null,14,null,null,"",null,null,null,"",13,{"$f":"IFERROR(VLOOKUP(C16,List!C:D,2,FALSE),0)","v":0},null,14]
[null,15,null,null,"",null,null,null,"",14,{"$f":"IFERROR(VLOOKUP(C17,List!C:D,2,FALSE),0)","v":0},null,15]
[null,16,null,null,"",null,null,null,"",15,{"$f":"IFERROR(VLOOKUP(C18,List!C:D,2,FALSE),0)","v":0},null,16]
[null,17,null,null,"",null,null,null,"",16,{"$f":"IFERROR(VLOOKUP(C19,List!C:D,2,FALSE),0)","v":0},null,17]
[null,18,null,null,"",null,null,null,"",17,{"$f":"IFERROR(VLOOKUP(C20,List!C:D,2,FALSE),0)","v":0},null,18]
[null,19,null,null,"",null,null,null,"",18,{"$f":"IFERROR(VLOOKUP(C21,List!C:D,2,FALSE),0)","v":0},null,19]
[null,20,null,null,"",null,null,null,"",19,{"$f":"IFERROR(VLOOKUP(C22,List!C:D,2,FALSE),0)","v":0},null,20]
[null,21,null,null,"",null,null,null,"",20,{"$f":"IFERROR(VLOOKUP(C23,List!C:D,2,FALSE),0)","v":0},null,21]
[null,22,null,null,"",null,null,null,"",21,{"$f":"IFERROR(VLOOKUP(C24,List!C:D,2,FALSE),0)","v":0},null,22]
[null,23,null,null,"",null,null,null,"",22,{"$f":"IFERROR(VLOOKUP(C25,List!C:D,2,FALSE),0)","v":0},null,23]
[null,24,null,null,"",null,null,null,"",23,{"$f":"IFERROR(VLOOKUP(C26,List!C:D,2,FALSE),0)","v":0},null,24]
[null,25,null,null,"",null,null,null,"",24,{"$f":"IFERROR(VLOOKUP(C27,List!C:D,2,FALSE),0)","v":0},null,25]
[null,26,null,null,"",null,null,null,"",25,{"$f":"IFERROR(VLOOKUP(C28,List!C:D,2,FALSE),0)","v":0},null,26]
[null,27,null,null,"",null,null,null,"",26,{"$f":"IFERROR(VLOOKUP(C29,List!C:D,2,FALSE),0)","v":0},null,27]
[null,28,null,null,"",null,null,null,"",27,{"$f":"IFERROR(VLOOKUP(C30,List!C:D,2,FALSE),0)","v":0},null,28]
[null,29,null,null,"",null,null,null,"",28,{"$f":"IFERROR(VLOOKUP(C31,List!C:D,2,FALSE),0)","v":0},null,29]
[null,30,null,null,"",null,null,null,"",29,{"$f":"IFERROR(VLOOKUP(C32,List!C:D,2,FALSE),0)","v":0},null,30]
[null,31,null,null,"",null,null,null,"",30,{"$f":"IFERROR(VLOOKUP(C33,List!C:D,2,FALSE),0)","v":0},null,31]
[null,32,null,null,"",null,null,null,"",31,{"$f":"IFERROR(VLOOKUP(C34,List!C:D,2,FALSE),0)","v":0},null,32]
[null,33,null,null,"",null,null,null,"",32,{"$f":"IFERROR(VLOOKUP(C35,List!C:D,2,FALSE),0)","v":0},null,33]
[null,34,null,null,"",null,null,null,"",33,{"$f":"IFERROR(VLOOKUP(C36,List!C:D,2,FALSE),0)","v":0},null,34]
[null,35,null,null,"",null,null,null,"",34,{"$f":"IFERROR(VLOOKUP(C37,List!C:D,2,FALSE),0)","v":0},null,35]
[null,36,null,null,"",null,null,null,"",35,{"$f":"IFERROR(VLOOKUP(C38,List!C:D,2,FALSE),0)","v":0},null,36]
[null,37,null,null,"",null,null,null,"",36,{"$f":"IFERROR(VLOOKUP(C39,List!C:D,2,FALSE),0)","v":0},null,37]
[null,38,null,null,"",null,null,null,"",37,{"$f":"IFERROR(VLOOKUP(C40,List!C:D,2,FALSE),0)","v":0},null,38]
[null,39,null,null,"",null,null,null,"",38,{"$f":"IFERROR(VLOOKUP(C41,List!C:D,2,FALSE),0)","v":0},null,39]
[null,40,null,null,"",null,null,null,"",39,{"$f":"IFERROR(VLOOKUP(C42,List!C:D,2,FALSE),0)","v":0},null,40]
[null,null,null,null,null,null,null,null,"",40,{"$f":"IFERROR(VLOOKUP(C43,List!C:D,2,FALSE),0)","v":0}]

{"sheet":"キー割付","index":10,"n_rows":720,"n_cols":26,"rows_kept":720,"cut":false,"hidden":true,"merged":[]}
["電話機　キー割付、鳴動、音色"]
[null,null,null,null,null,null,null,null,null,null,null,null,null,null,null," 　　　　　　　注意！「トーン2」は内線の着信音と同じになります。"]
[]
[null,null,"内線No-01",null,{"$f":"IFERROR(IF(D4<>\"\",\"TEN\" & VLOOKUP(D4,内線種別!$I:$J,2,FALSE),\"\"),\"\")","v":""},null,null,null,null,null,null,null,"内線No-02",null,{"$f":"IFERROR(IF(N4<>\"\",\"TEN\" & VLOOKUP(N4,内線種別!$I:$J,2,FALSE),\"\"),\"\")","v":""}]
[null,null,null,null,{"$f":"IFERROR(IF(D4<>\"\",VLOOKUP(D4,内線種別!$I:$K,3,FALSE),\"0\"),\"0\")","v":"0"},null,null,null,null,null,null,null,null,null,{"$f":"IFERROR(IF(N4<>\"\",VLOOKUP(N4,内線種別!$I:$K,3,FALSE),\"0\"),\"0\")","v":"0"},null,null,null,null,null,null,null,"電話番号　利用可能Chを超える入力があるかチェック"]
[null,null,"LK",1,2,3,4,5,6,null,null,null,"LK",1,2,3,4,5,6,null,null,null,"電話番号","利用可能Ch","キ割_01領域","入力Over"]
[null,null,"電話番号",null,null,null,null,null,null,null,null,null,"電話番号",null,null,null,null,null,null,null,null,null,{"$f":"IFERROR(IF(L回線_電話番号_01<>\"\",L回線_電話番号_01,\"\"),\"\")","v":""},{"$f":"IFERROR(VLOOKUP(W7,ヒ基_電話番号,2,FALSE),\"\")","v":0},{"$f":"IF($W7<>\"\",COUNTIF(INDIRECT(Y$6),$W7),\"\")","v":""},{"$f":"IF(W7<>\"\",$X7<Y7,\"\")","v":""}]
[null,null,"着信音",null,null,null,null,null,null,null,null,null,"着信音",null,null,null,null,null,null,null,null,null,{"$f":"IFERROR(IF(L回線_電話番号_02<>\"\",L回線_電話番号_02,\"\"),\"\")","v":""},0,{"$f":"IF($W8<>\"\",COUNTIF(INDIRECT(Y$6),$W8),\"\")","v":""},""]
[null,null,"モード毎鳴動",null,null,null,null,null,null,null,null,null,"モード毎鳴動",null,null,null,null,null,null,null,null,null,{"$f":"IFERROR(IF(L回線_電話番号_03<>\"\",L回線_電話番号_03,\"\"),\"\")","v":""},0,"",""]
[null,null,"着信拒否",null,null,null,null,null,null,null,null,null,"着信拒否",null,null,null,null,null,null,null,null,null,{"$f":"IFERROR(IF(L回線_電話番号_04<>\"\",L回線_電話番号_04,\"\"),\"\")","v":""},0,"",""]
[null,null,"モード切替",null,null,null,null,null,null,null,null,null,"モード切替",null,null,null,null,null,null,null,null,null,{"$f":"IFERROR(IF(L回線_電話番号_05<>\"\",L回線_電話番号_05,\"\"),\"\")","v":""},0,"",""]
[null,null,"留守応答",null,null,null,null,null,null,null,null,null,"留守応答",null,null,null,null,null,null,null,null,null,{"$f":"IFERROR(IF(L回線_電話番号_06<>\"\",L回線_電話番号_06,\"\"),\"\")","v":""},0,"",""]
[null,null,null,null,null,null,null,null,null,null,null,null,null,null,null,null,null,null,null,null,null,null,{"$f":"IFERROR(IF(L回線_電話番号_07<>\"\",L回線_電話番号_07,\"\"),\"\")","v":""},0,"",""]
[null,null,"LK",7,8,9,10,11,12,null,null,null,"LK",7,8,9,10,11,12,null,null,null,{"$f":"IFERROR(IF(L回線_電話番号_08<>\"\",L回線_電話番号_08,\"\"),\"\")","v":""},0,"",""]
[null,null,"電話番号",null,null,null,null,null,null,null,null,null,"電話番号",null,null,null,null,null,null,null,null,null,{"$f":"IFERROR(IF(L回線_電話番号_09<>\"\",L回線_電話番号_09,\"\"),\"\")","v":""},0,"",""]
[null,null,"着信音",null,null,null,null,null,null,null,null,null,"着信音",null,null,null,null,null,null,null,null,null,{"$f":"IFERROR(IF(L回線_電話番号_10<>\"\",L回線_電話番号_10,\"\"),\"\")","v":""},0,"",""]
[null,null,"モード毎鳴動",null,null,null,null,null,null,null,null,null,"モード毎鳴動",null,null,null,null,null,null,null,null,null,{"$f":"IFERROR(IF(L回線_電話番号_11<>\"\",L回線_電話番号_11,\"\"),\"\")","v":""},0,"",""]
[null,null,"着信拒否",null,null,null,null,null,null,null,null,null,"着信拒否",null,null,null,null,null,null,null,null,null,{"$f":"IFERROR(IF(L回線_電話番号_12<>\"\",L回線_電話番号_12,\"\"),\"\")","v":""},0,"",""]
[null,null,"モード切替",null,null,null,null,null,null,null,null,null,"モード切替"]
[null,null,"留守応答",null,null,null,null,null,null,null,null,null,"留守応答",null,null,null,null,null,null,null,null,null,"電話番号　利用可能Chを超える入力があるかチェック"]
[null,null,null,null,null,null,null,null,null,null,null,null,null,null,null,null,null,null,null,null,null,null,"電話番号","利用可能Ch","キ割_02領域","入力Over"]
[null,null,"LK",13,14,15,16,17,18,null,null,null,"LK",13,14,15,16,17,18,null,null,null,{"$f":"IFERROR(IF(L回線_電話番号_01<>\"\",L回線_電話番号_01,\"\"),\"\")","v":""},{"$f":"IFERROR(VLOOKUP(W22,ヒ基_電話番号,2,FALSE),\"\")","v":0},{"$f":"IF($W22<>\"\",COUNTIF(INDIRECT(Y$21),$W22),\"\")","v":""},{"$f":"IF(W22<>\"\",$X22<Y22,\"\")","v":""}]
[null,null,"電話番号",null,null,null,null,null,null,null,null,null,"電話番号",null,null,null,null,null,null,null,null,null,{"$f":"IFERROR(IF(L回線_電話番号_02<>\"\",L回線_電話番号_02,\"\"),\"\")","v":""},0,{"$f":"IF($W23<>\"\",COUNTIF(INDIRECT(Y$21),$W23),\"\")","v":""},""]
[null,null,"着信音",null,null,null,null,null,null,null,null,null,"着信音",null,null,null,null,null,null,null,null,null,{"$f":"IFERROR(IF(L回線_電話番号_03<>\"\",L回線_電話番号_03,\"\"),\"\")","v":""},0,"",""]
[null,null,"モード毎鳴動",null,null,null,null,null,null,null,null,null,"モード毎鳴動",null,null,null,null,null,null,null,null,null,{"$f":"IFERROR(IF(L回線_電話番号_04<>\"\",L回線_電話番号_04,\"\"),\"\")","v":""},0,"",""]
[null,null,"着信拒否",null,null,null,null,null,null,null,null,null,"着信拒否",null,null,null,null,null,null,null,null,null,{"$f":"IFERROR(IF(L回線_電話番号_05<>\"\",L回線_電話番号_05,\"\"),\"\")","v":""},0,"",""]
[null,null,"モード切替",null,null,null,null,null,null,null,null,null,"モード切替",null,null,null,null,null,null,null,null,null,{"$f":"IFERROR(IF(L回線_電話番号_06<>\"\",L回線_電話番号_06,\"\"),\"\")","v":""},0,"",""]
[null,null,"留守応答",null,null,null,null,null,null,null,null,null,"留守応答",null,null,null,null,null,null,null,null,null,{"$f":"IFERROR(IF(L回線_電話番号_07<>\"\",L回線_電話番号_07,\"\"),\"\")","v":""},0,"",""]
[null,null,null,null,null,null,null,null,null,null,null,null,null,null,null,null,null,null,null,null,null,null,{"$f":"IFERROR(IF(L回線_電話番号_08<>\"\",L回線_電話番号_08,\"\"),\"\")","v":""},0,"",""]
[null,null,"LK",19,20,21,22,23,24,null,null,null,"LK",19,20,21,22,23,24,null,null,null,{"$f":"IFERROR(IF(L回線_電話番号_09<>\"\",L回線_電話番号_09,\"\"),\"\")","v":""},0,"",""]
[null,null,"電話番号",null,null,null,null,null,null,null,null,null,"電話番号",null,null,null,null,null,null,null,null,null,{"$f":"IFERROR(IF(L回線_電話番号_10<>\"\",L回線_電話番号_10,\"\"),\"\")","v":""},0,"",""]
[null,null,"着信音",null,null,null,null,null,null,null,null,null,"着信音",null,null,null,null,null,null,null,null,null,{"$f":"IFERROR(IF(L回線_電話番号_11<>\"\",L回線_電話番号_11,\"\"),\"\")","v":""},0,"",""]
[null,null,"モード毎鳴動",null,null,null,null,null,null,null,null,null,"モード毎鳴動",null,null,null,null,null,null,null,null,null,{"$f":"IFERROR(IF(L回線_電話番号_12<>\"\",L回線_電話番号_12,\"\"),\"\")","v":""},0,"",""]
[null,null,"着信拒否",null,null,null,null,null,null,null,null,null,"着信拒否"]
[null,null,"モード切替",null,null,null,null,null,null,null,null,null,"モード切替"]
[null,null,"留守応答",null,null,null,null,null,null,null,null,null,"留守応答"]
[]
[]
[null,null,null,null,null,null,null,null,null,null,null,null,null,null,null,null,null,null,null,null,null,null,"電話番号　利用可能Chを超える入力があるかチェック"]
[null,null,"内線No-03",null,{"$f":"IFERROR(IF(D40<>\"\",\"TEN\" & VLOOKUP(D40,内線種別!$I:$J,2,FALSE),\"\"),\"\")","v":""},null,null,null,null,null,null,null,"内線No-04",null,{"$f":"IFERROR(IF(N40<>\"\",\"TEN\" & VLOOKUP(N40,内線種別!$I:$J,2,FALSE),\"\"),\"\")","v":""},null,null,null,null,null,null,null,"電話番号","利用可能Ch","キ割_03領域","入力Over"]
[null,null,null,null,{"$f":"IFERROR(IF(D40<>\"\",VLOOKUP(D40,内線種別!$I:$K,3,FALSE),\"0\"),\"0\")","v":"0"},null,null,null,null,null,null,null,null,null,{"$f":"IFERROR(IF(N40<>\"\",VLOOKUP(N40,内線種別!$I:$K,3,FALSE),\"0\"),\"0\")","v":"0"},null,null,null,null,null,null,null,{"$f":"IFERROR(IF(L回線_電話番号_01<>\"\",L回線_電話番号_01,\"\"),\"\")","v":""},{"$f":"IFERROR(VLOOKUP(W41,ヒ基_電話番号,2,FALSE),\"\")","v":0},{"$f":"IF($W41<>\"\",COUNTIF(INDIRECT(Y$40),$W41),\"\")","v":""},{"$f":"IF(W41<>\"\",$X41<Y41,\"\")","v":""}]
[null,null,"LK",1,2,3,4,5,6,null,null,null,"LK",1,2,3,4,5,6,null,null,null,{"$f":"IFERROR(IF(L回線_電話番号_02<>\"\",L回線_電話番号_02,\"\"),\"\")","v":""},0,{"$f":"IF($W42<>\"\",COUNTIF(INDIRECT(Y$40),$W42),\"\")","v":""},""]
[null,null,"電話番号",null,null,null,null,null,null,null,null,null,"電話番号",null,null,null,null,null,null,null,null,null,{"$f":"IFERROR(IF(L回線_電話番号_03<>\"\",L回線_電話番号_03,\"\"),\"\")","v":""},0,"",""]
[null,null,"着信音",null,null,null,null,null,null,null,null,null,"着信音",null,null,null,null,null,null,null,null,null,{"$f":"IFERROR(IF(L回線_電話番号_04<>\"\",L回線_電話番号_04,\"\"),\"\")","v":""},0,"",""]
[null,null,"モード毎鳴動",null,null,null,null,null,null,null,null,null,"モード毎鳴動",null,null,null,null,null,null,null,null,null,{"$f":"IFERROR(IF(L回線_電話番号_05<>\"\",L回線_電話番号_05,\"\"),\"\")","v":""},0,"",""]
[null,null,"着信拒否",null,null,null,null,null,null,null,null,null,"着信拒否",null,null,null,null,null,null,null,null,null,{"$f":"IFERROR(IF(L回線_電話番号_06<>\"\",L回線_電話番号_06,\"\"),\"\")","v":""},0,"",""]
[null,null,"モード切替",null,null,null,null,null,null,null,null,null,"モード切替",null,null,null,null,null,null,null,null,null,{"$f":"IFERROR(IF(L回線_電話番号_07<>\"\",L回線_電話番号_07,\"\"),\"\")","v":""},0,"",""]
[null,null,"留守応答",null,null,null,null,null,null,null,null,null,"留守応答",null,null,null,null,null,null,null,null,null,{"$f":"IFERROR(IF(L回線_電話番号_08<>\"\",L回線_電話番号_08,\"\"),\"\")","v":""},0,"",""]
[null,null,null,null,null,null,null,null,null,null,null,null,null,null,null,null,null,null,null,null,null,null,{"$f":"IFERROR(IF(L回線_電話番号_09<>\"\",L回線_電話番号_09,\"\"),\"\")","v":""},0,"",""]
[null,null,"LK",7,8,9,10,11,12,null,null,null,"LK",7,8,9,10,11,12,null,null,null,{"$f":"IFERROR(IF(L回線_電話番号_10<>\"\",L回線_電話番号_10,\"\"),\"\")","v":""},0,"",""]
[null,null,"電話番号",null,null,null,null,null,null,null,null,null,"電話番号",null,null,null,null,null,null,null,null,null,{"$f":"IFERROR(IF(L回線_電話番号_11<>\"\",L回線_電話番号_11,\"\"),\"\")","v":""},0,"",""]
[null,null,"着信音",null,null,null,null,null,null,null,null,null,"着信音",null,null,null,null,null,null,null,null,null,{"$f":"IFERROR(IF(L回線_電話番号_12<>\"\",L回線_電話番号_12,\"\"),\"\")","v":""},0,"",""]
[null,null,"モード毎鳴動",null,null,null,null,null,null,null,null,null,"モード毎鳴動"]
[null,null,"着信拒否",null,null,null,null,null,null,null,null,null,"着信拒否",null,null,null,null,null,null,null,null,null,"電話番号　利用可能Chを超える入力があるかチェック"]
[null,null,"モード切替",null,null,null,null,null,null,null,null,null,"モード切替",null,null,null,null,null,null,null,null,null,"電話番号","利用可能Ch","キ割_04領域","入力Over"]
[null,null,"留守応答",null,null,null,null,null,null,null,null,null,"留守応答",null,null,null,null,null,null,null,null,null,{"$f":"IFERROR(IF(L回線_電話番号_01<>\"\",L回線_電話番号_01,\"\"),\"\")","v":""},{"$f":"IFERROR(VLOOKUP(W56,ヒ基_電話番号,2,FALSE),\"\")","v":0},{"$f":"IF($W56<>\"\",COUNTIF(INDIRECT(Y$55),$W56),\"\")","v":""},{"$f":"IF(W56<>\"\",$X56<Y56,\"\")","v":""}]
[null,null,null,null,null,null,null,null,null,null,null,null,null,null,null,null,null,null,null,null,null,null,{"$f":"IFERROR(IF(L回線_電話番号_02<>\"\",L回線_電話番号_02,\"\"),\"\")","v":""},0,{"$f":"IF($W57<>\"\",COUNTIF(INDIRECT(Y$55),$W57),\"\")","v":""},""]
[null,null,"LK",13,14,15,16,17,18,null,null,null,"LK",13,14,15,16,17,18,null,null,null,{"$f":"IFERROR(IF(L回線_電話番号_03<>\"\",L回線_電話番号_03,\"\"),\"\")","v":""},0,"",""]
[null,null,"電話番号",null,null,null,null,null,null,null,null,null,"電話番号",null,null,null,null,null,null,null,null,null,{"$f":"IFERROR(IF(L回線_電話番号_04<>\"\",L回線_電話番号_04,\"\"),\"\")","v":""},0,"",""]
[null,null,"着信音",null,null,null,null,null,null,null,null,null,"着信音",null,null,null,null,null,null,null,null,null,{"$f":"IFERROR(IF(L回線_電話番号_05<>\"\",L回線_電話番号_05,\"\"),\"\")","v":""},0,"",""]
[null,null,"モード毎鳴動",null,null,null,null,null,null,null,null,null,"モード毎鳴動",null,null,null,null,null,null,null,null,null,{"$f":"IFERROR(IF(L回線_電話番号_06<>\"\",L回線_電話番号_06,\"\"),\"\")","v":""},0,"",""]
[null,null,"着信拒否",null,null,null,null,null,null,null,null,null,"着信拒否",null,null,null,null,null,null,null,null,null,{"$f":"IFERROR(IF(L回線_電話番号_07<>\"\",L回線_電話番号_07,\"\"),\"\")","v":""},0,"",""]
[null,null,"モード切替",null,null,null,null,null,null,null,null,null,"モード切替",null,null,null,null,null,null,null,null,null,{"$f":"IFERROR(IF(L回線_電話番号_08<>\"\",L回線_電話番号_08,\"\"),\"\")","v":""},0,"",""]
[null,null,"留守応答",null,null,null,null,null,null,null,null,null,"留守応答",null,null,null,null,null,null,null,null,null,{"$f":"IFERROR(IF(L回線_電話番号_09<>\"\",L回線_電話番号_09,\"\"),\"\")","v":""},0,"",""]
[null,null,null,null,null,null,null,null,null,null,null,null,null,null,null,null,null,null,null,null,null,null,{"$f":"IFERROR(IF(L回線_電話番号_10<>\"\",L回線_電話番号_10,\"\"),\"\")","v":""},0,"",""]
[null,null,"LK",19,20,21,22,23,24,null,null,null,"LK",19,20,21,22,23,24,null,null,null,{"$f":"IFERROR(IF(L回線_電話番号_11<>\"\",L回線_電話番号_11,\"\"),\"\")","v":""},0,"",""]
[null,null,"電話番号",null,null,null,null,null,null,null,null,null,"電話番号",null,null,null,null,null,null,null,null,null,{"$f":"IFERROR(IF(L回線_電話番号_12<>\"\",L回線_電話番号_12,\"\"),\"\")","v":""},0,"",""]
[null,null,"着信音",null,null,null,null,null,null,null,null,null,"着信音"]
[null,null,"モード毎鳴動",null,null,null,null,null,null,null,null,null,"モード毎鳴動"]
[null,null,"着信拒否",null,null,null,null,null,null,null,null,null,"着信拒否"]
[null,null,"モード切替",null,null,null,null,null,null,null,null,null,"モード切替"]
[null,null,"留守応答",null,null,null,null,null,null,null,null,null,"留守応答"]
[]
[]
[null,null,null,null,null,null,null,null,null,null,null,null,null,null,null,null,null,null,null,null,null,null,"電話番号　利用可能Chを超える入力があるかチェック"]
[null,null,"内線No-05",null,{"$f":"IFERROR(IF(D76<>\"\",\"TEN\" & VLOOKUP(D76,内線種別!$I:$J,2,FALSE),\"\"),\"\")","v":""},null,null,null,null,null,null,null,"内線No-06",null,{"$f":"IFERROR(IF(N76<>\"\",\"TEN\" & VLOOKUP(N76,内線種別!$I:$J,2,FALSE),\"\"),\"\")","v":""},null,null,null,null,null,null,null,"電話番号","利用可能Ch","キ割_05領域","入力Over"]
[null,null,null,null,{"$f":"IFERROR(IF(D76<>\"\",VLOOKUP(D76,内線種別!$I:$K,3,FALSE),\"0\"),\"0\")","v":"0"},null,null,null,null,null,null,null,null,null,{"$f":"IFERROR(IF(N76<>\"\",VLOOKUP(N76,内線種別!$I:$K,3,FALSE),\"0\"),\"0\")","v":"0"},null,null,null,null,null,null,null,{"$f":"IFERROR(IF(L回線_電話番号_01<>\"\",L回線_電話番号_01,\"\"),\"\")","v":""},{"$f":"IFERROR(VLOOKUP(W77,ヒ基_電話番号,2,FALSE),\"\")","v":0},{"$f":"IF($W77<>\"\",COUNTIF(INDIRECT(Y$76),$W77),\"\")","v":""},{"$f":"IF(W77<>\"\",$X77<Y77,\"\")","v":""}]
[null,null,"LK",1,2,3,4,5,6,null,null,null,"LK",1,2,3,4,5,6,null,null,null,{"$f":"IFERROR(IF(L回線_電話番号_02<>\"\",L回線_電話番号_02,\"\"),\"\")","v":""},0,{"$f":"IF($W78<>\"\",COUNTIF(INDIRECT(Y$76),$W78),\"\")","v":""},""]
[null,null,"電話番号",null,null,null,null,null,null,null,null,null,"電話番号",null,null,null,null,null,null,null,null,null,{"$f":"IFERROR(IF(L回線_電話番号_03<>\"\",L回線_電話番号_03,\"\"),\"\")","v":""},0,"",""]
[null,null,"着信音",null,null,null,null,null,null,null,null,null,"着信音",null,null,null,null,null,null,null,null,null,{"$f":"IFERROR(IF(L回線_電話番号_04<>\"\",L回線_電話番号_04,\"\"),\"\")","v":""},0,"",""]
[null,null,"モード毎鳴動",null,null,null,null,null,null,null,null,null,"モード毎鳴動",null,null,null,null,null,null,null,null,null,{"$f":"IFERROR(IF(L回線_電話番号_05<>\"\",L回線_電話番号_05,\"\"),\"\")","v":""},0,"",""]
[null,null,"着信拒否",null,null,null,null,null,null,null,null,null,"着信拒否",null,null,null,null,null,null,null,null,null,{"$f":"IFERROR(IF(L回線_電話番号_06<>\"\",L回線_電話番号_06,\"\"),\"\")","v":""},0,"",""]
[null,null,"モード切替",null,null,null,null,null,null,null,null,null,"モード切替",null,null,null,null,null,null,null,null,null,{"$f":"IFERROR(IF(L回線_電話番号_07<>\"\",L回線_電話番号_07,\"\"),\"\")","v":""},0,"",""]
[null,null,"留守応答",null,null,null,null,null,null,null,null,null,"留守応答",null,null,null,null,null,null,null,null,null,{"$f":"IFERROR(IF(L回線_電話番号_08<>\"\",L回線_電話番号_08,\"\"),\"\")","v":""},0,"",""]
[null,null,null,null,null,null,null,null,null,null,null,null,null,null,null,null,null,null,null,null,null,null,{"$f":"IFERROR(IF(L回線_電話番号_09<>\"\",L回線_電話番号_09,\"\"),\"\")","v":""},0,"",""]
[null,null,"LK",7,8,9,10,11,12,null,null,null,"LK",7,8,9,10,11,12,null,null,null,{"$f":"IFERROR(IF(L回線_電話番号_10<>\"\",L回線_電話番号_10,\"\"),\"\")","v":""},0,"",""]
[null,null,"電話番号",null,null,null,null,null,null,null,null,null,"電話番号",null,null,null,null,null,null,null,null,null,{"$f":"IFERROR(IF(L回線_電話番号_11<>\"\",L回線_電話番号_11,\"\"),\"\")","v":""},0,"",""]
[null,null,"着信音",null,null,null,null,null,null,null,null,null,"着信音",null,null,null,null,null,null,null,null,null,{"$f":"IFERROR(IF(L回線_電話番号_12<>\"\",L回線_電話番号_12,\"\"),\"\")","v":""},0,"",""]
[null,null,"モード毎鳴動",null,null,null,null,null,null,null,null,null,"モード毎鳴動"]
[null,null,"着信拒否",null,null,null,null,null,null,null,null,null,"着信拒否",null,null,null,null,null,null,null,null,null,"電話番号　利用可能Chを超える入力があるかチェック"]
[null,null,"モード切替",null,null,null,null,null,null,null,null,null,"モード切替",null,null,null,null,null,null,null,null,null,"電話番号","利用可能Ch","キ割_06領域","入力Over"]
[null,null,"留守応答",null,null,null,null,null,null,null,null,null,"留守応答",null,null,null,null,null,null,null,null,null,{"$f":"IFERROR(IF(L回線_電話番号_01<>\"\",L回線_電話番号_01,\"\"),\"\")","v":""},{"$f":"IFERROR(VLOOKUP(W92,ヒ基_電話番号,2,FALSE),\"\")","v":0},{"$f":"IF($W92<>\"\",COUNTIF(INDIRECT(Y$91),$W92),\"\")","v":""},{"$f":"IF(W92<>\"\",$X92<Y92,\"\")","v":""}]
[null,null,null,null,null,null,null,null,null,null,null,null,null,null,null,null,null,null,null,null,null,null,{"$f":"IFERROR(IF(L回線_電話番号_02<>\"\",L回線_電話番号_02,\"\"),\"\")","v":""},0,{"$f":"IF($W93<>\"\",COUNTIF(INDIRECT(Y$91),$W93),\"\")","v":""},""]
[null,null,"LK",13,14,15,16,17,18,null,null,null,"LK",13,14,15,16,17,18,null,null,null,{"$f":"IFERROR(IF(L回線_電話番号_03<>\"\",L回線_電話番号_03,\"\"),\"\")","v":""},0,"",""]
[null,null,"電話番号",null,null,null,null,null,null,null,null,null,"電話番号",null,null,null,null,null,null,null,null,null,{"$f":"IFERROR(IF(L回線_電話番号_04<>\"\",L回線_電話番号_04,\"\"),\"\")","v":""},0,"",""]
[null,null,"着信音",null,null,null,null,null,null,null,null,null,"着信音",null,null,null,null,null,null,null,null,null,{"$f":"IFERROR(IF(L回線_電話番号_05<>\"\",L回線_電話番号_05,\"\"),\"\")","v":""},0,"",""]
[null,null,"モード毎鳴動",null,null,null,null,null,null,null,null,null,"モード毎鳴動",null,null,null,null,null,null,null,null,null,{"$f":"IFERROR(IF(L回線_電話番号_06<>\"\",L回線_電話番号_06,\"\"),\"\")","v":""},0,"",""]
[null,null,"着信拒否",null,null,null,null,null,null,null,null,null,"着信拒否",null,null,null,null,null,null,null,null,null,{"$f":"IFERROR(IF(L回線_電話番号_07<>\"\",L回線_電話番号_07,\"\"),\"\")","v":""},0,"",""]
[null,null,"モード切替",null,null,null,null,null,null,null,null,null,"モード切替",null,null,null,null,null,null,null,null,null,{"$f":"IFERROR(IF(L回線_電話番号_08<>\"\",L回線_電話番号_08,\"\"),\"\")","v":""},0,"",""]
[null,null,"留守応答",null,null,null,null,null,null,null,null,null,"留守応答",null,null,null,null,null,null,null,null,null,{"$f":"IFERROR(IF(L回線_電話番号_09<>\"\",L回線_電話番号_09,\"\"),\"\")","v":""},0,"",""]
[null,null,null,null,null,null,null,null,null,null,null,null,null,null,null,null,null,null,null,null,null,null,{"$f":"IFERROR(IF(L回線_電話番号_10<>\"\",L回線_電話番号_10,\"\"),\"\")","v":""},0,"",""]
[null,null,"LK",19,20,21,22,23,24,null,null,null,"LK",19,20,21,22,23,24,null,null,null,{"$f":"IFERROR(IF(L回線_電話番号_11<>\"\",L回線_電話番号_11,\"\"),\"\")","v":""},0,"",""]
[null,null,"電話番号",null,null,null,null,null,null,null,null,null,"電話番号",null,null,null,null,null,null,null,null,null,{"$f":"IFERROR(IF(L回線_電話番号_12<>\"\",L回線_電話番号_12,\"\"),\"\")","v":""},0,"",""]
[null,null,"着信音",null,null,null,null,null,null,null,null,null,"着信音"]
[null,null,"モード毎鳴動",null,null,null,null,null,null,null,null,null,"モード毎鳴動"]
[null,null,"着信拒否",null,null,null,null,null,null,null,null,null,"着信拒否"]
[null,null,"モード切替",null,null,null,null,null,null,null,null,null,"モード切替"]
[null,null,"留守応答",null,null,null,null,null,null,null,null,null,"留守応答"]
[]
[]
[null,null,null,null,null,null,null,null,null,null,null,null,null,null,null,null,null,null,null,null,null,null,"電話番号　利用可能Chを超える入力があるかチェック"]
[null,null,"内線No-07",null,{"$f":"IFERROR(IF(D112<>\"\",\"TEN\" & VLOOKUP(D112,内線種別!$I:$J,2,FALSE),\"\"),\"\")","v":""},null,null,null,null,null,null,null,"内線No-08",null,{"$f":"IFERROR(IF(N112<>\"\",\"TEN\" & VLOOKUP(N112,内線種別!$I:$J,2,FALSE),\"\"),\"\")","v":""},null,null,null,null,null,null,null,"電話番号","利用可能Ch","キ割_07領域","入力Over"]
[null,null,null,null,{"$f":"IFERROR(IF(D112<>\"\",VLOOKUP(D112,内線種別!$I:$K,3,FALSE),\"0\"),\"0\")","v":"0"},null,null,null,null,null,null,null,null,null,{"$f":"IFERROR(IF(N112<>\"\",VLOOKUP(N112,内線種別!$I:$K,3,FALSE),\"0\"),\"0\")","v":"0"},null,null,null,null,null,null,null,{"$f":"IFERROR(IF(L回線_電話番号_01<>\"\",L回線_電話番号_01,\"\"),\"\")","v":""},{"$f":"IFERROR(VLOOKUP(W113,ヒ基_電話番号,2,FALSE),\"\")","v":0},{"$f":"IF($W113<>\"\",COUNTIF(INDIRECT(Y$112),$W113),\"\")","v":""},{"$f":"IF(W113<>\"\",$X113<Y113,\"\")","v":""}]
[null,null,"LK",1,2,3,4,5,6,null,null,null,"LK",1,2,3,4,5,6,null,null,null,{"$f":"IFERROR(IF(L回線_電話番号_02<>\"\",L回線_電話番号_02,\"\"),\"\")","v":""},0,{"$f":"IF($W114<>\"\",COUNTIF(INDIRECT(Y$112),$W114),\"\")","v":""},""]
[null,null,"電話番号",null,null,null,null,null,null,null,null,null,"電話番号",null,null,null,null,null,null,null,null,null,{"$f":"IFERROR(IF(L回線_電話番号_03<>\"\",L回線_電話番号_03,\"\"),\"\")","v":""},0,"",""]
[null,null,"着信音",null,null,null,null,null,null,null,null,null,"着信音",null,null,null,null,null,null,null,null,null,{"$f":"IFERROR(IF(L回線_電話番号_04<>\"\",L回線_電話番号_04,\"\"),\"\")","v":""},0,"",""]
[null,null,"モード毎鳴動",null,null,null,null,null,null,null,null,null,"モード毎鳴動",null,null,null,null,null,null,null,null,null,{"$f":"IFERROR(IF(L回線_電話番号_05<>\"\",L回線_電話番号_05,\"\"),\"\")","v":""},0,"",""]
[null,null,"着信拒否",null,null,null,null,null,null,null,null,null,"着信拒否",null,null,null,null,null,null,null,null,null,{"$f":"IFERROR(IF(L回線_電話番号_06<>\"\",L回線_電話番号_06,\"\"),\"\")","v":""},0,"",""]
[null,null,"モード切替",null,null,null,null,null,null,null,null,null,"モード切替",null,null,null,null,null,null,null,null,null,{"$f":"IFERROR(IF(L回線_電話番号_07<>\"\",L回線_電話番号_07,\"\"),\"\")","v":""},0,"",""]
[null,null,"留守応答",null,null,null,null,null,null,null,null,null,"留守応答",null,null,null,null,null,null,null,null,null,{"$f":"IFERROR(IF(L回線_電話番号_08<>\"\",L回線_電話番号_08,\"\"),\"\")","v":""},0,"",""]
[null,null,null,null,null,null,null,null,null,null,null,null,null,null,null,null,null,null,null,null,null,null,{"$f":"IFERROR(IF(L回線_電話番号_09<>\"\",L回線_電話番号_09,\"\"),\"\")","v":""},0,"",""]
[null,null,"LK",7,8,9,10,11,12,null,null,null,"LK",7,8,9,10,11,12,null,null,null,{"$f":"IFERROR(IF(L回線_電話番号_10<>\"\",L回線_電話番号_10,\"\"),\"\")","v":""},0,"",""]
[null,null,"電話番号",null,null,null,null,null,null,null,null,null,"電話番号",null,null,null,null,null,null,null,null,null,{"$f":"IFERROR(IF(L回線_電話番号_11<>\"\",L回線_電話番号_11,\"\"),\"\")","v":""},0,"",""]
[null,null,"着信音",null,null,null,null,null,null,null,null,null,"着信音",null,null,null,null,null,null,null,null,null,{"$f":"IFERROR(IF(L回線_電話番号_12<>\"\",L回線_電話番号_12,\"\"),\"\")","v":""},0,"",""]
[null,null,"モード毎鳴動",null,null,null,null,null,null,null,null,null,"モード毎鳴動"]
[null,null,"着信拒否",null,null,null,null,null,null,null,null,null,"着信拒否",null,null,null,null,null,null,null,null,null,"電話番号　利用可能Chを超える入力があるかチェック"]
[null,null,"モード切替",null,null,null,null,null,null,null,null,null,"モード切替",null,null,null,null,null,null,null,null,null,"電話番号","利用可能Ch","キ割_08領域","入力Over"]
[null,null,"留守応答",null,null,null,null,null,null,null,null,null,"留守応答",null,null,null,null,null,null,null,null,null,{"$f":"IFERROR(IF(L回線_電話番号_01<>\"\",L回線_電話番号_01,\"\"),\"\")","v":""},{"$f":"IFERROR(VLOOKUP(W128,ヒ基_電話番号,2,FALSE),\"\")","v":0},{"$f":"IF($W128<>\"\",COUNTIF(INDIRECT(Y$127),$W128),\"\")","v":""},{"$f":"IF(W128<>\"\",$X128<Y128,\"\")","v":""}]
[null,null,null,null,null,null,null,null,null,null,null,null,null,null,null,null,null,null,null,null,null,null,{"$f":"IFERROR(IF(L回線_電話番号_02<>\"\",L回線_電話番号_02,\"\"),\"\")","v":""},0,{"$f":"IF($W129<>\"\",COUNTIF(INDIRECT(Y$127),$W129),\"\")","v":""},""]
[null,null,"LK",13,14,15,16,17,18,null,null,null,"LK",13,14,15,16,17,18,null,null,null,{"$f":"IFERROR(IF(L回線_電話番号_03<>\"\",L回線_電話番号_03,\"\"),\"\")","v":""},0,"",""]
[null,null,"電話番号",null,null,null,null,null,null,null,null,null,"電話番号",null,null,null,null,null,null,null,null,null,{"$f":"IFERROR(IF(L回線_電話番号_04<>\"\",L回線_電話番号_04,\"\"),\"\")","v":""},0,"",""]
[null,null,"着信音",null,null,null,null,null,null,null,null,null,"着信音",null,null,null,null,null,null,null,null,null,{"$f":"IFERROR(IF(L回線_電話番号_05<>\"\",L回線_電話番号_05,\"\"),\"\")","v":""},0,"",""]
[null,null,"モード毎鳴動",null,null,null,null,null,null,null,null,null,"モード毎鳴動",null,null,null,null,null,null,null,null,null,{"$f":"IFERROR(IF(L回線_電話番号_06<>\"\",L回線_電話番号_06,\"\"),\"\")","v":""},0,"",""]
[null,null,"着信拒否",null,null,null,null,null,null,null,null,null,"着信拒否",null,null,null,null,null,null,null,null,null,{"$f":"IFERROR(IF(L回線_電話番号_07<>\"\",L回線_電話番号_07,\"\"),\"\")","v":""},0,"",""]
[null,null,"モード切替",null,null,null,null,null,null,null,null,null,"モード切替",null,null,null,null,null,null,null,null,null,{"$f":"IFERROR(IF(L回線_電話番号_08<>\"\",L回線_電話番号_08,\"\"),\"\")","v":""},0,"",""]
[null,null,"留守応答",null,null,null,null,null,null,null,null,null,"留守応答",null,null,null,null,null,null,null,null,null,{"$f":"IFERROR(IF(L回線_電話番号_09<>\"\",L回線_電話番号_09,\"\"),\"\")","v":""},0,"",""]
[null,null,null,null,null,null,null,null,null,null,null,null,null,null,null,null,null,null,null,null,null,null,{"$f":"IFERROR(IF(L回線_電話番号_10<>\"\",L回線_電話番号_10,\"\"),\"\")","v":""},0,"",""]
[null,null,"LK",19,20,21,22,23,24,null,null,null,"LK",19,20,21,22,23,24,null,null,null,{"$f":"IFERROR(IF(L回線_電話番号_11<>\"\",L回線_電話番号_11,\"\"),\"\")","v":""},0,"",""]
[null,null,"電話番号",null,null,null,null,null,null,null,null,null,"電話番号",null,null,null,null,null,null,null,null,null,{"$f":"IFERROR(IF(L回線_電話番号_12<>\"\",L回線_電話番号_12,\"\"),\"\")","v":""},0,"",""]
[null,null,"着信音",null,null,null,null,null,null,null,null,null,"着信音"]
[null,null,"モード毎鳴動",null,null,null,null,null,null,null,null,null,"モード毎鳴動"]
[null,null,"着信拒否",null,null,null,null,null,null,null,null,null,"着信拒否"]
[null,null,"モード切替",null,null,null,null,null,null,null,null,null,"モード切替"]
[null,null,"留守応答",null,null,null,null,null,null,null,null,null,"留守応答"]
[]
[]
[null,null,null,null,null,null,null,null,null,null,null,null,null,null,null,null,null,null,null,null,null,null,"電話番号　利用可能Chを超える入力があるかチェック"]
[null,null,"内線No-09",null,{"$f":"IFERROR(IF(D148<>\"\",\"TEN\" & VLOOKUP(D148,内線種別!$I:$J,2,FALSE),\"\"),\"\")","v":""},null,null,null,null,null,null,null,"内線No-10",null,{"$f":"IFERROR(IF(N148<>\"\",\"TEN\" & VLOOKUP(N148,内線種別!$I:$J,2,FALSE),\"\"),\"\")","v":""},null,null,null,null,null,null,null,"電話番号","利用可能Ch","キ割_09領域","入力Over"]
[null,null,null,null,{"$f":"IFERROR(IF(D148<>\"\",VLOOKUP(D148,内線種別!$I:$K,3,FALSE),\"0\"),\"0\")","v":"0"},null,null,null,null,null,null,null,null,null,{"$f":"IFERROR(IF(N148<>\"\",VLOOKUP(N148,内線種別!$I:$K,3,FALSE),\"0\"),\"0\")","v":"0"},null,null,null,null,null,null,null,{"$f":"IFERROR(IF(L回線_電話番号_01<>\"\",L回線_電話番号_01,\"\"),\"\")","v":""},{"$f":"IFERROR(VLOOKUP(W149,ヒ基_電話番号,2,FALSE),\"\")","v":0},{"$f":"IF($W149<>\"\",COUNTIF(INDIRECT(Y$148),$W149),\"\")","v":""},{"$f":"IF(W149<>\"\",$X149<Y149,\"\")","v":""}]
[null,null,"LK",1,2,3,4,5,6,null,null,null,"LK",1,2,3,4,5,6,null,null,null,{"$f":"IFERROR(IF(L回線_電話番号_02<>\"\",L回線_電話番号_02,\"\"),\"\")","v":""},0,{"$f":"IF($W150<>\"\",COUNTIF(INDIRECT(Y$148),$W150),\"\")","v":""},""]
[null,null,"電話番号",null,null,null,null,null,null,null,null,null,"電話番号",null,null,null,null,null,null,null,null,null,{"$f":"IFERROR(IF(L回線_電話番号_03<>\"\",L回線_電話番号_03,\"\"),\"\")","v":""},0,"",""]
[null,null,"着信音",null,null,null,null,null,null,null,null,null,"着信音",null,null,null,null,null,null,null,null,null,{"$f":"IFERROR(IF(L回線_電話番号_04<>\"\",L回線_電話番号_04,\"\"),\"\")","v":""},0,"",""]
[null,null,"モード毎鳴動",null,null,null,null,null,null,null,null,null,"モード毎鳴動",null,null,null,null,null,null,null,null,null,{"$f":"IFERROR(IF(L回線_電話番号_05<>\"\",L回線_電話番号_05,\"\"),\"\")","v":""},0,"",""]
[null,null,"着信拒否",null,null,null,null,null,null,null,null,null,"着信拒否",null,null,null,null,null,null,null,null,null,{"$f":"IFERROR(IF(L回線_電話番号_06<>\"\",L回線_電話番号_06,\"\"),\"\")","v":""},0,"",""]
[null,null,"モード切替",null,null,null,null,null,null,null,null,null,"モード切替",null,null,null,null,null,null,null,null,null,{"$f":"IFERROR(IF(L回線_電話番号_07<>\"\",L回線_電話番号_07,\"\"),\"\")","v":""},0,"",""]
[null,null,"留守応答",null,null,null,null,null,null,null,null,null,"留守応答",null,null,null,null,null,null,null,null,null,{"$f":"IFERROR(IF(L回線_電話番号_08<>\"\",L回線_電話番号_08,\"\"),\"\")","v":""},0,"",""]
[null,null,null,null,null,null,null,null,null,null,null,null,null,null,null,null,null,null,null,null,null,null,{"$f":"IFERROR(IF(L回線_電話番号_09<>\"\",L回線_電話番号_09,\"\"),\"\")","v":""},0,"",""]
[null,null,"LK",7,8,9,10,11,12,null,null,null,"LK",7,8,9,10,11,12,null,null,null,{"$f":"IFERROR(IF(L回線_電話番号_10<>\"\",L回線_電話番号_10,\"\"),\"\")","v":""},0,"",""]
[null,null,"電話番号",null,null,null,null,null,null,null,null,null,"電話番号",null,null,null,null,null,null,null,null,null,{"$f":"IFERROR(IF(L回線_電話番号_11<>\"\",L回線_電話番号_11,\"\"),\"\")","v":""},0,"",""]
[null,null,"着信音",null,null,null,null,null,null,null,null,null,"着信音",null,null,null,null,null,null,null,null,null,{"$f":"IFERROR(IF(L回線_電話番号_12<>\"\",L回線_電話番号_12,\"\"),\"\")","v":""},0,"",""]
[null,null,"モード毎鳴動",null,null,null,null,null,null,null,null,null,"モード毎鳴動"]
[null,null,"着信拒否",null,null,null,null,null,null,null,null,null,"着信拒否",null,null,null,null,null,null,null,null,null,"電話番号　利用可能Chを超える入力があるかチェック"]
[null,null,"モード切替",null,null,null,null,null,null,null,null,null,"モード切替",null,null,null,null,null,null,null,null,null,"電話番号","利用可能Ch","キ割_10領域","入力Over"]
[null,null,"留守応答",null,null,null,null,null,null,null,null,null,"留守応答",null,null,null,null,null,null,null,null,null,{"$f":"IFERROR(IF(L回線_電話番号_01<>\"\",L回線_電話番号_01,\"\"),\"\")","v":""},{"$f":"IFERROR(VLOOKUP(W164,ヒ基_電話番号,2,FALSE),\"\")","v":0},{"$f":"IF($W164<>\"\",COUNTIF(INDIRECT(Y$163),$W164),\"\")","v":""},{"$f":"IF(W164<>\"\",$X164<Y164,\"\")","v":""}]
[null,null,null,null,null,null,null,null,null,null,null,null,null,null,null,null,null,null,null,null,null,null,{"$f":"IFERROR(IF(L回線_電話番号_02<>\"\",L回線_電話番号_02,\"\"),\"\")","v":""},0,{"$f":"IF($W165<>\"\",COUNTIF(INDIRECT(Y$163),$W165),\"\")","v":""},""]
[null,null,"LK",13,14,15,16,17,18,null,null,null,"LK",13,14,15,16,17,18,null,null,null,{"$f":"IFERROR(IF(L回線_電話番号_03<>\"\",L回線_電話番号_03,\"\"),\"\")","v":""},0,"",""]
[null,null,"電話番号",null,null,null,null,null,null,null,null,null,"電話番号",null,null,null,null,null,null,null,null,null,{"$f":"IFERROR(IF(L回線_電話番号_04<>\"\",L回線_電話番号_04,\"\"),\"\")","v":""},0,"",""]
[null,null,"着信音",null,null,null,null,null,null,null,null,null,"着信音",null,null,null,null,null,null,null,null,null,{"$f":"IFERROR(IF(L回線_電話番号_05<>\"\",L回線_電話番号_05,\"\"),\"\")","v":""},0,"",""]
[null,null,"モード毎鳴動",null,null,null,null,null,null,null,null,null,"モード毎鳴動",null,null,null,null,null,null,null,null,null,{"$f":"IFERROR(IF(L回線_電話番号_06<>\"\",L回線_電話番号_06,\"\"),\"\")","v":""},0,"",""]
[null,null,"着信拒否",null,null,null,null,null,null,null,null,null,"着信拒否",null,null,null,null,null,null,null,null,null,{"$f":"IFERROR(IF(L回線_電話番号_07<>\"\",L回線_電話番号_07,\"\"),\"\")","v":""},0,"",""]
[null,null,"モード切替",null,null,null,null,null,null,null,null,null,"モード切替",null,null,null,null,null,null,null,null,null,{"$f":"IFERROR(IF(L回線_電話番号_08<>\"\",L回線_電話番号_08,\"\"),\"\")","v":""},0,"",""]
[null,null,"留守応答",null,null,null,null,null,null,null,null,null,"留守応答",null,null,null,null,null,null,null,null,null,{"$f":"IFERROR(IF(L回線_電話番号_09<>\"\",L回線_電話番号_09,\"\"),\"\")","v":""},0,"",""]
[null,null,null,null,null,null,null,null,null,null,null,null,null,null,null,null,null,null,null,null,null,null,{"$f":"IFERROR(IF(L回線_電話番号_10<>\"\",L回線_電話番号_10,\"\"),\"\")","v":""},0,"",""]
[null,null,"LK",19,20,21,22,23,24,null,null,null,"LK",19,20,21,22,23,24,null,null,null,{"$f":"IFERROR(IF(L回線_電話番号_11<>\"\",L回線_電話番号_11,\"\"),\"\")","v":""},0,"",""]
[null,null,"電話番号",null,null,null,null,null,null,null,null,null,"電話番号",null,null,null,null,null,null,null,null,null,{"$f":"IFERROR(IF(L回線_電話番号_12<>\"\",L回線_電話番号_12,\"\"),\"\")","v":""},0,"",""]
[null,null,"着信音",null,null,null,null,null,null,null,null,null,"着信音"]
[null,null,"モード毎鳴動",null,null,null,null,null,null,null,null,null,"モード毎鳴動"]
[null,null,"着信拒否",null,null,null,null,null,null,null,null,null,"着信拒否"]
[null,null,"モード切替",null,null,null,null,null,null,null,null,null,"モード切替"]
[null,null,"留守応答",null,null,null,null,null,null,null,null,null,"留守応答"]
[]
[]
[null,null,null,null,null,null,null,null,null,null,null,null,null,null,null,null,null,null,null,null,null,null,"電話番号　利用可能Chを超える入力があるかチェック"]
[null,null,"内線No-11",null,{"$f":"IFERROR(IF(D184<>\"\",\"TEN\" & VLOOKUP(D184,内線種別!$I:$J,2,FALSE),\"\"),\"\")","v":""},null,null,null,null,null,null,null,"内線No-12",null,{"$f":"IFERROR(IF(N184<>\"\",\"TEN\" & VLOOKUP(N184,内線種別!$I:$J,2,FALSE),\"\"),\"\")","v":""},null,null,null,null,null,null,null,"電話番号","利用可能Ch","キ割_11領域","入力Over"]
[null,null,null,null,{"$f":"IFERROR(IF(D184<>\"\",VLOOKUP(D184,内線種別!$I:$K,3,FALSE),\"0\"),\"0\")","v":"0"},null,null,null,null,null,null,null,null,null,{"$f":"IFERROR(IF(N184<>\"\",VLOOKUP(N184,内線種別!$I:$K,3,FALSE),\"0\"),\"0\")","v":"0"},null,null,null,null,null,null,null,{"$f":"IFERROR(IF(L回線_電話番号_01<>\"\",L回線_電話番号_01,\"\"),\"\")","v":""},{"$f":"IFERROR(VLOOKUP(W185,ヒ基_電話番号,2,FALSE),\"\")","v":0},{"$f":"IF($W185<>\"\",COUNTIF(INDIRECT(Y$184),$W185),\"\")","v":""},{"$f":"IF(W185<>\"\",$X185<Y185,\"\")","v":""}]
[null,null,"LK",1,2,3,4,5,6,null,null,null,"LK",1,2,3,4,5,6,null,null,null,{"$f":"IFERROR(IF(L回線_電話番号_02<>\"\",L回線_電話番号_02,\"\"),\"\")","v":""},0,{"$f":"IF($W186<>\"\",COUNTIF(INDIRECT(Y$184),$W186),\"\")","v":""},""]
[null,null,"電話番号",null,null,null,null,null,null,null,null,null,"電話番号",null,null,null,null,null,null,null,null,null,{"$f":"IFERROR(IF(L回線_電話番号_03<>\"\",L回線_電話番号_03,\"\"),\"\")","v":""},0,"",""]
[null,null,"着信音",null,null,null,null,null,null,null,null,null,"着信音",null,null,null,null,null,null,null,null,null,{"$f":"IFERROR(IF(L回線_電話番号_04<>\"\",L回線_電話番号_04,\"\"),\"\")","v":""},0,"",""]
[null,null,"モード毎鳴動",null,null,null,null,null,null,null,null,null,"モード毎鳴動",null,null,null,null,null,null,null,null,null,{"$f":"IFERROR(IF(L回線_電話番号_05<>\"\",L回線_電話番号_05,\"\"),\"\")","v":""},0,"",""]
[null,null,"着信拒否",null,null,null,null,null,null,null,null,null,"着信拒否",null,null,null,null,null,null,null,null,null,{"$f":"IFERROR(IF(L回線_電話番号_06<>\"\",L回線_電話番号_06,\"\"),\"\")","v":""},0,"",""]
[null,null,"モード切替",null,null,null,null,null,null,null,null,null,"モード切替",null,null,null,null,null,null,null,null,null,{"$f":"IFERROR(IF(L回線_電話番号_07<>\"\",L回線_電話番号_07,\"\"),\"\")","v":""},0,"",""]
[null,null,"留守応答",null,null,null,null,null,null,null,null,null,"留守応答",null,null,null,null,null,null,null,null,null,{"$f":"IFERROR(IF(L回線_電話番号_08<>\"\",L回線_電話番号_08,\"\"),\"\")","v":""},0,"",""]
[null,null,null,null,null,null,null,null,null,null,null,null,null,null,null,null,null,null,null,null,null,null,{"$f":"IFERROR(IF(L回線_電話番号_09<>\"\",L回線_電話番号_09,\"\"),\"\")","v":""},0,"",""]
[null,null,"LK",7,8,9,10,11,12,null,null,null,"LK",7,8,9,10,11,12,null,null,null,{"$f":"IFERROR(IF(L回線_電話番号_10<>\"\",L回線_電話番号_10,\"\"),\"\")","v":""},0,"",""]
[null,null,"電話番号",null,null,null,null,null,null,null,null,null,"電話番号",null,null,null,null,null,null,null,null,null,{"$f":"IFERROR(IF(L回線_電話番号_11<>\"\",L回線_電話番号_11,\"\"),\"\")","v":""},0,"",""]
[null,null,"着信音",null,null,null,null,null,null,null,null,null,"着信音",null,null,null,null,null,null,null,null,null,{"$f":"IFERROR(IF(L回線_電話番号_12<>\"\",L回線_電話番号_12,\"\"),\"\")","v":""},0,"",""]
[null,null,"モード毎鳴動",null,null,null,null,null,null,null,null,null,"モード毎鳴動"]
[null,null,"着信拒否",null,null,null,null,null,null,null,null,null,"着信拒否",null,null,null,null,null,null,null,null,null,"電話番号　利用可能Chを超える入力があるかチェック"]
[null,null,"モード切替",null,null,null,null,null,null,null,null,null,"モード切替",null,null,null,null,null,null,null,null,null,"電話番号","利用可能Ch","キ割_12領域","入力Over"]
[null,null,"留守応答",null,null,null,null,null,null,null,null,null,"留守応答",null,null,null,null,null,null,null,null,null,{"$f":"IFERROR(IF(L回線_電話番号_01<>\"\",L回線_電話番号_01,\"\"),\"\")","v":""},{"$f":"IFERROR(VLOOKUP(W200,ヒ基_電話番号,2,FALSE),\"\")","v":0},{"$f":"IF($W200<>\"\",COUNTIF(INDIRECT(Y$199),$W200),\"\")","v":""},{"$f":"IF(W200<>\"\",$X200<Y200,\"\")","v":""}]
[null,null,null,null,null,null,null,null,null,null,null,null,null,null,null,null,null,null,null,null,null,null,{"$f":"IFERROR(IF(L回線_電話番号_02<>\"\",L回線_電話番号_02,\"\"),\"\")","v":""},0,{"$f":"IF($W201<>\"\",COUNTIF(INDIRECT(Y$199),$W201),\"\")","v":""},""]
[null,null,"LK",13,14,15,16,17,18,null,null,null,"LK",13,14,15,16,17,18,null,null,null,{"$f":"IFERROR(IF(L回線_電話番号_03<>\"\",L回線_電話番号_03,\"\"),\"\")","v":""},0,"",""]
[null,null,"電話番号",null,null,null,null,null,null,null,null,null,"電話番号",null,null,null,null,null,null,null,null,null,{"$f":"IFERROR(IF(L回線_電話番号_04<>\"\",L回線_電話番号_04,\"\"),\"\")","v":""},0,"",""]
[null,null,"着信音",null,null,null,null,null,null,null,null,null,"着信音",null,null,null,null,null,null,null,null,null,{"$f":"IFERROR(IF(L回線_電話番号_05<>\"\",L回線_電話番号_05,\"\"),\"\")","v":""},0,"",""]
[null,null,"モード毎鳴動",null,null,null,null,null,null,null,null,null,"モード毎鳴動",null,null,null,null,null,null,null,null,null,{"$f":"IFERROR(IF(L回線_電話番号_06<>\"\",L回線_電話番号_06,\"\"),\"\")","v":""},0,"",""]
[null,null,"着信拒否",null,null,null,null,null,null,null,null,null,"着信拒否",null,null,null,null,null,null,null,null,null,{"$f":"IFERROR(IF(L回線_電話番号_07<>\"\",L回線_電話番号_07,\"\"),\"\")","v":""},0,"",""]
[null,null,"モード切替",null,null,null,null,null,null,null,null,null,"モード切替",null,null,null,null,null,null,null,null,null,{"$f":"IFERROR(IF(L回線_電話番号_08<>\"\",L回線_電話番号_08,\"\"),\"\")","v":""},0,"",""]
[null,null,"留守応答",null,null,null,null,null,null,null,null,null,"留守応答",null,null,null,null,null,null,null,null,null,{"$f":"IFERROR(IF(L回線_電話番号_09<>\"\",L回線_電話番号_09,\"\"),\"\")","v":""},0,"",""]
[null,null,null,null,null,null,null,null,null,null,null,null,null,null,null,null,null,null,null,null,null,null,{"$f":"IFERROR(IF(L回線_電話番号_10<>\"\",L回線_電話番号_10,\"\"),\"\")","v":""},0,"",""]
[null,null,"LK",19,20,21,22,23,24,null,null,null,"LK",19,20,21,22,23,24,null,null,null,{"$f":"IFERROR(IF(L回線_電話番号_11<>\"\",L回線_電話番号_11,\"\"),\"\")","v":""},0,"",""]
[null,null,"電話番号",null,null,null,null,null,null,null,null,null,"電話番号",null,null,null,null,null,null,null,null,null,{"$f":"IFERROR(IF(L回線_電話番号_12<>\"\",L回線_電話番号_12,\"\"),\"\")","v":""},0,"",""]
[null,null,"着信音",null,null,null,null,null,null,null,null,null,"着信音"]
[null,null,"モード毎鳴動",null,null,null,null,null,null,null,null,null,"モード毎鳴動"]
[null,null,"着信拒否",null,null,null,null,null,null,null,null,null,"着信拒否"]
[null,null,"モード切替",null,null,null,null,null,null,null,null,null,"モード切替"]
[null,null,"留守応答",null,null,null,null,null,null,null,null,null,"留守応答"]
[]
[]
[null,null,null,null,null,null,null,null,null,null,null,null,null,null,null,null,null,null,null,null,null,null,"電話番号　利用可能Chを超える入力があるかチェック"]
[null,null,"内線No-13",null,{"$f":"IFERROR(IF(D220<>\"\",\"TEN\" & VLOOKUP(D220,内線種別!$I:$J,2,FALSE),\"\"),\"\")","v":""},null,null,null,null,null,null,null,"内線No-14",null,{"$f":"IFERROR(IF(N220<>\"\",\"TEN\" & VLOOKUP(N220,内線種別!$I:$J,2,FALSE),\"\"),\"\")","v":""},null,null,null,null,null,null,null,"電話番号","利用可能Ch","キ割_13領域","入力Over"]
[null,null,null,null,{"$f":"IFERROR(IF(D220<>\"\",VLOOKUP(D220,内線種別!$I:$K,3,FALSE),\"0\"),\"0\")","v":"0"},null,null,null,null,null,null,null,null,null,{"$f":"IFERROR(IF(N220<>\"\",VLOOKUP(N220,内線種別!$I:$K,3,FALSE),\"0\"),\"0\")","v":"0"},null,null,null,null,null,null,null,{"$f":"IFERROR(IF(L回線_電話番号_01<>\"\",L回線_電話番号_01,\"\"),\"\")","v":""},{"$f":"IFERROR(VLOOKUP(W221,ヒ基_電話番号,2,FALSE),\"\")","v":0},{"$f":"IF($W221<>\"\",COUNTIF(INDIRECT(Y$220),$W221),\"\")","v":""},{"$f":"IF(W221<>\"\",$X221<Y221,\"\")","v":""}]
[null,null,"LK",1,2,3,4,5,6,null,null,null,"LK",1,2,3,4,5,6,null,null,null,{"$f":"IFERROR(IF(L回線_電話番号_02<>\"\",L回線_電話番号_02,\"\"),\"\")","v":""},0,{"$f":"IF($W222<>\"\",COUNTIF(INDIRECT(Y$220),$W222),\"\")","v":""},""]
[null,null,"電話番号",null,null,null,null,null,null,null,null,null,"電話番号",null,null,null,null,null,null,null,null,null,{"$f":"IFERROR(IF(L回線_電話番号_03<>\"\",L回線_電話番号_03,\"\"),\"\")","v":""},0,"",""]
[null,null,"着信音",null,null,null,null,null,null,null,null,null,"着信音",null,null,null,null,null,null,null,null,null,{"$f":"IFERROR(IF(L回線_電話番号_04<>\"\",L回線_電話番号_04,\"\"),\"\")","v":""},0,"",""]
[null,null,"モード毎鳴動",null,null,null,null,null,null,null,null,null,"モード毎鳴動",null,null,null,null,null,null,null,null,null,{"$f":"IFERROR(IF(L回線_電話番号_05<>\"\",L回線_電話番号_05,\"\"),\"\")","v":""},0,"",""]
[null,null,"着信拒否",null,null,null,null,null,null,null,null,null,"着信拒否",null,null,null,null,null,null,null,null,null,{"$f":"IFERROR(IF(L回線_電話番号_06<>\"\",L回線_電話番号_06,\"\"),\"\")","v":""},0,"",""]
[null,null,"モード切替",null,null,null,null,null,null,null,null,null,"モード切替",null,null,null,null,null,null,null,null,null,{"$f":"IFERROR(IF(L回線_電話番号_07<>\"\",L回線_電話番号_07,\"\"),\"\")","v":""},0,"",""]
[null,null,"留守応答",null,null,null,null,null,null,null,null,null,"留守応答",null,null,null,null,null,null,null,null,null,{"$f":"IFERROR(IF(L回線_電話番号_08<>\"\",L回線_電話番号_08,\"\"),\"\")","v":""},0,"",""]
[null,null,null,null,null,null,null,null,null,null,null,null,null,null,null,null,null,null,null,null,null,null,{"$f":"IFERROR(IF(L回線_電話番号_09<>\"\",L回線_電話番号_09,\"\"),\"\")","v":""},0,"",""]
[null,null,"LK",7,8,9,10,11,12,null,null,null,"LK",7,8,9,10,11,12,null,null,null,{"$f":"IFERROR(IF(L回線_電話番号_10<>\"\",L回線_電話番号_10,\"\"),\"\")","v":""},0,"",""]
[null,null,"電話番号",null,null,null,null,null,null,null,null,null,"電話番号",null,null,null,null,null,null,null,null,null,{"$f":"IFERROR(IF(L回線_電話番号_11<>\"\",L回線_電話番号_11,\"\"),\"\")","v":""},0,"",""]
[null,null,"着信音",null,null,null,null,null,null,null,null,null,"着信音",null,null,null,null,null,null,null,null,null,{"$f":"IFERROR(IF(L回線_電話番号_12<>\"\",L回線_電話番号_12,\"\"),\"\")","v":""},0,"",""]
[null,null,"モード毎鳴動",null,null,null,null,null,null,null,null,null,"モード毎鳴動"]
[null,null,"着信拒否",null,null,null,null,null,null,null,null,null,"着信拒否",null,null,null,null,null,null,null,null,null,"電話番号　利用可能Chを超える入力があるかチェック"]
[null,null,"モード切替",null,null,null,null,null,null,null,null,null,"モード切替",null,null,null,null,null,null,null,null,null,"電話番号","利用可能Ch","キ割_14領域","入力Over"]
[null,null,"留守応答",null,null,null,null,null,null,null,null,null,"留守応答",null,null,null,null,null,null,null,null,null,{"$f":"IFERROR(IF(L回線_電話番号_01<>\"\",L回線_電話番号_01,\"\"),\"\")","v":""},{"$f":"IFERROR(VLOOKUP(W236,ヒ基_電話番号,2,FALSE),\"\")","v":0},{"$f":"IF($W236<>\"\",COUNTIF(INDIRECT(Y$235),$W236),\"\")","v":""},{"$f":"IF(W236<>\"\",$X236<Y236,\"\")","v":""}]
[null,null,null,null,null,null,null,null,null,null,null,null,null,null,null,null,null,null,null,null,null,null,{"$f":"IFERROR(IF(L回線_電話番号_02<>\"\",L回線_電話番号_02,\"\"),\"\")","v":""},0,{"$f":"IF($W237<>\"\",COUNTIF(INDIRECT(Y$235),$W237),\"\")","v":""},""]
[null,null,"LK",13,14,15,16,17,18,null,null,null,"LK",13,14,15,16,17,18,null,null,null,{"$f":"IFERROR(IF(L回線_電話番号_03<>\"\",L回線_電話番号_03,\"\"),\"\")","v":""},0,"",""]
[null,null,"電話番号",null,null,null,null,null,null,null,null,null,"電話番号",null,null,null,null,null,null,null,null,null,{"$f":"IFERROR(IF(L回線_電話番号_04<>\"\",L回線_電話番号_04,\"\"),\"\")","v":""},0,"",""]
[null,null,"着信音",null,null,null,null,null,null,null,null,null,"着信音",null,null,null,null,null,null,null,null,null,{"$f":"IFERROR(IF(L回線_電話番号_05<>\"\",L回線_電話番号_05,\"\"),\"\")","v":""},0,"",""]
[null,null,"モード毎鳴動",null,null,null,null,null,null,null,null,null,"モード毎鳴動",null,null,null,null,null,null,null,null,null,{"$f":"IFERROR(IF(L回線_電話番号_06<>\"\",L回線_電話番号_06,\"\"),\"\")","v":""},0,"",""]
[null,null,"着信拒否",null,null,null,null,null,null,null,null,null,"着信拒否",null,null,null,null,null,null,null,null,null,{"$f":"IFERROR(IF(L回線_電話番号_07<>\"\",L回線_電話番号_07,\"\"),\"\")","v":""},0,"",""]
[null,null,"モード切替",null,null,null,null,null,null,null,null,null,"モード切替",null,null,null,null,null,null,null,null,null,{"$f":"IFERROR(IF(L回線_電話番号_08<>\"\",L回線_電話番号_08,\"\"),\"\")","v":""},0,"",""]
[null,null,"留守応答",null,null,null,null,null,null,null,null,null,"留守応答",null,null,null,null,null,null,null,null,null,{"$f":"IFERROR(IF(L回線_電話番号_09<>\"\",L回線_電話番号_09,\"\"),\"\")","v":""},0,"",""]
[null,null,null,null,null,null,null,null,null,null,null,null,null,null,null,null,null,null,null,null,null,null,{"$f":"IFERROR(IF(L回線_電話番号_10<>\"\",L回線_電話番号_10,\"\"),\"\")","v":""},0,"",""]
[null,null,"LK",19,20,21,22,23,24,null,null,null,"LK",19,20,21,22,23,24,null,null,null,{"$f":"IFERROR(IF(L回線_電話番号_11<>\"\",L回線_電話番号_11,\"\"),\"\")","v":""},0,"",""]
[null,null,"電話番号",null,null,null,null,null,null,null,null,null,"電話番号",null,null,null,null,null,null,null,null,null,{"$f":"IFERROR(IF(L回線_電話番号_12<>\"\",L回線_電話番号_12,\"\"),\"\")","v":""},0,"",""]
[null,null,"着信音",null,null,null,null,null,null,null,null,null,"着信音"]
[null,null,"モード毎鳴動",null,null,null,null,null,null,null,null,null,"モード毎鳴動"]
[null,null,"着信拒否",null,null,null,null,null,null,null,null,null,"着信拒否"]
[null,null,"モード切替",null,null,null,null,null,null,null,null,null,"モード切替"]
[null,null,"留守応答",null,null,null,null,null,null,null,null,null,"留守応答"]
[]
[]
[null,null,null,null,null,null,null,null,null,null,null,null,null,null,null,null,null,null,null,null,null,null,"電話番号　利用可能Chを超える入力があるかチェック"]
[null,null,"内線No-15",null,{"$f":"IFERROR(IF(D256<>\"\",\"TEN\" & VLOOKUP(D256,内線種別!$I:$J,2,FALSE),\"\"),\"\")","v":""},null,null,null,null,null,null,null,"内線No-16",null,{"$f":"IFERROR(IF(N256<>\"\",\"TEN\" & VLOOKUP(N256,内線種別!$I:$J,2,FALSE),\"\"),\"\")","v":""},null,null,null,null,null,null,null,"電話番号","利用可能Ch","キ割_15領域","入力Over"]
[null,null,null,null,{"$f":"IFERROR(IF(D256<>\"\",VLOOKUP(D256,内線種別!$I:$K,3,FALSE),\"0\"),\"0\")","v":"0"},null,null,null,null,null,null,null,null,null,{"$f":"IFERROR(IF(N256<>\"\",VLOOKUP(N256,内線種別!$I:$K,3,FALSE),\"0\"),\"0\")","v":"0"},null,null,null,null,null,null,null,{"$f":"IFERROR(IF(L回線_電話番号_01<>\"\",L回線_電話番号_01,\"\"),\"\")","v":""},{"$f":"IFERROR(VLOOKUP(W257,ヒ基_電話番号,2,FALSE),\"\")","v":0},{"$f":"IF($W257<>\"\",COUNTIF(INDIRECT(Y$256),$W257),\"\")","v":""},{"$f":"IF(W257<>\"\",$X257<Y257,\"\")","v":""}]
[null,null,"LK",1,2,3,4,5,6,null,null,null,"LK",1,2,3,4,5,6,null,null,null,{"$f":"IFERROR(IF(L回線_電話番号_02<>\"\",L回線_電話番号_02,\"\"),\"\")","v":""},0,{"$f":"IF($W258<>\"\",COUNTIF(INDIRECT(Y$256),$W258),\"\")","v":""},""]
[null,null,"電話番号",null,null,null,null,null,null,null,null,null,"電話番号",null,null,null,null,null,null,null,null,null,{"$f":"IFERROR(IF(L回線_電話番号_03<>\"\",L回線_電話番号_03,\"\"),\"\")","v":""},0,"",""]
[null,null,"着信音",null,null,null,null,null,null,null,null,null,"着信音",null,null,null,null,null,null,null,null,null,{"$f":"IFERROR(IF(L回線_電話番号_04<>\"\",L回線_電話番号_04,\"\"),\"\")","v":""},0,"",""]
[null,null,"モード毎鳴動",null,null,null,null,null,null,null,null,null,"モード毎鳴動",null,null,null,null,null,null,null,null,null,{"$f":"IFERROR(IF(L回線_電話番号_05<>\"\",L回線_電話番号_05,\"\"),\"\")","v":""},0,"",""]
[null,null,"着信拒否",null,null,null,null,null,null,null,null,null,"着信拒否",null,null,null,null,null,null,null,null,null,{"$f":"IFERROR(IF(L回線_電話番号_06<>\"\",L回線_電話番号_06,\"\"),\"\")","v":""},0,"",""]
[null,null,"モード切替",null,null,null,null,null,null,null,null,null,"モード切替",null,null,null,null,null,null,null,null,null,{"$f":"IFERROR(IF(L回線_電話番号_07<>\"\",L回線_電話番号_07,\"\"),\"\")","v":""},0,"",""]
[null,null,"留守応答",null,null,null,null,null,null,null,null,null,"留守応答",null,null,null,null,null,null,null,null,null,{"$f":"IFERROR(IF(L回線_電話番号_08<>\"\",L回線_電話番号_08,\"\"),\"\")","v":""},0,"",""]
[null,null,null,null,null,null,null,null,null,null,null,null,null,null,null,null,null,null,null,null,null,null,{"$f":"IFERROR(IF(L回線_電話番号_09<>\"\",L回線_電話番号_09,\"\"),\"\")","v":""},0,"",""]
[null,null,"LK",7,8,9,10,11,12,null,null,null,"LK",7,8,9,10,11,12,null,null,null,{"$f":"IFERROR(IF(L回線_電話番号_10<>\"\",L回線_電話番号_10,\"\"),\"\")","v":""},0,"",""]
[null,null,"電話番号",null,null,null,null,null,null,null,null,null,"電話番号",null,null,null,null,null,null,null,null,null,{"$f":"IFERROR(IF(L回線_電話番号_11<>\"\",L回線_電話番号_11,\"\"),\"\")","v":""},0,"",""]
[null,null,"着信音",null,null,null,null,null,null,null,null,null,"着信音",null,null,null,null,null,null,null,null,null,{"$f":"IFERROR(IF(L回線_電話番号_12<>\"\",L回線_電話番号_12,\"\"),\"\")","v":""},0,"",""]
[null,null,"モード毎鳴動",null,null,null,null,null,null,null,null,null,"モード毎鳴動"]
[null,null,"着信拒否",null,null,null,null,null,null,null,null,null,"着信拒否",null,null,null,null,null,null,null,null,null,"電話番号　利用可能Chを超える入力があるかチェック"]
[null,null,"モード切替",null,null,null,null,null,null,null,null,null,"モード切替",null,null,null,null,null,null,null,null,null,"電話番号","利用可能Ch","キ割_16領域","入力Over"]
[null,null,"留守応答",null,null,null,null,null,null,null,null,null,"留守応答",null,null,null,null,null,null,null,null,null,{"$f":"IFERROR(IF(L回線_電話番号_01<>\"\",L回線_電話番号_01,\"\"),\"\")","v":""},{"$f":"IFERROR(VLOOKUP(W272,ヒ基_電話番号,2,FALSE),\"\")","v":0},{"$f":"IF($W272<>\"\",COUNTIF(INDIRECT(Y$271),$W272),\"\")","v":""},{"$f":"IF(W272<>\"\",$X272<Y272,\"\")","v":""}]
[null,null,null,null,null,null,null,null,null,null,null,null,null,null,null,null,null,null,null,null,null,null,{"$f":"IFERROR(IF(L回線_電話番号_02<>\"\",L回線_電話番号_02,\"\"),\"\")","v":""},0,{"$f":"IF($W273<>\"\",COUNTIF(INDIRECT(Y$271),$W273),\"\")","v":""},""]
[null,null,"LK",13,14,15,16,17,18,null,null,null,"LK",13,14,15,16,17,18,null,null,null,{"$f":"IFERROR(IF(L回線_電話番号_03<>\"\",L回線_電話番号_03,\"\"),\"\")","v":""},0,"",""]
[null,null,"電話番号",null,null,null,null,null,null,null,null,null,"電話番号",null,null,null,null,null,null,null,null,null,{"$f":"IFERROR(IF(L回線_電話番号_04<>\"\",L回線_電話番号_04,\"\"),\"\")","v":""},0,"",""]
[null,null,"着信音",null,null,null,null,null,null,null,null,null,"着信音",null,null,null,null,null,null,null,null,null,{"$f":"IFERROR(IF(L回線_電話番号_05<>\"\",L回線_電話番号_05,\"\"),\"\")","v":""},0,"",""]
[null,null,"モード毎鳴動",null,null,null,null,null,null,null,null,null,"モード毎鳴動",null,null,null,null,null,null,null,null,null,{"$f":"IFERROR(IF(L回線_電話番号_06<>\"\",L回線_電話番号_06,\"\"),\"\")","v":""},0,"",""]
[null,null,"着信拒否",null,null,null,null,null,null,null,null,null,"着信拒否",null,null,null,null,null,null,null,null,null,{"$f":"IFERROR(IF(L回線_電話番号_07<>\"\",L回線_電話番号_07,\"\"),\"\")","v":""},0,"",""]
[null,null,"モード切替",null,null,null,null,null,null,null,null,null,"モード切替",null,null,null,null,null,null,null,null,null,{"$f":"IFERROR(IF(L回線_電話番号_08<>\"\",L回線_電話番号_08,\"\"),\"\")","v":""},0,"",""]
[null,null,"留守応答",null,null,null,null,null,null,null,null,null,"留守応答",null,null,null,null,null,null,null,null,null,{"$f":"IFERROR(IF(L回線_電話番号_09<>\"\",L回線_電話番号_09,\"\"),\"\")","v":""},0,"",""]
[null,null,null,null,null,null,null,null,null,null,null,null,null,null,null,null,null,null,null,null,null,null,{"$f":"IFERROR(IF(L回線_電話番号_10<>\"\",L回線_電話番号_10,\"\"),\"\")","v":""},0,"",""]
[null,null,"LK",19,20,21,22,23,24,null,null,null,"LK",19,20,21,22,23,24,null,null,null,{"$f":"IFERROR(IF(L回線_電話番号_11<>\"\",L回線_電話番号_11,\"\"),\"\")","v":""},0,"",""]
[null,null,"電話番号",null,null,null,null,null,null,null,null,null,"電話番号",null,null,null,null,null,null,null,null,null,{"$f":"IFERROR(IF(L回線_電話番号_12<>\"\",L回線_電話番号_12,\"\"),\"\")","v":""},0,"",""]
[null,null,"着信音",null,null,null,null,null,null,null,null,null,"着信音"]
[null,null,"モード毎鳴動",null,null,null,null,null,null,null,null,null,"モード毎鳴動"]
[null,null,"着信拒否",null,null,null,null,null,null,null,null,null,"着信拒否"]
[null,null,"モード切替",null,null,null,null,null,null,null,null,null,"モード切替"]
[null,null,"留守応答",null,null,null,null,null,null,null,null,null,"留守応答"]
[]
[]
[null,null,null,null,null,null,null,null,null,null,null,null,null,null,null,null,null,null,null,null,null,null,"電話番号　利用可能Chを超える入力があるかチェック"]
[null,null,"内線No-17",null,{"$f":"IFERROR(IF(D292<>\"\",\"TEN\" & VLOOKUP(D292,内線種別!$I:$J,2,FALSE),\"\"),\"\")","v":""},null,null,null,null,null,null,null,"内線No-18",null,{"$f":"IFERROR(IF(N292<>\"\",\"TEN\" & VLOOKUP(N292,内線種別!$I:$J,2,FALSE),\"\"),\"\")","v":""},null,null,null,null,null,null,null,"電話番号","利用可能Ch","キ割_17領域","入力Over"]
[null,null,null,null,{"$f":"IFERROR(IF(D292<>\"\",VLOOKUP(D292,内線種別!$I:$K,3,FALSE),\"0\"),\"0\")","v":"0"},null,null,null,null,null,null,null,null,null,{"$f":"IFERROR(IF(N292<>\"\",VLOOKUP(N292,内線種別!$I:$K,3,FALSE),\"0\"),\"0\")","v":"0"},null,null,null,null,null,null,null,{"$f":"IFERROR(IF(L回線_電話番号_01<>\"\",L回線_電話番号_01,\"\"),\"\")","v":""},{"$f":"IFERROR(VLOOKUP(W293,ヒ基_電話番号,2,FALSE),\"\")","v":0},{"$f":"IF($W293<>\"\",COUNTIF(INDIRECT(Y$292),$W293),\"\")","v":""},{"$f":"IF(W293<>\"\",$X293<Y293,\"\")","v":""}]
[null,null,"LK",1,2,3,4,5,6,null,null,null,"LK",1,2,3,4,5,6,null,null,null,{"$f":"IFERROR(IF(L回線_電話番号_02<>\"\",L回線_電話番号_02,\"\"),\"\")","v":""},0,{"$f":"IF($W294<>\"\",COUNTIF(INDIRECT(Y$292),$W294),\"\")","v":""},""]
[null,null,"電話番号",null,null,null,null,null,null,null,null,null,"電話番号",null,null,null,null,null,null,null,null,null,{"$f":"IFERROR(IF(L回線_電話番号_03<>\"\",L回線_電話番号_03,\"\"),\"\")","v":""},0,"",""]
[null,null,"着信音",null,null,null,null,null,null,null,null,null,"着信音",null,null,null,null,null,null,null,null,null,{"$f":"IFERROR(IF(L回線_電話番号_04<>\"\",L回線_電話番号_04,\"\"),\"\")","v":""},0,"",""]
[null,null,"モード毎鳴動",null,null,null,null,null,null,null,null,null,"モード毎鳴動",null,null,null,null,null,null,null,null,null,{"$f":"IFERROR(IF(L回線_電話番号_05<>\"\",L回線_電話番号_05,\"\"),\"\")","v":""},0,"",""]
[null,null,"着信拒否",null,null,null,null,null,null,null,null,null,"着信拒否",null,null,null,null,null,null,null,null,null,{"$f":"IFERROR(IF(L回線_電話番号_06<>\"\",L回線_電話番号_06,\"\"),\"\")","v":""},0,"",""]
[null,null,"モード切替",null,null,null,null,null,null,null,null,null,"モード切替",null,null,null,null,null,null,null,null,null,{"$f":"IFERROR(IF(L回線_電話番号_07<>\"\",L回線_電話番号_07,\"\"),\"\")","v":""},0,"",""]
[null,null,"留守応答",null,null,null,null,null,null,null,null,null,"留守応答",null,null,null,null,null,null,null,null,null,{"$f":"IFERROR(IF(L回線_電話番号_08<>\"\",L回線_電話番号_08,\"\"),\"\")","v":""},0,"",""]
[null,null,null,null,null,null,null,null,null,null,null,null,null,null,null,null,null,null,null,null,null,null,{"$f":"IFERROR(IF(L回線_電話番号_09<>\"\",L回線_電話番号_09,\"\"),\"\")","v":""},0,"",""]
[null,null,"LK",7,8,9,10,11,12,null,null,null,"LK",7,8,9,10,11,12,null,null,null,{"$f":"IFERROR(IF(L回線_電話番号_10<>\"\",L回線_電話番号_10,\"\"),\"\")","v":""},0,"",""]
[null,null,"電話番号",null,null,null,null,null,null,null,null,null,"電話番号",null,null,null,null,null,null,null,null,null,{"$f":"IFERROR(IF(L回線_電話番号_11<>\"\",L回線_電話番号_11,\"\"),\"\")","v":""},0,"",""]
[null,null,"着信音",null,null,null,null,null,null,null,null,null,"着信音",null,null,null,null,null,null,null,null,null,{"$f":"IFERROR(IF(L回線_電話番号_12<>\"\",L回線_電話番号_12,\"\"),\"\")","v":""},0,"",""]
[null,null,"モード毎鳴動",null,null,null,null,null,null,null,null,null,"モード毎鳴動"]
[null,null,"着信拒否",null,null,null,null,null,null,null,null,null,"着信拒否",null,null,null,null,null,null,null,null,null,"電話番号　利用可能Chを超える入力があるかチェック"]
[null,null,"モード切替",null,null,null,null,null,null,null,null,null,"モード切替",null,null,null,null,null,null,null,null,null,"電話番号","利用可能Ch","キ割_18領域","入力Over"]
[null,null,"留守応答",null,null,null,null,null,null,null,null,null,"留守応答",null,null,null,null,null,null,null,null,null,{"$f":"IFERROR(IF(L回線_電話番号_01<>\"\",L回線_電話番号_01,\"\"),\"\")","v":""},{"$f":"IFERROR(VLOOKUP(W308,ヒ基_電話番号,2,FALSE),\"\")","v":0},{"$f":"IF($W308<>\"\",COUNTIF(INDIRECT(Y$307),$W308),\"\")","v":""},{"$f":"IF(W308<>\"\",$X308<Y308,\"\")","v":""}]
[null,null,null,null,null,null,null,null,null,null,null,null,null,null,null,null,null,null,null,null,null,null,{"$f":"IFERROR(IF(L回線_電話番号_02<>\"\",L回線_電話番号_02,\"\"),\"\")","v":""},0,{"$f":"IF($W309<>\"\",COUNTIF(INDIRECT(Y$307),$W309),\"\")","v":""},""]
[null,null,"LK",13,14,15,16,17,18,null,null,null,"LK",13,14,15,16,17,18,null,null,null,{"$f":"IFERROR(IF(L回線_電話番号_03<>\"\",L回線_電話番号_03,\"\"),\"\")","v":""},0,"",""]
[null,null,"電話番号",null,null,null,null,null,null,null,null,null,"電話番号",null,null,null,null,null,null,null,null,null,{"$f":"IFERROR(IF(L回線_電話番号_04<>\"\",L回線_電話番号_04,\"\"),\"\")","v":""},0,"",""]
[null,null,"着信音",null,null,null,null,null,null,null,null,null,"着信音",null,null,null,null,null,null,null,null,null,{"$f":"IFERROR(IF(L回線_電話番号_05<>\"\",L回線_電話番号_05,\"\"),\"\")","v":""},0,"",""]
[null,null,"モード毎鳴動",null,null,null,null,null,null,null,null,null,"モード毎鳴動",null,null,null,null,null,null,null,null,null,{"$f":"IFERROR(IF(L回線_電話番号_06<>\"\",L回線_電話番号_06,\"\"),\"\")","v":""},0,"",""]
[null,null,"着信拒否",null,null,null,null,null,null,null,null,null,"着信拒否",null,null,null,null,null,null,null,null,null,{"$f":"IFERROR(IF(L回線_電話番号_07<>\"\",L回線_電話番号_07,\"\"),\"\")","v":""},0,"",""]
[null,null,"モード切替",null,null,null,null,null,null,null,null,null,"モード切替",null,null,null,null,null,null,null,null,null,{"$f":"IFERROR(IF(L回線_電話番号_08<>\"\",L回線_電話番号_08,\"\"),\"\")","v":""},0,"",""]
[null,null,"留守応答",null,null,null,null,null,null,null,null,null,"留守応答",null,null,null,null,null,null,null,null,null,{"$f":"IFERROR(IF(L回線_電話番号_09<>\"\",L回線_電話番号_09,\"\"),\"\")","v":""},0,"",""]
[null,null,null,null,null,null,null,null,null,null,null,null,null,null,null,null,null,null,null,null,null,null,{"$f":"IFERROR(IF(L回線_電話番号_10<>\"\",L回線_電話番号_10,\"\"),\"\")","v":""},0,"",""]
[null,null,"LK",19,20,21,22,23,24,null,null,null,"LK",19,20,21,22,23,24,null,null,null,{"$f":"IFERROR(IF(L回線_電話番号_11<>\"\",L回線_電話番号_11,\"\"),\"\")","v":""},0,"",""]
[null,null,"電話番号",null,null,null,null,null,null,null,null,null,"電話番号",null,null,null,null,null,null,null,null,null,{"$f":"IFERROR(IF(L回線_電話番号_12<>\"\",L回線_電話番号_12,\"\"),\"\")","v":""},0,"",""]
[null,null,"着信音",null,null,null,null,null,null,null,null,null,"着信音"]
[null,null,"モード毎鳴動",null,null,null,null,null,null,null,null,null,"モード毎鳴動"]
[null,null,"着信拒否",null,null,null,null,null,null,null,null,null,"着信拒否"]
[null,null,"モード切替",null,null,null,null,null,null,null,null,null,"モード切替"]
[null,null,"留守応答",null,null,null,null,null,null,null,null,null,"留守応答"]
[]
[]
[null,null,null,null,null,null,null,null,null,null,null,null,null,null,null,null,null,null,null,null,null,null,"電話番号　利用可能Chを超える入力があるかチェック"]
[null,null,"内線No-19",null,{"$f":"IFERROR(IF(D328<>\"\",\"TEN\" & VLOOKUP(D328,内線種別!$I:$J,2,FALSE),\"\"),\"\")","v":""},null,null,null,null,null,null,null,"内線No-20",null,{"$f":"IFERROR(IF(N328<>\"\",\"TEN\" & VLOOKUP(N328,内線種別!$I:$J,2,FALSE),\"\"),\"\")","v":""},null,null,null,null,null,null,null,"電話番号","利用可能Ch","キ割_19領域","入力Over"]
[null,null,null,null,{"$f":"IFERROR(IF(D328<>\"\",VLOOKUP(D328,内線種別!$I:$K,3,FALSE),\"0\"),\"0\")","v":"0"},null,null,null,null,null,null,null,null,null,{"$f":"IFERROR(IF(N328<>\"\",VLOOKUP(N328,内線種別!$I:$K,3,FALSE),\"0\"),\"0\")","v":"0"},null,null,null,null,null,null,null,{"$f":"IFERROR(IF(L回線_電話番号_01<>\"\",L回線_電話番号_01,\"\"),\"\")","v":""},{"$f":"IFERROR(VLOOKUP(W329,ヒ基_電話番号,2,FALSE),\"\")","v":0},{"$f":"IF($W329<>\"\",COUNTIF(INDIRECT(Y$328),$W329),\"\")","v":""},{"$f":"IF(W329<>\"\",$X329<Y329,\"\")","v":""}]
[null,null,"LK",1,2,3,4,5,6,null,null,null,"LK",1,2,3,4,5,6,null,null,null,{"$f":"IFERROR(IF(L回線_電話番号_02<>\"\",L回線_電話番号_02,\"\"),\"\")","v":""},0,{"$f":"IF($W330<>\"\",COUNTIF(INDIRECT(Y$328),$W330),\"\")","v":""},""]
[null,null,"電話番号",null,null,null,null,null,null,null,null,null,"電話番号",null,null,null,null,null,null,null,null,null,{"$f":"IFERROR(IF(L回線_電話番号_03<>\"\",L回線_電話番号_03,\"\"),\"\")","v":""},0,"",""]
[null,null,"着信音",null,null,null,null,null,null,null,null,null,"着信音",null,null,null,null,null,null,null,null,null,{"$f":"IFERROR(IF(L回線_電話番号_04<>\"\",L回線_電話番号_04,\"\"),\"\")","v":""},0,"",""]
[null,null,"モード毎鳴動",null,null,null,null,null,null,null,null,null,"モード毎鳴動",null,null,null,null,null,null,null,null,null,{"$f":"IFERROR(IF(L回線_電話番号_05<>\"\",L回線_電話番号_05,\"\"),\"\")","v":""},0,"",""]
[null,null,"着信拒否",null,null,null,null,null,null,null,null,null,"着信拒否",null,null,null,null,null,null,null,null,null,{"$f":"IFERROR(IF(L回線_電話番号_06<>\"\",L回線_電話番号_06,\"\"),\"\")","v":""},0,"",""]
[null,null,"モード切替",null,null,null,null,null,null,null,null,null,"モード切替",null,null,null,null,null,null,null,null,null,{"$f":"IFERROR(IF(L回線_電話番号_07<>\"\",L回線_電話番号_07,\"\"),\"\")","v":""},0,"",""]
[null,null,"留守応答",null,null,null,null,null,null,null,null,null,"留守応答",null,null,null,null,null,null,null,null,null,{"$f":"IFERROR(IF(L回線_電話番号_08<>\"\",L回線_電話番号_08,\"\"),\"\")","v":""},0,"",""]
[null,null,null,null,null,null,null,null,null,null,null,null,null,null,null,null,null,null,null,null,null,null,{"$f":"IFERROR(IF(L回線_電話番号_09<>\"\",L回線_電話番号_09,\"\"),\"\")","v":""},0,"",""]
[null,null,"LK",7,8,9,10,11,12,null,null,null,"LK",7,8,9,10,11,12,null,null,null,{"$f":"IFERROR(IF(L回線_電話番号_10<>\"\",L回線_電話番号_10,\"\"),\"\")","v":""},0,"",""]
[null,null,"電話番号",null,null,null,null,null,null,null,null,null,"電話番号",null,null,null,null,null,null,null,null,null,{"$f":"IFERROR(IF(L回線_電話番号_11<>\"\",L回線_電話番号_11,\"\"),\"\")","v":""},0,"",""]
[null,null,"着信音",null,null,null,null,null,null,null,null,null,"着信音",null,null,null,null,null,null,null,null,null,{"$f":"IFERROR(IF(L回線_電話番号_12<>\"\",L回線_電話番号_12,\"\"),\"\")","v":""},0,"",""]
[null,null,"モード毎鳴動",null,null,null,null,null,null,null,null,null,"モード毎鳴動"]
[null,null,"着信拒否",null,null,null,null,null,null,null,null,null,"着信拒否",null,null,null,null,null,null,null,null,null,"電話番号　利用可能Chを超える入力があるかチェック"]
[null,null,"モード切替",null,null,null,null,null,null,null,null,null,"モード切替",null,null,null,null,null,null,null,null,null,"電話番号","利用可能Ch","キ割_20領域","入力Over"]
[null,null,"留守応答",null,null,null,null,null,null,null,null,null,"留守応答",null,null,null,null,null,null,null,null,null,{"$f":"IFERROR(IF(L回線_電話番号_01<>\"\",L回線_電話番号_01,\"\"),\"\")","v":""},{"$f":"IFERROR(VLOOKUP(W344,ヒ基_電話番号,2,FALSE),\"\")","v":0},{"$f":"IF($W344<>\"\",COUNTIF(INDIRECT(Y$343),$W344),\"\")","v":""},{"$f":"IF(W344<>\"\",$X344<Y344,\"\")","v":""}]
[null,null,null,null,null,null,null,null,null,null,null,null,null,null,null,null,null,null,null,null,null,null,{"$f":"IFERROR(IF(L回線_電話番号_02<>\"\",L回線_電話番号_02,\"\"),\"\")","v":""},0,{"$f":"IF($W345<>\"\",COUNTIF(INDIRECT(Y$343),$W345),\"\")","v":""},""]
[null,null,"LK",13,14,15,16,17,18,null,null,null,"LK",13,14,15,16,17,18,null,null,null,{"$f":"IFERROR(IF(L回線_電話番号_03<>\"\",L回線_電話番号_03,\"\"),\"\")","v":""},0,"",""]
[null,null,"電話番号",null,null,null,null,null,null,null,null,null,"電話番号",null,null,null,null,null,null,null,null,null,{"$f":"IFERROR(IF(L回線_電話番号_04<>\"\",L回線_電話番号_04,\"\"),\"\")","v":""},0,"",""]
[null,null,"着信音",null,null,null,null,null,null,null,null,null,"着信音",null,null,null,null,null,null,null,null,null,{"$f":"IFERROR(IF(L回線_電話番号_05<>\"\",L回線_電話番号_05,\"\"),\"\")","v":""},0,"",""]
[null,null,"モード毎鳴動",null,null,null,null,null,null,null,null,null,"モード毎鳴動",null,null,null,null,null,null,null,null,null,{"$f":"IFERROR(IF(L回線_電話番号_06<>\"\",L回線_電話番号_06,\"\"),\"\")","v":""},0,"",""]
[null,null,"着信拒否",null,null,null,null,null,null,null,null,null,"着信拒否",null,null,null,null,null,null,null,null,null,{"$f":"IFERROR(IF(L回線_電話番号_07<>\"\",L回線_電話番号_07,\"\"),\"\")","v":""},0,"",""]
[null,null,"モード切替",null,null,null,null,null,null,null,null,null,"モード切替",null,null,null,null,null,null,null,null,null,{"$f":"IFERROR(IF(L回線_電話番号_08<>\"\",L回線_電話番号_08,\"\"),\"\")","v":""},0,"",""]
[null,null,"留守応答",null,null,null,null,null,null,null,null,null,"留守応答",null,null,null,null,null,null,null,null,null,{"$f":"IFERROR(IF(L回線_電話番号_09<>\"\",L回線_電話番号_09,\"\"),\"\")","v":""},0,"",""]
[null,null,null,null,null,null,null,null,null,null,null,null,null,null,null,null,null,null,null,null,null,null,{"$f":"IFERROR(IF(L回線_電話番号_10<>\"\",L回線_電話番号_10,\"\"),\"\")","v":""},0,"",""]
[null,null,"LK",19,20,21,22,23,24,null,null,null,"LK",19,20,21,22,23,24,null,null,null,{"$f":"IFERROR(IF(L回線_電話番号_11<>\"\",L回線_電話番号_11,\"\"),\"\")","v":""},0,"",""]
[null,null,"電話番号",null,null,null,null,null,null,null,null,null,"電話番号",null,null,null,null,null,null,null,null,null,{"$f":"IFERROR(IF(L回線_電話番号_12<>\"\",L回線_電話番号_12,\"\"),\"\")","v":""},0,"",""]
[null,null,"着信音",null,null,null,null,null,null,null,null,null,"着信音"]
[null,null,"モード毎鳴動",null,null,null,null,null,null,null,null,null,"モード毎鳴動"]
[null,null,"着信拒否",null,null,null,null,null,null,null,null,null,"着信拒否"]
[null,null,"モード切替",null,null,null,null,null,null,null,null,null,"モード切替"]
[null,null,"留守応答",null,null,null,null,null,null,null,null,null,"留守応答"]
[]
[]
[null,null,null,null,null,null,null,null,null,null,null,null,null,null,null,null,null,null,null,null,null,null,"電話番号　利用可能Chを超える入力があるかチェック"]
[null,null,"内線No-21",null,{"$f":"IFERROR(IF(D364<>\"\",\"TEN\" & VLOOKUP(D364,内線種別!$I:$J,2,FALSE),\"\"),\"\")","v":""},null,null,null,null,null,null,null,"内線No-22",null,{"$f":"IFERROR(IF(N364<>\"\",\"TEN\" & VLOOKUP(N364,内線種別!$I:$J,2,FALSE),\"\"),\"\")","v":""},null,null,null,null,null,null,null,"電話番号","利用可能Ch","キ割_21領域","入力Over"]
[null,null,null,null,{"$f":"IFERROR(IF(D364<>\"\",VLOOKUP(D364,内線種別!$I:$K,3,FALSE),\"0\"),\"0\")","v":"0"},null,null,null,null,null,null,null,null,null,{"$f":"IFERROR(IF(N364<>\"\",VLOOKUP(N364,内線種別!$I:$K,3,FALSE),\"0\"),\"0\")","v":"0"},null,null,null,null,null,null,null,{"$f":"IFERROR(IF(L回線_電話番号_01<>\"\",L回線_電話番号_01,\"\"),\"\")","v":""},{"$f":"IFERROR(VLOOKUP(W365,ヒ基_電話番号,2,FALSE),\"\")","v":0},{"$f":"IF($W365<>\"\",COUNTIF(INDIRECT(Y$364),$W365),\"\")","v":""},{"$f":"IF(W365<>\"\",$X365<Y365,\"\")","v":""}]
[null,null,"LK",1,2,3,4,5,6,null,null,null,"LK",1,2,3,4,5,6,null,null,null,{"$f":"IFERROR(IF(L回線_電話番号_02<>\"\",L回線_電話番号_02,\"\"),\"\")","v":""},0,{"$f":"IF($W366<>\"\",COUNTIF(INDIRECT(Y$364),$W366),\"\")","v":""},""]
[null,null,"電話番号",null,null,null,null,null,null,null,null,null,"電話番号",null,null,null,null,null,null,null,null,null,{"$f":"IFERROR(IF(L回線_電話番号_03<>\"\",L回線_電話番号_03,\"\"),\"\")","v":""},0,"",""]
[null,null,"着信音",null,null,null,null,null,null,null,null,null,"着信音",null,null,null,null,null,null,null,null,null,{"$f":"IFERROR(IF(L回線_電話番号_04<>\"\",L回線_電話番号_04,\"\"),\"\")","v":""},0,"",""]
[null,null,"モード毎鳴動",null,null,null,null,null,null,null,null,null,"モード毎鳴動",null,null,null,null,null,null,null,null,null,{"$f":"IFERROR(IF(L回線_電話番号_05<>\"\",L回線_電話番号_05,\"\"),\"\")","v":""},0,"",""]
[null,null,"着信拒否",null,null,null,null,null,null,null,null,null,"着信拒否",null,null,null,null,null,null,null,null,null,{"$f":"IFERROR(IF(L回線_電話番号_06<>\"\",L回線_電話番号_06,\"\"),\"\")","v":""},0,"",""]
[null,null,"モード切替",null,null,null,null,null,null,null,null,null,"モード切替",null,null,null,null,null,null,null,null,null,{"$f":"IFERROR(IF(L回線_電話番号_07<>\"\",L回線_電話番号_07,\"\"),\"\")","v":""},0,"",""]
[null,null,"留守応答",null,null,null,null,null,null,null,null,null,"留守応答",null,null,null,null,null,null,null,null,null,{"$f":"IFERROR(IF(L回線_電話番号_08<>\"\",L回線_電話番号_08,\"\"),\"\")","v":""},0,"",""]
[null,null,null,null,null,null,null,null,null,null,null,null,null,null,null,null,null,null,null,null,null,null,{"$f":"IFERROR(IF(L回線_電話番号_09<>\"\",L回線_電話番号_09,\"\"),\"\")","v":""},0,"",""]
[null,null,"LK",7,8,9,10,11,12,null,null,null,"LK",7,8,9,10,11,12,null,null,null,{"$f":"IFERROR(IF(L回線_電話番号_10<>\"\",L回線_電話番号_10,\"\"),\"\")","v":""},0,"",""]
[null,null,"電話番号",null,null,null,null,null,null,null,null,null,"電話番号",null,null,null,null,null,null,null,null,null,{"$f":"IFERROR(IF(L回線_電話番号_11<>\"\",L回線_電話番号_11,\"\"),\"\")","v":""},0,"",""]
[null,null,"着信音",null,null,null,null,null,null,null,null,null,"着信音",null,null,null,null,null,null,null,null,null,{"$f":"IFERROR(IF(L回線_電話番号_12<>\"\",L回線_電話番号_12,\"\"),\"\")","v":""},0,"",""]
[null,null,"モード毎鳴動",null,null,null,null,null,null,null,null,null,"モード毎鳴動"]
[null,null,"着信拒否",null,null,null,null,null,null,null,null,null,"着信拒否",null,null,null,null,null,null,null,null,null,"電話番号　利用可能Chを超える入力があるかチェック"]
[null,null,"モード切替",null,null,null,null,null,null,null,null,null,"モード切替",null,null,null,null,null,null,null,null,null,"電話番号","利用可能Ch","キ割_22領域","入力Over"]
[null,null,"留守応答",null,null,null,null,null,null,null,null,null,"留守応答",null,null,null,null,null,null,null,null,null,{"$f":"IFERROR(IF(L回線_電話番号_01<>\"\",L回線_電話番号_01,\"\"),\"\")","v":""},{"$f":"IFERROR(VLOOKUP(W380,ヒ基_電話番号,2,FALSE),\"\")","v":0},{"$f":"IF($W380<>\"\",COUNTIF(INDIRECT(Y$379),$W380),\"\")","v":""},{"$f":"IF(W380<>\"\",$X380<Y380,\"\")","v":""}]
[null,null,null,null,null,null,null,null,null,null,null,null,null,null,null,null,null,null,null,null,null,null,{"$f":"IFERROR(IF(L回線_電話番号_02<>\"\",L回線_電話番号_02,\"\"),\"\")","v":""},0,{"$f":"IF($W381<>\"\",COUNTIF(INDIRECT(Y$379),$W381),\"\")","v":""},""]
[null,null,"LK",13,14,15,16,17,18,null,null,null,"LK",13,14,15,16,17,18,null,null,null,{"$f":"IFERROR(IF(L回線_電話番号_03<>\"\",L回線_電話番号_03,\"\"),\"\")","v":""},0,"",""]
[null,null,"電話番号",null,null,null,null,null,null,null,null,null,"電話番号",null,null,null,null,null,null,null,null,null,{"$f":"IFERROR(IF(L回線_電話番号_04<>\"\",L回線_電話番号_04,\"\"),\"\")","v":""},0,"",""]
[null,null,"着信音",null,null,null,null,null,null,null,null,null,"着信音",null,null,null,null,null,null,null,null,null,{"$f":"IFERROR(IF(L回線_電話番号_05<>\"\",L回線_電話番号_05,\"\"),\"\")","v":""},0,"",""]
[null,null,"モード毎鳴動",null,null,null,null,null,null,null,null,null,"モード毎鳴動",null,null,null,null,null,null,null,null,null,{"$f":"IFERROR(IF(L回線_電話番号_06<>\"\",L回線_電話番号_06,\"\"),\"\")","v":""},0,"",""]
[null,null,"着信拒否",null,null,null,null,null,null,null,null,null,"着信拒否",null,null,null,null,null,null,null,null,null,{"$f":"IFERROR(IF(L回線_電話番号_07<>\"\",L回線_電話番号_07,\"\"),\"\")","v":""},0,"",""]
[null,null,"モード切替",null,null,null,null,null,null,null,null,null,"モード切替",null,null,null,null,null,null,null,null,null,{"$f":"IFERROR(IF(L回線_電話番号_08<>\"\",L回線_電話番号_08,\"\"),\"\")","v":""},0,"",""]
[null,null,"留守応答",null,null,null,null,null,null,null,null,null,"留守応答",null,null,null,null,null,null,null,null,null,{"$f":"IFERROR(IF(L回線_電話番号_09<>\"\",L回線_電話番号_09,\"\"),\"\")","v":""},0,"",""]
[null,null,null,null,null,null,null,null,null,null,null,null,null,null,null,null,null,null,null,null,null,null,{"$f":"IFERROR(IF(L回線_電話番号_10<>\"\",L回線_電話番号_10,\"\"),\"\")","v":""},0,"",""]
[null,null,"LK",19,20,21,22,23,24,null,null,null,"LK",19,20,21,22,23,24,null,null,null,{"$f":"IFERROR(IF(L回線_電話番号_11<>\"\",L回線_電話番号_11,\"\"),\"\")","v":""},0,"",""]
[null,null,"電話番号",null,null,null,null,null,null,null,null,null,"電話番号",null,null,null,null,null,null,null,null,null,{"$f":"IFERROR(IF(L回線_電話番号_12<>\"\",L回線_電話番号_12,\"\"),\"\")","v":""},0,"",""]
[null,null,"着信音",null,null,null,null,null,null,null,null,null,"着信音"]
[null,null,"モード毎鳴動",null,null,null,null,null,null,null,null,null,"モード毎鳴動"]
[null,null,"着信拒否",null,null,null,null,null,null,null,null,null,"着信拒否"]
[null,null,"モード切替",null,null,null,null,null,null,null,null,null,"モード切替"]
[null,null,"留守応答",null,null,null,null,null,null,null,null,null,"留守応答"]
[]
[]
[null,null,null,null,null,null,null,null,null,null,null,null,null,null,null,null,null,null,null,null,null,null,"電話番号　利用可能Chを超える入力があるかチェック"]
[null,null,"内線No-23",null,{"$f":"IFERROR(IF(D400<>\"\",\"TEN\" & VLOOKUP(D400,内線種別!$I:$J,2,FALSE),\"\"),\"\")","v":""},null,null,null,null,null,null,null,"内線No-24",null,{"$f":"IFERROR(IF(N400<>\"\",\"TEN\" & VLOOKUP(N400,内線種別!$I:$J,2,FALSE),\"\"),\"\")","v":""},null,null,null,null,null,null,null,"電話番号","利用可能Ch","キ割_23領域","入力Over"]
[null,null,null,null,{"$f":"IFERROR(IF(D400<>\"\",VLOOKUP(D400,内線種別!$I:$K,3,FALSE),\"0\"),\"0\")","v":"0"},null,null,null,null,null,null,null,null,null,{"$f":"IFERROR(IF(N400<>\"\",VLOOKUP(N400,内線種別!$I:$K,3,FALSE),\"0\"),\"0\")","v":"0"},null,null,null,null,null,null,null,{"$f":"IFERROR(IF(L回線_電話番号_01<>\"\",L回線_電話番号_01,\"\"),\"\")","v":""},{"$f":"IFERROR(VLOOKUP(W401,ヒ基_電話番号,2,FALSE),\"\")","v":0},{"$f":"IF($W401<>\"\",COUNTIF(INDIRECT(Y$400),$W401),\"\")","v":""},{"$f":"IF(W401<>\"\",$X401<Y401,\"\")","v":""}]
[null,null,"LK",1,2,3,4,5,6,null,null,null,"LK",1,2,3,4,5,6,null,null,null,{"$f":"IFERROR(IF(L回線_電話番号_02<>\"\",L回線_電話番号_02,\"\"),\"\")","v":""},0,{"$f":"IF($W402<>\"\",COUNTIF(INDIRECT(Y$400),$W402),\"\")","v":""},""]
[null,null,"電話番号",null,null,null,null,null,null,null,null,null,"電話番号",null,null,null,null,null,null,null,null,null,{"$f":"IFERROR(IF(L回線_電話番号_03<>\"\",L回線_電話番号_03,\"\"),\"\")","v":""},0,"",""]
[null,null,"着信音",null,null,null,null,null,null,null,null,null,"着信音",null,null,null,null,null,null,null,null,null,{"$f":"IFERROR(IF(L回線_電話番号_04<>\"\",L回線_電話番号_04,\"\"),\"\")","v":""},0,"",""]
[null,null,"モード毎鳴動",null,null,null,null,null,null,null,null,null,"モード毎鳴動",null,null,null,null,null,null,null,null,null,{"$f":"IFERROR(IF(L回線_電話番号_05<>\"\",L回線_電話番号_05,\"\"),\"\")","v":""},0,"",""]
[null,null,"着信拒否",null,null,null,null,null,null,null,null,null,"着信拒否",null,null,null,null,null,null,null,null,null,{"$f":"IFERROR(IF(L回線_電話番号_06<>\"\",L回線_電話番号_06,\"\"),\"\")","v":""},0,"",""]
[null,null,"モード切替",null,null,null,null,null,null,null,null,null,"モード切替",null,null,null,null,null,null,null,null,null,{"$f":"IFERROR(IF(L回線_電話番号_07<>\"\",L回線_電話番号_07,\"\"),\"\")","v":""},0,"",""]
[null,null,"留守応答",null,null,null,null,null,null,null,null,null,"留守応答",null,null,null,null,null,null,null,null,null,{"$f":"IFERROR(IF(L回線_電話番号_08<>\"\",L回線_電話番号_08,\"\"),\"\")","v":""},0,"",""]
[null,null,null,null,null,null,null,null,null,null,null,null,null,null,null,null,null,null,null,null,null,null,{"$f":"IFERROR(IF(L回線_電話番号_09<>\"\",L回線_電話番号_09,\"\"),\"\")","v":""},0,"",""]
[null,null,"LK",7,8,9,10,11,12,null,null,null,"LK",7,8,9,10,11,12,null,null,null,{"$f":"IFERROR(IF(L回線_電話番号_10<>\"\",L回線_電話番号_10,\"\"),\"\")","v":""},0,"",""]
[null,null,"電話番号",null,null,null,null,null,null,null,null,null,"電話番号",null,null,null,null,null,null,null,null,null,{"$f":"IFERROR(IF(L回線_電話番号_11<>\"\",L回線_電話番号_11,\"\"),\"\")","v":""},0,"",""]
[null,null,"着信音",null,null,null,null,null,null,null,null,null,"着信音",null,null,null,null,null,null,null,null,null,{"$f":"IFERROR(IF(L回線_電話番号_12<>\"\",L回線_電話番号_12,\"\"),\"\")","v":""},0,"",""]
[null,null,"モード毎鳴動",null,null,null,null,null,null,null,null,null,"モード毎鳴動"]
[null,null,"着信拒否",null,null,null,null,null,null,null,null,null,"着信拒否",null,null,null,null,null,null,null,null,null,"電話番号　利用可能Chを超える入力があるかチェック"]
[null,null,"モード切替",null,null,null,null,null,null,null,null,null,"モード切替",null,null,null,null,null,null,null,null,null,"電話番号","利用可能Ch","キ割_24領域","入力Over"]
[null,null,"留守応答",null,null,null,null,null,null,null,null,null,"留守応答",null,null,null,null,null,null,null,null,null,{"$f":"IFERROR(IF(L回線_電話番号_01<>\"\",L回線_電話番号_01,\"\"),\"\")","v":""},{"$f":"IFERROR(VLOOKUP(W416,ヒ基_電話番号,2,FALSE),\"\")","v":0},{"$f":"IF($W416<>\"\",COUNTIF(INDIRECT(Y$415),$W416),\"\")","v":""},{"$f":"IF(W416<>\"\",$X416<Y416,\"\")","v":""}]
[null,null,null,null,null,null,null,null,null,null,null,null,null,null,null,null,null,null,null,null,null,null,{"$f":"IFERROR(IF(L回線_電話番号_02<>\"\",L回線_電話番号_02,\"\"),\"\")","v":""},0,{"$f":"IF($W417<>\"\",COUNTIF(INDIRECT(Y$415),$W417),\"\")","v":""},""]
[null,null,"LK",13,14,15,16,17,18,null,null,null,"LK",13,14,15,16,17,18,null,null,null,{"$f":"IFERROR(IF(L回線_電話番号_03<>\"\",L回線_電話番号_03,\"\"),\"\")","v":""},0,"",""]
[null,null,"電話番号",null,null,null,null,null,null,null,null,null,"電話番号",null,null,null,null,null,null,null,null,null,{"$f":"IFERROR(IF(L回線_電話番号_04<>\"\",L回線_電話番号_04,\"\"),\"\")","v":""},0,"",""]
[null,null,"着信音",null,null,null,null,null,null,null,null,null,"着信音",null,null,null,null,null,null,null,null,null,{"$f":"IFERROR(IF(L回線_電話番号_05<>\"\",L回線_電話番号_05,\"\"),\"\")","v":""},0,"",""]
[null,null,"モード毎鳴動",null,null,null,null,null,null,null,null,null,"モード毎鳴動",null,null,null,null,null,null,null,null,null,{"$f":"IFERROR(IF(L回線_電話番号_06<>\"\",L回線_電話番号_06,\"\"),\"\")","v":""},0,"",""]
[null,null,"着信拒否",null,null,null,null,null,null,null,null,null,"着信拒否",null,null,null,null,null,null,null,null,null,{"$f":"IFERROR(IF(L回線_電話番号_07<>\"\",L回線_電話番号_07,\"\"),\"\")","v":""},0,"",""]
[null,null,"モード切替",null,null,null,null,null,null,null,null,null,"モード切替",null,null,null,null,null,null,null,null,null,{"$f":"IFERROR(IF(L回線_電話番号_08<>\"\",L回線_電話番号_08,\"\"),\"\")","v":""},0,"",""]
[null,null,"留守応答",null,null,null,null,null,null,null,null,null,"留守応答",null,null,null,null,null,null,null,null,null,{"$f":"IFERROR(IF(L回線_電話番号_09<>\"\",L回線_電話番号_09,\"\"),\"\")","v":""},0,"",""]
[null,null,null,null,null,null,null,null,null,null,null,null,null,null,null,null,null,null,null,null,null,null,{"$f":"IFERROR(IF(L回線_電話番号_10<>\"\",L回線_電話番号_10,\"\"),\"\")","v":""},0,"",""]
[null,null,"LK",19,20,21,22,23,24,null,null,null,"LK",19,20,21,22,23,24,null,null,null,{"$f":"IFERROR(IF(L回線_電話番号_11<>\"\",L回線_電話番号_11,\"\"),\"\")","v":""},0,"",""]
[null,null,"電話番号",null,null,null,null,null,null,null,null,null,"電話番号",null,null,null,null,null,null,null,null,null,{"$f":"IFERROR(IF(L回線_電話番号_12<>\"\",L回線_電話番号_12,\"\"),\"\")","v":""},0,"",""]
[null,null,"着信音",null,null,null,null,null,null,null,null,null,"着信音"]
[null,null,"モード毎鳴動",null,null,null,null,null,null,null,null,null,"モード毎鳴動"]
[null,null,"着信拒否",null,null,null,null,null,null,null,null,null,"着信拒否"]
[null,null,"モード切替",null,null,null,null,null,null,null,null,null,"モード切替"]
[null,null,"留守応答",null,null,null,null,null,null,null,null,null,"留守応答"]
[]
[]
[null,null,null,null,null,null,null,null,null,null,null,null,null,null,null,null,null,null,null,null,null,null,"電話番号　利用可能Chを超える入力があるかチェック"]
[null,null,"内線No-25",null,{"$f":"IFERROR(IF(D436<>\"\",\"TEN\" & VLOOKUP(D436,内線種別!$I:$J,2,FALSE),\"\"),\"\")","v":""},null,null,null,null,null,null,null,"内線No-26",null,{"$f":"IFERROR(IF(N436<>\"\",\"TEN\" & VLOOKUP(N436,内線種別!$I:$J,2,FALSE),\"\"),\"\")","v":""},null,null,null,null,null,null,null,"電話番号","利用可能Ch","キ割_25領域","入力Over"]
[null,null,null,null,{"$f":"IFERROR(IF(D436<>\"\",VLOOKUP(D436,内線種別!$I:$K,3,FALSE),\"0\"),\"0\")","v":"0"},null,null,null,null,null,null,null,null,null,{"$f":"IFERROR(IF(N436<>\"\",VLOOKUP(N436,内線種別!$I:$K,3,FALSE),\"0\"),\"0\")","v":"0"},null,null,null,null,null,null,null,{"$f":"IFERROR(IF(L回線_電話番号_01<>\"\",L回線_電話番号_01,\"\"),\"\")","v":""},{"$f":"IFERROR(VLOOKUP(W437,ヒ基_電話番号,2,FALSE),\"\")","v":0},{"$f":"IF($W437<>\"\",COUNTIF(INDIRECT(Y$436),$W437),\"\")","v":""},{"$f":"IF(W437<>\"\",$X437<Y437,\"\")","v":""}]
[null,null,"LK",1,2,3,4,5,6,null,null,null,"LK",1,2,3,4,5,6,null,null,null,{"$f":"IFERROR(IF(L回線_電話番号_02<>\"\",L回線_電話番号_02,\"\"),\"\")","v":""},0,{"$f":"IF($W438<>\"\",COUNTIF(INDIRECT(Y$436),$W438),\"\")","v":""},""]
[null,null,"電話番号",null,null,null,null,null,null,null,null,null,"電話番号",null,null,null,null,null,null,null,null,null,{"$f":"IFERROR(IF(L回線_電話番号_03<>\"\",L回線_電話番号_03,\"\"),\"\")","v":""},0,"",""]
[null,null,"着信音",null,null,null,null,null,null,null,null,null,"着信音",null,null,null,null,null,null,null,null,null,{"$f":"IFERROR(IF(L回線_電話番号_04<>\"\",L回線_電話番号_04,\"\"),\"\")","v":""},0,"",""]
[null,null,"モード毎鳴動",null,null,null,null,null,null,null,null,null,"モード毎鳴動",null,null,null,null,null,null,null,null,null,{"$f":"IFERROR(IF(L回線_電話番号_05<>\"\",L回線_電話番号_05,\"\"),\"\")","v":""},0,"",""]
[null,null,"着信拒否",null,null,null,null,null,null,null,null,null,"着信拒否",null,null,null,null,null,null,null,null,null,{"$f":"IFERROR(IF(L回線_電話番号_06<>\"\",L回線_電話番号_06,\"\"),\"\")","v":""},0,"",""]
[null,null,"モード切替",null,null,null,null,null,null,null,null,null,"モード切替",null,null,null,null,null,null,null,null,null,{"$f":"IFERROR(IF(L回線_電話番号_07<>\"\",L回線_電話番号_07,\"\"),\"\")","v":""},0,"",""]
[null,null,"留守応答",null,null,null,null,null,null,null,null,null,"留守応答",null,null,null,null,null,null,null,null,null,{"$f":"IFERROR(IF(L回線_電話番号_08<>\"\",L回線_電話番号_08,\"\"),\"\")","v":""},0,"",""]
[null,null,null,null,null,null,null,null,null,null,null,null,null,null,null,null,null,null,null,null,null,null,{"$f":"IFERROR(IF(L回線_電話番号_09<>\"\",L回線_電話番号_09,\"\"),\"\")","v":""},0,"",""]
[null,null,"LK",7,8,9,10,11,12,null,null,null,"LK",7,8,9,10,11,12,null,null,null,{"$f":"IFERROR(IF(L回線_電話番号_10<>\"\",L回線_電話番号_10,\"\"),\"\")","v":""},0,"",""]
[null,null,"電話番号",null,null,null,null,null,null,null,null,null,"電話番号",null,null,null,null,null,null,null,null,null,{"$f":"IFERROR(IF(L回線_電話番号_11<>\"\",L回線_電話番号_11,\"\"),\"\")","v":""},0,"",""]
[null,null,"着信音",null,null,null,null,null,null,null,null,null,"着信音",null,null,null,null,null,null,null,null,null,{"$f":"IFERROR(IF(L回線_電話番号_12<>\"\",L回線_電話番号_12,\"\"),\"\")","v":""},0,"",""]
[null,null,"モード毎鳴動",null,null,null,null,null,null,null,null,null,"モード毎鳴動"]
[null,null,"着信拒否",null,null,null,null,null,null,null,null,null,"着信拒否",null,null,null,null,null,null,null,null,null,"電話番号　利用可能Chを超える入力があるかチェック"]
[null,null,"モード切替",null,null,null,null,null,null,null,null,null,"モード切替",null,null,null,null,null,null,null,null,null,"電話番号","利用可能Ch","キ割_26領域","入力Over"]
[null,null,"留守応答",null,null,null,null,null,null,null,null,null,"留守応答",null,null,null,null,null,null,null,null,null,{"$f":"IFERROR(IF(L回線_電話番号_01<>\"\",L回線_電話番号_01,\"\"),\"\")","v":""},{"$f":"IFERROR(VLOOKUP(W452,ヒ基_電話番号,2,FALSE),\"\")","v":0},{"$f":"IF($W452<>\"\",COUNTIF(INDIRECT(Y$451),$W452),\"\")","v":""},{"$f":"IF(W452<>\"\",$X452<Y452,\"\")","v":""}]
[null,null,null,null,null,null,null,null,null,null,null,null,null,null,null,null,null,null,null,null,null,null,{"$f":"IFERROR(IF(L回線_電話番号_02<>\"\",L回線_電話番号_02,\"\"),\"\")","v":""},0,{"$f":"IF($W453<>\"\",COUNTIF(INDIRECT(Y$451),$W453),\"\")","v":""},""]
[null,null,"LK",13,14,15,16,17,18,null,null,null,"LK",13,14,15,16,17,18,null,null,null,{"$f":"IFERROR(IF(L回線_電話番号_03<>\"\",L回線_電話番号_03,\"\"),\"\")","v":""},0,"",""]
[null,null,"電話番号",null,null,null,null,null,null,null,null,null,"電話番号",null,null,null,null,null,null,null,null,null,{"$f":"IFERROR(IF(L回線_電話番号_04<>\"\",L回線_電話番号_04,\"\"),\"\")","v":""},0,"",""]
[null,null,"着信音",null,null,null,null,null,null,null,null,null,"着信音",null,null,null,null,null,null,null,null,null,{"$f":"IFERROR(IF(L回線_電話番号_05<>\"\",L回線_電話番号_05,\"\"),\"\")","v":""},0,"",""]
[null,null,"モード毎鳴動",null,null,null,null,null,null,null,null,null,"モード毎鳴動",null,null,null,null,null,null,null,null,null,{"$f":"IFERROR(IF(L回線_電話番号_06<>\"\",L回線_電話番号_06,\"\"),\"\")","v":""},0,"",""]
[null,null,"着信拒否",null,null,null,null,null,null,null,null,null,"着信拒否",null,null,null,null,null,null,null,null,null,{"$f":"IFERROR(IF(L回線_電話番号_07<>\"\",L回線_電話番号_07,\"\"),\"\")","v":""},0,"",""]
[null,null,"モード切替",null,null,null,null,null,null,null,null,null,"モード切替",null,null,null,null,null,null,null,null,null,{"$f":"IFERROR(IF(L回線_電話番号_08<>\"\",L回線_電話番号_08,\"\"),\"\")","v":""},0,"",""]
[null,null,"留守応答",null,null,null,null,null,null,null,null,null,"留守応答",null,null,null,null,null,null,null,null,null,{"$f":"IFERROR(IF(L回線_電話番号_09<>\"\",L回線_電話番号_09,\"\"),\"\")","v":""},0,"",""]
[null,null,null,null,null,null,null,null,null,null,null,null,null,null,null,null,null,null,null,null,null,null,{"$f":"IFERROR(IF(L回線_電話番号_10<>\"\",L回線_電話番号_10,\"\"),\"\")","v":""},0,"",""]
[null,null,"LK",19,20,21,22,23,24,null,null,null,"LK",19,20,21,22,23,24,null,null,null,{"$f":"IFERROR(IF(L回線_電話番号_11<>\"\",L回線_電話番号_11,\"\"),\"\")","v":""},0,"",""]
[null,null,"電話番号",null,null,null,null,null,null,null,null,null,"電話番号",null,null,null,null,null,null,null,null,null,{"$f":"IFERROR(IF(L回線_電話番号_12<>\"\",L回線_電話番号_12,\"\"),\"\")","v":""},0,"",""]
[null,null,"着信音",null,null,null,null,null,null,null,null,null,"着信音"]
[null,null,"モード毎鳴動",null,null,null,null,null,null,null,null,null,"モード毎鳴動"]
[null,null,"着信拒否",null,null,null,null,null,null,null,null,null,"着信拒否"]
[null,null,"モード切替",null,null,null,null,null,null,null,null,null,"モード切替"]
[null,null,"留守応答",null,null,null,null,null,null,null,null,null,"留守応答"]
[]
[]
[null,null,null,null,null,null,null,null,null,null,null,null,null,null,null,null,null,null,null,null,null,null,"電話番号　利用可能Chを超える入力があるかチェック"]
[null,null,"内線No-27",null,{"$f":"IFERROR(IF(D472<>\"\",\"TEN\" & VLOOKUP(D472,内線種別!$I:$J,2,FALSE),\"\"),\"\")","v":""},null,null,null,null,null,null,null,"内線No-28",null,{"$f":"IFERROR(IF(N472<>\"\",\"TEN\" & VLOOKUP(N472,内線種別!$I:$J,2,FALSE),\"\"),\"\")","v":""},null,null,null,null,null,null,null,"電話番号","利用可能Ch","キ割_27領域","入力Over"]
[null,null,null,null,{"$f":"IFERROR(IF(D472<>\"\",VLOOKUP(D472,内線種別!$I:$K,3,FALSE),\"0\"),\"0\")","v":"0"},null,null,null,null,null,null,null,null,null,{"$f":"IFERROR(IF(N472<>\"\",VLOOKUP(N472,内線種別!$I:$K,3,FALSE),\"0\"),\"0\")","v":"0"},null,null,null,null,null,null,null,{"$f":"IFERROR(IF(L回線_電話番号_01<>\"\",L回線_電話番号_01,\"\"),\"\")","v":""},{"$f":"IFERROR(VLOOKUP(W473,ヒ基_電話番号,2,FALSE),\"\")","v":0},{"$f":"IF($W473<>\"\",COUNTIF(INDIRECT(Y$472),$W473),\"\")","v":""},{"$f":"IF(W473<>\"\",$X473<Y473,\"\")","v":""}]
[null,null,"LK",1,2,3,4,5,6,null,null,null,"LK",1,2,3,4,5,6,null,null,null,{"$f":"IFERROR(IF(L回線_電話番号_02<>\"\",L回線_電話番号_02,\"\"),\"\")","v":""},0,{"$f":"IF($W474<>\"\",COUNTIF(INDIRECT(Y$472),$W474),\"\")","v":""},""]
[null,null,"電話番号",null,null,null,null,null,null,null,null,null,"電話番号",null,null,null,null,null,null,null,null,null,{"$f":"IFERROR(IF(L回線_電話番号_03<>\"\",L回線_電話番号_03,\"\"),\"\")","v":""},0,"",""]
[null,null,"着信音",null,null,null,null,null,null,null,null,null,"着信音",null,null,null,null,null,null,null,null,null,{"$f":"IFERROR(IF(L回線_電話番号_04<>\"\",L回線_電話番号_04,\"\"),\"\")","v":""},0,"",""]
[null,null,"モード毎鳴動",null,null,null,null,null,null,null,null,null,"モード毎鳴動",null,null,null,null,null,null,null,null,null,{"$f":"IFERROR(IF(L回線_電話番号_05<>\"\",L回線_電話番号_05,\"\"),\"\")","v":""},0,"",""]
[null,null,"着信拒否",null,null,null,null,null,null,null,null,null,"着信拒否",null,null,null,null,null,null,null,null,null,{"$f":"IFERROR(IF(L回線_電話番号_06<>\"\",L回線_電話番号_06,\"\"),\"\")","v":""},0,"",""]
[null,null,"モード切替",null,null,null,null,null,null,null,null,null,"モード切替",null,null,null,null,null,null,null,null,null,{"$f":"IFERROR(IF(L回線_電話番号_07<>\"\",L回線_電話番号_07,\"\"),\"\")","v":""},0,"",""]
[null,null,"留守応答",null,null,null,null,null,null,null,null,null,"留守応答",null,null,null,null,null,null,null,null,null,{"$f":"IFERROR(IF(L回線_電話番号_08<>\"\",L回線_電話番号_08,\"\"),\"\")","v":""},0,"",""]
[null,null,null,null,null,null,null,null,null,null,null,null,null,null,null,null,null,null,null,null,null,null,{"$f":"IFERROR(IF(L回線_電話番号_09<>\"\",L回線_電話番号_09,\"\"),\"\")","v":""},0,"",""]
[null,null,"LK",7,8,9,10,11,12,null,null,null,"LK",7,8,9,10,11,12,null,null,null,{"$f":"IFERROR(IF(L回線_電話番号_10<>\"\",L回線_電話番号_10,\"\"),\"\")","v":""},0,"",""]
[null,null,"電話番号",null,null,null,null,null,null,null,null,null,"電話番号",null,null,null,null,null,null,null,null,null,{"$f":"IFERROR(IF(L回線_電話番号_11<>\"\",L回線_電話番号_11,\"\"),\"\")","v":""},0,"",""]
[null,null,"着信音",null,null,null,null,null,null,null,null,null,"着信音",null,null,null,null,null,null,null,null,null,{"$f":"IFERROR(IF(L回線_電話番号_12<>\"\",L回線_電話番号_12,\"\"),\"\")","v":""},0,"",""]
[null,null,"モード毎鳴動",null,null,null,null,null,null,null,null,null,"モード毎鳴動"]
[null,null,"着信拒否",null,null,null,null,null,null,null,null,null,"着信拒否",null,null,null,null,null,null,null,null,null,"電話番号　利用可能Chを超える入力があるかチェック"]
[null,null,"モード切替",null,null,null,null,null,null,null,null,null,"モード切替",null,null,null,null,null,null,null,null,null,"電話番号","利用可能Ch","キ割_28領域","入力Over"]
[null,null,"留守応答",null,null,null,null,null,null,null,null,null,"留守応答",null,null,null,null,null,null,null,null,null,{"$f":"IFERROR(IF(L回線_電話番号_01<>\"\",L回線_電話番号_01,\"\"),\"\")","v":""},{"$f":"IFERROR(VLOOKUP(W488,ヒ基_電話番号,2,FALSE),\"\")","v":0},{"$f":"IF($W488<>\"\",COUNTIF(INDIRECT(Y$487),$W488),\"\")","v":""},{"$f":"IF(W488<>\"\",$X488<Y488,\"\")","v":""}]
[null,null,null,null,null,null,null,null,null,null,null,null,null,null,null,null,null,null,null,null,null,null,{"$f":"IFERROR(IF(L回線_電話番号_02<>\"\",L回線_電話番号_02,\"\"),\"\")","v":""},0,{"$f":"IF($W489<>\"\",COUNTIF(INDIRECT(Y$487),$W489),\"\")","v":""},""]
[null,null,"LK",13,14,15,16,17,18,null,null,null,"LK",13,14,15,16,17,18,null,null,null,{"$f":"IFERROR(IF(L回線_電話番号_03<>\"\",L回線_電話番号_03,\"\"),\"\")","v":""},0,"",""]
[null,null,"電話番号",null,null,null,null,null,null,null,null,null,"電話番号",null,null,null,null,null,null,null,null,null,{"$f":"IFERROR(IF(L回線_電話番号_04<>\"\",L回線_電話番号_04,\"\"),\"\")","v":""},0,"",""]
[null,null,"着信音",null,null,null,null,null,null,null,null,null,"着信音",null,null,null,null,null,null,null,null,null,{"$f":"IFERROR(IF(L回線_電話番号_05<>\"\",L回線_電話番号_05,\"\"),\"\")","v":""},0,"",""]
[null,null,"モード毎鳴動",null,null,null,null,null,null,null,null,null,"モード毎鳴動",null,null,null,null,null,null,null,null,null,{"$f":"IFERROR(IF(L回線_電話番号_06<>\"\",L回線_電話番号_06,\"\"),\"\")","v":""},0,"",""]
[null,null,"着信拒否",null,null,null,null,null,null,null,null,null,"着信拒否",null,null,null,null,null,null,null,null,null,{"$f":"IFERROR(IF(L回線_電話番号_07<>\"\",L回線_電話番号_07,\"\"),\"\")","v":""},0,"",""]
[null,null,"モード切替",null,null,null,null,null,null,null,null,null,"モード切替",null,null,null,null,null,null,null,null,null,{"$f":"IFERROR(IF(L回線_電話番号_08<>\"\",L回線_電話番号_08,\"\"),\"\")","v":""},0,"",""]
[null,null,"留守応答",null,null,null,null,null,null,null,null,null,"留守応答",null,null,null,null,null,null,null,null,null,{"$f":"IFERROR(IF(L回線_電話番号_09<>\"\",L回線_電話番号_09,\"\"),\"\")","v":""},0,"",""]
[null,null,null,null,null,null,null,null,null,null,null,null,null,null,null,null,null,null,null,null,null,null,{"$f":"IFERROR(IF(L回線_電話番号_10<>\"\",L回線_電話番号_10,\"\"),\"\")","v":""},0,"",""]
[null,null,"LK",19,20,21,22,23,24,null,null,null,"LK",19,20,21,22,23,24,null,null,null,{"$f":"IFERROR(IF(L回線_電話番号_11<>\"\",L回線_電話番号_11,\"\"),\"\")","v":""},0,"",""]
[null,null,"電話番号",null,null,null,null,null,null,null,null,null,"電話番号",null,null,null,null,null,null,null,null,null,{"$f":"IFERROR(IF(L回線_電話番号_12<>\"\",L回線_電話番号_12,\"\"),\"\")","v":""},0,"",""]
[null,null,"着信音",null,null,null,null,null,null,null,null,null,"着信音"]
[null,null,"モード毎鳴動",null,null,null,null,null,null,null,null,null,"モード毎鳴動"]
[null,null,"着信拒否",null,null,null,null,null,null,null,null,null,"着信拒否"]
[null,null,"モード切替",null,null,null,null,null,null,null,null,null,"モード切替"]
[null,null,"留守応答",null,null,null,null,null,null,null,null,null,"留守応答"]
[]
[]
[]
[null,null,"内線No-29",null,{"$f":"IFERROR(IF(D508<>\"\",\"TEN\" & VLOOKUP(D508,内線種別!$I:$J,2,FALSE),\"\"),\"\")","v":""},null,null,null,null,null,null,null,"内線No-30",null,{"$f":"IFERROR(IF(N508<>\"\",\"TEN\" & VLOOKUP(N508,内線種別!$I:$J,2,FALSE),\"\"),\"\")","v":""},null,null,null,null,null,null,null,"電話番号　利用可能Chを超える入力があるかチェック"]
[null,null,null,null,{"$f":"IFERROR(IF(D508<>\"\",VLOOKUP(D508,内線種別!$I:$K,3,FALSE),\"0\"),\"0\")","v":"0"},null,null,null,null,null,null,null,null,null,{"$f":"IFERROR(IF(N508<>\"\",VLOOKUP(N508,内線種別!$I:$K,3,FALSE),\"0\"),\"0\")","v":"0"},null,null,null,null,null,null,null,"電話番号","利用可能Ch","キ割_29領域","入力Over"]
[null,null,"LK",1,2,3,4,5,6,null,null,null,"LK",1,2,3,4,5,6,null,null,null,{"$f":"IFERROR(IF(L回線_電話番号_01<>\"\",L回線_電話番号_01,\"\"),\"\")","v":""},{"$f":"IFERROR(VLOOKUP(W510,ヒ基_電話番号,2,FALSE),\"\")","v":0},{"$f":"IF($W510<>\"\",COUNTIF(INDIRECT(Y$509),$W510),\"\")","v":""},{"$f":"IF(W510<>\"\",$X510<Y510,\"\")","v":""}]
[null,null,"電話番号",null,null,null,null,null,null,null,null,null,"電話番号",null,null,null,null,null,null,null,null,null,{"$f":"IFERROR(IF(L回線_電話番号_02<>\"\",L回線_電話番号_02,\"\"),\"\")","v":""},0,{"$f":"IF($W511<>\"\",COUNTIF(INDIRECT(Y$509),$W511),\"\")","v":""},""]
[null,null,"着信音",null,null,null,null,null,null,null,null,null,"着信音",null,null,null,null,null,null,null,null,null,{"$f":"IFERROR(IF(L回線_電話番号_03<>\"\",L回線_電話番号_03,\"\"),\"\")","v":""},0,"",""]
[null,null,"モード毎鳴動",null,null,null,null,null,null,null,null,null,"モード毎鳴動",null,null,null,null,null,null,null,null,null,{"$f":"IFERROR(IF(L回線_電話番号_04<>\"\",L回線_電話番号_04,\"\"),\"\")","v":""},0,"",""]
[null,null,"着信拒否",null,null,null,null,null,null,null,null,null,"着信拒否",null,null,null,null,null,null,null,null,null,{"$f":"IFERROR(IF(L回線_電話番号_05<>\"\",L回線_電話番号_05,\"\"),\"\")","v":""},0,"",""]
[null,null,"モード切替",null,null,null,null,null,null,null,null,null,"モード切替",null,null,null,null,null,null,null,null,null,{"$f":"IFERROR(IF(L回線_電話番号_06<>\"\",L回線_電話番号_06,\"\"),\"\")","v":""},0,"",""]
[null,null,"留守応答",null,null,null,null,null,null,null,null,null,"留守応答",null,null,null,null,null,null,null,null,null,{"$f":"IFERROR(IF(L回線_電話番号_07<>\"\",L回線_電話番号_07,\"\"),\"\")","v":""},0,"",""]
[null,null,null,null,null,null,null,null,null,null,null,null,null,null,null,null,null,null,null,null,null,null,{"$f":"IFERROR(IF(L回線_電話番号_08<>\"\",L回線_電話番号_08,\"\"),\"\")","v":""},0,"",""]
[null,null,"LK",7,8,9,10,11,12,null,null,null,"LK",7,8,9,10,11,12,null,null,null,{"$f":"IFERROR(IF(L回線_電話番号_09<>\"\",L回線_電話番号_09,\"\"),\"\")","v":""},0,"",""]
[null,null,"電話番号",null,null,null,null,null,null,null,null,null,"電話番号",null,null,null,null,null,null,null,null,null,{"$f":"IFERROR(IF(L回線_電話番号_10<>\"\",L回線_電話番号_10,\"\"),\"\")","v":""},0,"",""]
[null,null,"着信音",null,null,null,null,null,null,null,null,null,"着信音",null,null,null,null,null,null,null,null,null,{"$f":"IFERROR(IF(L回線_電話番号_11<>\"\",L回線_電話番号_11,\"\"),\"\")","v":""},0,"",""]
[null,null,"モード毎鳴動",null,null,null,null,null,null,null,null,null,"モード毎鳴動",null,null,null,null,null,null,null,null,null,{"$f":"IFERROR(IF(L回線_電話番号_12<>\"\",L回線_電話番号_12,\"\"),\"\")","v":""},0,"",""]
[null,null,"着信拒否",null,null,null,null,null,null,null,null,null,"着信拒否"]
[null,null,"モード切替",null,null,null,null,null,null,null,null,null,"モード切替",null,null,null,null,null,null,null,null,null,"電話番号　利用可能Chを超える入力があるかチェック"]
[null,null,"留守応答",null,null,null,null,null,null,null,null,null,"留守応答",null,null,null,null,null,null,null,null,null,"電話番号","利用可能Ch","キ割_30領域","入力Over"]
[null,null,null,null,null,null,null,null,null,null,null,null,null,null,null,null,null,null,null,null,null,null,{"$f":"IFERROR(IF(L回線_電話番号_01<>\"\",L回線_電話番号_01,\"\"),\"\")","v":""},{"$f":"IFERROR(VLOOKUP(W525,ヒ基_電話番号,2,FALSE),\"\")","v":0},{"$f":"IF($W525<>\"\",COUNTIF(INDIRECT(Y$524),$W525),\"\")","v":""},{"$f":"IF(W525<>\"\",$X525<Y525,\"\")","v":""}]
[null,null,"LK",13,14,15,16,17,18,null,null,null,"LK",13,14,15,16,17,18,null,null,null,{"$f":"IFERROR(IF(L回線_電話番号_02<>\"\",L回線_電話番号_02,\"\"),\"\")","v":""},0,{"$f":"IF($W526<>\"\",COUNTIF(INDIRECT(Y$524),$W526),\"\")","v":""},""]
[null,null,"電話番号",null,null,null,null,null,null,null,null,null,"電話番号",null,null,null,null,null,null,null,null,null,{"$f":"IFERROR(IF(L回線_電話番号_03<>\"\",L回線_電話番号_03,\"\"),\"\")","v":""},0,"",""]
[null,null,"着信音",null,null,null,null,null,null,null,null,null,"着信音",null,null,null,null,null,null,null,null,null,{"$f":"IFERROR(IF(L回線_電話番号_04<>\"\",L回線_電話番号_04,\"\"),\"\")","v":""},0,"",""]
[null,null,"モード毎鳴動",null,null,null,null,null,null,null,null,null,"モード毎鳴動",null,null,null,null,null,null,null,null,null,{"$f":"IFERROR(IF(L回線_電話番号_05<>\"\",L回線_電話番号_05,\"\"),\"\")","v":""},0,"",""]
[null,null,"着信拒否",null,null,null,null,null,null,null,null,null,"着信拒否",null,null,null,null,null,null,null,null,null,{"$f":"IFERROR(IF(L回線_電話番号_06<>\"\",L回線_電話番号_06,\"\"),\"\")","v":""},0,"",""]
[null,null,"モード切替",null,null,null,null,null,null,null,null,null,"モード切替",null,null,null,null,null,null,null,null,null,{"$f":"IFERROR(IF(L回線_電話番号_07<>\"\",L回線_電話番号_07,\"\"),\"\")","v":""},0,"",""]
[null,null,"留守応答",null,null,null,null,null,null,null,null,null,"留守応答",null,null,null,null,null,null,null,null,null,{"$f":"IFERROR(IF(L回線_電話番号_08<>\"\",L回線_電話番号_08,\"\"),\"\")","v":""},0,"",""]
[null,null,null,null,null,null,null,null,null,null,null,null,null,null,null,null,null,null,null,null,null,null,{"$f":"IFERROR(IF(L回線_電話番号_09<>\"\",L回線_電話番号_09,\"\"),\"\")","v":""},0,"",""]
[null,null,"LK",19,20,21,22,23,24,null,null,null,"LK",19,20,21,22,23,24,null,null,null,{"$f":"IFERROR(IF(L回線_電話番号_10<>\"\",L回線_電話番号_10,\"\"),\"\")","v":""},0,"",""]
[null,null,"電話番号",null,null,null,null,null,null,null,null,null,"電話番号",null,null,null,null,null,null,null,null,null,{"$f":"IFERROR(IF(L回線_電話番号_11<>\"\",L回線_電話番号_11,\"\"),\"\")","v":""},0,"",""]
[null,null,"着信音",null,null,null,null,null,null,null,null,null,"着信音",null,null,null,null,null,null,null,null,null,{"$f":"IFERROR(IF(L回線_電話番号_12<>\"\",L回線_電話番号_12,\"\"),\"\")","v":""},0,"",""]
[null,null,"モード毎鳴動",null,null,null,null,null,null,null,null,null,"モード毎鳴動"]
[null,null,"着信拒否",null,null,null,null,null,null,null,null,null,"着信拒否"]
[null,null,"モード切替",null,null,null,null,null,null,null,null,null,"モード切替"]
[null,null,"留守応答",null,null,null,null,null,null,null,null,null,"留守応答"]
[]
[]
[null,null,null,null,null,null,null,null,null,null,null,null,null,null,null,null,null,null,null,null,null,null,"電話番号　利用可能Chを超える入力があるかチェック"]
[null,null,"内線No-31",null,{"$f":"IFERROR(IF(D544<>\"\",\"TEN\" & VLOOKUP(D544,内線種別!$I:$J,2,FALSE),\"\"),\"\")","v":""},null,null,null,null,null,null,null,"内線No-32",null,{"$f":"IFERROR(IF(N544<>\"\",\"TEN\" & VLOOKUP(N544,内線種別!$I:$J,2,FALSE),\"\"),\"\")","v":""},null,null,null,null,null,null,null,"電話番号","利用可能Ch","キ割_31領域","入力Over"]
[null,null,null,null,{"$f":"IFERROR(IF(D544<>\"\",VLOOKUP(D544,内線種別!$I:$K,3,FALSE),\"0\"),\"0\")","v":"0"},null,null,null,null,null,null,null,null,null,{"$f":"IFERROR(IF(N544<>\"\",VLOOKUP(N544,内線種別!$I:$K,3,FALSE),\"0\"),\"0\")","v":"0"},null,null,null,null,null,null,null,{"$f":"IFERROR(IF(L回線_電話番号_01<>\"\",L回線_電話番号_01,\"\"),\"\")","v":""},{"$f":"IFERROR(VLOOKUP(W545,ヒ基_電話番号,2,FALSE),\"\")","v":0},{"$f":"IF($W545<>\"\",COUNTIF(INDIRECT(Y$544),$W545),\"\")","v":""},{"$f":"IF(W545<>\"\",$X545<Y545,\"\")","v":""}]
[null,null,"LK",1,2,3,4,5,6,null,null,null,"LK",1,2,3,4,5,6,null,null,null,{"$f":"IFERROR(IF(L回線_電話番号_02<>\"\",L回線_電話番号_02,\"\"),\"\")","v":""},0,{"$f":"IF($W546<>\"\",COUNTIF(INDIRECT(Y$544),$W546),\"\")","v":""},""]
[null,null,"電話番号",null,null,null,null,null,null,null,null,null,"電話番号",null,null,null,null,null,null,null,null,null,{"$f":"IFERROR(IF(L回線_電話番号_03<>\"\",L回線_電話番号_03,\"\"),\"\")","v":""},0,"",""]
[null,null,"着信音",null,null,null,null,null,null,null,null,null,"着信音",null,null,null,null,null,null,null,null,null,{"$f":"IFERROR(IF(L回線_電話番号_04<>\"\",L回線_電話番号_04,\"\"),\"\")","v":""},0,"",""]
[null,null,"モード毎鳴動",null,null,null,null,null,null,null,null,null,"モード毎鳴動",null,null,null,null,null,null,null,null,null,{"$f":"IFERROR(IF(L回線_電話番号_05<>\"\",L回線_電話番号_05,\"\"),\"\")","v":""},0,"",""]
[null,null,"着信拒否",null,null,null,null,null,null,null,null,null,"着信拒否",null,null,null,null,null,null,null,null,null,{"$f":"IFERROR(IF(L回線_電話番号_06<>\"\",L回線_電話番号_06,\"\"),\"\")","v":""},0,"",""]
[null,null,"モード切替",null,null,null,null,null,null,null,null,null,"モード切替",null,null,null,null,null,null,null,null,null,{"$f":"IFERROR(IF(L回線_電話番号_07<>\"\",L回線_電話番号_07,\"\"),\"\")","v":""},0,"",""]
[null,null,"留守応答",null,null,null,null,null,null,null,null,null,"留守応答",null,null,null,null,null,null,null,null,null,{"$f":"IFERROR(IF(L回線_電話番号_08<>\"\",L回線_電話番号_08,\"\"),\"\")","v":""},0,"",""]
[null,null,null,null,null,null,null,null,null,null,null,null,null,null,null,null,null,null,null,null,null,null,{"$f":"IFERROR(IF(L回線_電話番号_09<>\"\",L回線_電話番号_09,\"\"),\"\")","v":""},0,"",""]
[null,null,"LK",7,8,9,10,11,12,null,null,null,"LK",7,8,9,10,11,12,null,null,null,{"$f":"IFERROR(IF(L回線_電話番号_10<>\"\",L回線_電話番号_10,\"\"),\"\")","v":""},0,"",""]
[null,null,"電話番号",null,null,null,null,null,null,null,null,null,"電話番号",null,null,null,null,null,null,null,null,null,{"$f":"IFERROR(IF(L回線_電話番号_11<>\"\",L回線_電話番号_11,\"\"),\"\")","v":""},0,"",""]
[null,null,"着信音",null,null,null,null,null,null,null,null,null,"着信音",null,null,null,null,null,null,null,null,null,{"$f":"IFERROR(IF(L回線_電話番号_12<>\"\",L回線_電話番号_12,\"\"),\"\")","v":""},0,"",""]
[null,null,"モード毎鳴動",null,null,null,null,null,null,null,null,null,"モード毎鳴動"]
[null,null,"着信拒否",null,null,null,null,null,null,null,null,null,"着信拒否",null,null,null,null,null,null,null,null,null,"電話番号　利用可能Chを超える入力があるかチェック"]
[null,null,"モード切替",null,null,null,null,null,null,null,null,null,"モード切替",null,null,null,null,null,null,null,null,null,"電話番号","利用可能Ch","キ割_32領域","入力Over"]
[null,null,"留守応答",null,null,null,null,null,null,null,null,null,"留守応答",null,null,null,null,null,null,null,null,null,{"$f":"IFERROR(IF(L回線_電話番号_01<>\"\",L回線_電話番号_01,\"\"),\"\")","v":""},{"$f":"IFERROR(VLOOKUP(W560,ヒ基_電話番号,2,FALSE),\"\")","v":0},{"$f":"IF($W560<>\"\",COUNTIF(INDIRECT(Y$559),$W560),\"\")","v":""},{"$f":"IF(W560<>\"\",$X560<Y560,\"\")","v":""}]
[null,null,null,null,null,null,null,null,null,null,null,null,null,null,null,null,null,null,null,null,null,null,{"$f":"IFERROR(IF(L回線_電話番号_02<>\"\",L回線_電話番号_02,\"\"),\"\")","v":""},0,{"$f":"IF($W561<>\"\",COUNTIF(INDIRECT(Y$559),$W561),\"\")","v":""},""]
[null,null,"LK",13,14,15,16,17,18,null,null,null,"LK",13,14,15,16,17,18,null,null,null,{"$f":"IFERROR(IF(L回線_電話番号_03<>\"\",L回線_電話番号_03,\"\"),\"\")","v":""},0,"",""]
[null,null,"電話番号",null,null,null,null,null,null,null,null,null,"電話番号",null,null,null,null,null,null,null,null,null,{"$f":"IFERROR(IF(L回線_電話番号_04<>\"\",L回線_電話番号_04,\"\"),\"\")","v":""},0,"",""]
[null,null,"着信音",null,null,null,null,null,null,null,null,null,"着信音",null,null,null,null,null,null,null,null,null,{"$f":"IFERROR(IF(L回線_電話番号_05<>\"\",L回線_電話番号_05,\"\"),\"\")","v":""},0,"",""]
[null,null,"モード毎鳴動",null,null,null,null,null,null,null,null,null,"モード毎鳴動",null,null,null,null,null,null,null,null,null,{"$f":"IFERROR(IF(L回線_電話番号_06<>\"\",L回線_電話番号_06,\"\"),\"\")","v":""},0,"",""]
[null,null,"着信拒否",null,null,null,null,null,null,null,null,null,"着信拒否",null,null,null,null,null,null,null,null,null,{"$f":"IFERROR(IF(L回線_電話番号_07<>\"\",L回線_電話番号_07,\"\"),\"\")","v":""},0,"",""]
[null,null,"モード切替",null,null,null,null,null,null,null,null,null,"モード切替",null,null,null,null,null,null,null,null,null,{"$f":"IFERROR(IF(L回線_電話番号_08<>\"\",L回線_電話番号_08,\"\"),\"\")","v":""},0,"",""]
[null,null,"留守応答",null,null,null,null,null,null,null,null,null,"留守応答",null,null,null,null,null,null,null,null,null,{"$f":"IFERROR(IF(L回線_電話番号_09<>\"\",L回線_電話番号_09,\"\"),\"\")","v":""},0,"",""]
[null,null,null,null,null,null,null,null,null,null,null,null,null,null,null,null,null,null,null,null,null,null,{"$f":"IFERROR(IF(L回線_電話番号_10<>\"\",L回線_電話番号_10,\"\"),\"\")","v":""},0,"",""]
[null,null,"LK",19,20,21,22,23,24,null,null,null,"LK",19,20,21,22,23,24,null,null,null,{"$f":"IFERROR(IF(L回線_電話番号_11<>\"\",L回線_電話番号_11,\"\"),\"\")","v":""},0,"",""]
[null,null,"電話番号",null,null,null,null,null,null,null,null,null,"電話番号",null,null,null,null,null,null,null,null,null,{"$f":"IFERROR(IF(L回線_電話番号_12<>\"\",L回線_電話番号_12,\"\"),\"\")","v":""},0,"",""]
[null,null,"着信音",null,null,null,null,null,null,null,null,null,"着信音"]
[null,null,"モード毎鳴動",null,null,null,null,null,null,null,null,null,"モード毎鳴動"]
[null,null,"着信拒否",null,null,null,null,null,null,null,null,null,"着信拒否"]
[null,null,"モード切替",null,null,null,null,null,null,null,null,null,"モード切替"]
[null,null,"留守応答",null,null,null,null,null,null,null,null,null,"留守応答"]
[]
[]
[null,null,null,null,null,null,null,null,null,null,null,null,null,null,null,null,null,null,null,null,null,null,"電話番号　利用可能Chを超える入力があるかチェック"]
[null,null,"内線No-33",null,{"$f":"IFERROR(IF(D580<>\"\",\"TEN\" & VLOOKUP(D580,内線種別!$I:$J,2,FALSE),\"\"),\"\")","v":""},null,null,null,null,null,null,null,"内線No-34",null,{"$f":"IFERROR(IF(N580<>\"\",\"TEN\" & VLOOKUP(N580,内線種別!$I:$J,2,FALSE),\"\"),\"\")","v":""},null,null,null,null,null,null,null,"電話番号","利用可能Ch","キ割_33領域","入力Over"]
[null,null,null,null,{"$f":"IFERROR(IF(D580<>\"\",VLOOKUP(D580,内線種別!$I:$K,3,FALSE),\"0\"),\"0\")","v":"0"},null,null,null,null,null,null,null,null,null,{"$f":"IFERROR(IF(N580<>\"\",VLOOKUP(N580,内線種別!$I:$K,3,FALSE),\"0\"),\"0\")","v":"0"},null,null,null,null,null,null,null,{"$f":"IFERROR(IF(L回線_電話番号_01<>\"\",L回線_電話番号_01,\"\"),\"\")","v":""},{"$f":"IFERROR(VLOOKUP(W581,ヒ基_電話番号,2,FALSE),\"\")","v":0},{"$f":"IF($W581<>\"\",COUNTIF(INDIRECT(Y$580),$W581),\"\")","v":""},{"$f":"IF(W581<>\"\",$X581<Y581,\"\")","v":""}]
[null,null,"LK",1,2,3,4,5,6,null,null,null,"LK",1,2,3,4,5,6,null,null,null,{"$f":"IFERROR(IF(L回線_電話番号_02<>\"\",L回線_電話番号_02,\"\"),\"\")","v":""},0,{"$f":"IF($W582<>\"\",COUNTIF(INDIRECT(Y$580),$W582),\"\")","v":""},""]
[null,null,"電話番号",null,null,null,null,null,null,null,null,null,"電話番号",null,null,null,null,null,null,null,null,null,{"$f":"IFERROR(IF(L回線_電話番号_03<>\"\",L回線_電話番号_03,\"\"),\"\")","v":""},0,"",""]
[null,null,"着信音",null,null,null,null,null,null,null,null,null,"着信音",null,null,null,null,null,null,null,null,null,{"$f":"IFERROR(IF(L回線_電話番号_04<>\"\",L回線_電話番号_04,\"\"),\"\")","v":""},0,"",""]
[null,null,"モード毎鳴動",null,null,null,null,null,null,null,null,null,"モード毎鳴動",null,null,null,null,null,null,null,null,null,{"$f":"IFERROR(IF(L回線_電話番号_05<>\"\",L回線_電話番号_05,\"\"),\"\")","v":""},0,"",""]
[null,null,"着信拒否",null,null,null,null,null,null,null,null,null,"着信拒否",null,null,null,null,null,null,null,null,null,{"$f":"IFERROR(IF(L回線_電話番号_06<>\"\",L回線_電話番号_06,\"\"),\"\")","v":""},0,"",""]
[null,null,"モード切替",null,null,null,null,null,null,null,null,null,"モード切替",null,null,null,null,null,null,null,null,null,{"$f":"IFERROR(IF(L回線_電話番号_07<>\"\",L回線_電話番号_07,\"\"),\"\")","v":""},0,"",""]
[null,null,"留守応答",null,null,null,null,null,null,null,null,null,"留守応答",null,null,null,null,null,null,null,null,null,{"$f":"IFERROR(IF(L回線_電話番号_08<>\"\",L回線_電話番号_08,\"\"),\"\")","v":""},0,"",""]
[null,null,null,null,null,null,null,null,null,null,null,null,null,null,null,null,null,null,null,null,null,null,{"$f":"IFERROR(IF(L回線_電話番号_09<>\"\",L回線_電話番号_09,\"\"),\"\")","v":""},0,"",""]
[null,null,"LK",7,8,9,10,11,12,null,null,null,"LK",7,8,9,10,11,12,null,null,null,{"$f":"IFERROR(IF(L回線_電話番号_10<>\"\",L回線_電話番号_10,\"\"),\"\")","v":""},0,"",""]
[null,null,"電話番号",null,null,null,null,null,null,null,null,null,"電話番号",null,null,null,null,null,null,null,null,null,{"$f":"IFERROR(IF(L回線_電話番号_11<>\"\",L回線_電話番号_11,\"\"),\"\")","v":""},0,"",""]
[null,null,"着信音",null,null,null,null,null,null,null,null,null,"着信音",null,null,null,null,null,null,null,null,null,{"$f":"IFERROR(IF(L回線_電話番号_12<>\"\",L回線_電話番号_12,\"\"),\"\")","v":""},0,"",""]
[null,null,"モード毎鳴動",null,null,null,null,null,null,null,null,null,"モード毎鳴動"]
[null,null,"着信拒否",null,null,null,null,null,null,null,null,null,"着信拒否",null,null,null,null,null,null,null,null,null,"電話番号　利用可能Chを超える入力があるかチェック"]
[null,null,"モード切替",null,null,null,null,null,null,null,null,null,"モード切替",null,null,null,null,null,null,null,null,null,"電話番号","利用可能Ch","キ割_34領域","入力Over"]
[null,null,"留守応答",null,null,null,null,null,null,null,null,null,"留守応答",null,null,null,null,null,null,null,null,null,{"$f":"IFERROR(IF(L回線_電話番号_01<>\"\",L回線_電話番号_01,\"\"),\"\")","v":""},{"$f":"IFERROR(VLOOKUP(W596,ヒ基_電話番号,2,FALSE),\"\")","v":0},{"$f":"IF($W596<>\"\",COUNTIF(INDIRECT(Y$595),$W596),\"\")","v":""},{"$f":"IF(W596<>\"\",$X596<Y596,\"\")","v":""}]
[null,null,null,null,null,null,null,null,null,null,null,null,null,null,null,null,null,null,null,null,null,null,{"$f":"IFERROR(IF(L回線_電話番号_02<>\"\",L回線_電話番号_02,\"\"),\"\")","v":""},0,{"$f":"IF($W597<>\"\",COUNTIF(INDIRECT(Y$595),$W597),\"\")","v":""},""]
[null,null,"LK",13,14,15,16,17,18,null,null,null,"LK",13,14,15,16,17,18,null,null,null,{"$f":"IFERROR(IF(L回線_電話番号_03<>\"\",L回線_電話番号_03,\"\"),\"\")","v":""},0,"",""]
[null,null,"電話番号",null,null,null,null,null,null,null,null,null,"電話番号",null,null,null,null,null,null,null,null,null,{"$f":"IFERROR(IF(L回線_電話番号_04<>\"\",L回線_電話番号_04,\"\"),\"\")","v":""},0,"",""]
[null,null,"着信音",null,null,null,null,null,null,null,null,null,"着信音",null,null,null,null,null,null,null,null,null,{"$f":"IFERROR(IF(L回線_電話番号_05<>\"\",L回線_電話番号_05,\"\"),\"\")","v":""},0,"",""]
[null,null,"モード毎鳴動",null,null,null,null,null,null,null,null,null,"モード毎鳴動",null,null,null,null,null,null,null,null,null,{"$f":"IFERROR(IF(L回線_電話番号_06<>\"\",L回線_電話番号_06,\"\"),\"\")","v":""},0,"",""]
[null,null,"着信拒否",null,null,null,null,null,null,null,null,null,"着信拒否",null,null,null,null,null,null,null,null,null,{"$f":"IFERROR(IF(L回線_電話番号_07<>\"\",L回線_電話番号_07,\"\"),\"\")","v":""},0,"",""]
[null,null,"モード切替",null,null,null,null,null,null,null,null,null,"モード切替",null,null,null,null,null,null,null,null,null,{"$f":"IFERROR(IF(L回線_電話番号_08<>\"\",L回線_電話番号_08,\"\"),\"\")","v":""},0,"",""]
[null,null,"留守応答",null,null,null,null,null,null,null,null,null,"留守応答",null,null,null,null,null,null,null,null,null,{"$f":"IFERROR(IF(L回線_電話番号_09<>\"\",L回線_電話番号_09,\"\"),\"\")","v":""},0,"",""]
[null,null,null,null,null,null,null,null,null,null,null,null,null,null,null,null,null,null,null,null,null,null,{"$f":"IFERROR(IF(L回線_電話番号_10<>\"\",L回線_電話番号_10,\"\"),\"\")","v":""},0,"",""]
[null,null,"LK",19,20,21,22,23,24,null,null,null,"LK",19,20,21,22,23,24,null,null,null,{"$f":"IFERROR(IF(L回線_電話番号_11<>\"\",L回線_電話番号_11,\"\"),\"\")","v":""},0,"",""]
[null,null,"電話番号",null,null,null,null,null,null,null,null,null,"電話番号",null,null,null,null,null,null,null,null,null,{"$f":"IFERROR(IF(L回線_電話番号_12<>\"\",L回線_電話番号_12,\"\"),\"\")","v":""},0,"",""]
[null,null,"着信音",null,null,null,null,null,null,null,null,null,"着信音"]
[null,null,"モード毎鳴動",null,null,null,null,null,null,null,null,null,"モード毎鳴動"]
[null,null,"着信拒否",null,null,null,null,null,null,null,null,null,"着信拒否"]
[null,null,"モード切替",null,null,null,null,null,null,null,null,null,"モード切替"]
[null,null,"留守応答",null,null,null,null,null,null,null,null,null,"留守応答"]
[]
[]
[null,null,null,null,null,null,null,null,null,null,null,null,null,null,null,null,null,null,null,null,null,null,"電話番号　利用可能Chを超える入力があるかチェック"]
[null,null,"内線No-35",null,{"$f":"IFERROR(IF(D616<>\"\",\"TEN\" & VLOOKUP(D616,内線種別!$I:$J,2,FALSE),\"\"),\"\")","v":""},null,null,null,null,null,null,null,"内線No-36",null,{"$f":"IFERROR(IF(N616<>\"\",\"TEN\" & VLOOKUP(N616,内線種別!$I:$J,2,FALSE),\"\"),\"\")","v":""},null,null,null,null,null,null,null,"電話番号","利用可能Ch","キ割_35領域","入力Over"]
[null,null,null,null,{"$f":"IFERROR(IF(D616<>\"\",VLOOKUP(D616,内線種別!$I:$K,3,FALSE),\"0\"),\"0\")","v":"0"},null,null,null,null,null,null,null,null,null,{"$f":"IFERROR(IF(N616<>\"\",VLOOKUP(N616,内線種別!$I:$K,3,FALSE),\"0\"),\"0\")","v":"0"},null,null,null,null,null,null,null,{"$f":"IFERROR(IF(L回線_電話番号_01<>\"\",L回線_電話番号_01,\"\"),\"\")","v":""},{"$f":"IFERROR(VLOOKUP(W617,ヒ基_電話番号,2,FALSE),\"\")","v":0},{"$f":"IF($W617<>\"\",COUNTIF(INDIRECT(Y$616),$W617),\"\")","v":""},{"$f":"IF(W617<>\"\",$X617<Y617,\"\")","v":""}]
[null,null,"LK",1,2,3,4,5,6,null,null,null,"LK",1,2,3,4,5,6,null,null,null,{"$f":"IFERROR(IF(L回線_電話番号_02<>\"\",L回線_電話番号_02,\"\"),\"\")","v":""},0,{"$f":"IF($W618<>\"\",COUNTIF(INDIRECT(Y$616),$W618),\"\")","v":""},""]
[null,null,"電話番号",null,null,null,null,null,null,null,null,null,"電話番号",null,null,null,null,null,null,null,null,null,{"$f":"IFERROR(IF(L回線_電話番号_03<>\"\",L回線_電話番号_03,\"\"),\"\")","v":""},0,"",""]
[null,null,"着信音",null,null,null,null,null,null,null,null,null,"着信音",null,null,null,null,null,null,null,null,null,{"$f":"IFERROR(IF(L回線_電話番号_04<>\"\",L回線_電話番号_04,\"\"),\"\")","v":""},0,"",""]
[null,null,"モード毎鳴動",null,null,null,null,null,null,null,null,null,"モード毎鳴動",null,null,null,null,null,null,null,null,null,{"$f":"IFERROR(IF(L回線_電話番号_05<>\"\",L回線_電話番号_05,\"\"),\"\")","v":""},0,"",""]
[null,null,"着信拒否",null,null,null,null,null,null,null,null,null,"着信拒否",null,null,null,null,null,null,null,null,null,{"$f":"IFERROR(IF(L回線_電話番号_06<>\"\",L回線_電話番号_06,\"\"),\"\")","v":""},0,"",""]
[null,null,"モード切替",null,null,null,null,null,null,null,null,null,"モード切替",null,null,null,null,null,null,null,null,null,{"$f":"IFERROR(IF(L回線_電話番号_07<>\"\",L回線_電話番号_07,\"\"),\"\")","v":""},0,"",""]
[null,null,"留守応答",null,null,null,null,null,null,null,null,null,"留守応答",null,null,null,null,null,null,null,null,null,{"$f":"IFERROR(IF(L回線_電話番号_08<>\"\",L回線_電話番号_08,\"\"),\"\")","v":""},0,"",""]
[null,null,null,null,null,null,null,null,null,null,null,null,null,null,null,null,null,null,null,null,null,null,{"$f":"IFERROR(IF(L回線_電話番号_09<>\"\",L回線_電話番号_09,\"\"),\"\")","v":""},0,"",""]
[null,null,"LK",7,8,9,10,11,12,null,null,null,"LK",7,8,9,10,11,12,null,null,null,{"$f":"IFERROR(IF(L回線_電話番号_10<>\"\",L回線_電話番号_10,\"\"),\"\")","v":""},0,"",""]
[null,null,"電話番号",null,null,null,null,null,null,null,null,null,"電話番号",null,null,null,null,null,null,null,null,null,{"$f":"IFERROR(IF(L回線_電話番号_11<>\"\",L回線_電話番号_11,\"\"),\"\")","v":""},0,"",""]
[null,null,"着信音",null,null,null,null,null,null,null,null,null,"着信音",null,null,null,null,null,null,null,null,null,{"$f":"IFERROR(IF(L回線_電話番号_12<>\"\",L回線_電話番号_12,\"\"),\"\")","v":""},0,"",""]
[null,null,"モード毎鳴動",null,null,null,null,null,null,null,null,null,"モード毎鳴動"]
[null,null,"着信拒否",null,null,null,null,null,null,null,null,null,"着信拒否",null,null,null,null,null,null,null,null,null,"電話番号　利用可能Chを超える入力があるかチェック"]
[null,null,"モード切替",null,null,null,null,null,null,null,null,null,"モード切替",null,null,null,null,null,null,null,null,null,"電話番号","利用可能Ch","キ割_36領域","入力Over"]
[null,null,"留守応答",null,null,null,null,null,null,null,null,null,"留守応答",null,null,null,null,null,null,null,null,null,{"$f":"IFERROR(IF(L回線_電話番号_01<>\"\",L回線_電話番号_01,\"\"),\"\")","v":""},{"$f":"IFERROR(VLOOKUP(W632,ヒ基_電話番号,2,FALSE),\"\")","v":0},{"$f":"IF($W632<>\"\",COUNTIF(INDIRECT(Y$631),$W632),\"\")","v":""},{"$f":"IF(W632<>\"\",$X632<Y632,\"\")","v":""}]
[null,null,null,null,null,null,null,null,null,null,null,null,null,null,null,null,null,null,null,null,null,null,{"$f":"IFERROR(IF(L回線_電話番号_02<>\"\",L回線_電話番号_02,\"\"),\"\")","v":""},0,{"$f":"IF($W633<>\"\",COUNTIF(INDIRECT(Y$631),$W633),\"\")","v":""},""]
[null,null,"LK",13,14,15,16,17,18,null,null,null,"LK",13,14,15,16,17,18,null,null,null,{"$f":"IFERROR(IF(L回線_電話番号_03<>\"\",L回線_電話番号_03,\"\"),\"\")","v":""},0,"",""]
[null,null,"電話番号",null,null,null,null,null,null,null,null,null,"電話番号",null,null,null,null,null,null,null,null,null,{"$f":"IFERROR(IF(L回線_電話番号_04<>\"\",L回線_電話番号_04,\"\"),\"\")","v":""},0,"",""]
[null,null,"着信音",null,null,null,null,null,null,null,null,null,"着信音",null,null,null,null,null,null,null,null,null,{"$f":"IFERROR(IF(L回線_電話番号_05<>\"\",L回線_電話番号_05,\"\"),\"\")","v":""},0,"",""]
[null,null,"モード毎鳴動",null,null,null,null,null,null,null,null,null,"モード毎鳴動",null,null,null,null,null,null,null,null,null,{"$f":"IFERROR(IF(L回線_電話番号_06<>\"\",L回線_電話番号_06,\"\"),\"\")","v":""},0,"",""]
[null,null,"着信拒否",null,null,null,null,null,null,null,null,null,"着信拒否",null,null,null,null,null,null,null,null,null,{"$f":"IFERROR(IF(L回線_電話番号_07<>\"\",L回線_電話番号_07,\"\"),\"\")","v":""},0,"",""]
[null,null,"モード切替",null,null,null,null,null,null,null,null,null,"モード切替",null,null,null,null,null,null,null,null,null,{"$f":"IFERROR(IF(L回線_電話番号_08<>\"\",L回線_電話番号_08,\"\"),\"\")","v":""},0,"",""]
[null,null,"留守応答",null,null,null,null,null,null,null,null,null,"留守応答",null,null,null,null,null,null,null,null,null,{"$f":"IFERROR(IF(L回線_電話番号_09<>\"\",L回線_電話番号_09,\"\"),\"\")","v":""},0,"",""]
[null,null,null,null,null,null,null,null,null,null,null,null,null,null,null,null,null,null,null,null,null,null,{"$f":"IFERROR(IF(L回線_電話番号_10<>\"\",L回線_電話番号_10,\"\"),\"\")","v":""},0,"",""]
[null,null,"LK",19,20,21,22,23,24,null,null,null,"LK",19,20,21,22,23,24,null,null,null,{"$f":"IFERROR(IF(L回線_電話番号_11<>\"\",L回線_電話番号_11,\"\"),\"\")","v":""},0,"",""]
[null,null,"電話番号",null,null,null,null,null,null,null,null,null,"電話番号",null,null,null,null,null,null,null,null,null,{"$f":"IFERROR(IF(L回線_電話番号_12<>\"\",L回線_電話番号_12,\"\"),\"\")","v":""},0,"",""]
[null,null,"着信音",null,null,null,null,null,null,null,null,null,"着信音"]
[null,null,"モード毎鳴動",null,null,null,null,null,null,null,null,null,"モード毎鳴動"]
[null,null,"着信拒否",null,null,null,null,null,null,null,null,null,"着信拒否"]
[null,null,"モード切替",null,null,null,null,null,null,null,null,null,"モード切替"]
[null,null,"留守応答",null,null,null,null,null,null,null,null,null,"留守応答"]
[]
[]
[null,null,null,null,null,null,null,null,null,null,null,null,null,null,null,null,null,null,null,null,null,null,"電話番号　利用可能Chを超える入力があるかチェック"]
[null,null,"内線No-37",null,{"$f":"IFERROR(IF(D652<>\"\",\"TEN\" & VLOOKUP(D652,内線種別!$I:$J,2,FALSE),\"\"),\"\")","v":""},null,null,null,null,null,null,null,"内線No-38",null,{"$f":"IFERROR(IF(N652<>\"\",\"TEN\" & VLOOKUP(N652,内線種別!$I:$J,2,FALSE),\"\"),\"\")","v":""},null,null,null,null,null,null,null,"電話番号","利用可能Ch","キ割_37領域","入力Over"]
[null,null,null,null,{"$f":"IFERROR(IF(D652<>\"\",VLOOKUP(D652,内線種別!$I:$K,3,FALSE),\"0\"),\"0\")","v":"0"},null,null,null,null,null,null,null,null,null,{"$f":"IFERROR(IF(N652<>\"\",VLOOKUP(N652,内線種別!$I:$K,3,FALSE),\"0\"),\"0\")","v":"0"},null,null,null,null,null,null,null,{"$f":"IFERROR(IF(L回線_電話番号_01<>\"\",L回線_電話番号_01,\"\"),\"\")","v":""},{"$f":"IFERROR(VLOOKUP(W653,ヒ基_電話番号,2,FALSE),\"\")","v":0},{"$f":"IF($W653<>\"\",COUNTIF(INDIRECT(Y$652),$W653),\"\")","v":""},{"$f":"IF(W653<>\"\",$X653<Y653,\"\")","v":""}]
[null,null,"LK",1,2,3,4,5,6,null,null,null,"LK",1,2,3,4,5,6,null,null,null,{"$f":"IFERROR(IF(L回線_電話番号_02<>\"\",L回線_電話番号_02,\"\"),\"\")","v":""},0,{"$f":"IF($W654<>\"\",COUNTIF(INDIRECT(Y$652),$W654),\"\")","v":""},""]
[null,null,"電話番号",null,null,null,null,null,null,null,null,null,"電話番号",null,null,null,null,null,null,null,null,null,{"$f":"IFERROR(IF(L回線_電話番号_03<>\"\",L回線_電話番号_03,\"\"),\"\")","v":""},0,"",""]
[null,null,"着信音",null,null,null,null,null,null,null,null,null,"着信音",null,null,null,null,null,null,null,null,null,{"$f":"IFERROR(IF(L回線_電話番号_04<>\"\",L回線_電話番号_04,\"\"),\"\")","v":""},0,"",""]
[null,null,"モード毎鳴動",null,null,null,null,null,null,null,null,null,"モード毎鳴動",null,null,null,null,null,null,null,null,null,{"$f":"IFERROR(IF(L回線_電話番号_05<>\"\",L回線_電話番号_05,\"\"),\"\")","v":""},0,"",""]
[null,null,"着信拒否",null,null,null,null,null,null,null,null,null,"着信拒否",null,null,null,null,null,null,null,null,null,{"$f":"IFERROR(IF(L回線_電話番号_06<>\"\",L回線_電話番号_06,\"\"),\"\")","v":""},0,"",""]
[null,null,"モード切替",null,null,null,null,null,null,null,null,null,"モード切替",null,null,null,null,null,null,null,null,null,{"$f":"IFERROR(IF(L回線_電話番号_07<>\"\",L回線_電話番号_07,\"\"),\"\")","v":""},0,"",""]
[null,null,"留守応答",null,null,null,null,null,null,null,null,null,"留守応答",null,null,null,null,null,null,null,null,null,{"$f":"IFERROR(IF(L回線_電話番号_08<>\"\",L回線_電話番号_08,\"\"),\"\")","v":""},0,"",""]
[null,null,null,null,null,null,null,null,null,null,null,null,null,null,null,null,null,null,null,null,null,null,{"$f":"IFERROR(IF(L回線_電話番号_09<>\"\",L回線_電話番号_09,\"\"),\"\")","v":""},0,"",""]
[null,null,"LK",7,8,9,10,11,12,null,null,null,"LK",7,8,9,10,11,12,null,null,null,{"$f":"IFERROR(IF(L回線_電話番号_10<>\"\",L回線_電話番号_10,\"\"),\"\")","v":""},0,"",""]
[null,null,"電話番号",null,null,null,null,null,null,null,null,null,"電話番号",null,null,null,null,null,null,null,null,null,{"$f":"IFERROR(IF(L回線_電話番号_11<>\"\",L回線_電話番号_11,\"\"),\"\")","v":""},0,"",""]
[null,null,"着信音",null,null,null,null,null,null,null,null,null,"着信音",null,null,null,null,null,null,null,null,null,{"$f":"IFERROR(IF(L回線_電話番号_12<>\"\",L回線_電話番号_12,\"\"),\"\")","v":""},0,"",""]
[null,null,"モード毎鳴動",null,null,null,null,null,null,null,null,null,"モード毎鳴動"]
[null,null,"着信拒否",null,null,null,null,null,null,null,null,null,"着信拒否",null,null,null,null,null,null,null,null,null,"電話番号　利用可能Chを超える入力があるかチェック"]
[null,null,"モード切替",null,null,null,null,null,null,null,null,null,"モード切替",null,null,null,null,null,null,null,null,null,"電話番号","利用可能Ch","キ割_38領域","入力Over"]
[null,null,"留守応答",null,null,null,null,null,null,null,null,null,"留守応答",null,null,null,null,null,null,null,null,null,{"$f":"IFERROR(IF(L回線_電話番号_01<>\"\",L回線_電話番号_01,\"\"),\"\")","v":""},{"$f":"IFERROR(VLOOKUP(W668,ヒ基_電話番号,2,FALSE),\"\")","v":0},{"$f":"IF($W668<>\"\",COUNTIF(INDIRECT(Y$667),$W668),\"\")","v":""},{"$f":"IF(W668<>\"\",$X668<Y668,\"\")","v":""}]
[null,null,null,null,null,null,null,null,null,null,null,null,null,null,null,null,null,null,null,null,null,null,{"$f":"IFERROR(IF(L回線_電話番号_02<>\"\",L回線_電話番号_02,\"\"),\"\")","v":""},0,{"$f":"IF($W669<>\"\",COUNTIF(INDIRECT(Y$667),$W669),\"\")","v":""},""]
[null,null,"LK",13,14,15,16,17,18,null,null,null,"LK",13,14,15,16,17,18,null,null,null,{"$f":"IFERROR(IF(L回線_電話番号_03<>\"\",L回線_電話番号_03,\"\"),\"\")","v":""},0,"",""]
[null,null,"電話番号",null,null,null,null,null,null,null,null,null,"電話番号",null,null,null,null,null,null,null,null,null,{"$f":"IFERROR(IF(L回線_電話番号_04<>\"\",L回線_電話番号_04,\"\"),\"\")","v":""},0,"",""]
[null,null,"着信音",null,null,null,null,null,null,null,null,null,"着信音",null,null,null,null,null,null,null,null,null,{"$f":"IFERROR(IF(L回線_電話番号_05<>\"\",L回線_電話番号_05,\"\"),\"\")","v":""},0,"",""]
[null,null,"モード毎鳴動",null,null,null,null,null,null,null,null,null,"モード毎鳴動",null,null,null,null,null,null,null,null,null,{"$f":"IFERROR(IF(L回線_電話番号_06<>\"\",L回線_電話番号_06,\"\"),\"\")","v":""},0,"",""]
[null,null,"着信拒否",null,null,null,null,null,null,null,null,null,"着信拒否",null,null,null,null,null,null,null,null,null,{"$f":"IFERROR(IF(L回線_電話番号_07<>\"\",L回線_電話番号_07,\"\"),\"\")","v":""},0,"",""]
[null,null,"モード切替",null,null,null,null,null,null,null,null,null,"モード切替",null,null,null,null,null,null,null,null,null,{"$f":"IFERROR(IF(L回線_電話番号_08<>\"\",L回線_電話番号_08,\"\"),\"\")","v":""},0,"",""]
[null,null,"留守応答",null,null,null,null,null,null,null,null,null,"留守応答",null,null,null,null,null,null,null,null,null,{"$f":"IFERROR(IF(L回線_電話番号_09<>\"\",L回線_電話番号_09,\"\"),\"\")","v":""},0,"",""]
[null,null,null,null,null,null,null,null,null,null,null,null,null,null,null,null,null,null,null,null,null,null,{"$f":"IFERROR(IF(L回線_電話番号_10<>\"\",L回線_電話番号_10,\"\"),\"\")","v":""},0,"",""]
[null,null,"LK",19,20,21,22,23,24,null,null,null,"LK",19,20,21,22,23,24,null,null,null,{"$f":"IFERROR(IF(L回線_電話番号_11<>\"\",L回線_電話番号_11,\"\"),\"\")","v":""},0,"",""]
[null,null,"電話番号",null,null,null,null,null,null,null,null,null,"電話番号",null,null,null,null,null,null,null,null,null,{"$f":"IFERROR(IF(L回線_電話番号_12<>\"\",L回線_電話番号_12,\"\"),\"\")","v":""},0,"",""]
[null,null,"着信音",null,null,null,null,null,null,null,null,null,"着信音"]
[null,null,"モード毎鳴動",null,null,null,null,null,null,null,null,null,"モード毎鳴動"]
[null,null,"着信拒否",null,null,null,null,null,null,null,null,null,"着信拒否"]
[null,null,"モード切替",null,null,null,null,null,null,null,null,null,"モード切替"]
[null,null,"留守応答",null,null,null,null,null,null,null,null,null,"留守応答"]
[]
[]
[null,null,null,null,null,null,null,null,null,null,null,null,null,null,null,null,null,null,null,null,null,null,"電話番号　利用可能Chを超える入力があるかチェック"]
[null,null,"内線No-39",null,{"$f":"IFERROR(IF(D688<>\"\",\"TEN\" & VLOOKUP(D688,内線種別!$I:$J,2,FALSE),\"\"),\"\")","v":""},null,null,null,null,null,null,null,"内線No-40",null,{"$f":"IFERROR(IF(N688<>\"\",\"TEN\" & VLOOKUP(N688,内線種別!$I:$J,2,FALSE),\"\"),\"\")","v":""},null,null,null,null,null,null,null,"電話番号","利用可能Ch","キ割_39領域","入力Over"]
[null,null,null,null,{"$f":"IFERROR(IF(D688<>\"\",VLOOKUP(D688,内線種別!$I:$K,3,FALSE),\"0\"),\"0\")","v":"0"},null,null,null,null,null,null,null,null,null,{"$f":"IFERROR(IF(N688<>\"\",VLOOKUP(N688,内線種別!$I:$K,3,FALSE),\"0\"),\"0\")","v":"0"},null,null,null,null,null,null,null,{"$f":"IFERROR(IF(L回線_電話番号_01<>\"\",L回線_電話番号_01,\"\"),\"\")","v":""},{"$f":"IFERROR(VLOOKUP(W689,ヒ基_電話番号,2,FALSE),\"\")","v":0},{"$f":"IF($W689<>\"\",COUNTIF(INDIRECT(Y$688),$W689),\"\")","v":""},{"$f":"IF(W689<>\"\",$X689<Y689,\"\")","v":""}]
[null,null,"LK",1,2,3,4,5,6,null,null,null,"LK",1,2,3,4,5,6,null,null,null,{"$f":"IFERROR(IF(L回線_電話番号_02<>\"\",L回線_電話番号_02,\"\"),\"\")","v":""},0,{"$f":"IF($W690<>\"\",COUNTIF(INDIRECT(Y$688),$W690),\"\")","v":""},""]
[null,null,"電話番号",null,null,null,null,null,null,null,null,null,"電話番号",null,null,null,null,null,null,null,null,null,{"$f":"IFERROR(IF(L回線_電話番号_03<>\"\",L回線_電話番号_03,\"\"),\"\")","v":""},0,"",""]
[null,null,"着信音",null,null,null,null,null,null,null,null,null,"着信音",null,null,null,null,null,null,null,null,null,{"$f":"IFERROR(IF(L回線_電話番号_04<>\"\",L回線_電話番号_04,\"\"),\"\")","v":""},0,"",""]
[null,null,"モード毎鳴動",null,null,null,null,null,null,null,null,null,"モード毎鳴動",null,null,null,null,null,null,null,null,null,{"$f":"IFERROR(IF(L回線_電話番号_05<>\"\",L回線_電話番号_05,\"\"),\"\")","v":""},0,"",""]
[null,null,"着信拒否",null,null,null,null,null,null,null,null,null,"着信拒否",null,null,null,null,null,null,null,null,null,{"$f":"IFERROR(IF(L回線_電話番号_06<>\"\",L回線_電話番号_06,\"\"),\"\")","v":""},0,"",""]
[null,null,"モード切替",null,null,null,null,null,null,null,null,null,"モード切替",null,null,null,null,null,null,null,null,null,{"$f":"IFERROR(IF(L回線_電話番号_07<>\"\",L回線_電話番号_07,\"\"),\"\")","v":""},0,"",""]
[null,null,"留守応答",null,null,null,null,null,null,null,null,null,"留守応答",null,null,null,null,null,null,null,null,null,{"$f":"IFERROR(IF(L回線_電話番号_08<>\"\",L回線_電話番号_08,\"\"),\"\")","v":""},0,"",""]
[null,null,null,null,null,null,null,null,null,null,null,null,null,null,null,null,null,null,null,null,null,null,{"$f":"IFERROR(IF(L回線_電話番号_09<>\"\",L回線_電話番号_09,\"\"),\"\")","v":""},0,"",""]
[null,null,"LK",7,8,9,10,11,12,null,null,null,"LK",7,8,9,10,11,12,null,null,null,{"$f":"IFERROR(IF(L回線_電話番号_10<>\"\",L回線_電話番号_10,\"\"),\"\")","v":""},0,"",""]
[null,null,"電話番号",null,null,null,null,null,null,null,null,null,"電話番号",null,null,null,null,null,null,null,null,null,{"$f":"IFERROR(IF(L回線_電話番号_11<>\"\",L回線_電話番号_11,\"\"),\"\")","v":""},0,"",""]
[null,null,"着信音",null,null,null,null,null,null,null,null,null,"着信音",null,null,null,null,null,null,null,null,null,{"$f":"IFERROR(IF(L回線_電話番号_12<>\"\",L回線_電話番号_12,\"\"),\"\")","v":""},0,"",""]
[null,null,"モード毎鳴動",null,null,null,null,null,null,null,null,null,"モード毎鳴動"]
[null,null,"着信拒否",null,null,null,null,null,null,null,null,null,"着信拒否",null,null,null,null,null,null,null,null,null,"電話番号　利用可能Chを超える入力があるかチェック"]
[null,null,"モード切替",null,null,null,null,null,null,null,null,null,"モード切替",null,null,null,null,null,null,null,null,null,"電話番号","利用可能Ch","キ割_40領域","入力Over"]
[null,null,"留守応答",null,null,null,null,null,null,null,null,null,"留守応答",null,null,null,null,null,null,null,null,null,{"$f":"IFERROR(IF(L回線_電話番号_01<>\"\",L回線_電話番号_01,\"\"),\"\")","v":""},{"$f":"IFERROR(VLOOKUP(W704,ヒ基_電話番号,2,FALSE),\"\")","v":0},{"$f":"IF($W704<>\"\",COUNTIF(INDIRECT(Y$703),$W704),\"\")","v":""},{"$f":"IF(W704<>\"\",$X704<Y704,\"\")","v":""}]
[null,null,null,null,null,null,null,null,null,null,null,null,null,null,null,null,null,null,null,null,null,null,{"$f":"IFERROR(IF(L回線_電話番号_02<>\"\",L回線_電話番号_02,\"\"),\"\")","v":""},0,{"$f":"IF($W705<>\"\",COUNTIF(INDIRECT(Y$703),$W705),\"\")","v":""},""]
[null,null,"LK",13,14,15,16,17,18,null,null,null,"LK",13,14,15,16,17,18,null,null,null,{"$f":"IFERROR(IF(L回線_電話番号_03<>\"\",L回線_電話番号_03,\"\"),\"\")","v":""},0,"",""]
[null,null,"電話番号",null,null,null,null,null,null,null,null,null,"電話番号",null,null,null,null,null,null,null,null,null,{"$f":"IFERROR(IF(L回線_電話番号_04<>\"\",L回線_電話番号_04,\"\"),\"\")","v":""},0,"",""]
[null,null,"着信音",null,null,null,null,null,null,null,null,null,"着信音",null,null,null,null,null,null,null,null,null,{"$f":"IFERROR(IF(L回線_電話番号_05<>\"\",L回線_電話番号_05,\"\"),\"\")","v":""},0,"",""]
[null,null,"モード毎鳴動",null,null,null,null,null,null,null,null,null,"モード毎鳴動",null,null,null,null,null,null,null,null,null,{"$f":"IFERROR(IF(L回線_電話番号_06<>\"\",L回線_電話番号_06,\"\"),\"\")","v":""},0,"",""]
[null,null,"着信拒否",null,null,null,null,null,null,null,null,null,"着信拒否",null,null,null,null,null,null,null,null,null,{"$f":"IFERROR(IF(L回線_電話番号_07<>\"\",L回線_電話番号_07,\"\"),\"\")","v":""},0,"",""]
[null,null,"モード切替",null,null,null,null,null,null,null,null,null,"モード切替",null,null,null,null,null,null,null,null,null,{"$f":"IFERROR(IF(L回線_電話番号_08<>\"\",L回線_電話番号_08,\"\"),\"\")","v":""},0,"",""]
[null,null,"留守応答",null,null,null,null,null,null,null,null,null,"留守応答",null,null,null,null,null,null,null,null,null,{"$f":"IFERROR(IF(L回線_電話番号_09<>\"\",L回線_電話番号_09,\"\"),\"\")","v":""},0,"",""]
[null,null,null,null,null,null,null,null,null,null,null,null,null,null,null,null,null,null,null,null,null,null,{"$f":"IFERROR(IF(L回線_電話番号_10<>\"\",L回線_電話番号_10,\"\"),\"\")","v":""},0,"",""]
[null,null,"LK",19,20,21,22,23,24,null,null,null,"LK",19,20,21,22,23,24,null,null,null,{"$f":"IFERROR(IF(L回線_電話番号_11<>\"\",L回線_電話番号_11,\"\"),\"\")","v":""},0,"",""]
[null,null,"電話番号",null,null,null,null,null,null,null,null,null,"電話番号",null,null,null,null,null,null,null,null,null,{"$f":"IFERROR(IF(L回線_電話番号_12<>\"\",L回線_電話番号_12,\"\"),\"\")","v":""},0,"",""]
[null,null,"着信音",null,null,null,null,null,null,null,null,null,"着信音"]
[null,null,"モード毎鳴動",null,null,null,null,null,null,null,null,null,"モード毎鳴動"]
[null,null,"着信拒否",null,null,null,null,null,null,null,null,null,"着信拒否"]
[null,null,"モード切替",null,null,null,null,null,null,null,null,null,"モード切替"]
[null,null,"留守応答",null,null,null,null,null,null,null,null,null,"留守応答"]

{"sheet":"ﾋｱﾘﾝｸﾞｼｰﾄ(着信拒否)","index":11,"n_rows":54,"n_cols":11,"rows_kept":54,"cut":false,"hidden":false,"merged":[[37,7,38,7],[34,1,34,6],[35,1,35,6],[37,4,38,6],[3,1,3,4],[4,1,4,4],[10,1,10,6],[11,1,11,6],[20,4,22,6],[20,7,22,7],[13,1,14,1],[13,2,14,2],[50,4,52,6],[50,7,52,7],[53,8,53,10],[13,4,14,6],[13,7,14,7],[17,1,17,6],[18,1,18,6],[23,8,23,10],[41,1,41,6],[42,1,42,6],[44,4,45,6],[44,7,45,7],[26,1,26,6],[30,4,31,6],[30,7,31,7],[27,1,28,6]]}
["ZXⅡSlim　ヒアリングシート"]
[]
["ご契約の確認"]
[null,"オフィスAまたは\nナンバーディスプレイ契約の有無"]
[]
[]
[]
[]
["着信拒否（着信拒否設定は、FAXポートは対象外。またご利用にはオフィスA、またはナンバーディスプレイの契約が必要です。）"]
[]
[null,"迷惑電話番号リストによる着信拒否（要ライセンス）"]
[null,"迷惑電話リストをトビラシステムズのサーバーから毎日更新可能とするライセンスの登録"]
[]
[null,"要望\n有無",null,null,"ライセンスキー情報",null,null,"⇒","ソフトウェアキーコード","認証コード","機能コード"]
[]
[null,null,null,null,null,null,null,null,"※レンタルの場合は投入不要"]
[]
[null,"国番号識別による着信拒否"]
[null,"かけてきた国番号により着信を拒否する機能"]
[null,null,null,null,null,null,null,null,1,2,3]
[null,null,null,null,"着信拒否する国番号\n（010+国番号）",null,null,"⇒"]
[null,null,null,null,null,null,null,null,4,5,6]
[]
[null,null,null,null,null,null,null,null,"※国番号を７番号以上登録する場合は調書を直接編集してください（最大40番号登録可能）"]
[]
[]
[null,"電話帳着信拒否グループによる着信拒否"]
[null,"電話帳に拒否したい電話番号を登録して着信拒否グループに所属させる操作をワンタッチで実施できるボタンを配置する",null,null,null,null,null,null,"４台以上の内線に割付ける場合は直接調書を編集してください"]
[null,null,null,null,null,null,null,null,"内線番号","内線番号","内線番号"]
[]
[null,null,null,null,"着信拒否ボタンの\n割付位置",null,null,"⇒","24キーのLK番号","24キーのLK番号","24キーのLK番号"]
[]
[]
[]
[null,"着信拒否時のガイダンス送出"]
[null,"着信拒否時に掛けてきた相手に対し話中音（BT）\n返しとするかガイダンスを送出するかを選択する\n（非通知着信拒否時のガイダンス送出は別項目）"]
[]
[null,null,null,null,"着信拒否時のガイダンス",null,null,"⇒","着信拒否時にガイダンスを送出する"]
[]
[]
[]
[null,"非通知着信拒否"]
[null,"非通知でかけてきた着信を拒否する機能\nまた、非通知でかかってきた場合でも着信を受けたい番号を登録可能"]
[]
[null,null,null,null,"非通知着信拒否",null,null,"⇒","非通知着信拒否を行う","着信拒否時にガイダンスを送出する"]
[]
[null,null,null,null,null,null,null,null,"※ガイダンスを送出しない場合は話し中（ビジ―トーン）となります。"]
[null,null,null,null,null,null,null,null,"※ガイダンス送出内容「電話番号の前に186をつけてダイヤルするなど、あなたの電話番号を通知してお掛け直しください」"]
[]
[null,null,null,null,null,null,null,null,1,2,3]
[null,null,null,null,"非通知着信拒否しない\n電話番号（自番号）",null,null,"⇒",""]
[null,null,null,null,null,null,null,null,4,5,6]
[]
[null,null,null,null,null,null,null,null,"※電話番号を７番号以上登録する場合は調書を直接編集してください（最大20番号登録可能）"]

{"sheet":"ﾋｱﾘﾝｸﾞｼｰﾄ(ﾓｰﾄﾞ切替・留守応答)","index":12,"n_rows":82,"n_cols":16,"rows_kept":82,"cut":false,"hidden":false,"merged":[[63,9,64,9],[15,4,16,6],[15,7,16,7],[46,15,47,15],[38,8,38,12],[61,11,62,11],[53,13,54,13],[55,13,56,13],[57,13,58,13],[59,13,60,13],[61,13,62,13],[57,9,58,9],[59,9,60,9],[61,9,62,9],[49,15,50,15],[55,9,56,9],[69,4,70,6],[69,7,70,7],[49,12,49,13],[65,9,66,9],[51,11,52,11],[53,11,54,11],[55,11,56,11],[57,11,58,11],[59,11,60,11],[51,13,52,13],[49,10,49,11],[63,11,64,11],[65,11,66,11],[63,13,64,13],[65,13,66,13],[53,9,54,9],[47,9,47,10],[49,4,50,6],[30,8,32,11],[29,4,30,6],[29,7,30,7],[3,1,3,6],[4,1,4,6],[51,9,52,9],[6,4,9,6],[8,7,9,7],[46,1,46,6],[37,1,37,6],[38,1,38,6],[40,4,43,6],[40,7,43,7],[12,1,12,6],[13,1,13,6],[13,8,13,9],[49,7,50,7],[49,8,49,9],[47,1,47,6]]}
["ZXⅡSlim　ヒアリングシート"]
[]
["留守応答"]
[null,"留守応答（手動）"]
[null,"電話機のボタンに留守応答セット用のボタンを設定し\n手動で留守応答を行う場合に使用\n※留守応答する電話番号（キー）はお客様にて設定"]
[]
[null,null,null,null,"留守応答ボタン\nの割付位置",null,null,null,"内線番号",null,"内線番号",null,"内線番号"]
[]
[null,null,null,null,null,null,null,"⇒","24キーのLK番号",null,"24キーのLK番号",null,"24キーのLK番号"]
[]
[null,null,null,null,null,null,null,null,"※初期は電話機キーの18番目に割り当てられております。ご指定のキーに変更が可能です。"]
[]
[null,"留守応答（自動）"]
[null,"夜間モード時に留守応答とする電話番号を選択\nシステムモード設定にて手動、自動で夜間となった場合に該当する電話番号は留守応答となる",null,null,null,null,null,null,"※夜間を鳴動としていても留守応答が優先されるので注意が必要\n↓"]
[]
[null,null,null,null,"夜間モード時に\n留守応答する回線の指定",null,null,"⇒","電話番号","留守対象"]
[null,null,null,null,null,null,null,null,{"$f":"IFERROR(IF(L回線_電話番号_01<>\"\",L回線_電話番号_01,\"\"),\"\")","v":""}]
[null,null,null,null,null,null,null,null,{"$f":"IFERROR(IF(L回線_電話番号_02<>\"\",L回線_電話番号_02,\"\"),\"\")","v":""}]
[null,null,null,null,null,null,null,null,{"$f":"IFERROR(IF(L回線_電話番号_03<>\"\",L回線_電話番号_03,\"\"),\"\")","v":""}]
[null,null,null,null,null,null,null,null,{"$f":"IFERROR(IF(L回線_電話番号_04<>\"\",L回線_電話番号_04,\"\"),\"\")","v":""}]
[null,null,null,null,null,null,null,null,{"$f":"IFERROR(IF(L回線_電話番号_05<>\"\",L回線_電話番号_05,\"\"),\"\")","v":""}]
[null,null,null,null,null,null,null,null,{"$f":"IFERROR(IF(L回線_電話番号_06<>\"\",L回線_電話番号_06,\"\"),\"\")","v":""}]
[null,null,null,null,null,null,null,null,{"$f":"IFERROR(IF(L回線_電話番号_07<>\"\",L回線_電話番号_07,\"\"),\"\")","v":""}]
[null,null,null,null,null,null,null,null,{"$f":"IFERROR(IF(L回線_電話番号_08<>\"\",L回線_電話番号_08,\"\"),\"\")","v":""}]
[null,null,null,null,null,null,null,null,{"$f":"IFERROR(IF(L回線_電話番号_09<>\"\",L回線_電話番号_09,\"\"),\"\")","v":""}]
[null,null,null,null,null,null,null,null,{"$f":"IFERROR(IF(L回線_電話番号_10<>\"\",L回線_電話番号_10,\"\"),\"\")","v":""}]
[null,null,null,null,null,null,null,null,{"$f":"IFERROR(IF(L回線_電話番号_11<>\"\",L回線_電話番号_11,\"\"),\"\")","v":""}]
[null,null,null,null,null,null,null,null,{"$f":"IFERROR(IF(L回線_電話番号_12<>\"\",L回線_電話番号_12,\"\"),\"\")","v":""}]
[]
[null,null,null,null,"特定日（休日）の\n留守応答可否選択",null,null,"⇒","特定日（休日）"]
[null,null,null,null,null,null,null,null,"※チェックを入れると特定日（休日）は留守応答になります\n   留守応答する番号は夜間モード時の留守対象番号と同じです"]
[]
[]
[]
[]
["システムモード切替"]
[]
[null,"手動切替"]
[null,"電話機のボタンにシステムモード切替用のボタンを設定し手動でモード切替を行う場合に使用",null,null,null,null,null,null,"2台以上に割付ける場合は直接調書を編集\n　※モード変更時に複数の電話機で実施すると混乱を招くことも想定されるので\n　　割付ける内線はある程度数を絞って割付けることをお勧めします"]
[]
[null,null,null,null,"システムモード切替\nボタンの割付位置",null,null,"⇒","内線番号",null,"内線番号"]
[]
[null,null,null,null,null,null,null,null,"キー(LK)の番号",null,"キー(LK)の番号"]
[]
[]
[]
[null,"自動切替",null,null,null,null,null,null,null,null,null,null,null,null,null,"特定日とした場合は鳴動なし\n10月23日の場合半角で「10/23」と入力してください\n↓"]
[null,"システムモードの切替を自動で行う場合に切替時刻パターンを設定し、曜日毎に切替パターンを選択\nまた、特定日を指定し休日扱いとすることができる",null,null,null,null,null,null,null,"土日とも同じパターンの場合は右記「✓」登録。PT2のみに時間を記入\n　　　　　　　　　　　　　　↓"]
[]
[null,null,null,null,"システムモード\n切替パターン",null,null,"⇒","PT1",null,"PT2",null,"PT3",null,null,"特定日（休日）の指定"]
[null,null,null,null,null,null,null,null,"月～金の切替パターン","モード","土曜日の切替パターン","モード","日曜日の切替パターン","モード"]
[]
[null,null,null,null,null,null,null,null,"～",null,"～",null,"～"]
[]
[null,null,null,null,null,null,null,null,"～",null,"～",null,"～"]
[]
[null,null,null,null,null,null,null,null,"～",null,"～",null,"～"]
[]
[null,null,null,null,null,null,null,null,"～",null,"～",null,"～"]
[]
[null,null,null,null,null,null,null,null,"～",null,"～",null,"～"]
[]
[null,null,null,null,null,null,null,null,"～",null,"～",null,"～"]
[]
[null,null,null,null,null,null,null,null,"～",null,"～",null,"～"]
[]
[null,null,null,null,null,null,null,null,"～",null,"～",null,"～"]
[null,null,null,null,null,null,null,null,"※上記の切替時刻3パターン以上にパターンを設けたい場合は調書を直接編集してください",null,null,null,null,null,null,"特定日が16日以上ある場合は調書を直接編集してください"]
[]
[null,null,null,null,"システムモード毎の\n鳴動指定",null,null,"⇒","電話番号","鳴動"]
[null,null,null,null,null,null,null,null,{"$f":"IFERROR(IF(L回線_電話番号_01<>\"\",L回線_電話番号_01,\"\"),\"\")","v":""},"昼夜休憩"]
[null,null,null,null,null,null,null,null,{"$f":"IFERROR(IF(L回線_電話番号_02<>\"\",L回線_電話番号_02,\"\"),\"\")","v":""},"昼夜休憩","電話番号毎に鳴動させたいモードを選択してください。"]
[null,null,null,null,null,null,null,null,{"$f":"IFERROR(IF(L回線_電話番号_03<>\"\",L回線_電話番号_03,\"\"),\"\")","v":""},"昼夜休憩","電話機個々にモード別に鳴動変更をさせたい場合は直接調書を編集"]
[null,null,null,null,null,null,null,null,{"$f":"IFERROR(IF(L回線_電話番号_04<>\"\",L回線_電話番号_04,\"\"),\"\")","v":""},"昼夜休憩"]
[null,null,null,null,null,null,null,null,{"$f":"IFERROR(IF(L回線_電話番号_05<>\"\",L回線_電話番号_05,\"\"),\"\")","v":""},"昼夜休憩"]
[null,null,null,null,null,null,null,null,{"$f":"IFERROR(IF(L回線_電話番号_06<>\"\",L回線_電話番号_06,\"\"),\"\")","v":""},"昼夜休憩"]
[null,null,null,null,null,null,null,null,{"$f":"IFERROR(IF(L回線_電話番号_07<>\"\",L回線_電話番号_07,\"\"),\"\")","v":""},"昼夜休憩"]
[null,null,null,null,null,null,null,null,{"$f":"IFERROR(IF(L回線_電話番号_08<>\"\",L回線_電話番号_08,\"\"),\"\")","v":""},"昼夜休憩"]
[null,null,null,null,null,null,null,null,{"$f":"IFERROR(IF(L回線_電話番号_09<>\"\",L回線_電話番号_09,\"\"),\"\")","v":""},"昼夜休憩"]
[null,null,null,null,null,null,null,null,{"$f":"IFERROR(IF(L回線_電話番号_10<>\"\",L回線_電話番号_10,\"\"),\"\")","v":""},"昼夜休憩"]
[null,null,null,null,null,null,null,null,{"$f":"IFERROR(IF(L回線_電話番号_11<>\"\",L回線_電話番号_11,\"\"),\"\")","v":""},"昼夜休憩"]
[null,null,null,null,null,null,null,null,{"$f":"IFERROR(IF(L回線_電話番号_12<>\"\",L回線_電話番号_12,\"\"),\"\")","v":""},"昼夜休憩"]

{"sheet":"ﾋｱﾘﾝｸﾞｼｰﾄ(ガイダンス設定)","index":13,"n_rows":58,"n_cols":15,"rows_kept":58,"cut":false,"hidden":false,"merged":[[49,10,52,20],[55,10,58,20],[33,1,33,6],[34,1,34,6],[35,10,36,20],[37,4,40,6],[37,7,40,7],[37,10,40,20],[10,1,10,6],[11,1,11,6],[7,2,8,2],[7,1,8,1],[43,10,46,20],[4,1,4,6],[5,1,5,6],[7,4,8,6],[26,10,29,20],[7,14,7,16],[8,8,8,10],[8,11,8,13],[8,14,8,16],[12,10,13,20],[14,4,17,6],[14,7,17,7],[14,10,17,20],[20,10,23,20],[7,7,8,7],[7,8,7,10],[7,11,7,13]]}
["ZXⅡSlim　ヒアリングシート"]
[]
["ガイダンス設定"]
[]
[null,"音声合成による応答ガイダンス"]
[null,"入力したテキストを音声に変換して利用するために必要なライセンスの登録（テキストからの音声合成）"]
[]
[null,"要望\n有無",null,null,"ライセンスキー情報",null,null,"⇒","ソフトウェアキーコード",null,null,"認証コード",null,null,"機能コード"]
[]
[null,null,null,null,null,null,null,null,"※レンタルの場合は投入不要"]
[null,"手動留守応答ガイダンス"]
[null,"電話機のボタンに留守応答セット用のボタンを設定し\n手動で留守応答を行う場合のガイダンスを選択"]
[null,null,null,null,null,null,null,null,null,null,"音声合成作成用テキスト（1500文字以内）\n　例：お電話ありがとうございます、こちらは〇〇株式会社です。本日の業務は終了いたしました。"]
[]
[null,null,null,null,"内線毎の\nガイダンス種類選択",null,null,"⇒","内線番号"]
[]
[null,null,null,null,null,null,null,null,"ガイダンスの種類"]
[null,null,null,null,null,null,null,null,"出荷時設定"]
[]
[]
[null,null,null,null,null,null,null,null,"内線番号"]
[]
[null,null,null,null,null,null,null,null,"ガイダンスの種類"]
[null,null,null,null,null,null,null,null,"出荷時設定"]
[]
[]
[null,null,null,null,null,null,null,null,"内線番号"]
[]
[null,null,null,null,null,null,null,null,"ガイダンスの種類"]
[null,null,null,null,null,null,null,null,"出荷時設定"]
[]
[]
[]
[null,"自動留守応答ガイダンス"]
[null,"各システムモード時に送出するガイダンスを選択"]
[null,null,null,null,null,null,null,null,null,null,"音声合成作成用テキスト（1500文字以内）\n　例：お電話ありがとうございます、こちらは〇〇株式会社です。本日の業務は終了いたしました。"]
[]
[null,null,null,null,"システムモード毎の\nガイダンス種類選択",null,null,"⇒","夜"]
[null,null,null,null,null,null,null,null,"ガイダンスの種類"]
[null,null,null,null,null,null,null,null,"出荷時設定"]
[]
[]
[]
[null,null,null,null,null,null,null,null,"休日"]
[null,null,null,null,null,null,null,null,"ガイダンスの種類"]
[null,null,null,null,null,null,null,null,"出荷時設定"]
[]
[]
[]
[null,null,null,null,null,null,null,null,"昼"]
[null,null,null,null,null,null,null,null,"ガイダンスの種類"]
[null,null,null,null,null,null,null,null,"出荷時設定"]
[]
[]
[]
[null,null,null,null,null,null,null,null,"休憩"]
[null,null,null,null,null,null,null,null,"ガイダンスの種類"]
[null,null,null,null,null,null,null,null,"出荷時設定"]

{"sheet":"着信拒否","index":14,"n_rows":78,"n_cols":8,"rows_kept":78,"cut":false,"hidden":true,"merged":[[53,1,54,3],[57,1,58,3],[2,1,2,5],[3,1,3,5],[6,1,9,3],[49,1,50,3]]}
[null,"着信拒否"]
[null,"迷惑電話ブロックライセンス"]
[null,"ソフトウェアキーコード",null,null,null,null,"認証コード","機能コード"]
[]
[]
[null,"国番号識別着信拒否ライセンス"]
[null,"国番号識別着信拒否\n国番号登録\n（010+国番号）",null,null,null,null,"No.","着信拒否対象国番号"]
[null,null,null,null,null,null,1]
[null,null,null,null,null,null,2]
[null,null,null,null,null,null,3]
[null,null,null,null,null,null,4]
[null,null,null,null,null,null,5]
[null,null,null,null,null,null,6]
[null,null,null,null,null,null,7]
[null,null,null,null,null,null,8]
[null,null,null,null,null,null,9]
[null,null,null,null,null,null,10]
[null,null,null,null,null,null,11]
[null,null,null,null,null,null,12]
[null,null,null,null,null,null,13]
[null,null,null,null,null,null,14]
[null,null,null,null,null,null,15]
[null,null,null,null,null,null,16]
[null,null,null,null,null,null,17]
[null,null,null,null,null,null,18]
[null,null,null,null,null,null,19]
[null,null,null,null,null,null,20]
[null,null,null,null,null,null,21]
[null,null,null,null,null,null,22]
[null,null,null,null,null,null,23]
[null,null,null,null,null,null,24]
[null,null,null,null,null,null,25]
[null,null,null,null,null,null,26]
[null,null,null,null,null,null,27]
[null,null,null,null,null,null,28]
[null,null,null,null,null,null,29]
[null,null,null,null,null,null,30]
[null,null,null,null,null,null,31]
[null,null,null,null,null,null,32]
[null,null,null,null,null,null,33]
[null,null,null,null,null,null,34]
[null,null,null,null,null,null,35]
[null,null,null,null,null,null,36]
[null,null,null,null,null,null,37]
[null,null,null,null,null,null,38]
[null,null,null,null,null,null,39]
[null,null,null,null,null,null,40]
[]
[]
[null,"着信拒否時のガイダンス",null,null,null,null,"着信拒否時にガイダンスを送出する"]
[]
[]
[]
[null,"非通知着信拒否",null,null,null,null,"非通知着信拒否を行う","着信拒否時にガイダンスを送出する"]
[]
[]
[]
[null,"非通知着信拒否しない\n電話番号（自番号）",null,null,null,null,"No.","非通知着信拒否対象外番号"]
[null,null,null,null,null,null,1,""]
[null,null,null,null,null,null,2]
[null,null,null,null,null,null,3]
[null,null,null,null,null,null,4]
[null,null,null,null,null,null,5]
[null,null,null,null,null,null,6]
[null,null,null,null,null,null,7]
[null,null,null,null,null,null,8]
[null,null,null,null,null,null,9]
[null,null,null,null,null,null,10]
[null,null,null,null,null,null,11]
[null,null,null,null,null,null,12]
[null,null,null,null,null,null,13]
[null,null,null,null,null,null,14]
[null,null,null,null,null,null,15]
[null,null,null,null,null,null,16]
[null,null,null,null,null,null,17]
[null,null,null,null,null,null,18]
[null,null,null,null,null,null,19]
[null,null,null,null,null,null,20]

{"sheet":"ﾓｰﾄﾞ切替・特定日・留守応答","index":15,"n_rows":70,"n_cols":26,"rows_kept":70,"cut":false,"hidden":true,"merged":[[69,10,69,11],[69,14,69,15],[7,6,8,7],[9,6,10,7],[11,6,12,7],[13,6,14,7],[15,6,16,7],[17,6,18,7],[19,6,20,7],[21,6,22,7],[13,9,13,13],[18,9,18,13],[67,1,67,5],[67,10,67,11],[67,14,67,15],[68,1,68,5],[68,10,68,11],[68,14,68,15],[65,1,65,5],[65,10,65,11],[65,14,65,15],[66,1,66,5],[66,10,66,11],[66,14,66,15],[65,6,66,7],[67,6,68,7],[63,1,63,5],[63,10,63,11],[63,14,63,15],[64,1,64,5],[64,10,64,11],[64,14,64,15],[62,1,62,5],[62,10,62,11],[62,14,62,15],[63,6,64,7],[62,22,62,24],[61,6,62,7],[61,1,61,5],[61,10,61,11],[61,14,61,15],[61,22,61,24],[60,1,60,5],[60,10,60,11],[60,14,60,15],[60,22,60,24],[59,6,60,7],[59,1,59,5],[59,10,59,11],[59,14,59,15],[59,18,59,19],[59,22,59,24],[58,1,58,5],[58,10,58,11],[58,14,58,15],[58,18,58,19],[58,22,58,24],[57,6,58,7],[57,1,57,5],[57,10,57,11],[57,14,57,15],[57,18,57,19],[57,22,57,24],[56,1,56,5],[56,10,56,11],[56,14,56,15],[56,18,56,19],[56,22,56,24],[55,6,56,7],[55,1,55,5],[55,10,55,11],[55,14,55,15],[55,18,55,19],[55,22,55,24],[54,1,54,5],[54,10,54,11],[54,14,54,15],[54,18,54,19],[54,22,54,24],[53,6,54,7],[53,1,53,5],[53,10,53,11],[53,14,53,15],[53,18,53,19],[53,22,53,24],[52,1,52,5],[52,6,52,7],[52,10,52,11],[52,14,52,15],[52,18,52,19],[52,22,52,24],[50,10,50,11],[50,14,50,15],[50,18,50,19],[50,22,50,24],[51,10,51,11],[51,14,51,15],[51,18,51,19],[51,22,51,24],[45,1,45,5],[45,9,45,13],[45,17,45,21],[44,6,45,7],[44,14,45,15],[44,22,45,23],[44,1,44,5],[44,9,44,13],[44,17,44,21],[43,1,43,5],[43,9,43,13],[43,17,43,21],[42,6,43,7],[42,14,43,15],[42,22,43,23],[42,1,42,5],[42,9,42,13],[42,17,42,21],[41,1,41,5],[41,9,41,13],[41,17,41,21],[40,6,41,7],[40,14,41,15],[40,22,41,23],[40,1,40,5],[40,9,40,13],[40,17,40,21],[39,1,39,5],[39,9,39,13],[39,17,39,21],[38,6,39,7],[38,14,39,15],[38,22,39,23],[38,1,38,5],[38,9,38,13],[38,17,38,21],[37,1,37,5],[37,9,37,13],[37,17,37,21],[36,6,37,7],[36,14,37,15],[36,22,37,23],[36,1,36,5],[36,9,36,13],[36,17,36,21],[35,1,35,5],[35,9,35,13],[35,17,35,21],[34,6,35,7],[34,14,35,15],[34,22,35,23],[34,1,34,5],[34,9,34,13],[34,17,34,21],[33,1,33,5],[33,9,33,13],[33,17,33,21],[32,6,33,7],[32,14,33,15],[32,22,33,23],[32,1,32,5],[32,9,32,13],[32,17,32,21],[18,1,18,5],[31,1,31,5],[31,9,31,13],[31,17,31,21],[30,6,31,7],[30,14,31,15],[30,22,31,23],[30,1,30,5],[30,9,30,13],[30,17,30,21],[21,9,21,13],[21,17,21,21],[20,9,20,13],[20,17,20,21],[19,14,20,15],[19,22,20,23],[19,1,19,5],[19,9,19,13],[19,17,19,21],[6,1,6,5],[6,6,6,7],[6,9,6,13],[6,14,6,15],[6,17,6,21],[6,22,6,23],[12,1,12,5],[12,9,12,13],[12,17,12,21],[11,14,12,15],[11,22,12,23],[11,1,11,5],[11,9,11,13],[11,17,11,21],[10,1,10,5],[10,9,10,13],[10,17,10,21],[9,14,10,15],[65,25,66,25],[8,1,8,5],[8,9,8,13],[8,17,8,21],[7,14,8,15],[7,22,8,23],[7,1,7,5],[7,9,7,13],[7,17,7,21],[16,1,16,5],[16,9,16,13],[16,17,16,21],[15,14,16,15],[15,22,16,23],[15,1,15,5],[15,9,15,13],[15,17,15,21],[14,1,14,5],[14,9,14,13],[18,17,18,21],[17,14,18,15],[17,22,18,23],[17,1,17,5],[17,9,17,13],[14,17,14,21],[13,14,14,15],[13,17,13,21],[20,1,20,5],[9,22,10,23],[9,1,9,5],[9,9,9,13],[9,17,9,21],[65,22,66,24],[17,17,17,21],[13,22,14,23],[13,1,13,5],[29,1,29,5],[29,6,29,7],[29,9,29,13],[29,14,29,15],[29,17,29,21],[29,22,29,23],[22,1,22,5],[22,9,22,13],[22,17,22,21],[21,14,22,15],[21,22,22,23],[21,1,21,5]]}
[null,"モード切替パターン"]
[]
[null,null,"パターン１",null,null,null,null,null,null,null,"パターン2",null,null,null,null,null,null,null,"パターン3"]
[]
[null,"月","火","水","木","金","土","日",null,"月","火","水","木","金","土","日",null,"月","火","水","木","金","土","日"]
[null,"✓","✓","✓","✓","✓",null,null,null,null,null,null,null,null,"✓",null,null,null,null,null,null,null,null,"✓"]
[null,"切替時刻",null,null,null,null,"モード",null,null,"切替時刻",null,null,null,null,"モード",null,null,"切替時刻",null,null,null,null,"モード"]
[]
[null,"～",null,null,null,null,null,null,null,"～",null,null,null,null,null,null,null,"～"]
[]
[null,"～",null,null,null,null,null,null,null,"～",null,null,null,null,null,null,null,"～"]
[]
[null,"～",null,null,null,null,null,null,null,"～",null,null,null,null,null,null,null,"～"]
[]
[null,"～",null,null,null,null,null,null,null,"～",null,null,null,null,null,null,null,"～"]
[]
[null,"～",null,null,null,null,null,null,null,"～",null,null,null,null,null,null,null,"～"]
[]
[null,"～",null,null,null,null,null,null,null,"～",null,null,null,null,null,null,null,"～"]
[]
[null,"～",null,null,null,null,null,null,null,"～",null,null,null,null,null,null,null,"～"]
[]
[null,"～",null,null,null,null,null,null,null,"～",null,null,null,null,null,null,null,"～"]
[]
[]
[null,null,"パターン4",null,null,null,null,null,null,null,"パターン5",null,null,null,null,null,null,null,"パターン6"]
[]
[null,"月","火","水","木","金","土","日",null,"月","火","水","木","金","土","日",null,"月","火","水","木","金","土","日"]
[]
[null,"切替時刻",null,null,null,null,"モード",null,null,"切替時刻",null,null,null,null,"モード",null,null,"切替時刻",null,null,null,null,"モード"]
[]
[null,"～",null,null,null,null,null,null,null,"～",null,null,null,null,null,null,null,"～"]
[]
[null,"～",null,null,null,null,null,null,null,"～",null,null,null,null,null,null,null,"～"]
[]
[null,"～",null,null,null,null,null,null,null,"～",null,null,null,null,null,null,null,"～"]
[]
[null,"～",null,null,null,null,null,null,null,"～",null,null,null,null,null,null,null,"～"]
[]
[null,"～",null,null,null,null,null,null,null,"～",null,null,null,null,null,null,null,"～"]
[]
[null,"～",null,null,null,null,null,null,null,"～",null,null,null,null,null,null,null,"～"]
[]
[null,"～",null,null,null,null,null,null,null,"～",null,null,null,null,null,null,null,"～"]
[]
[null,"～",null,null,null,null,null,null,null,"～",null,null,null,null,null,null,null,"～"]
[]
[]
[null,null,"パターン7",null,null,null,null,null,null,"特定日の指定",null,null,null,null,null,null,null,null,null,null,null,null,"留守応答対象電話番号"]
[]
[null,"月","火","水","木","金","土","日",null,1,null,null,null,21,null,null,null,41,null,null,null,null,"電話番号",null,null,"留守対象"]
[null,null,null,null,null,null,null,null,null,2,null,null,null,22,null,null,null,42,null,null,null,null,""]
[null,"切替時刻",null,null,null,null,"モード",null,null,3,null,null,null,23,null,null,null,43,null,null,null,null,""]
[null,null,null,null,null,null,null,null,null,4,null,null,null,24,null,null,null,44,null,null,null,null,""]
[null,"～",null,null,null,null,null,null,null,5,null,null,null,25,null,null,null,45,null,null,null,null,""]
[null,null,null,null,null,null,null,null,null,6,null,null,null,26,null,null,null,46,null,null,null,null,""]
[null,"～",null,null,null,null,null,null,null,7,null,null,null,27,null,null,null,47,null,null,null,null,""]
[null,null,null,null,null,null,null,null,null,8,null,null,null,28,null,null,null,48,null,null,null,null,""]
[null,"～",null,null,null,null,null,null,null,9,null,null,null,29,null,null,null,49,null,null,null,null,""]
[null,null,null,null,null,null,null,null,null,10,null,null,null,30,null,null,null,50,null,null,null,null,""]
[null,"～",null,null,null,null,null,null,null,11,null,null,null,31,null,null,null,null,null,null,null,null,""]
[null,null,null,null,null,null,null,null,null,12,null,null,null,32,null,null,null,null,null,null,null,null,""]
[null,"～",null,null,null,null,null,null,null,13,null,null,null,33,null,null,null,null,null,null,null,null,""]
[null,null,null,null,null,null,null,null,null,14,null,null,null,34]
[null,"～",null,null,null,null,null,null,null,15,null,null,null,35,null,null,null,null,null,null,null,null,"特定日の留守応答可否"]
[null,null,null,null,null,null,null,null,null,16,null,null,null,36,null,null,null,null,null,null,null,null,"特定日は\n全て留守対象とする"]
[null,"～",null,null,null,null,null,null,null,17,null,null,null,37]
[null,null,null,null,null,null,null,null,null,18,null,null,null,38]
[null,"～",null,null,null,null,null,null,null,19,null,null,null,39]
[null,null,null,null,null,null,null,null,null,20,null,null,null,40]

{"sheet":"ガイダンス設定","index":16,"n_rows":68,"n_cols":7,"rows_kept":68,"cut":false,"hidden":true,"merged":[[62,6,65,16],[67,6,67,7],[68,6,71,16],[43,6,46,16],[49,6,49,7],[50,6,53,16],[55,6,55,7],[56,6,59,16],[61,6,61,7],[37,6,40,16],[7,6,10,16],[13,6,16,16],[19,6,22,16],[25,6,28,16],[31,6,34,16]]}
["音声合成ライセンス"]
[null,null,"ソフトウェアキーコード","認証コード","機能コード"]
[]
[]
["内線毎のガイダンス設定"]
[null,"※内線種別シートと同じ内容です。"]
[null,"電話機No(TEN)","電話機種別　※","内線番号　※","ガイダンス設定",null,"内線番号"]
[null,1,{"$f":"IF(内線種別!C4<>\"\",内線種別!C4,\"\")","v":""},{"$f":"IF(内線種別!D4<>\"\",内線種別!D4,\"\")","v":""},null,null,""]
[null,2,{"$f":"IF(内線種別!C5<>\"\",内線種別!C5,\"\")","v":""},{"$f":"IF(内線種別!D5<>\"\",内線種別!D5,\"\")","v":""}]
[null,3,{"$f":"IF(内線種別!C6<>\"\",内線種別!C6,\"\")","v":""},{"$f":"IF(内線種別!D6<>\"\",内線種別!D6,\"\")","v":""}]
[null,4,{"$f":"IF(内線種別!C7<>\"\",内線種別!C7,\"\")","v":""},{"$f":"IF(内線種別!D7<>\"\",内線種別!D7,\"\")","v":""}]
[null,5,{"$f":"IF(内線種別!C8<>\"\",内線種別!C8,\"\")","v":""},{"$f":"IF(内線種別!D8<>\"\",内線種別!D8,\"\")","v":""}]
[null,6,{"$f":"IF(内線種別!C9<>\"\",内線種別!C9,\"\")","v":""},{"$f":"IF(内線種別!D9<>\"\",内線種別!D9,\"\")","v":""},null,null,"内線番号"]
[null,7,{"$f":"IF(内線種別!C10<>\"\",内線種別!C10,\"\")","v":""},{"$f":"IF(内線種別!D10<>\"\",内線種別!D10,\"\")","v":""},null,null,""]
[null,8,{"$f":"IF(内線種別!C11<>\"\",内線種別!C11,\"\")","v":""},{"$f":"IF(内線種別!D11<>\"\",内線種別!D11,\"\")","v":""}]
[null,9,{"$f":"IF(内線種別!C12<>\"\",内線種別!C12,\"\")","v":""},{"$f":"IF(内線種別!D12<>\"\",内線種別!D12,\"\")","v":""}]
[null,10,{"$f":"IF(内線種別!C13<>\"\",内線種別!C13,\"\")","v":""},{"$f":"IF(内線種別!D13<>\"\",内線種別!D13,\"\")","v":""}]
[null,11,{"$f":"IF(内線種別!C14<>\"\",内線種別!C14,\"\")","v":""},{"$f":"IF(内線種別!D14<>\"\",内線種別!D14,\"\")","v":""}]
[null,12,{"$f":"IF(内線種別!C15<>\"\",内線種別!C15,\"\")","v":""},{"$f":"IF(内線種別!D15<>\"\",内線種別!D15,\"\")","v":""},null,null,"内線番号"]
[null,13,{"$f":"IF(内線種別!C16<>\"\",内線種別!C16,\"\")","v":""},{"$f":"IF(内線種別!D16<>\"\",内線種別!D16,\"\")","v":""},null,null,""]
[null,14,{"$f":"IF(内線種別!C17<>\"\",内線種別!C17,\"\")","v":""},{"$f":"IF(内線種別!D17<>\"\",内線種別!D17,\"\")","v":""}]
[null,15,{"$f":"IF(内線種別!C18<>\"\",内線種別!C18,\"\")","v":""},{"$f":"IF(内線種別!D18<>\"\",内線種別!D18,\"\")","v":""}]
[null,16,{"$f":"IF(内線種別!C19<>\"\",内線種別!C19,\"\")","v":""},{"$f":"IF(内線種別!D19<>\"\",内線種別!D19,\"\")","v":""}]
[null,17,{"$f":"IF(内線種別!C20<>\"\",内線種別!C20,\"\")","v":""},{"$f":"IF(内線種別!D20<>\"\",内線種別!D20,\"\")","v":""}]
[null,18,{"$f":"IF(内線種別!C21<>\"\",内線種別!C21,\"\")","v":""},{"$f":"IF(内線種別!D21<>\"\",内線種別!D21,\"\")","v":""},null,null,"内線番号"]
[null,19,{"$f":"IF(内線種別!C22<>\"\",内線種別!C22,\"\")","v":""},{"$f":"IF(内線種別!D22<>\"\",内線種別!D22,\"\")","v":""}]
[null,20,{"$f":"IF(内線種別!C23<>\"\",内線種別!C23,\"\")","v":""},{"$f":"IF(内線種別!D23<>\"\",内線種別!D23,\"\")","v":""}]
[null,21,{"$f":"IF(内線種別!C24<>\"\",内線種別!C24,\"\")","v":""},{"$f":"IF(内線種別!D24<>\"\",内線種別!D24,\"\")","v":""}]
[null,22,{"$f":"IF(内線種別!C25<>\"\",内線種別!C25,\"\")","v":""},{"$f":"IF(内線種別!D25<>\"\",内線種別!D25,\"\")","v":""}]
[null,23,{"$f":"IF(内線種別!C26<>\"\",内線種別!C26,\"\")","v":""},{"$f":"IF(内線種別!D26<>\"\",内線種別!D26,\"\")","v":""}]
[null,24,{"$f":"IF(内線種別!C27<>\"\",内線種別!C27,\"\")","v":""},{"$f":"IF(内線種別!D27<>\"\",内線種別!D27,\"\")","v":""},null,null,"内線番号"]
[null,25,{"$f":"IF(内線種別!C28<>\"\",内線種別!C28,\"\")","v":""},{"$f":"IF(内線種別!D28<>\"\",内線種別!D28,\"\")","v":""}]
[null,26,{"$f":"IF(内線種別!C29<>\"\",内線種別!C29,\"\")","v":""},{"$f":"IF(内線種別!D29<>\"\",内線種別!D29,\"\")","v":""}]
[null,27,{"$f":"IF(内線種別!C30<>\"\",内線種別!C30,\"\")","v":""},{"$f":"IF(内線種別!D30<>\"\",内線種別!D30,\"\")","v":""}]
[null,28,{"$f":"IF(内線種別!C31<>\"\",内線種別!C31,\"\")","v":""},{"$f":"IF(内線種別!D31<>\"\",内線種別!D31,\"\")","v":""}]
[null,29,{"$f":"IF(内線種別!C32<>\"\",内線種別!C32,\"\")","v":""},{"$f":"IF(内線種別!D32<>\"\",内線種別!D32,\"\")","v":""}]
[null,30,{"$f":"IF(内線種別!C33<>\"\",内線種別!C33,\"\")","v":""},{"$f":"IF(内線種別!D33<>\"\",内線種別!D33,\"\")","v":""},null,null,"内線番号"]
[null,31,{"$f":"IF(内線種別!C34<>\"\",内線種別!C34,\"\")","v":""},{"$f":"IF(内線種別!D34<>\"\",内線種別!D34,\"\")","v":""}]
[null,32,{"$f":"IF(内線種別!C35<>\"\",内線種別!C35,\"\")","v":""},{"$f":"IF(内線種別!D35<>\"\",内線種別!D35,\"\")","v":""}]
[null,33,{"$f":"IF(内線種別!C36<>\"\",内線種別!C36,\"\")","v":""},{"$f":"IF(内線種別!D36<>\"\",内線種別!D36,\"\")","v":""}]
[null,34,{"$f":"IF(内線種別!C37<>\"\",内線種別!C37,\"\")","v":""},{"$f":"IF(内線種別!D37<>\"\",内線種別!D37,\"\")","v":""}]
[null,35,{"$f":"IF(内線種別!C38<>\"\",内線種別!C38,\"\")","v":""},{"$f":"IF(内線種別!D38<>\"\",内線種別!D38,\"\")","v":""}]
[null,36,{"$f":"IF(内線種別!C39<>\"\",内線種別!C39,\"\")","v":""},{"$f":"IF(内線種別!D39<>\"\",内線種別!D39,\"\")","v":""},null,null,"内線番号"]
[null,37,{"$f":"IF(内線種別!C40<>\"\",内線種別!C40,\"\")","v":""},{"$f":"IF(内線種別!D40<>\"\",内線種別!D40,\"\")","v":""}]
[null,38,{"$f":"IF(内線種別!C41<>\"\",内線種別!C41,\"\")","v":""},{"$f":"IF(内線種別!D41<>\"\",内線種別!D41,\"\")","v":""}]
[null,39,{"$f":"IF(内線種別!C42<>\"\",内線種別!C42,\"\")","v":""},{"$f":"IF(内線種別!D42<>\"\",内線種別!D42,\"\")","v":""}]
[null,40,{"$f":"IF(内線種別!C43<>\"\",内線種別!C43,\"\")","v":""},{"$f":"IF(内線種別!D43<>\"\",内線種別!D43,\"\")","v":""}]
[]
["システムモード毎のガイダンス設定"]
[null,null,null,"システムモード","ガイダンス設定",null,"昼"]
[null,null,null,"昼","出荷時設定"]
[null,null,null,"夜","出荷時設定"]
[null,null,null,"休憩","出荷時設定"]
[null,null,null,"休日","出荷時設定"]
[]
[null,null,null,null,null,null,"夜"]
[]
[]
[]
[]
[]
[null,null,null,null,null,null,"休憩"]
[]
[]
[]
[]
[]
[null,null,null,null,null,null,"休日"]

{"sheet":"key","index":17,"n_rows":251,"n_cols":30,"rows_kept":251,"cut":false,"hidden":true,"merged":[[227,1,229,1],[230,1,232,1],[233,1,235,1],[236,1,238,1],[239,1,241,1],[242,1,244,1],[245,1,247,1],[248,1,250,1],[200,1,202,1],[203,1,205,1],[206,1,208,1],[209,1,211,1],[212,1,214,1],[215,1,217,1],[218,1,220,1],[221,1,223,1],[224,1,226,1],[191,1,193,1],[194,1,196,1],[197,1,199,1],[146,1,148,1],[149,1,151,1],[152,1,154,1],[155,1,157,1],[158,1,160,1],[161,1,163,1],[164,1,166,1],[167,1,169,1],[170,1,172,1],[173,1,175,1],[176,1,178,1],[179,1,181,1],[182,1,184,1],[185,1,187,1],[188,1,190,1],[114,1,116,1],[117,1,119,1],[120,1,122,1],[123,1,125,1],[131,1,133,1],[134,1,136,1],[137,1,139,1],[140,1,142,1],[143,1,145,1],[87,1,89,1],[90,1,92,1],[93,1,95,1],[96,1,98,1],[99,1,101,1],[102,1,104,1],[105,1,107,1],[108,1,110,1],[111,1,113,1],[60,1,62,1],[63,1,65,1],[66,1,68,1],[69,1,71,1],[72,1,74,1],[75,1,77,1],[78,1,80,1],[81,1,83,1],[84,1,86,1],[33,1,35,1],[36,1,38,1],[39,1,41,1],[42,1,44,1],[45,1,47,1],[48,1,50,1],[51,1,53,1],[54,1,56,1],[57,1,59,1],[6,1,8,1],[9,1,11,1],[12,1,14,1],[15,1,17,1],[18,1,20,1],[21,1,23,1],[24,1,26,1],[27,1,29,1],[30,1,32,1],[123,2,125,2],[123,3,125,3],[123,4,125,4],[117,2,119,2],[117,3,119,3],[117,4,119,4],[120,2,122,2],[120,3,122,3],[120,4,122,4],[111,2,113,2],[111,3,113,3],[111,4,113,4],[114,2,116,2],[114,3,116,3],[114,4,116,4],[105,2,107,2],[105,3,107,3],[105,4,107,4],[108,2,110,2],[108,3,110,3],[108,4,110,4],[99,2,101,2],[99,3,101,3],[99,4,101,4],[102,2,104,2],[102,3,104,3],[102,4,104,4],[93,2,95,2],[93,3,95,3],[93,4,95,4],[96,2,98,2],[96,3,98,3],[96,4,98,4],[87,2,89,2],[87,3,89,3],[87,4,89,4],[90,2,92,2],[90,3,92,3],[90,4,92,4],[81,2,83,2],[81,3,83,3],[81,4,83,4],[84,2,86,2],[84,3,86,3],[84,4,86,4],[75,2,77,2],[75,3,77,3],[75,4,77,4],[78,2,80,2],[78,3,80,3],[78,4,80,4],[69,2,71,2],[69,3,71,3],[69,4,71,4],[72,2,74,2],[72,3,74,3],[72,4,74,4],[63,2,65,2],[63,3,65,3],[63,4,65,4],[66,2,68,2],[66,3,68,3],[66,4,68,4],[57,2,59,2],[57,3,59,3],[57,4,59,4],[60,2,62,2],[60,3,62,3],[60,4,62,4],[51,2,53,2],[51,3,53,3],[51,4,53,4],[54,2,56,2],[54,3,56,3],[54,4,56,4],[45,2,47,2],[45,3,47,3],[45,4,47,4],[48,2,50,2],[48,3,50,3],[48,4,50,4],[39,2,41,2],[39,3,41,3],[39,4,41,4],[42,2,44,2],[42,3,44,3],[42,4,44,4],[33,2,35,2],[33,3,35,3],[33,4,35,4],[36,2,38,2],[36,3,38,3],[36,4,38,4],[12,4,14,4],[27,2,29,2],[27,3,29,3],[27,4,29,4],[30,2,32,2],[30,3,32,3],[30,4,32,4],[21,2,23,2],[21,3,23,3],[21,4,23,4],[24,2,26,2],[24,3,26,3],[24,4,26,4],[131,2,133,2],[131,3,133,3],[134,2,136,2],[134,3,136,3],[137,2,139,2],[137,3,139,3],[0,6,0,10],[1,6,1,10],[2,5,3,5],[2,6,3,10],[6,2,8,2],[6,3,8,3],[6,4,8,4],[15,2,17,2],[15,3,17,3],[15,4,17,4],[18,2,20,2],[18,3,20,3],[18,4,20,4],[9,2,11,2],[9,3,11,3],[9,4,11,4],[12,2,14,2],[12,3,14,3],[149,2,151,2],[149,3,151,3],[152,2,154,2],[152,3,154,3],[155,2,157,2],[155,3,157,3],[140,2,142,2],[140,3,142,3],[143,2,145,2],[143,3,145,3],[146,2,148,2],[146,3,148,3],[167,2,169,2],[167,3,169,3],[170,2,172,2],[170,3,172,3],[173,2,175,2],[173,3,175,3],[158,2,160,2],[158,3,160,3],[161,2,163,2],[161,3,163,3],[164,2,166,2],[164,3,166,3],[185,2,187,2],[185,3,187,3],[188,2,190,2],[188,3,190,3],[191,2,193,2],[191,3,193,3],[176,2,178,2],[176,3,178,3],[179,2,181,2],[179,3,181,3],[182,2,184,2],[182,3,184,3],[203,2,205,2],[203,3,205,3],[206,2,208,2],[206,3,208,3],[209,2,211,2],[209,3,211,3],[194,2,196,2],[194,3,196,3],[197,2,199,2],[197,3,199,3],[200,2,202,2],[200,3,202,3],[221,2,223,2],[221,3,223,3],[224,2,226,2],[224,3,226,3],[227,2,229,2],[227,3,229,3],[212,2,214,2],[212,3,214,3],[215,2,217,2],[215,3,217,3],[218,2,220,2],[218,3,220,3],[239,3,241,3],[242,2,244,2],[242,3,244,3],[245,2,247,2],[245,3,247,3],[230,2,232,2],[230,3,232,3],[233,2,235,2],[233,3,235,3],[236,2,238,2],[236,3,238,3],[248,2,250,2],[248,3,250,3],[131,4,133,4],[134,4,136,4],[137,4,139,4],[140,4,142,4],[143,4,145,4],[146,4,148,4],[149,4,151,4],[152,4,154,4],[155,4,157,4],[158,4,160,4],[161,4,163,4],[164,4,166,4],[167,4,169,4],[170,4,172,4],[173,4,175,4],[176,4,178,4],[179,4,181,4],[182,4,184,4],[185,4,187,4],[188,4,190,4],[191,4,193,4],[239,2,241,2],[194,4,196,4],[197,4,199,4],[200,4,202,4],[203,4,205,4],[206,4,208,4],[209,4,211,4],[212,4,214,4],[215,4,217,4],[218,4,220,4],[248,4,250,4],[221,4,223,4],[224,4,226,4],[227,4,229,4],[230,4,232,4],[233,4,235,4],[236,4,238,4],[239,4,241,4],[242,4,244,4],[245,4,247,4]]}
[null,null,null,null,null,"1行目","02-03 回線キー設定"]
[null,null,null,null,null,"2行目","02-26 着信音色設定"]
[null,null,null,null,null,"3行目","02-10～13 着信鳴動割付キー設定"]
[]
[]
[null,"内線No.","TEN","6-01\n内線番号","2-01\n機種","LK1","LK2","LK3","LK4","LK5","LK6","LK7","LK8","LK9","LK10","LK11","LK12","LK13","LK14","LK15","LK16","LK17","LK18","LK19","LK20","LK21","LK22","LK23","LK24"]
[null,1,{"$f":"IF(IFERROR(VALUE(VLOOKUP(B7,内線_キー割用,2,FALSE)),\"\")=0,\"\",IFERROR(VALUE(VLOOKUP(B7,内線_キー割用,2,FALSE)),\"\"))","v":""},{"$f":"IF(IFERROR(VALUE(VLOOKUP(B7,内線_キー割用,4,FALSE)),\"\")=0,\"\",IFERROR(VALUE(VLOOKUP(B7,内線_キー割用,4,FALSE)),\"\"))","v":""},{"$f":"IF(IFERROR(VLOOKUP(B7,内線_キー割用,3,FALSE),\"\")=0,\"\",IFERROR(VLOOKUP(B7,内線_キー割用,3,FALSE),\"\"))","v":""},{"$f":"IF(キー割付!D7=\"\",\"未使用\",キー割付!D7)","v":"未使用"},{"$f":"IF(キー割付!E7=\"\",\"未使用\",キー割付!E7)","v":"未使用"},{"$f":"IF(キー割付!F7=\"\",\"未使用\",キー割付!F7)","v":"未使用"},{"$f":"IF(キー割付!G7=\"\",\"未使用\",キー割付!G7)","v":"未使用"},{"$f":"IF(キー割付!H7=\"\",\"未使用\",キー割付!H7)","v":"未使用"},{"$f":"IF(キー割付!I7=\"\",\"未使用\",キー割付!I7)","v":"未使用"},{"$f":"IF(キー割付!D15=\"\",\"未使用\",キー割付!D15)","v":"未使用"},{"$f":"IF(キー割付!E15=\"\",\"未使用\",キー割付!E15)","v":"未使用"},{"$f":"IF(E7=\"ZX-DECLDIV-IPコードレス電話機\",\"未使用\",IF(キー割付!F15=\"\",\"未使用\",キー割付!F15))","v":"未使用"},{"$f":"IF(E7=\"ZX-DECLDIV-IPコードレス電話機\",\"未使用\",IF(キー割付!G15=\"\",\"未使用\",キー割付!G15))","v":"未使用"},{"$f":"IF(E7=\"ZX-DECLDIV-IPコードレス電話機\",\"未使用\",IF(キー割付!H15=\"\",\"未使用\",キー割付!H15))","v":"未使用"},{"$f":"IF(E7=\"ZX-DECLDIV-IPコードレス電話機\",\"未使用\",IF(キー割付!I15=\"\",\"未使用\",キー割付!I15))","v":"未使用"},{"$f":"IF(E7=\"ZX-DECLDIV-IPコードレス電話機\",\"未使用\",IF(キー割付!D23=\"\",\"未使用\",キー割付!D23))","v":"未使用"},{"$f":"IF(E7=\"ZX-DECLDIV-IPコードレス電話機\",\"未使用\",IF(キー割付!E23=\"\",\"未使用\",キー割付!E23))","v":"未使用"},{"$f":"IF(E7=\"ZX-DECLDIV-IPコードレス電話機\",\"未使用\",IF(キー割付!F23=\"\",\"未使用\",キー割付!F23))","v":"未使用"},{"$f":"IF(E7=\"ZX-DECLDIV-IPコードレス電話機\",\"未使用\",IF(キー割付!G23=\"\",\"未使用\",キー割付!G23))","v":"未使用"},{"$f":"IF(E7=\"ZX-DECLDIV-IPコードレス電話機\",\"未使用\",IF(キー割付!H23=\"\",\"未使用\",キー割付!H23))","v":"未使用"},{"$f":"IF(E7=\"ZX-DECLDIV-IPコードレス電話機\",\"未使用\",IF(キー割付!I23=\"\",\"未使用\",キー割付!I23))","v":"未使用"},{"$f":"IF(E7=\"ZX-DECLDIV-IPコードレス電話機\",\"未使用\",IF(キー割付!D31=\"\",\"未使用\",キー割付!D31))","v":"未使用"},{"$f":"IF(E7=\"ZX-DECLDIV-IPコードレス電話機\",\"未使用\",IF(キー割付!E31=\"\",\"未使用\",キー割付!E31))","v":"未使用"},{"$f":"IF(E7=\"ZX-DECLDIV-IPコードレス電話機\",\"未使用\",IF(キー割付!F31=\"\",\"未使用\",キー割付!F31))","v":"未使用"},{"$f":"IF(E7=\"ZX-DECLDIV-IPコードレス電話機\",\"未使用\",IF(キー割付!G31=\"\",\"未使用\",キー割付!G31))","v":"未使用"},{"$f":"IF(E7=\"ZX-DECLDIV-IPコードレス電話機\",\"未使用\",IF(キー割付!H31=\"\",\"未使用\",キー割付!H31))","v":"未使用"},{"$f":"IF(E7=\"ZX-DECLDIV-IPコードレス電話機\",\"未使用\",IF(キー割付!I31=\"\",\"未使用\",キー割付!I31))","v":"未使用"}]
[null,null,null,null,null,{"$f":"_xlfn.IFS(キー割付!D8=\"着信音なし\",\"トーン1\",キー割付!D8=\"トーン1\",\"トーン1\",キー割付!D8=\"トーン2\",\"トーン2\",キー割付!D8=\"トーン3\",\"トーン3\",キー割付!D8=\"トーン4\",\"トーン4\",キー割付!D8=\"トーン5\",\"トーン5\",キー割付!D8=\"トーン6\",\"トーン6\",キー割付!D8=\"トーン7\",\"トーン7\",キー割付!D8=\"トーン7\",\"トーン7\",キー割付!D8=\"無鳴動着信\",\"トーン8\",キー割付!D8=\"グリーンスリーブス\",\"メロディ1\",キー割付!D8=\"峠の我が家\",\"メロディ2\",キー割付!D8=\"カノン\",\"メロディ3\",キー割付!D8=\"春の歌\",\"メロディ4\",キー割付!D8=\"主よ人の望みの喜びよ\",\"メロディ5\",キー割付!D8=\"メヌエット\",\"メロディ6\",キー割付!D8=\"華麗なる大円舞曲\",\"メロディ7\",キー割付!D8=\"ハンガリア舞曲第5番\",\"メロディ8\",TRUE,\"トーン1\")","v":"トーン1"},{"$f":"_xlfn.IFS(キー割付!E8=\"着信音なし\",\"トーン1\",キー割付!E8=\"トーン1\",\"トーン1\",キー割付!E8=\"トーン2\",\"トーン2\",キー割付!E8=\"トーン3\",\"トーン3\",キー割付!E8=\"トーン4\",\"トーン4\",キー割付!E8=\"トーン5\",\"トーン5\",キー割付!E8=\"トーン6\",\"トーン6\",キー割付!E8=\"トーン7\",\"トーン7\",キー割付!E8=\"トーン7\",\"トーン7\",キー割付!E8=\"無鳴動着信\",\"トーン8\",キー割付!E8=\"グリーンスリーブス\",\"メロディ1\",キー割付!E8=\"峠の我が家\",\"メロディ2\",キー割付!E8=\"カノン\",\"メロディ3\",キー割付!E8=\"春の歌\",\"メロディ4\",キー割付!E8=\"主よ人の望みの喜びよ\",\"メロディ5\",キー割付!E8=\"メヌエット\",\"メロディ6\",キー割付!E8=\"華麗なる大円舞曲\",\"メロディ7\",キー割付!E8=\"ハンガリア舞曲第5番\",\"メロディ8\",TRUE,\"トーン1\")","v":"トーン1"},{"$f":"_xlfn.IFS(キー割付!F8=\"着信音なし\",\"トーン1\",キー割付!F8=\"トーン1\",\"トーン1\",キー割付!F8=\"トーン2\",\"トーン2\",キー割付!F8=\"トーン3\",\"トーン3\",キー割付!F8=\"トーン4\",\"トーン4\",キー割付!F8=\"トーン5\",\"トーン5\",キー割付!F8=\"トーン6\",\"トーン6\",キー割付!F8=\"トーン7\",\"トーン7\",キー割付!F8=\"トーン7\",\"トーン7\",キー割付!F8=\"無鳴動着信\",\"トーン8\",キー割付!F8=\"グリーンスリーブス\",\"メロディ1\",キー割付!F8=\"峠の我が家\",\"メロディ2\",キー割付!F8=\"カノン\",\"メロディ3\",キー割付!F8=\"春の歌\",\"メロディ4\",キー割付!F8=\"主よ人の望みの喜びよ\",\"メロディ5\",キー割付!F8=\"メヌエット\",\"メロディ6\",キー割付!F8=\"華麗なる大円舞曲\",\"メロディ7\",キー割付!F8=\"ハンガリア舞曲第5番\",\"メロディ8\",TRUE,\"トーン1\")","v":"トーン1"},{"$f":"_xlfn.IFS(キー割付!G8=\"着信音なし\",\"トーン1\",キー割付!G8=\"トーン1\",\"トーン1\",キー割付!G8=\"トーン2\",\"トーン2\",キー割付!G8=\"トーン3\",\"トーン3\",キー割付!G8=\"トーン4\",\"トーン4\",キー割付!G8=\"トーン5\",\"トーン5\",キー割付!G8=\"トーン6\",\"トーン6\",キー割付!G8=\"トーン7\",\"トーン7\",キー割付!G8=\"トーン7\",\"トーン7\",キー割付!G8=\"無鳴動着信\",\"トーン8\",キー割付!G8=\"グリーンスリーブス\",\"メロディ1\",キー割付!G8=\"峠の我が家\",\"メロディ2\",キー割付!G8=\"カノン\",\"メロディ3\",キー割付!G8=\"春の歌\",\"メロディ4\",キー割付!G8=\"主よ人の望みの喜びよ\",\"メロディ5\",キー割付!G8=\"メヌエット\",\"メロディ6\",キー割付!G8=\"華麗なる大円舞曲\",\"メロディ7\",キー割付!G8=\"ハンガリア舞曲第5番\",\"メロディ8\",TRUE,\"トーン1\")","v":"トーン1"},{"$f":"_xlfn.IFS(キー割付!H8=\"着信音なし\",\"トーン1\",キー割付!H8=\"トーン1\",\"トーン1\",キー割付!H8=\"トーン2\",\"トーン2\",キー割付!H8=\"トーン3\",\"トーン3\",キー割付!H8=\"トーン4\",\"トーン4\",キー割付!H8=\"トーン5\",\"トーン5\",キー割付!H8=\"トーン6\",\"トーン6\",キー割付!H8=\"トーン7\",\"トーン7\",キー割付!H8=\"トーン7\",\"トーン7\",キー割付!H8=\"無鳴動着信\",\"トーン8\",キー割付!H8=\"グリーンスリーブス\",\"メロディ1\",キー割付!H8=\"峠の我が家\",\"メロディ2\",キー割付!H8=\"カノン\",\"メロディ3\",キー割付!H8=\"春の歌\",\"メロディ4\",キー割付!H8=\"主よ人の望みの喜びよ\",\"メロディ5\",キー割付!H8=\"メヌエット\",\"メロディ6\",キー割付!H8=\"華麗なる大円舞曲\",\"メロディ7\",キー割付!H8=\"ハンガリア舞曲第5番\",\"メロディ8\",TRUE,\"トーン1\")","v":"トーン1"},{"$f":"_xlfn.IFS(キー割付!I8=\"着信音なし\",\"トーン1\",キー割付!I8=\"トーン1\",\"トーン1\",キー割付!I8=\"トーン2\",\"トーン2\",キー割付!I8=\"トーン3\",\"トーン3\",キー割付!I8=\"トーン4\",\"トーン4\",キー割付!I8=\"トーン5\",\"トーン5\",キー割付!I8=\"トーン6\",\"トーン6\",キー割付!I8=\"トーン7\",\"トーン7\",キー割付!I8=\"トーン7\",\"トーン7\",キー割付!I8=\"無鳴動着信\",\"トーン8\",キー割付!I8=\"グリーンスリーブス\",\"メロディ1\",キー割付!I8=\"峠の我が家\",\"メロディ2\",キー割付!I8=\"カノン\",\"メロディ3\",キー割付!I8=\"春の歌\",\"メロディ4\",キー割付!I8=\"主よ人の望みの喜びよ\",\"メロディ5\",キー割付!I8=\"メヌエット\",\"メロディ6\",キー割付!I8=\"華麗なる大円舞曲\",\"メロディ7\",キー割付!I8=\"ハンガリア舞曲第5番\",\"メロディ8\",TRUE,\"トーン1\")","v":"トーン1"},{"$f":"_xlfn.IFS(キー割付!D16=\"着信音なし\",\"トーン1\",キー割付!D16=\"トーン1\",\"トーン1\",キー割付!D16=\"トーン2\",\"トーン2\",キー割付!D16=\"トーン3\",\"トーン3\",キー割付!D16=\"トーン4\",\"トーン4\",キー割付!D16=\"トーン5\",\"トーン5\",キー割付!D16=\"トーン6\",\"トーン6\",キー割付!D16=\"トーン7\",\"トーン7\",キー割付!D16=\"トーン7\",\"トーン7\",キー割付!D16=\"無鳴動着信\",\"トーン8\",キー割付!D16=\"グリーンスリーブス\",\"メロディ1\",キー割付!D16=\"峠の我が家\",\"メロディ2\",キー割付!D16=\"カノン\",\"メロディ3\",キー割付!D16=\"春の歌\",\"メロディ4\",キー割付!D16=\"主よ人の望みの喜びよ\",\"メロディ5\",キー割付!D16=\"メヌエット\",\"メロディ6\",キー割付!D16=\"華麗なる大円舞曲\",\"メロディ7\",キー割付!D16=\"ハンガリア舞曲第5番\",\"メロディ8\",TRUE,\"トーン1\")","v":"トーン1"},{"$f":"_xlfn.IFS(キー割付!E16=\"着信音なし\",\"トーン1\",キー割付!E16=\"トーン1\",\"トーン1\",キー割付!E16=\"トーン2\",\"トーン2\",キー割付!E16=\"トーン3\",\"トーン3\",キー割付!E16=\"トーン4\",\"トーン4\",キー割付!E16=\"トーン5\",\"トーン5\",キー割付!E16=\"トーン6\",\"トーン6\",キー割付!E16=\"トーン7\",\"トーン7\",キー割付!E16=\"トーン7\",\"トーン7\",キー割付!E16=\"無鳴動着信\",\"トーン8\",キー割付!E16=\"グリーンスリーブス\",\"メロディ1\",キー割付!E16=\"峠の我が家\",\"メロディ2\",キー割付!E16=\"カノン\",\"メロディ3\",キー割付!E16=\"春の歌\",\"メロディ4\",キー割付!E16=\"主よ人の望みの喜びよ\",\"メロディ5\",キー割付!E16=\"メヌエット\",\"メロディ6\",キー割付!E16=\"華麗なる大円舞曲\",\"メロディ7\",キー割付!E16=\"ハンガリア舞曲第5番\",\"メロディ8\",TRUE,\"トーン1\")","v":"トーン1"},{"$f":"IF(E7=\"ZX-DECLDIV-IPコードレス電話機\",\"トーン1\",_xlfn.IFS(キー割付!F16=\"着信音なし\",\"トーン1\",キー割付!F16=\"トーン1\",\"トーン1\",キー割付!F16=\"トーン2\",\"トーン2\",キー割付!F16=\"トーン3\",\"トーン3\",キー割付!F16=\"トーン4\",\"トーン4\",キー割付!F16=\"トーン5\",\"トーン5\",キー割付!F16=\"トーン6\",\"トーン6\",キー割付!F16=\"トーン7\",\"トーン7\",キー割付!F16=\"トーン7\",\"トーン7\",キー割付!F16=\"無鳴動着信\",\"トーン8\",キー割付!F16=\"グリーンスリーブス\",\"メロディ1\",キー割付!F16=\"峠の我が家\",\"メロディ2\",キー割付!F16=\"カノン\",\"メロディ3\",キー割付!F16=\"春の歌\",\"メロディ4\",キー割付!F16=\"主よ人の望みの喜びよ\",\"メロディ5\",キー割付!F16=\"メヌエット\",\"メロディ6\",キー割付!F16=\"華麗なる大円舞曲\",\"メロディ7\",キー割付!F16=\"ハンガリア舞曲第5番\",\"メロディ8\",TRUE,\"トーン1\"))","v":"トーン1"},{"$f":"IF(E7=\"ZX-DECLDIV-IPコードレス電話機\",\"トーン1\",_xlfn.IFS(キー割付!G16=\"着信音なし\",\"トーン1\",キー割付!G16=\"トーン1\",\"トーン1\",キー割付!G16=\"トーン2\",\"トーン2\",キー割付!G16=\"トーン3\",\"トーン3\",キー割付!G16=\"トーン4\",\"トーン4\",キー割付!G16=\"トーン5\",\"トーン5\",キー割付!G16=\"トーン6\",\"トーン6\",キー割付!G16=\"トーン7\",\"トーン7\",キー割付!G16=\"トーン7\",\"トーン7\",キー割付!G16=\"無鳴動着信\",\"トーン8\",キー割付!G16=\"グリーンスリーブス\",\"メロディ1\",キー割付!G16=\"峠の我が家\",\"メロディ2\",キー割付!G16=\"カノン\",\"メロディ3\",キー割付!G16=\"春の歌\",\"メロディ4\",キー割付!G16=\"主よ人の望みの喜びよ\",\"メロディ5\",キー割付!G16=\"メヌエット\",\"メロディ6\",キー割付!G16=\"華麗なる大円舞曲\",\"メロディ7\",キー割付!G16=\"ハンガリア舞曲第5番\",\"メロディ8\",TRUE,\"トーン1\"))","v":"トーン1"},{"$f":"IF(E7=\"ZX-DECLDIV-IPコードレス電話機\",\"トーン1\",_xlfn.IFS(キー割付!H16=\"着信音なし\",\"トーン1\",キー割付!H16=\"トーン1\",\"トーン1\",キー割付!H16=\"トーン2\",\"トーン2\",キー割付!H16=\"トーン3\",\"トーン3\",キー割付!H16=\"トーン4\",\"トーン4\",キー割付!H16=\"トーン5\",\"トーン5\",キー割付!H16=\"トーン6\",\"トーン6\",キー割付!H16=\"トーン7\",\"トーン7\",キー割付!H16=\"トーン7\",\"トーン7\",キー割付!H16=\"無鳴動着信\",\"トーン8\",キー割付!H16=\"グリーンスリーブス\",\"メロディ1\",キー割付!H16=\"峠の我が家\",\"メロディ2\",キー割付!H16=\"カノン\",\"メロディ3\",キー割付!H16=\"春の歌\",\"メロディ4\",キー割付!H16=\"主よ人の望みの喜びよ\",\"メロディ5\",キー割付!H16=\"メヌエット\",\"メロディ6\",キー割付!H16=\"華麗なる大円舞曲\",\"メロディ7\",キー割付!H16=\"ハンガリア舞曲第5番\",\"メロディ8\",TRUE,\"トーン1\"))","v":"トーン1"},{"$f":"IF(E7=\"ZX-DECLDIV-IPコードレス電話機\",\"トーン1\",_xlfn.IFS(キー割付!I16=\"着信音なし\",\"トーン1\",キー割付!I16=\"トーン1\",\"トーン1\",キー割付!I16=\"トーン2\",\"トーン2\",キー割付!I16=\"トーン3\",\"トーン3\",キー割付!I16=\"トーン4\",\"トーン4\",キー割付!I16=\"トーン5\",\"トーン5\",キー割付!I16=\"トーン6\",\"トーン6\",キー割付!I16=\"トーン7\",\"トーン7\",キー割付!I16=\"トーン7\",\"トーン7\",キー割付!I16=\"無鳴動着信\",\"トーン8\",キー割付!I16=\"グリーンスリーブス\",\"メロディ1\",キー割付!I16=\"峠の我が家\",\"メロディ2\",キー割付!I16=\"カノン\",\"メロディ3\",キー割付!I16=\"春の歌\",\"メロディ4\",キー割付!I16=\"主よ人の望みの喜びよ\",\"メロディ5\",キー割付!I16=\"メヌエット\",\"メロディ6\",キー割付!I16=\"華麗なる大円舞曲\",\"メロディ7\",キー割付!I16=\"ハンガリア舞曲第5番\",\"メロディ8\",TRUE,\"トーン1\"))","v":"トーン1"},{"$f":"IF(E7=\"ZX-DECLDIV-IPコードレス電話機\",\"トーン1\",_xlfn.IFS(キー割付!D24=\"着信音なし\",\"トーン1\",キー割付!D24=\"トーン1\",\"トーン1\",キー割付!D24=\"トーン2\",\"トーン2\",キー割付!D24=\"トーン3\",\"トーン3\",キー割付!D24=\"トーン4\",\"トーン4\",キー割付!D24=\"トーン5\",\"トーン5\",キー割付!D24=\"トーン6\",\"トーン6\",キー割付!D24=\"トーン7\",\"トーン7\",キー割付!D24=\"トーン7\",\"トーン7\",キー割付!D24=\"無鳴動着信\",\"トーン8\",キー割付!D24=\"グリーンスリーブス\",\"メロディ1\",キー割付!D24=\"峠の我が家\",\"メロディ2\",キー割付!D24=\"カノン\",\"メロディ3\",キー割付!D24=\"春の歌\",\"メロディ4\",キー割付!D24=\"主よ人の望みの喜びよ\",\"メロディ5\",キー割付!D24=\"メヌエット\",\"メロディ6\",キー割付!D24=\"華麗なる大円舞曲\",\"メロディ7\",キー割付!D24=\"ハンガリア舞曲第5番\",\"メロディ8\",TRUE,\"トーン1\"))","v":"トーン1"},{"$f":"IF(E7=\"ZX-DECLDIV-IPコードレス電話機\",\"トーン1\",_xlfn.IFS(キー割付!E24=\"着信音なし\",\"トーン1\",キー割付!E24=\"トーン1\",\"トーン1\",キー割付!E24=\"トーン2\",\"トーン2\",キー割付!E24=\"トーン3\",\"トーン3\",キー割付!E24=\"トーン4\",\"トーン4\",キー割付!E24=\"トーン5\",\"トーン5\",キー割付!E24=\"トーン6\",\"トーン6\",キー割付!E24=\"トーン7\",\"トーン7\",キー割付!E24=\"トーン7\",\"トーン7\",キー割付!E24=\"無鳴動着信\",\"トーン8\",キー割付!E24=\"グリーンスリーブス\",\"メロディ1\",キー割付!E24=\"峠の我が家\",\"メロディ2\",キー割付!E24=\"カノン\",\"メロディ3\",キー割付!E24=\"春の歌\",\"メロディ4\",キー割付!E24=\"主よ人の望みの喜びよ\",\"メロディ5\",キー割付!E24=\"メヌエット\",\"メロディ6\",キー割付!E24=\"華麗なる大円舞曲\",\"メロディ7\",キー割付!E24=\"ハンガリア舞曲第5番\",\"メロディ8\",TRUE,\"トーン1\"))","v":"トーン1"},{"$f":"IF(E7=\"ZX-DECLDIV-IPコードレス電話機\",\"トーン1\",_xlfn.IFS(キー割付!F24=\"着信音なし\",\"トーン1\",キー割付!F24=\"トーン1\",\"トーン1\",キー割付!F24=\"トーン2\",\"トーン2\",キー割付!F24=\"トーン3\",\"トーン3\",キー割付!F24=\"トーン4\",\"トーン4\",キー割付!F24=\"トーン5\",\"トーン5\",キー割付!F24=\"トーン6\",\"トーン6\",キー割付!F24=\"トーン7\",\"トーン7\",キー割付!F24=\"トーン7\",\"トーン7\",キー割付!F24=\"無鳴動着信\",\"トーン8\",キー割付!F24=\"グリーンスリーブス\",\"メロディ1\",キー割付!F24=\"峠の我が家\",\"メロディ2\",キー割付!F24=\"カノン\",\"メロディ3\",キー割付!F24=\"春の歌\",\"メロディ4\",キー割付!F24=\"主よ人の望みの喜びよ\",\"メロディ5\",キー割付!F24=\"メヌエット\",\"メロディ6\",キー割付!F24=\"華麗なる大円舞曲\",\"メロディ7\",キー割付!F24=\"ハンガリア舞曲第5番\",\"メロディ8\",TRUE,\"トーン1\"))","v":"トーン1"},{"$f":"IF(E7=\"ZX-DECLDIV-IPコードレス電話機\",\"トーン1\",_xlfn.IFS(キー割付!G24=\"着信音なし\",\"トーン1\",キー割付!G24=\"トーン1\",\"トーン1\",キー割付!G24=\"トーン2\",\"トーン2\",キー割付!G24=\"トーン3\",\"トーン3\",キー割付!G24=\"トーン4\",\"トーン4\",キー割付!G24=\"トーン5\",\"トーン5\",キー割付!G24=\"トーン6\",\"トーン6\",キー割付!G24=\"トーン7\",\"トーン7\",キー割付!G24=\"トーン7\",\"トーン7\",キー割付!G24=\"無鳴動着信\",\"トーン8\",キー割付!G24=\"グリーンスリーブス\",\"メロディ1\",キー割付!G24=\"峠の我が家\",\"メロディ2\",キー割付!G24=\"カノン\",\"メロディ3\",キー割付!G24=\"春の歌\",\"メロディ4\",キー割付!G24=\"主よ人の望みの喜びよ\",\"メロディ5\",キー割付!G24=\"メヌエット\",\"メロディ6\",キー割付!G24=\"華麗なる大円舞曲\",\"メロディ7\",キー割付!G24=\"ハンガリア舞曲第5番\",\"メロディ8\",TRUE,\"トーン1\"))","v":"トーン1"},{"$f":"IF(E7=\"ZX-DECLDIV-IPコードレス電話機\",\"トーン1\",_xlfn.IFS(キー割付!H24=\"着信音なし\",\"トーン1\",キー割付!H24=\"トーン1\",\"トーン1\",キー割付!H24=\"トーン2\",\"トーン2\",キー割付!H24=\"トーン3\",\"トーン3\",キー割付!H24=\"トーン4\",\"トーン4\",キー割付!H24=\"トーン5\",\"トーン5\",キー割付!H24=\"トーン6\",\"トーン6\",キー割付!H24=\"トーン7\",\"トーン7\",キー割付!H24=\"トーン7\",\"トーン7\",キー割付!H24=\"無鳴動着信\",\"トーン8\",キー割付!H24=\"グリーンスリーブス\",\"メロディ1\",キー割付!H24=\"峠の我が家\",\"メロディ2\",キー割付!H24=\"カノン\",\"メロディ3\",キー割付!H24=\"春の歌\",\"メロディ4\",キー割付!H24=\"主よ人の望みの喜びよ\",\"メロディ5\",キー割付!H24=\"メヌエット\",\"メロディ6\",キー割付!H24=\"華麗なる大円舞曲\",\"メロディ7\",キー割付!H24=\"ハンガリア舞曲第5番\",\"メロディ8\",TRUE,\"トーン1\"))","v":"トーン1"},{"$f":"IF(E7=\"ZX-DECLDIV-IPコードレス電話機\",\"トーン1\",_xlfn.IFS(キー割付!I24=\"着信音なし\",\"トーン1\",キー割付!I24=\"トーン1\",\"トーン1\",キー割付!I24=\"トーン2\",\"トーン2\",キー割付!I24=\"トーン3\",\"トーン3\",キー割付!I24=\"トーン4\",\"トーン4\",キー割付!I24=\"トーン5\",\"トーン5\",キー割付!I24=\"トーン6\",\"トーン6\",キー割付!I24=\"トーン7\",\"トーン7\",キー割付!I24=\"トーン7\",\"トーン7\",キー割付!I24=\"無鳴動着信\",\"トーン8\",キー割付!I24=\"グリーンスリーブス\",\"メロディ1\",キー割付!I24=\"峠の我が家\",\"メロディ2\",キー割付!I24=\"カノン\",\"メロディ3\",キー割付!I24=\"春の歌\",\"メロディ4\",キー割付!I24=\"主よ人の望みの喜びよ\",\"メロディ5\",キー割付!I24=\"メヌエット\",\"メロディ6\",キー割付!I24=\"華麗なる大円舞曲\",\"メロディ7\",キー割付!I24=\"ハンガリア舞曲第5番\",\"メロディ8\",TRUE,\"トーン1\"))","v":"トーン1"},{"$f":"IF(E7=\"ZX-DECLDIV-IPコードレス電話機\",\"トーン1\",_xlfn.IFS(キー割付!D32=\"着信音なし\",\"トーン1\",キー割付!D32=\"トーン1\",\"トーン1\",キー割付!D32=\"トーン2\",\"トーン2\",キー割付!D32=\"トーン3\",\"トーン3\",キー割付!D32=\"トーン4\",\"トーン4\",キー割付!D32=\"トーン5\",\"トーン5\",キー割付!D32=\"トーン6\",\"トーン6\",キー割付!D32=\"トーン7\",\"トーン7\",キー割付!D32=\"トーン7\",\"トーン7\",キー割付!D32=\"無鳴動着信\",\"トーン8\",キー割付!D32=\"グリーンスリーブス\",\"メロディ1\",キー割付!D32=\"峠の我が家\",\"メロディ2\",キー割付!D32=\"カノン\",\"メロディ3\",キー割付!D32=\"春の歌\",\"メロディ4\",キー割付!D32=\"主よ人の望みの喜びよ\",\"メロディ5\",キー割付!D32=\"メヌエット\",\"メロディ6\",キー割付!D32=\"華麗なる大円舞曲\",\"メロディ7\",キー割付!D32=\"ハンガリア舞曲第5番\",\"メロディ8\",TRUE,\"トーン1\"))","v":"トーン1"},{"$f":"IF(E7=\"ZX-DECLDIV-IPコードレス電話機\",\"トーン1\",_xlfn.IFS(キー割付!E32=\"着信音なし\",\"トーン1\",キー割付!E32=\"トーン1\",\"トーン1\",キー割付!E32=\"トーン2\",\"トーン2\",キー割付!E32=\"トーン3\",\"トーン3\",キー割付!E32=\"トーン4\",\"トーン4\",キー割付!E32=\"トーン5\",\"トーン5\",キー割付!E32=\"トーン6\",\"トーン6\",キー割付!E32=\"トーン7\",\"トーン7\",キー割付!E32=\"トーン7\",\"トーン7\",キー割付!E32=\"無鳴動着信\",\"トーン8\",キー割付!E32=\"グリーンスリーブス\",\"メロディ1\",キー割付!E32=\"峠の我が家\",\"メロディ2\",キー割付!E32=\"カノン\",\"メロディ3\",キー割付!E32=\"春の歌\",\"メロディ4\",キー割付!E32=\"主よ人の望みの喜びよ\",\"メロディ5\",キー割付!E32=\"メヌエット\",\"メロディ6\",キー割付!E32=\"華麗なる大円舞曲\",\"メロディ7\",キー割付!E32=\"ハンガリア舞曲第5番\",\"メロディ8\",TRUE,\"トーン1\"))","v":"トーン1"},{"$f":"IF(E7=\"ZX-DECLDIV-IPコードレス電話機\",\"トーン1\",_xlfn.IFS(キー割付!F32=\"着信音なし\",\"トーン1\",キー割付!F32=\"トーン1\",\"トーン1\",キー割付!F32=\"トーン2\",\"トーン2\",キー割付!F32=\"トーン3\",\"トーン3\",キー割付!F32=\"トーン4\",\"トーン4\",キー割付!F32=\"トーン5\",\"トーン5\",キー割付!F32=\"トーン6\",\"トーン6\",キー割付!F32=\"トーン7\",\"トーン7\",キー割付!F32=\"トーン7\",\"トーン7\",キー割付!F32=\"無鳴動着信\",\"トーン8\",キー割付!F32=\"グリーンスリーブス\",\"メロディ1\",キー割付!F32=\"峠の我が家\",\"メロディ2\",キー割付!F32=\"カノン\",\"メロディ3\",キー割付!F32=\"春の歌\",\"メロディ4\",キー割付!F32=\"主よ人の望みの喜びよ\",\"メロディ5\",キー割付!F32=\"メヌエット\",\"メロディ6\",キー割付!F32=\"華麗なる大円舞曲\",\"メロディ7\",キー割付!F32=\"ハンガリア舞曲第5番\",\"メロディ8\",TRUE,\"トーン1\"))","v":"トーン1"},{"$f":"IF(E7=\"ZX-DECLDIV-IPコードレス電話機\",\"トーン1\",_xlfn.IFS(キー割付!G32=\"着信音なし\",\"トーン1\",キー割付!G32=\"トーン1\",\"トーン1\",キー割付!G32=\"トーン2\",\"トーン2\",キー割付!G32=\"トーン3\",\"トーン3\",キー割付!G32=\"トーン4\",\"トーン4\",キー割付!G32=\"トーン5\",\"トーン5\",キー割付!G32=\"トーン6\",\"トーン6\",キー割付!G32=\"トーン7\",\"トーン7\",キー割付!G32=\"トーン7\",\"トーン7\",キー割付!G32=\"無鳴動着信\",\"トーン8\",キー割付!G32=\"グリーンスリーブス\",\"メロディ1\",キー割付!G32=\"峠の我が家\",\"メロディ2\",キー割付!G32=\"カノン\",\"メロディ3\",キー割付!G32=\"春の歌\",\"メロディ4\",キー割付!G32=\"主よ人の望みの喜びよ\",\"メロディ5\",キー割付!G32=\"メヌエット\",\"メロディ6\",キー割付!G32=\"華麗なる大円舞曲\",\"メロディ7\",キー割付!G32=\"ハンガリア舞曲第5番\",\"メロディ8\",TRUE,\"トーン1\"))","v":"トーン1"},{"$f":"IF(E7=\"ZX-DECLDIV-IPコードレス電話機\",\"トーン1\",_xlfn.IFS(キー割付!H32=\"着信音なし\",\"トーン1\",キー割付!H32=\"トーン1\",\"トーン1\",キー割付!H32=\"トーン2\",\"トーン2\",キー割付!H32=\"トーン3\",\"トーン3\",キー割付!H32=\"トーン4\",\"トーン4\",キー割付!H32=\"トーン5\",\"トーン5\",キー割付!H32=\"トーン6\",\"トーン6\",キー割付!H32=\"トーン7\",\"トーン7\",キー割付!H32=\"トーン7\",\"トーン7\",キー割付!H32=\"無鳴動着信\",\"トーン8\",キー割付!H32=\"グリーンスリーブス\",\"メロディ1\",キー割付!H32=\"峠の我が家\",\"メロディ2\",キー割付!H32=\"カノン\",\"メロディ3\",キー割付!H32=\"春の歌\",\"メロディ4\",キー割付!H32=\"主よ人の望みの喜びよ\",\"メロディ5\",キー割付!H32=\"メヌエット\",\"メロディ6\",キー割付!H32=\"華麗なる大円舞曲\",\"メロディ7\",キー割付!H32=\"ハンガリア舞曲第5番\",\"メロディ8\",TRUE,\"トーン1\"))","v":"トーン1"},{"$f":"IF(E7=\"ZX-DECLDIV-IPコードレス電話機\",\"トーン1\",_xlfn.IFS(キー割付!I32=\"着信音なし\",\"トーン1\",キー割付!I32=\"トーン1\",\"トーン1\",キー割付!I32=\"トーン2\",\"トーン2\",キー割付!I32=\"トーン3\",\"トーン3\",キー割付!I32=\"トーン4\",\"トーン4\",キー割付!I32=\"トーン5\",\"トーン5\",キー割付!I32=\"トーン6\",\"トーン6\",キー割付!I32=\"トーン7\",\"トーン7\",キー割付!I32=\"トーン7\",\"トーン7\",キー割付!I32=\"無鳴動着信\",\"トーン8\",キー割付!I32=\"グリーンスリーブス\",\"メロディ1\",キー割付!I32=\"峠の我が家\",\"メロディ2\",キー割付!I32=\"カノン\",\"メロディ3\",キー割付!I32=\"春の歌\",\"メロディ4\",キー割付!I32=\"主よ人の望みの喜びよ\",\"メロディ5\",キー割付!I32=\"メヌエット\",\"メロディ6\",キー割付!I32=\"華麗なる大円舞曲\",\"メロディ7\",キー割付!I32=\"ハンガリア舞曲第5番\",\"メロディ8\",TRUE,\"トーン1\"))","v":"トーン1"}]
[null,null,null,null,null,{"$f":"_xlfn.IFS(キー割付!D9=\"昼夜休憩\",\"B\",キー割付!D9=\"－－－\",\"-\",キー割付!D9=\"昼－－\",\"H\",キー割付!D9=\"－夜－\",\"N\",キー割付!D9=\"－－休憩\",\"P\",キー割付!D9=\"昼夜－\",\"D\",キー割付!D9=\"昼－休憩\",\"F\",キー割付!D9=\"－夜休憩\",\"K\",TRUE,\"-\")","v":"-"},{"$f":"_xlfn.IFS(キー割付!E9=\"昼夜休憩\",\"B\",キー割付!E9=\"－－－\",\"-\",キー割付!E9=\"昼－－\",\"H\",キー割付!E9=\"－夜－\",\"N\",キー割付!E9=\"－－休憩\",\"P\",キー割付!E9=\"昼夜－\",\"D\",キー割付!E9=\"昼－休憩\",\"F\",キー割付!E9=\"－夜休憩\",\"K\",TRUE,\"-\")","v":"-"},{"$f":"_xlfn.IFS(キー割付!F9=\"昼夜休憩\",\"B\",キー割付!F9=\"－－－\",\"-\",キー割付!F9=\"昼－－\",\"H\",キー割付!F9=\"－夜－\",\"N\",キー割付!F9=\"－－休憩\",\"P\",キー割付!F9=\"昼夜－\",\"D\",キー割付!F9=\"昼－休憩\",\"F\",キー割付!F9=\"－夜休憩\",\"K\",TRUE,\"-\")","v":"-"},{"$f":"_xlfn.IFS(キー割付!G9=\"昼夜休憩\",\"B\",キー割付!G9=\"－－－\",\"-\",キー割付!G9=\"昼－－\",\"H\",キー割付!G9=\"－夜－\",\"N\",キー割付!G9=\"－－休憩\",\"P\",キー割付!G9=\"昼夜－\",\"D\",キー割付!G9=\"昼－休憩\",\"F\",キー割付!G9=\"－夜休憩\",\"K\",TRUE,\"-\")","v":"-"},{"$f":"_xlfn.IFS(キー割付!H9=\"昼夜休憩\",\"B\",キー割付!H9=\"－－－\",\"-\",キー割付!H9=\"昼－－\",\"H\",キー割付!H9=\"－夜－\",\"N\",キー割付!H9=\"－－休憩\",\"P\",キー割付!H9=\"昼夜－\",\"D\",キー割付!H9=\"昼－休憩\",\"F\",キー割付!H9=\"－夜休憩\",\"K\",TRUE,\"-\")","v":"-"},{"$f":"_xlfn.IFS(キー割付!I9=\"昼夜休憩\",\"B\",キー割付!I9=\"－－－\",\"-\",キー割付!I9=\"昼－－\",\"H\",キー割付!I9=\"－夜－\",\"N\",キー割付!I9=\"－－休憩\",\"P\",キー割付!I9=\"昼夜－\",\"D\",キー割付!I9=\"昼－休憩\",\"F\",キー割付!I9=\"－夜休憩\",\"K\",TRUE,\"-\")","v":"-"},{"$f":"_xlfn.IFS(キー割付!D17=\"昼夜休憩\",\"B\",キー割付!D17=\"－－－\",\"-\",キー割付!D17=\"昼－－\",\"H\",キー割付!D17=\"－夜－\",\"N\",キー割付!D17=\"－－休憩\",\"P\",キー割付!D17=\"昼夜－\",\"D\",キー割付!D17=\"昼－休憩\",\"F\",キー割付!D17=\"－夜休憩\",\"K\",TRUE,\"-\")","v":"-"},{"$f":"_xlfn.IFS(キー割付!E17=\"昼夜休憩\",\"B\",キー割付!E17=\"－－－\",\"-\",キー割付!E17=\"昼－－\",\"H\",キー割付!E17=\"－夜－\",\"N\",キー割付!E17=\"－－休憩\",\"P\",キー割付!E17=\"昼夜－\",\"D\",キー割付!E17=\"昼－休憩\",\"F\",キー割付!E17=\"－夜休憩\",\"K\",TRUE,\"-\")","v":"-"},{"$f":"IF(E7=\"ZX-DECLDIV-IPコードレス電話機\",\"-\",_xlfn.IFS(キー割付!F17=\"昼夜休憩\",\"B\",キー割付!F17=\"－－－\",\"-\",キー割付!F17=\"昼－－\",\"H\",キー割付!F17=\"－夜－\",\"N\",キー割付!F17=\"－－休憩\",\"P\",キー割付!F17=\"昼夜－\",\"D\",キー割付!F17=\"昼－休憩\",\"F\",キー割付!F17=\"－夜休憩\",\"K\",TRUE,\"-\"))","v":"-"},{"$f":"IF(E7=\"ZX-DECLDIV-IPコードレス電話機\",\"-\",_xlfn.IFS(キー割付!G17=\"昼夜休憩\",\"B\",キー割付!G17=\"－－－\",\"-\",キー割付!G17=\"昼－－\",\"H\",キー割付!G17=\"－夜－\",\"N\",キー割付!G17=\"－－休憩\",\"P\",キー割付!G17=\"昼夜－\",\"D\",キー割付!G17=\"昼－休憩\",\"F\",キー割付!G17=\"－夜休憩\",\"K\",TRUE,\"-\"))","v":"-"},{"$f":"IF(E7=\"ZX-DECLDIV-IPコードレス電話機\",\"-\",_xlfn.IFS(キー割付!H17=\"昼夜休憩\",\"B\",キー割付!H17=\"－－－\",\"-\",キー割付!H17=\"昼－－\",\"H\",キー割付!H17=\"－夜－\",\"N\",キー割付!H17=\"－－休憩\",\"P\",キー割付!H17=\"昼夜－\",\"D\",キー割付!H17=\"昼－休憩\",\"F\",キー割付!H17=\"－夜休憩\",\"K\",TRUE,\"-\"))","v":"-"},{"$f":"IF(E7=\"ZX-DECLDIV-IPコードレス電話機\",\"-\",_xlfn.IFS(キー割付!I17=\"昼夜休憩\",\"B\",キー割付!I17=\"－－－\",\"-\",キー割付!I17=\"昼－－\",\"H\",キー割付!I17=\"－夜－\",\"N\",キー割付!I17=\"－－休憩\",\"P\",キー割付!I17=\"昼夜－\",\"D\",キー割付!I17=\"昼－休憩\",\"F\",キー割付!I17=\"－夜休憩\",\"K\",TRUE,\"-\"))","v":"-"},{"$f":"IF(E7=\"ZX-DECLDIV-IPコードレス電話機\",\"-\",_xlfn.IFS(キー割付!D25=\"昼夜休憩\",\"B\",キー割付!D25=\"－－－\",\"-\",キー割付!D25=\"昼－－\",\"H\",キー割付!D25=\"－夜－\",\"N\",キー割付!D25=\"－－休憩\",\"P\",キー割付!D25=\"昼夜－\",\"D\",キー割付!D25=\"昼－休憩\",\"F\",キー割付!D25=\"－夜休憩\",\"K\",TRUE,\"-\"))","v":"-"},{"$f":"IF(E7=\"ZX-DECLDIV-IPコードレス電話機\",\"-\",_xlfn.IFS(キー割付!E25=\"昼夜休憩\",\"B\",キー割付!E25=\"－－－\",\"-\",キー割付!E25=\"昼－－\",\"H\",キー割付!E25=\"－夜－\",\"N\",キー割付!E25=\"－－休憩\",\"P\",キー割付!E25=\"昼夜－\",\"D\",キー割付!E25=\"昼－休憩\",\"F\",キー割付!E25=\"－夜休憩\",\"K\",TRUE,\"-\"))","v":"-"},{"$f":"IF(E7=\"ZX-DECLDIV-IPコードレス電話機\",\"-\",_xlfn.IFS(キー割付!F25=\"昼夜休憩\",\"B\",キー割付!F25=\"－－－\",\"-\",キー割付!F25=\"昼－－\",\"H\",キー割付!F25=\"－夜－\",\"N\",キー割付!F25=\"－－休憩\",\"P\",キー割付!F25=\"昼夜－\",\"D\",キー割付!F25=\"昼－休憩\",\"F\",キー割付!F25=\"－夜休憩\",\"K\",TRUE,\"-\"))","v":"-"},{"$f":"IF(E7=\"ZX-DECLDIV-IPコードレス電話機\",\"-\",_xlfn.IFS(キー割付!G25=\"昼夜休憩\",\"B\",キー割付!G25=\"－－－\",\"-\",キー割付!G25=\"昼－－\",\"H\",キー割付!G25=\"－夜－\",\"N\",キー割付!G25=\"－－休憩\",\"P\",キー割付!G25=\"昼夜－\",\"D\",キー割付!G25=\"昼－休憩\",\"F\",キー割付!G25=\"－夜休憩\",\"K\",TRUE,\"-\"))","v":"-"},{"$f":"IF(E7=\"ZX-DECLDIV-IPコードレス電話機\",\"-\",_xlfn.IFS(キー割付!H25=\"昼夜休憩\",\"B\",キー割付!H25=\"－－－\",\"-\",キー割付!H25=\"昼－－\",\"H\",キー割付!H25=\"－夜－\",\"N\",キー割付!H25=\"－－休憩\",\"P\",キー割付!H25=\"昼夜－\",\"D\",キー割付!H25=\"昼－休憩\",\"F\",キー割付!H25=\"－夜休憩\",\"K\",TRUE,\"-\"))","v":"-"},{"$f":"IF(E7=\"ZX-DECLDIV-IPコードレス電話機\",\"-\",_xlfn.IFS(キー割付!I25=\"昼夜休憩\",\"B\",キー割付!I25=\"－－－\",\"-\",キー割付!I25=\"昼－－\",\"H\",キー割付!I25=\"－夜－\",\"N\",キー割付!I25=\"－－休憩\",\"P\",キー割付!I25=\"昼夜－\",\"D\",キー割付!I25=\"昼－休憩\",\"F\",キー割付!I25=\"－夜休憩\",\"K\",TRUE,\"-\"))","v":"-"},{"$f":"IF(E7=\"ZX-DECLDIV-IPコードレス電話機\",\"-\",_xlfn.IFS(キー割付!D33=\"昼夜休憩\",\"B\",キー割付!D33=\"－－－\",\"-\",キー割付!D33=\"昼－－\",\"H\",キー割付!D33=\"－夜－\",\"N\",キー割付!D33=\"－－休憩\",\"P\",キー割付!D33=\"昼夜－\",\"D\",キー割付!D33=\"昼－休憩\",\"F\",キー割付!D33=\"－夜休憩\",\"K\",TRUE,\"-\"))","v":"-"},{"$f":"IF(E7=\"ZX-DECLDIV-IPコードレス電話機\",\"-\",_xlfn.IFS(キー割付!E33=\"昼夜休憩\",\"B\",キー割付!E33=\"－－－\",\"-\",キー割付!E33=\"昼－－\",\"H\",キー割付!E33=\"－夜－\",\"N\",キー割付!E33=\"－－休憩\",\"P\",キー割付!E33=\"昼夜－\",\"D\",キー割付!E33=\"昼－休憩\",\"F\",キー割付!E33=\"－夜休憩\",\"K\",TRUE,\"-\"))","v":"-"},{"$f":"IF(E7=\"ZX-DECLDIV-IPコードレス電話機\",\"-\",_xlfn.IFS(キー割付!F33=\"昼夜休憩\",\"B\",キー割付!F33=\"－－－\",\"-\",キー割付!F33=\"昼－－\",\"H\",キー割付!F33=\"－夜－\",\"N\",キー割付!F33=\"－－休憩\",\"P\",キー割付!F33=\"昼夜－\",\"D\",キー割付!F33=\"昼－休憩\",\"F\",キー割付!F33=\"－夜休憩\",\"K\",TRUE,\"-\"))","v":"-"},{"$f":"IF(E7=\"ZX-DECLDIV-IPコードレス電話機\",\"-\",_xlfn.IFS(キー割付!G33=\"昼夜休憩\",\"B\",キー割付!G33=\"－－－\",\"-\",キー割付!G33=\"昼－－\",\"H\",キー割付!G33=\"－夜－\",\"N\",キー割付!G33=\"－－休憩\",\"P\",キー割付!G33=\"昼夜－\",\"D\",キー割付!G33=\"昼－休憩\",\"F\",キー割付!G33=\"－夜休憩\",\"K\",TRUE,\"-\"))","v":"-"},{"$f":"IF(E7=\"ZX-DECLDIV-IPコードレス電話機\",\"-\",_xlfn.IFS(キー割付!H33=\"昼夜休憩\",\"B\",キー割付!H33=\"－－－\",\"-\",キー割付!H33=\"昼－－\",\"H\",キー割付!H33=\"－夜－\",\"N\",キー割付!H33=\"－－休憩\",\"P\",キー割付!H33=\"昼夜－\",\"D\",キー割付!H33=\"昼－休憩\",\"F\",キー割付!H33=\"－夜休憩\",\"K\",TRUE,\"-\"))","v":"-"},{"$f":"IF(E7=\"ZX-DECLDIV-IPコードレス電話機\",\"-\",_xlfn.IFS(キー割付!I33=\"昼夜休憩\",\"B\",キー割付!I33=\"－－－\",\"-\",キー割付!I33=\"昼－－\",\"H\",キー割付!I33=\"－夜－\",\"N\",キー割付!I33=\"－－休憩\",\"P\",キー割付!I33=\"昼夜－\",\"D\",キー割付!I33=\"昼－休憩\",\"F\",キー割付!I33=\"－夜休憩\",\"K\",TRUE,\"-\"))","v":"-"}]
[null,2,{"$f":"IF(IFERROR(VALUE(VLOOKUP(B10,内線_キー割用,2,FALSE)),\"\")=0,\"\",IFERROR(VALUE(VLOOKUP(B10,内線_キー割用,2,FALSE)),\"\"))","v":""},{"$f":"IF(IFERROR(VALUE(VLOOKUP(B10,内線_キー割用,4,FALSE)),\"\")=0,\"\",IFERROR(VALUE(VLOOKUP(B10,内線_キー割用,4,FALSE)),\"\"))","v":""},{"$f":"IF(IFERROR(VLOOKUP(B10,内線_キー割用,3,FALSE),\"\")=0,\"\",IFERROR(VLOOKUP(B10,内線_キー割用,3,FALSE),\"\"))","v":""},{"$f":"IF(キー割付!N7=\"\",\"未使用\",キー割付!N7)","v":"未使用"},{"$f":"IF(キー割付!O7=\"\",\"未使用\",キー割付!O7)","v":"未使用"},{"$f":"IF(キー割付!P7=\"\",\"未使用\",キー割付!P7)","v":"未使用"},{"$f":"IF(キー割付!Q7=\"\",\"未使用\",キー割付!Q7)","v":"未使用"},{"$f":"IF(キー割付!R7=\"\",\"未使用\",キー割付!R7)","v":"未使用"},{"$f":"IF(キー割付!S7=\"\",\"未使用\",キー割付!S7)","v":"未使用"},{"$f":"IF(キー割付!N15=\"\",\"未使用\",キー割付!N15)","v":"未使用"},{"$f":"IF(キー割付!O15=\"\",\"未使用\",キー割付!O15)","v":"未使用"},{"$f":"IF(E10=\"ZX-DECLDIV-IPコードレス電話機\",\"未使用\",IF(キー割付!P15=\"\",\"未使用\",キー割付!P15))","v":"未使用"},{"$f":"IF(E10=\"ZX-DECLDIV-IPコードレス電話機\",\"未使用\",IF(キー割付!Q15=\"\",\"未使用\",キー割付!Q15))","v":"未使用"},{"$f":"IF(E10=\"ZX-DECLDIV-IPコードレス電話機\",\"未使用\",IF(キー割付!R15=\"\",\"未使用\",キー割付!R15))","v":"未使用"},{"$f":"IF(E10=\"ZX-DECLDIV-IPコードレス電話機\",\"未使用\",IF(キー割付!S15=\"\",\"未使用\",キー割付!S15))","v":"未使用"},{"$f":"IF(E10=\"ZX-DECLDIV-IPコードレス電話機\",\"未使用\",IF(キー割付!N23=\"\",\"未使用\",キー割付!N23))","v":"未使用"},{"$f":"IF(E10=\"ZX-DECLDIV-IPコードレス電話機\",\"未使用\",IF(キー割付!O23=\"\",\"未使用\",キー割付!O23))","v":"未使用"},{"$f":"IF(E10=\"ZX-DECLDIV-IPコードレス電話機\",\"未使用\",IF(キー割付!P23=\"\",\"未使用\",キー割付!P23))","v":"未使用"},{"$f":"IF(E10=\"ZX-DECLDIV-IPコードレス電話機\",\"未使用\",IF(キー割付!Q23=\"\",\"未使用\",キー割付!Q23))","v":"未使用"},{"$f":"IF(E10=\"ZX-DECLDIV-IPコードレス電話機\",\"未使用\",IF(キー割付!R23=\"\",\"未使用\",キー割付!R23))","v":"未使用"},{"$f":"IF(E10=\"ZX-DECLDIV-IPコードレス電話機\",\"未使用\",IF(キー割付!S23=\"\",\"未使用\",キー割付!S23))","v":"未使用"},{"$f":"IF(E10=\"ZX-DECLDIV-IPコードレス電話機\",\"未使用\",IF(キー割付!N31=\"\",\"未使用\",キー割付!N31))","v":"未使用"},{"$f":"IF(E10=\"ZX-DECLDIV-IPコードレス電話機\",\"未使用\",IF(キー割付!O31=\"\",\"未使用\",キー割付!O31))","v":"未使用"},{"$f":"IF(E10=\"ZX-DECLDIV-IPコードレス電話機\",\"未使用\",IF(キー割付!P31=\"\",\"未使用\",キー割付!P31))","v":"未使用"},{"$f":"IF(E10=\"ZX-DECLDIV-IPコードレス電話機\",\"未使用\",IF(キー割付!Q31=\"\",\"未使用\",キー割付!Q31))","v":"未使用"},{"$f":"IF(E10=\"ZX-DECLDIV-IPコードレス電話機\",\"未使用\",IF(キー割付!R31=\"\",\"未使用\",キー割付!R31))","v":"未使用"},{"$f":"IF(E10=\"ZX-DECLDIV-IPコードレス電話機\",\"未使用\",IF(キー割付!S31=\"\",\"未使用\",キー割付!S31))","v":"未使用"}]
[null,null,null,null,null,{"$f":"_xlfn.IFS(キー割付!N8=\"着信音なし\",\"トーン1\",キー割付!N8=\"トーン1\",\"トーン1\",キー割付!N8=\"トーン2\",\"トーン2\",キー割付!N8=\"トーン3\",\"トーン3\",キー割付!N8=\"トーン4\",\"トーン4\",キー割付!N8=\"トーン5\",\"トーン5\",キー割付!N8=\"トーン6\",\"トーン6\",キー割付!N8=\"トーン7\",\"トーン7\",キー割付!N8=\"トーン7\",\"トーン7\",キー割付!N8=\"無鳴動着信\",\"トーン8\",キー割付!N8=\"グリーンスリーブス\",\"メロディ1\",キー割付!N8=\"峠の我が家\",\"メロディ2\",キー割付!N8=\"カノン\",\"メロディ3\",キー割付!N8=\"春の歌\",\"メロディ4\",キー割付!N8=\"主よ人の望みの喜びよ\",\"メロディ5\",キー割付!N8=\"メヌエット\",\"メロディ6\",キー割付!N8=\"華麗なる大円舞曲\",\"メロディ7\",キー割付!N8=\"ハンガリア舞曲第5番\",\"メロディ8\",TRUE,\"トーン1\")","v":"トーン1"},{"$f":"_xlfn.IFS(キー割付!O8=\"着信音なし\",\"トーン1\",キー割付!O8=\"トーン1\",\"トーン1\",キー割付!O8=\"トーン2\",\"トーン2\",キー割付!O8=\"トーン3\",\"トーン3\",キー割付!O8=\"トーン4\",\"トーン4\",キー割付!O8=\"トーン5\",\"トーン5\",キー割付!O8=\"トーン6\",\"トーン6\",キー割付!O8=\"トーン7\",\"トーン7\",キー割付!O8=\"トーン7\",\"トーン7\",キー割付!O8=\"無鳴動着信\",\"トーン8\",キー割付!O8=\"グリーンスリーブス\",\"メロディ1\",キー割付!O8=\"峠の我が家\",\"メロディ2\",キー割付!O8=\"カノン\",\"メロディ3\",キー割付!O8=\"春の歌\",\"メロディ4\",キー割付!O8=\"主よ人の望みの喜びよ\",\"メロディ5\",キー割付!O8=\"メヌエット\",\"メロディ6\",キー割付!O8=\"華麗なる大円舞曲\",\"メロディ7\",キー割付!O8=\"ハンガリア舞曲第5番\",\"メロディ8\",TRUE,\"トーン1\")","v":"トーン1"},{"$f":"_xlfn.IFS(キー割付!P8=\"着信音なし\",\"トーン1\",キー割付!P8=\"トーン1\",\"トーン1\",キー割付!P8=\"トーン2\",\"トーン2\",キー割付!P8=\"トーン3\",\"トーン3\",キー割付!P8=\"トーン4\",\"トーン4\",キー割付!P8=\"トーン5\",\"トーン5\",キー割付!P8=\"トーン6\",\"トーン6\",キー割付!P8=\"トーン7\",\"トーン7\",キー割付!P8=\"トーン7\",\"トーン7\",キー割付!P8=\"無鳴動着信\",\"トーン8\",キー割付!P8=\"グリーンスリーブス\",\"メロディ1\",キー割付!P8=\"峠の我が家\",\"メロディ2\",キー割付!P8=\"カノン\",\"メロディ3\",キー割付!P8=\"春の歌\",\"メロディ4\",キー割付!P8=\"主よ人の望みの喜びよ\",\"メロディ5\",キー割付!P8=\"メヌエット\",\"メロディ6\",キー割付!P8=\"華麗なる大円舞曲\",\"メロディ7\",キー割付!P8=\"ハンガリア舞曲第5番\",\"メロディ8\",TRUE,\"トーン1\")","v":"トーン1"},{"$f":"_xlfn.IFS(キー割付!Q8=\"着信音なし\",\"トーン1\",キー割付!Q8=\"トーン1\",\"トーン1\",キー割付!Q8=\"トーン2\",\"トーン2\",キー割付!Q8=\"トーン3\",\"トーン3\",キー割付!Q8=\"トーン4\",\"トーン4\",キー割付!Q8=\"トーン5\",\"トーン5\",キー割付!Q8=\"トーン6\",\"トーン6\",キー割付!Q8=\"トーン7\",\"トーン7\",キー割付!Q8=\"トーン7\",\"トーン7\",キー割付!Q8=\"無鳴動着信\",\"トーン8\",キー割付!Q8=\"グリーンスリーブス\",\"メロディ1\",キー割付!Q8=\"峠の我が家\",\"メロディ2\",キー割付!Q8=\"カノン\",\"メロディ3\",キー割付!Q8=\"春の歌\",\"メロディ4\",キー割付!Q8=\"主よ人の望みの喜びよ\",\"メロディ5\",キー割付!Q8=\"メヌエット\",\"メロディ6\",キー割付!Q8=\"華麗なる大円舞曲\",\"メロディ7\",キー割付!Q8=\"ハンガリア舞曲第5番\",\"メロディ8\",TRUE,\"トーン1\")","v":"トーン1"},{"$f":"_xlfn.IFS(キー割付!R8=\"着信音なし\",\"トーン1\",キー割付!R8=\"トーン1\",\"トーン1\",キー割付!R8=\"トーン2\",\"トーン2\",キー割付!R8=\"トーン3\",\"トーン3\",キー割付!R8=\"トーン4\",\"トーン4\",キー割付!R8=\"トーン5\",\"トーン5\",キー割付!R8=\"トーン6\",\"トーン6\",キー割付!R8=\"トーン7\",\"トーン7\",キー割付!R8=\"トーン7\",\"トーン7\",キー割付!R8=\"無鳴動着信\",\"トーン8\",キー割付!R8=\"グリーンスリーブス\",\"メロディ1\",キー割付!R8=\"峠の我が家\",\"メロディ2\",キー割付!R8=\"カノン\",\"メロディ3\",キー割付!R8=\"春の歌\",\"メロディ4\",キー割付!R8=\"主よ人の望みの喜びよ\",\"メロディ5\",キー割付!R8=\"メヌエット\",\"メロディ6\",キー割付!R8=\"華麗なる大円舞曲\",\"メロディ7\",キー割付!R8=\"ハンガリア舞曲第5番\",\"メロディ8\",TRUE,\"トーン1\")","v":"トーン1"},{"$f":"_xlfn.IFS(キー割付!S8=\"着信音なし\",\"トーン1\",キー割付!S8=\"トーン1\",\"トーン1\",キー割付!S8=\"トーン2\",\"トーン2\",キー割付!S8=\"トーン3\",\"トーン3\",キー割付!S8=\"トーン4\",\"トーン4\",キー割付!S8=\"トーン5\",\"トーン5\",キー割付!S8=\"トーン6\",\"トーン6\",キー割付!S8=\"トーン7\",\"トーン7\",キー割付!S8=\"トーン7\",\"トーン7\",キー割付!S8=\"無鳴動着信\",\"トーン8\",キー割付!S8=\"グリーンスリーブス\",\"メロディ1\",キー割付!S8=\"峠の我が家\",\"メロディ2\",キー割付!S8=\"カノン\",\"メロディ3\",キー割付!S8=\"春の歌\",\"メロディ4\",キー割付!S8=\"主よ人の望みの喜びよ\",\"メロディ5\",キー割付!S8=\"メヌエット\",\"メロディ6\",キー割付!S8=\"華麗なる大円舞曲\",\"メロディ7\",キー割付!S8=\"ハンガリア舞曲第5番\",\"メロディ8\",TRUE,\"トーン1\")","v":"トーン1"},{"$f":"_xlfn.IFS(キー割付!N16=\"着信音なし\",\"トーン1\",キー割付!N16=\"トーン1\",\"トーン1\",キー割付!N16=\"トーン2\",\"トーン2\",キー割付!N16=\"トーン3\",\"トーン3\",キー割付!N16=\"トーン4\",\"トーン4\",キー割付!N16=\"トーン5\",\"トーン5\",キー割付!N16=\"トーン6\",\"トーン6\",キー割付!N16=\"トーン7\",\"トーン7\",キー割付!N16=\"トーン7\",\"トーン7\",キー割付!N16=\"無鳴動着信\",\"トーン8\",キー割付!N16=\"グリーンスリーブス\",\"メロディ1\",キー割付!N16=\"峠の我が家\",\"メロディ2\",キー割付!N16=\"カノン\",\"メロディ3\",キー割付!N16=\"春の歌\",\"メロディ4\",キー割付!N16=\"主よ人の望みの喜びよ\",\"メロディ5\",キー割付!N16=\"メヌエット\",\"メロディ6\",キー割付!N16=\"華麗なる大円舞曲\",\"メロディ7\",キー割付!N16=\"ハンガリア舞曲第5番\",\"メロディ8\",TRUE,\"トーン1\")","v":"トーン1"},{"$f":"_xlfn.IFS(キー割付!O16=\"着信音なし\",\"トーン1\",キー割付!O16=\"トーン1\",\"トーン1\",キー割付!O16=\"トーン2\",\"トーン2\",キー割付!O16=\"トーン3\",\"トーン3\",キー割付!O16=\"トーン4\",\"トーン4\",キー割付!O16=\"トーン5\",\"トーン5\",キー割付!O16=\"トーン6\",\"トーン6\",キー割付!O16=\"トーン7\",\"トーン7\",キー割付!O16=\"トーン7\",\"トーン7\",キー割付!O16=\"無鳴動着信\",\"トーン8\",キー割付!O16=\"グリーンスリーブス\",\"メロディ1\",キー割付!O16=\"峠の我が家\",\"メロディ2\",キー割付!O16=\"カノン\",\"メロディ3\",キー割付!O16=\"春の歌\",\"メロディ4\",キー割付!O16=\"主よ人の望みの喜びよ\",\"メロディ5\",キー割付!O16=\"メヌエット\",\"メロディ6\",キー割付!O16=\"華麗なる大円舞曲\",\"メロディ7\",キー割付!O16=\"ハンガリア舞曲第5番\",\"メロディ8\",TRUE,\"トーン1\")","v":"トーン1"},{"$f":"IF(E10=\"ZX-DECLDIV-IPコードレス電話機\",\"トーン1\",_xlfn.IFS(キー割付!P16=\"着信音なし\",\"トーン1\",キー割付!P16=\"トーン1\",\"トーン1\",キー割付!P16=\"トーン2\",\"トーン2\",キー割付!P16=\"トーン3\",\"トーン3\",キー割付!P16=\"トーン4\",\"トーン4\",キー割付!P16=\"トーン5\",\"トーン5\",キー割付!P16=\"トーン6\",\"トーン6\",キー割付!P16=\"トーン7\",\"トーン7\",キー割付!P16=\"トーン7\",\"トーン7\",キー割付!P16=\"無鳴動着信\",\"トーン8\",キー割付!P16=\"グリーンスリーブス\",\"メロディ1\",キー割付!P16=\"峠の我が家\",\"メロディ2\",キー割付!P16=\"カノン\",\"メロディ3\",キー割付!P16=\"春の歌\",\"メロディ4\",キー割付!P16=\"主よ人の望みの喜びよ\",\"メロディ5\",キー割付!P16=\"メヌエット\",\"メロディ6\",キー割付!P16=\"華麗なる大円舞曲\",\"メロディ7\",キー割付!P16=\"ハンガリア舞曲第5番\",\"メロディ8\",TRUE,\"トーン1\"))","v":"トーン1"},{"$f":"IF(E10=\"ZX-DECLDIV-IPコードレス電話機\",\"トーン1\",_xlfn.IFS(キー割付!Q16=\"着信音なし\",\"トーン1\",キー割付!Q16=\"トーン1\",\"トーン1\",キー割付!Q16=\"トーン2\",\"トーン2\",キー割付!Q16=\"トーン3\",\"トーン3\",キー割付!Q16=\"トーン4\",\"トーン4\",キー割付!Q16=\"トーン5\",\"トーン5\",キー割付!Q16=\"トーン6\",\"トーン6\",キー割付!Q16=\"トーン7\",\"トーン7\",キー割付!Q16=\"トーン7\",\"トーン7\",キー割付!Q16=\"無鳴動着信\",\"トーン8\",キー割付!Q16=\"グリーンスリーブス\",\"メロディ1\",キー割付!Q16=\"峠の我が家\",\"メロディ2\",キー割付!Q16=\"カノン\",\"メロディ3\",キー割付!Q16=\"春の歌\",\"メロディ4\",キー割付!Q16=\"主よ人の望みの喜びよ\",\"メロディ5\",キー割付!Q16=\"メヌエット\",\"メロディ6\",キー割付!Q16=\"華麗なる大円舞曲\",\"メロディ7\",キー割付!Q16=\"ハンガリア舞曲第5番\",\"メロディ8\",TRUE,\"トーン1\"))","v":"トーン1"},{"$f":"IF(E10=\"ZX-DECLDIV-IPコードレス電話機\",\"トーン1\",_xlfn.IFS(キー割付!R16=\"着信音なし\",\"トーン1\",キー割付!R16=\"トーン1\",\"トーン1\",キー割付!R16=\"トーン2\",\"トーン2\",キー割付!R16=\"トーン3\",\"トーン3\",キー割付!R16=\"トーン4\",\"トーン4\",キー割付!R16=\"トーン5\",\"トーン5\",キー割付!R16=\"トーン6\",\"トーン6\",キー割付!R16=\"トーン7\",\"トーン7\",キー割付!R16=\"トーン7\",\"トーン7\",キー割付!R16=\"無鳴動着信\",\"トーン8\",キー割付!R16=\"グリーンスリーブス\",\"メロディ1\",キー割付!R16=\"峠の我が家\",\"メロディ2\",キー割付!R16=\"カノン\",\"メロディ3\",キー割付!R16=\"春の歌\",\"メロディ4\",キー割付!R16=\"主よ人の望みの喜びよ\",\"メロディ5\",キー割付!R16=\"メヌエット\",\"メロディ6\",キー割付!R16=\"華麗なる大円舞曲\",\"メロディ7\",キー割付!R16=\"ハンガリア舞曲第5番\",\"メロディ8\",TRUE,\"トーン1\"))","v":"トーン1"},{"$f":"IF(E10=\"ZX-DECLDIV-IPコードレス電話機\",\"トーン1\",_xlfn.IFS(キー割付!S16=\"着信音なし\",\"トーン1\",キー割付!S16=\"トーン1\",\"トーン1\",キー割付!S16=\"トーン2\",\"トーン2\",キー割付!S16=\"トーン3\",\"トーン3\",キー割付!S16=\"トーン4\",\"トーン4\",キー割付!S16=\"トーン5\",\"トーン5\",キー割付!S16=\"トーン6\",\"トーン6\",キー割付!S16=\"トーン7\",\"トーン7\",キー割付!S16=\"トーン7\",\"トーン7\",キー割付!S16=\"無鳴動着信\",\"トーン8\",キー割付!S16=\"グリーンスリーブス\",\"メロディ1\",キー割付!S16=\"峠の我が家\",\"メロディ2\",キー割付!S16=\"カノン\",\"メロディ3\",キー割付!S16=\"春の歌\",\"メロディ4\",キー割付!S16=\"主よ人の望みの喜びよ\",\"メロディ5\",キー割付!S16=\"メヌエット\",\"メロディ6\",キー割付!S16=\"華麗なる大円舞曲\",\"メロディ7\",キー割付!S16=\"ハンガリア舞曲第5番\",\"メロディ8\",TRUE,\"トーン1\"))","v":"トーン1"},{"$f":"IF(E10=\"ZX-DECLDIV-IPコードレス電話機\",\"トーン1\",_xlfn.IFS(キー割付!N24=\"着信音なし\",\"トーン1\",キー割付!N24=\"トーン1\",\"トーン1\",キー割付!N24=\"トーン2\",\"トーン2\",キー割付!N24=\"トーン3\",\"トーン3\",キー割付!N24=\"トーン4\",\"トーン4\",キー割付!N24=\"トーン5\",\"トーン5\",キー割付!N24=\"トーン6\",\"トーン6\",キー割付!N24=\"トーン7\",\"トーン7\",キー割付!N24=\"トーン7\",\"トーン7\",キー割付!N24=\"無鳴動着信\",\"トーン8\",キー割付!N24=\"グリーンスリーブス\",\"メロディ1\",キー割付!N24=\"峠の我が家\",\"メロディ2\",キー割付!N24=\"カノン\",\"メロディ3\",キー割付!N24=\"春の歌\",\"メロディ4\",キー割付!N24=\"主よ人の望みの喜びよ\",\"メロディ5\",キー割付!N24=\"メヌエット\",\"メロディ6\",キー割付!N24=\"華麗なる大円舞曲\",\"メロディ7\",キー割付!N24=\"ハンガリア舞曲第5番\",\"メロディ8\",TRUE,\"トーン1\"))","v":"トーン1"},{"$f":"IF(E10=\"ZX-DECLDIV-IPコードレス電話機\",\"トーン1\",_xlfn.IFS(キー割付!O24=\"着信音なし\",\"トーン1\",キー割付!O24=\"トーン1\",\"トーン1\",キー割付!O24=\"トーン2\",\"トーン2\",キー割付!O24=\"トーン3\",\"トーン3\",キー割付!O24=\"トーン4\",\"トーン4\",キー割付!O24=\"トーン5\",\"トーン5\",キー割付!O24=\"トーン6\",\"トーン6\",キー割付!O24=\"トーン7\",\"トーン7\",キー割付!O24=\"トーン7\",\"トーン7\",キー割付!O24=\"無鳴動着信\",\"トーン8\",キー割付!O24=\"グリーンスリーブス\",\"メロディ1\",キー割付!O24=\"峠の我が家\",\"メロディ2\",キー割付!O24=\"カノン\",\"メロディ3\",キー割付!O24=\"春の歌\",\"メロディ4\",キー割付!O24=\"主よ人の望みの喜びよ\",\"メロディ5\",キー割付!O24=\"メヌエット\",\"メロディ6\",キー割付!O24=\"華麗なる大円舞曲\",\"メロディ7\",キー割付!O24=\"ハンガリア舞曲第5番\",\"メロディ8\",TRUE,\"トーン1\"))","v":"トーン1"},{"$f":"IF(E10=\"ZX-DECLDIV-IPコードレス電話機\",\"トーン1\",_xlfn.IFS(キー割付!P24=\"着信音なし\",\"トーン1\",キー割付!P24=\"トーン1\",\"トーン1\",キー割付!P24=\"トーン2\",\"トーン2\",キー割付!P24=\"トーン3\",\"トーン3\",キー割付!P24=\"トーン4\",\"トーン4\",キー割付!P24=\"トーン5\",\"トーン5\",キー割付!P24=\"トーン6\",\"トーン6\",キー割付!P24=\"トーン7\",\"トーン7\",キー割付!P24=\"トーン7\",\"トーン7\",キー割付!P24=\"無鳴動着信\",\"トーン8\",キー割付!P24=\"グリーンスリーブス\",\"メロディ1\",キー割付!P24=\"峠の我が家\",\"メロディ2\",キー割付!P24=\"カノン\",\"メロディ3\",キー割付!P24=\"春の歌\",\"メロディ4\",キー割付!P24=\"主よ人の望みの喜びよ\",\"メロディ5\",キー割付!P24=\"メヌエット\",\"メロディ6\",キー割付!P24=\"華麗なる大円舞曲\",\"メロディ7\",キー割付!P24=\"ハンガリア舞曲第5番\",\"メロディ8\",TRUE,\"トーン1\"))","v":"トーン1"},{"$f":"IF(E10=\"ZX-DECLDIV-IPコードレス電話機\",\"トーン1\",_xlfn.IFS(キー割付!Q24=\"着信音なし\",\"トーン1\",キー割付!Q24=\"トーン1\",\"トーン1\",キー割付!Q24=\"トーン2\",\"トーン2\",キー割付!Q24=\"トーン3\",\"トーン3\",キー割付!Q24=\"トーン4\",\"トーン4\",キー割付!Q24=\"トーン5\",\"トーン5\",キー割付!Q24=\"トーン6\",\"トーン6\",キー割付!Q24=\"トーン7\",\"トーン7\",キー割付!Q24=\"トーン7\",\"トーン7\",キー割付!Q24=\"無鳴動着信\",\"トーン8\",キー割付!Q24=\"グリーンスリーブス\",\"メロディ1\",キー割付!Q24=\"峠の我が家\",\"メロディ2\",キー割付!Q24=\"カノン\",\"メロディ3\",キー割付!Q24=\"春の歌\",\"メロディ4\",キー割付!Q24=\"主よ人の望みの喜びよ\",\"メロディ5\",キー割付!Q24=\"メヌエット\",\"メロディ6\",キー割付!Q24=\"華麗なる大円舞曲\",\"メロディ7\",キー割付!Q24=\"ハンガリア舞曲第5番\",\"メロディ8\",TRUE,\"トーン1\"))","v":"トーン1"},{"$f":"IF(E10=\"ZX-DECLDIV-IPコードレス電話機\",\"トーン1\",_xlfn.IFS(キー割付!R24=\"着信音なし\",\"トーン1\",キー割付!R24=\"トーン1\",\"トーン1\",キー割付!R24=\"トーン2\",\"トーン2\",キー割付!R24=\"トーン3\",\"トーン3\",キー割付!R24=\"トーン4\",\"トーン4\",キー割付!R24=\"トーン5\",\"トーン5\",キー割付!R24=\"トーン6\",\"トーン6\",キー割付!R24=\"トーン7\",\"トーン7\",キー割付!R24=\"トーン7\",\"トーン7\",キー割付!R24=\"無鳴動着信\",\"トーン8\",キー割付!R24=\"グリーンスリーブス\",\"メロディ1\",キー割付!R24=\"峠の我が家\",\"メロディ2\",キー割付!R24=\"カノン\",\"メロディ3\",キー割付!R24=\"春の歌\",\"メロディ4\",キー割付!R24=\"主よ人の望みの喜びよ\",\"メロディ5\",キー割付!R24=\"メヌエット\",\"メロディ6\",キー割付!R24=\"華麗なる大円舞曲\",\"メロディ7\",キー割付!R24=\"ハンガリア舞曲第5番\",\"メロディ8\",TRUE,\"トーン1\"))","v":"トーン1"},{"$f":"IF(E10=\"ZX-DECLDIV-IPコードレス電話機\",\"トーン1\",_xlfn.IFS(キー割付!S24=\"着信音なし\",\"トーン1\",キー割付!S24=\"トーン1\",\"トーン1\",キー割付!S24=\"トーン2\",\"トーン2\",キー割付!S24=\"トーン3\",\"トーン3\",キー割付!S24=\"トーン4\",\"トーン4\",キー割付!S24=\"トーン5\",\"トーン5\",キー割付!S24=\"トーン6\",\"トーン6\",キー割付!S24=\"トーン7\",\"トーン7\",キー割付!S24=\"トーン7\",\"トーン7\",キー割付!S24=\"無鳴動着信\",\"トーン8\",キー割付!S24=\"グリーンスリーブス\",\"メロディ1\",キー割付!S24=\"峠の我が家\",\"メロディ2\",キー割付!S24=\"カノン\",\"メロディ3\",キー割付!S24=\"春の歌\",\"メロディ4\",キー割付!S24=\"主よ人の望みの喜びよ\",\"メロディ5\",キー割付!S24=\"メヌエット\",\"メロディ6\",キー割付!S24=\"華麗なる大円舞曲\",\"メロディ7\",キー割付!S24=\"ハンガリア舞曲第5番\",\"メロディ8\",TRUE,\"トーン1\"))","v":"トーン1"},{"$f":"IF(E10=\"ZX-DECLDIV-IPコードレス電話機\",\"トーン1\",_xlfn.IFS(キー割付!N32=\"着信音なし\",\"トーン1\",キー割付!N32=\"トーン1\",\"トーン1\",キー割付!N32=\"トーン2\",\"トーン2\",キー割付!N32=\"トーン3\",\"トーン3\",キー割付!N32=\"トーン4\",\"トーン4\",キー割付!N32=\"トーン5\",\"トーン5\",キー割付!N32=\"トーン6\",\"トーン6\",キー割付!N32=\"トーン7\",\"トーン7\",キー割付!N32=\"トーン7\",\"トーン7\",キー割付!N32=\"無鳴動着信\",\"トーン8\",キー割付!N32=\"グリーンスリーブス\",\"メロディ1\",キー割付!N32=\"峠の我が家\",\"メロディ2\",キー割付!N32=\"カノン\",\"メロディ3\",キー割付!N32=\"春の歌\",\"メロディ4\",キー割付!N32=\"主よ人の望みの喜びよ\",\"メロディ5\",キー割付!N32=\"メヌエット\",\"メロディ6\",キー割付!N32=\"華麗なる大円舞曲\",\"メロディ7\",キー割付!N32=\"ハンガリア舞曲第5番\",\"メロディ8\",TRUE,\"トーン1\"))","v":"トーン1"},{"$f":"IF(E10=\"ZX-DECLDIV-IPコードレス電話機\",\"トーン1\",_xlfn.IFS(キー割付!O32=\"着信音なし\",\"トーン1\",キー割付!O32=\"トーン1\",\"トーン1\",キー割付!O32=\"トーン2\",\"トーン2\",キー割付!O32=\"トーン3\",\"トーン3\",キー割付!O32=\"トーン4\",\"トーン4\",キー割付!O32=\"トーン5\",\"トーン5\",キー割付!O32=\"トーン6\",\"トーン6\",キー割付!O32=\"トーン7\",\"トーン7\",キー割付!O32=\"トーン7\",\"トーン7\",キー割付!O32=\"無鳴動着信\",\"トーン8\",キー割付!O32=\"グリーンスリーブス\",\"メロディ1\",キー割付!O32=\"峠の我が家\",\"メロディ2\",キー割付!O32=\"カノン\",\"メロディ3\",キー割付!O32=\"春の歌\",\"メロディ4\",キー割付!O32=\"主よ人の望みの喜びよ\",\"メロディ5\",キー割付!O32=\"メヌエット\",\"メロディ6\",キー割付!O32=\"華麗なる大円舞曲\",\"メロディ7\",キー割付!O32=\"ハンガリア舞曲第5番\",\"メロディ8\",TRUE,\"トーン1\"))","v":"トーン1"},{"$f":"IF(E10=\"ZX-DECLDIV-IPコードレス電話機\",\"トーン1\",_xlfn.IFS(キー割付!P32=\"着信音なし\",\"トーン1\",キー割付!P32=\"トーン1\",\"トーン1\",キー割付!P32=\"トーン2\",\"トーン2\",キー割付!P32=\"トーン3\",\"トーン3\",キー割付!P32=\"トーン4\",\"トーン4\",キー割付!P32=\"トーン5\",\"トーン5\",キー割付!P32=\"トーン6\",\"トーン6\",キー割付!P32=\"トーン7\",\"トーン7\",キー割付!P32=\"トーン7\",\"トーン7\",キー割付!P32=\"無鳴動着信\",\"トーン8\",キー割付!P32=\"グリーンスリーブス\",\"メロディ1\",キー割付!P32=\"峠の我が家\",\"メロディ2\",キー割付!P32=\"カノン\",\"メロディ3\",キー割付!P32=\"春の歌\",\"メロディ4\",キー割付!P32=\"主よ人の望みの喜びよ\",\"メロディ5\",キー割付!P32=\"メヌエット\",\"メロディ6\",キー割付!P32=\"華麗なる大円舞曲\",\"メロディ7\",キー割付!P32=\"ハンガリア舞曲第5番\",\"メロディ8\",TRUE,\"トーン1\"))","v":"トーン1"},{"$f":"IF(E10=\"ZX-DECLDIV-IPコードレス電話機\",\"トーン1\",_xlfn.IFS(キー割付!Q32=\"着信音なし\",\"トーン1\",キー割付!Q32=\"トーン1\",\"トーン1\",キー割付!Q32=\"トーン2\",\"トーン2\",キー割付!Q32=\"トーン3\",\"トーン3\",キー割付!Q32=\"トーン4\",\"トーン4\",キー割付!Q32=\"トーン5\",\"トーン5\",キー割付!Q32=\"トーン6\",\"トーン6\",キー割付!Q32=\"トーン7\",\"トーン7\",キー割付!Q32=\"トーン7\",\"トーン7\",キー割付!Q32=\"無鳴動着信\",\"トーン8\",キー割付!Q32=\"グリーンスリーブス\",\"メロディ1\",キー割付!Q32=\"峠の我が家\",\"メロディ2\",キー割付!Q32=\"カノン\",\"メロディ3\",キー割付!Q32=\"春の歌\",\"メロディ4\",キー割付!Q32=\"主よ人の望みの喜びよ\",\"メロディ5\",キー割付!Q32=\"メヌエット\",\"メロディ6\",キー割付!Q32=\"華麗なる大円舞曲\",\"メロディ7\",キー割付!Q32=\"ハンガリア舞曲第5番\",\"メロディ8\",TRUE,\"トーン1\"))","v":"トーン1"},{"$f":"IF(E10=\"ZX-DECLDIV-IPコードレス電話機\",\"トーン1\",_xlfn.IFS(キー割付!R32=\"着信音なし\",\"トーン1\",キー割付!R32=\"トーン1\",\"トーン1\",キー割付!R32=\"トーン2\",\"トーン2\",キー割付!R32=\"トーン3\",\"トーン3\",キー割付!R32=\"トーン4\",\"トーン4\",キー割付!R32=\"トーン5\",\"トーン5\",キー割付!R32=\"トーン6\",\"トーン6\",キー割付!R32=\"トーン7\",\"トーン7\",キー割付!R32=\"トーン7\",\"トーン7\",キー割付!R32=\"無鳴動着信\",\"トーン8\",キー割付!R32=\"グリーンスリーブス\",\"メロディ1\",キー割付!R32=\"峠の我が家\",\"メロディ2\",キー割付!R32=\"カノン\",\"メロディ3\",キー割付!R32=\"春の歌\",\"メロディ4\",キー割付!R32=\"主よ人の望みの喜びよ\",\"メロディ5\",キー割付!R32=\"メヌエット\",\"メロディ6\",キー割付!R32=\"華麗なる大円舞曲\",\"メロディ7\",キー割付!R32=\"ハンガリア舞曲第5番\",\"メロディ8\",TRUE,\"トーン1\"))","v":"トーン1"},{"$f":"IF(E10=\"ZX-DECLDIV-IPコードレス電話機\",\"トーン1\",_xlfn.IFS(キー割付!S32=\"着信音なし\",\"トーン1\",キー割付!S32=\"トーン1\",\"トーン1\",キー割付!S32=\"トーン2\",\"トーン2\",キー割付!S32=\"トーン3\",\"トーン3\",キー割付!S32=\"トーン4\",\"トーン4\",キー割付!S32=\"トーン5\",\"トーン5\",キー割付!S32=\"トーン6\",\"トーン6\",キー割付!S32=\"トーン7\",\"トーン7\",キー割付!S32=\"トーン7\",\"トーン7\",キー割付!S32=\"無鳴動着信\",\"トーン8\",キー割付!S32=\"グリーンスリーブス\",\"メロディ1\",キー割付!S32=\"峠の我が家\",\"メロディ2\",キー割付!S32=\"カノン\",\"メロディ3\",キー割付!S32=\"春の歌\",\"メロディ4\",キー割付!S32=\"主よ人の望みの喜びよ\",\"メロディ5\",キー割付!S32=\"メヌエット\",\"メロディ6\",キー割付!S32=\"華麗なる大円舞曲\",\"メロディ7\",キー割付!S32=\"ハンガリア舞曲第5番\",\"メロディ8\",TRUE,\"トーン1\"))","v":"トーン1"}]
[null,null,null,null,null,{"$f":"_xlfn.IFS(キー割付!N9=\"昼夜休憩\",\"B\",キー割付!N9=\"－－－\",\"-\",キー割付!N9=\"昼－－\",\"H\",キー割付!N9=\"－夜－\",\"N\",キー割付!N9=\"－－休憩\",\"P\",キー割付!N9=\"昼夜－\",\"N\",キー割付!N9=\"昼－休憩\",\"F\",キー割付!N9=\"－夜休憩\",\"K\",TRUE,\"-\")","v":"-"},{"$f":"_xlfn.IFS(キー割付!O9=\"昼夜休憩\",\"B\",キー割付!O9=\"－－－\",\"-\",キー割付!O9=\"昼－－\",\"H\",キー割付!O9=\"－夜－\",\"N\",キー割付!O9=\"－－休憩\",\"P\",キー割付!O9=\"昼夜－\",\"N\",キー割付!O9=\"昼－休憩\",\"F\",キー割付!O9=\"－夜休憩\",\"K\",TRUE,\"-\")","v":"-"},{"$f":"_xlfn.IFS(キー割付!P9=\"昼夜休憩\",\"B\",キー割付!P9=\"－－－\",\"-\",キー割付!P9=\"昼－－\",\"H\",キー割付!P9=\"－夜－\",\"N\",キー割付!P9=\"－－休憩\",\"P\",キー割付!P9=\"昼夜－\",\"N\",キー割付!P9=\"昼－休憩\",\"F\",キー割付!P9=\"－夜休憩\",\"K\",TRUE,\"-\")","v":"-"},{"$f":"_xlfn.IFS(キー割付!Q9=\"昼夜休憩\",\"B\",キー割付!Q9=\"－－－\",\"-\",キー割付!Q9=\"昼－－\",\"H\",キー割付!Q9=\"－夜－\",\"N\",キー割付!Q9=\"－－休憩\",\"P\",キー割付!Q9=\"昼夜－\",\"N\",キー割付!Q9=\"昼－休憩\",\"F\",キー割付!Q9=\"－夜休憩\",\"K\",TRUE,\"-\")","v":"-"},{"$f":"_xlfn.IFS(キー割付!R9=\"昼夜休憩\",\"B\",キー割付!R9=\"－－－\",\"-\",キー割付!R9=\"昼－－\",\"H\",キー割付!R9=\"－夜－\",\"N\",キー割付!R9=\"－－休憩\",\"P\",キー割付!R9=\"昼夜－\",\"N\",キー割付!R9=\"昼－休憩\",\"F\",キー割付!R9=\"－夜休憩\",\"K\",TRUE,\"-\")","v":"-"},{"$f":"_xlfn.IFS(キー割付!S9=\"昼夜休憩\",\"B\",キー割付!S9=\"－－－\",\"-\",キー割付!S9=\"昼－－\",\"H\",キー割付!S9=\"－夜－\",\"N\",キー割付!S9=\"－－休憩\",\"P\",キー割付!S9=\"昼夜－\",\"N\",キー割付!S9=\"昼－休憩\",\"F\",キー割付!S9=\"－夜休憩\",\"K\",TRUE,\"-\")","v":"-"},{"$f":"_xlfn.IFS(キー割付!N17=\"昼夜休憩\",\"B\",キー割付!N17=\"－－－\",\"-\",キー割付!N17=\"昼－－\",\"H\",キー割付!N17=\"－夜－\",\"N\",キー割付!N17=\"－－休憩\",\"P\",キー割付!N17=\"昼夜－\",\"N\",キー割付!N17=\"昼－休憩\",\"F\",キー割付!N17=\"－夜休憩\",\"K\",TRUE,\"-\")","v":"-"},{"$f":"_xlfn.IFS(キー割付!O17=\"昼夜休憩\",\"B\",キー割付!O17=\"－－－\",\"-\",キー割付!O17=\"昼－－\",\"H\",キー割付!O17=\"－夜－\",\"N\",キー割付!O17=\"－－休憩\",\"P\",キー割付!O17=\"昼夜－\",\"N\",キー割付!O17=\"昼－休憩\",\"F\",キー割付!O17=\"－夜休憩\",\"K\",TRUE,\"-\")","v":"-"},{"$f":"IF(E10=\"ZX-DECLDIV-IPコードレス電話機\",\"-\",_xlfn.IFS(キー割付!P17=\"昼夜休憩\",\"B\",キー割付!P17=\"－－－\",\"-\",キー割付!P17=\"昼－－\",\"H\",キー割付!P17=\"－夜－\",\"N\",キー割付!P17=\"－－休憩\",\"P\",キー割付!P17=\"昼夜－\",\"N\",キー割付!P17=\"昼－休憩\",\"F\",キー割付!P17=\"－夜休憩\",\"K\",TRUE,\"-\"))","v":"-"},{"$f":"IF(E10=\"ZX-DECLDIV-IPコードレス電話機\",\"-\",_xlfn.IFS(キー割付!Q17=\"昼夜休憩\",\"B\",キー割付!Q17=\"－－－\",\"-\",キー割付!Q17=\"昼－－\",\"H\",キー割付!Q17=\"－夜－\",\"N\",キー割付!Q17=\"－－休憩\",\"P\",キー割付!Q17=\"昼夜－\",\"N\",キー割付!Q17=\"昼－休憩\",\"F\",キー割付!Q17=\"－夜休憩\",\"K\",TRUE,\"-\"))","v":"-"},{"$f":"IF(E10=\"ZX-DECLDIV-IPコードレス電話機\",\"-\",_xlfn.IFS(キー割付!R17=\"昼夜休憩\",\"B\",キー割付!R17=\"－－－\",\"-\",キー割付!R17=\"昼－－\",\"H\",キー割付!R17=\"－夜－\",\"N\",キー割付!R17=\"－－休憩\",\"P\",キー割付!R17=\"昼夜－\",\"N\",キー割付!R17=\"昼－休憩\",\"F\",キー割付!R17=\"－夜休憩\",\"K\",TRUE,\"-\"))","v":"-"},{"$f":"IF(E10=\"ZX-DECLDIV-IPコードレス電話機\",\"-\",_xlfn.IFS(キー割付!S17=\"昼夜休憩\",\"B\",キー割付!S17=\"－－－\",\"-\",キー割付!S17=\"昼－－\",\"H\",キー割付!S17=\"－夜－\",\"N\",キー割付!S17=\"－－休憩\",\"P\",キー割付!S17=\"昼夜－\",\"N\",キー割付!S17=\"昼－休憩\",\"F\",キー割付!S17=\"－夜休憩\",\"K\",TRUE,\"-\"))","v":"-"},{"$f":"IF(E10=\"ZX-DECLDIV-IPコードレス電話機\",\"-\",_xlfn.IFS(キー割付!N25=\"昼夜休憩\",\"B\",キー割付!N25=\"－－－\",\"-\",キー割付!N25=\"昼－－\",\"H\",キー割付!N25=\"－夜－\",\"N\",キー割付!N25=\"－－休憩\",\"P\",キー割付!N25=\"昼夜－\",\"N\",キー割付!N25=\"昼－休憩\",\"F\",キー割付!N25=\"－夜休憩\",\"K\",TRUE,\"-\"))","v":"-"},{"$f":"IF(E10=\"ZX-DECLDIV-IPコードレス電話機\",\"-\",_xlfn.IFS(キー割付!O25=\"昼夜休憩\",\"B\",キー割付!O25=\"－－－\",\"-\",キー割付!O25=\"昼－－\",\"H\",キー割付!O25=\"－夜－\",\"N\",キー割付!O25=\"－－休憩\",\"P\",キー割付!O25=\"昼夜－\",\"N\",キー割付!O25=\"昼－休憩\",\"F\",キー割付!O25=\"－夜休憩\",\"K\",TRUE,\"-\"))","v":"-"},{"$f":"IF(E10=\"ZX-DECLDIV-IPコードレス電話機\",\"-\",_xlfn.IFS(キー割付!P25=\"昼夜休憩\",\"B\",キー割付!P25=\"－－－\",\"-\",キー割付!P25=\"昼－－\",\"H\",キー割付!P25=\"－夜－\",\"N\",キー割付!P25=\"－－休憩\",\"P\",キー割付!P25=\"昼夜－\",\"N\",キー割付!P25=\"昼－休憩\",\"F\",キー割付!P25=\"－夜休憩\",\"K\",TRUE,\"-\"))","v":"-"},{"$f":"IF(E10=\"ZX-DECLDIV-IPコードレス電話機\",\"-\",_xlfn.IFS(キー割付!Q25=\"昼夜休憩\",\"B\",キー割付!Q25=\"－－－\",\"-\",キー割付!Q25=\"昼－－\",\"H\",キー割付!Q25=\"－夜－\",\"N\",キー割付!Q25=\"－－休憩\",\"P\",キー割付!Q25=\"昼夜－\",\"N\",キー割付!Q25=\"昼－休憩\",\"F\",キー割付!Q25=\"－夜休憩\",\"K\",TRUE,\"-\"))","v":"-"},{"$f":"IF(E10=\"ZX-DECLDIV-IPコードレス電話機\",\"-\",_xlfn.IFS(キー割付!R25=\"昼夜休憩\",\"B\",キー割付!R25=\"－－－\",\"-\",キー割付!R25=\"昼－－\",\"H\",キー割付!R25=\"－夜－\",\"N\",キー割付!R25=\"－－休憩\",\"P\",キー割付!R25=\"昼夜－\",\"N\",キー割付!R25=\"昼－休憩\",\"F\",キー割付!R25=\"－夜休憩\",\"K\",TRUE,\"-\"))","v":"-"},{"$f":"IF(E10=\"ZX-DECLDIV-IPコードレス電話機\",\"-\",_xlfn.IFS(キー割付!S25=\"昼夜休憩\",\"B\",キー割付!S25=\"－－－\",\"-\",キー割付!S25=\"昼－－\",\"H\",キー割付!S25=\"－夜－\",\"N\",キー割付!S25=\"－－休憩\",\"P\",キー割付!S25=\"昼夜－\",\"N\",キー割付!S25=\"昼－休憩\",\"F\",キー割付!S25=\"－夜休憩\",\"K\",TRUE,\"-\"))","v":"-"},{"$f":"IF(E10=\"ZX-DECLDIV-IPコードレス電話機\",\"-\",_xlfn.IFS(キー割付!N33=\"昼夜休憩\",\"B\",キー割付!N33=\"－－－\",\"-\",キー割付!N33=\"昼－－\",\"H\",キー割付!N33=\"－夜－\",\"N\",キー割付!N33=\"－－休憩\",\"P\",キー割付!N33=\"昼夜－\",\"N\",キー割付!N33=\"昼－休憩\",\"F\",キー割付!N33=\"－夜休憩\",\"K\",TRUE,\"-\"))","v":"-"},{"$f":"IF(E10=\"ZX-DECLDIV-IPコードレス電話機\",\"-\",_xlfn.IFS(キー割付!O33=\"昼夜休憩\",\"B\",キー割付!O33=\"－－－\",\"-\",キー割付!O33=\"昼－－\",\"H\",キー割付!O33=\"－夜－\",\"N\",キー割付!O33=\"－－休憩\",\"P\",キー割付!O33=\"昼夜－\",\"N\",キー割付!O33=\"昼－休憩\",\"F\",キー割付!O33=\"－夜休憩\",\"K\",TRUE,\"-\"))","v":"-"},{"$f":"IF(E10=\"ZX-DECLDIV-IPコードレス電話機\",\"-\",_xlfn.IFS(キー割付!P33=\"昼夜休憩\",\"B\",キー割付!P33=\"－－－\",\"-\",キー割付!P33=\"昼－－\",\"H\",キー割付!P33=\"－夜－\",\"N\",キー割付!P33=\"－－休憩\",\"P\",キー割付!P33=\"昼夜－\",\"N\",キー割付!P33=\"昼－休憩\",\"F\",キー割付!P33=\"－夜休憩\",\"K\",TRUE,\"-\"))","v":"-"},{"$f":"IF(E10=\"ZX-DECLDIV-IPコードレス電話機\",\"-\",_xlfn.IFS(キー割付!Q33=\"昼夜休憩\",\"B\",キー割付!Q33=\"－－－\",\"-\",キー割付!Q33=\"昼－－\",\"H\",キー割付!Q33=\"－夜－\",\"N\",キー割付!Q33=\"－－休憩\",\"P\",キー割付!Q33=\"昼夜－\",\"N\",キー割付!Q33=\"昼－休憩\",\"F\",キー割付!Q33=\"－夜休憩\",\"K\",TRUE,\"-\"))","v":"-"},{"$f":"IF(E10=\"ZX-DECLDIV-IPコードレス電話機\",\"-\",_xlfn.IFS(キー割付!R33=\"昼夜休憩\",\"B\",キー割付!R33=\"－－－\",\"-\",キー割付!R33=\"昼－－\",\"H\",キー割付!R33=\"－夜－\",\"N\",キー割付!R33=\"－－休憩\",\"P\",キー割付!R33=\"昼夜－\",\"N\",キー割付!R33=\"昼－休憩\",\"F\",キー割付!R33=\"－夜休憩\",\"K\",TRUE,\"-\"))","v":"-"},{"$f":"IF(E10=\"ZX-DECLDIV-IPコードレス電話機\",\"-\",_xlfn.IFS(キー割付!S33=\"昼夜休憩\",\"B\",キー割付!S33=\"－－－\",\"-\",キー割付!S33=\"昼－－\",\"H\",キー割付!S33=\"－夜－\",\"N\",キー割付!S33=\"－－休憩\",\"P\",キー割付!S33=\"昼夜－\",\"N\",キー割付!S33=\"昼－休憩\",\"F\",キー割付!S33=\"－夜休憩\",\"K\",TRUE,\"-\"))","v":"-"}]
[null,3,{"$f":"IF(IFERROR(VALUE(VLOOKUP(B13,内線_キー割用,2,FALSE)),\"\")=0,\"\",IFERROR(VALUE(VLOOKUP(B13,内線_キー割用,2,FALSE)),\"\"))","v":""},{"$f":"IF(IFERROR(VALUE(VLOOKUP(B13,内線_キー割用,4,FALSE)),\"\")=0,\"\",IFERROR(VALUE(VLOOKUP(B13,内線_キー割用,4,FALSE)),\"\"))","v":""},{"$f":"IF(IFERROR(VLOOKUP(B13,内線_キー割用,3,FALSE),\"\")=0,\"\",IFERROR(VLOOKUP(B13,内線_キー割用,3,FALSE),\"\"))","v":""},{"$f":"IF(キー割付!D43=\"\",\"未使用\",キー割付!D43)","v":"未使用"},{"$f":"IF(キー割付!E43=\"\",\"未使用\",キー割付!E43)","v":"未使用"},{"$f":"IF(キー割付!F43=\"\",\"未使用\",キー割付!F43)","v":"未使用"},{"$f":"IF(キー割付!G43=\"\",\"未使用\",キー割付!G43)","v":"未使用"},{"$f":"IF(キー割付!H43=\"\",\"未使用\",キー割付!H43)","v":"未使用"},{"$f":"IF(キー割付!I43=\"\",\"未使用\",キー割付!I43)","v":"未使用"},{"$f":"IF(キー割付!D51=\"\",\"未使用\",キー割付!D51)","v":"未使用"},{"$f":"IF(キー割付!E51=\"\",\"未使用\",キー割付!E51)","v":"未使用"},{"$f":"IF(E13=\"ZX-DECLDIV-IPコードレス電話機\",\"未使用\",IF(キー割付!F51=\"\",\"未使用\",キー割付!F51))","v":"未使用"},{"$f":"IF(E13=\"ZX-DECLDIV-IPコードレス電話機\",\"未使用\",IF(キー割付!G51=\"\",\"未使用\",キー割付!G51))","v":"未使用"},{"$f":"IF(E13=\"ZX-DECLDIV-IPコードレス電話機\",\"未使用\",IF(キー割付!H51=\"\",\"未使用\",キー割付!H51))","v":"未使用"},{"$f":"IF(E13=\"ZX-DECLDIV-IPコードレス電話機\",\"未使用\",IF(キー割付!I51=\"\",\"未使用\",キー割付!I51))","v":"未使用"},{"$f":"IF(E13=\"ZX-DECLDIV-IPコードレス電話機\",\"未使用\",IF(キー割付!D59=\"\",\"未使用\",キー割付!D59))","v":"未使用"},{"$f":"IF(E13=\"ZX-DECLDIV-IPコードレス電話機\",\"未使用\",IF(キー割付!E59=\"\",\"未使用\",キー割付!E59))","v":"未使用"},{"$f":"IF(E13=\"ZX-DECLDIV-IPコードレス電話機\",\"未使用\",IF(キー割付!F59=\"\",\"未使用\",キー割付!F59))","v":"未使用"},{"$f":"IF(E13=\"ZX-DECLDIV-IPコードレス電話機\",\"未使用\",IF(キー割付!G59=\"\",\"未使用\",キー割付!G59))","v":"未使用"},{"$f":"IF(E13=\"ZX-DECLDIV-IPコードレス電話機\",\"未使用\",IF(キー割付!H59=\"\",\"未使用\",キー割付!H59))","v":"未使用"},{"$f":"IF(E13=\"ZX-DECLDIV-IPコードレス電話機\",\"未使用\",IF(キー割付!I59=\"\",\"未使用\",キー割付!I59))","v":"未使用"},{"$f":"IF(E13=\"ZX-DECLDIV-IPコードレス電話機\",\"未使用\",IF(キー割付!D67=\"\",\"未使用\",キー割付!D67))","v":"未使用"},{"$f":"IF(E13=\"ZX-DECLDIV-IPコードレス電話機\",\"未使用\",IF(キー割付!E67=\"\",\"未使用\",キー割付!E67))","v":"未使用"},{"$f":"IF(E13=\"ZX-DECLDIV-IPコードレス電話機\",\"未使用\",IF(キー割付!F67=\"\",\"未使用\",キー割付!F67))","v":"未使用"},{"$f":"IF(E13=\"ZX-DECLDIV-IPコードレス電話機\",\"未使用\",IF(キー割付!G67=\"\",\"未使用\",キー割付!G67))","v":"未使用"},{"$f":"IF(E13=\"ZX-DECLDIV-IPコードレス電話機\",\"未使用\",IF(キー割付!H67=\"\",\"未使用\",キー割付!H67))","v":"未使用"},{"$f":"IF(E13=\"ZX-DECLDIV-IPコードレス電話機\",\"未使用\",IF(キー割付!I67=\"\",\"未使用\",キー割付!I67))","v":"未使用"}]
[null,null,null,null,null,{"$f":"_xlfn.IFS(キー割付!D44=\"着信音なし\",\"トーン1\",キー割付!D44=\"トーン1\",\"トーン1\",キー割付!D44=\"トーン2\",\"トーン2\",キー割付!D44=\"トーン3\",\"トーン3\",キー割付!D44=\"トーン4\",\"トーン4\",キー割付!D44=\"トーン5\",\"トーン5\",キー割付!D44=\"トーン6\",\"トーン6\",キー割付!D44=\"トーン7\",\"トーン7\",キー割付!D44=\"トーン7\",\"トーン7\",キー割付!D44=\"無鳴動着信\",\"トーン8\",キー割付!D44=\"グリーンスリーブス\",\"メロディ1\",キー割付!D44=\"峠の我が家\",\"メロディ2\",キー割付!D44=\"カノン\",\"メロディ3\",キー割付!D44=\"春の歌\",\"メロディ4\",キー割付!D44=\"主よ人の望みの喜びよ\",\"メロディ5\",キー割付!D44=\"メヌエット\",\"メロディ6\",キー割付!D44=\"華麗なる大円舞曲\",\"メロディ7\",キー割付!D44=\"ハンガリア舞曲第5番\",\"メロディ8\",TRUE,\"トーン1\")","v":"トーン1"},{"$f":"_xlfn.IFS(キー割付!E44=\"着信音なし\",\"トーン1\",キー割付!E44=\"トーン1\",\"トーン1\",キー割付!E44=\"トーン2\",\"トーン2\",キー割付!E44=\"トーン3\",\"トーン3\",キー割付!E44=\"トーン4\",\"トーン4\",キー割付!E44=\"トーン5\",\"トーン5\",キー割付!E44=\"トーン6\",\"トーン6\",キー割付!E44=\"トーン7\",\"トーン7\",キー割付!E44=\"トーン7\",\"トーン7\",キー割付!E44=\"無鳴動着信\",\"トーン8\",キー割付!E44=\"グリーンスリーブス\",\"メロディ1\",キー割付!E44=\"峠の我が家\",\"メロディ2\",キー割付!E44=\"カノン\",\"メロディ3\",キー割付!E44=\"春の歌\",\"メロディ4\",キー割付!E44=\"主よ人の望みの喜びよ\",\"メロディ5\",キー割付!E44=\"メヌエット\",\"メロディ6\",キー割付!E44=\"華麗なる大円舞曲\",\"メロディ7\",キー割付!E44=\"ハンガリア舞曲第5番\",\"メロディ8\",TRUE,\"トーン1\")","v":"トーン1"},{"$f":"_xlfn.IFS(キー割付!F44=\"着信音なし\",\"トーン1\",キー割付!F44=\"トーン1\",\"トーン1\",キー割付!F44=\"トーン2\",\"トーン2\",キー割付!F44=\"トーン3\",\"トーン3\",キー割付!F44=\"トーン4\",\"トーン4\",キー割付!F44=\"トーン5\",\"トーン5\",キー割付!F44=\"トーン6\",\"トーン6\",キー割付!F44=\"トーン7\",\"トーン7\",キー割付!F44=\"トーン7\",\"トーン7\",キー割付!F44=\"無鳴動着信\",\"トーン8\",キー割付!F44=\"グリーンスリーブス\",\"メロディ1\",キー割付!F44=\"峠の我が家\",\"メロディ2\",キー割付!F44=\"カノン\",\"メロディ3\",キー割付!F44=\"春の歌\",\"メロディ4\",キー割付!F44=\"主よ人の望みの喜びよ\",\"メロディ5\",キー割付!F44=\"メヌエット\",\"メロディ6\",キー割付!F44=\"華麗なる大円舞曲\",\"メロディ7\",キー割付!F44=\"ハンガリア舞曲第5番\",\"メロディ8\",TRUE,\"トーン1\")","v":"トーン1"},{"$f":"_xlfn.IFS(キー割付!G44=\"着信音なし\",\"トーン1\",キー割付!G44=\"トーン1\",\"トーン1\",キー割付!G44=\"トーン2\",\"トーン2\",キー割付!G44=\"トーン3\",\"トーン3\",キー割付!G44=\"トーン4\",\"トーン4\",キー割付!G44=\"トーン5\",\"トーン5\",キー割付!G44=\"トーン6\",\"トーン6\",キー割付!G44=\"トーン7\",\"トーン7\",キー割付!G44=\"トーン7\",\"トーン7\",キー割付!G44=\"無鳴動着信\",\"トーン8\",キー割付!G44=\"グリーンスリーブス\",\"メロディ1\",キー割付!G44=\"峠の我が家\",\"メロディ2\",キー割付!G44=\"カノン\",\"メロディ3\",キー割付!G44=\"春の歌\",\"メロディ4\",キー割付!G44=\"主よ人の望みの喜びよ\",\"メロディ5\",キー割付!G44=\"メヌエット\",\"メロディ6\",キー割付!G44=\"華麗なる大円舞曲\",\"メロディ7\",キー割付!G44=\"ハンガリア舞曲第5番\",\"メロディ8\",TRUE,\"トーン1\")","v":"トーン1"},{"$f":"_xlfn.IFS(キー割付!H44=\"着信音なし\",\"トーン1\",キー割付!H44=\"トーン1\",\"トーン1\",キー割付!H44=\"トーン2\",\"トーン2\",キー割付!H44=\"トーン3\",\"トーン3\",キー割付!H44=\"トーン4\",\"トーン4\",キー割付!H44=\"トーン5\",\"トーン5\",キー割付!H44=\"トーン6\",\"トーン6\",キー割付!H44=\"トーン7\",\"トーン7\",キー割付!H44=\"トーン7\",\"トーン7\",キー割付!H44=\"無鳴動着信\",\"トーン8\",キー割付!H44=\"グリーンスリーブス\",\"メロディ1\",キー割付!H44=\"峠の我が家\",\"メロディ2\",キー割付!H44=\"カノン\",\"メロディ3\",キー割付!H44=\"春の歌\",\"メロディ4\",キー割付!H44=\"主よ人の望みの喜びよ\",\"メロディ5\",キー割付!H44=\"メヌエット\",\"メロディ6\",キー割付!H44=\"華麗なる大円舞曲\",\"メロディ7\",キー割付!H44=\"ハンガリア舞曲第5番\",\"メロディ8\",TRUE,\"トーン1\")","v":"トーン1"},{"$f":"_xlfn.IFS(キー割付!I44=\"着信音なし\",\"トーン1\",キー割付!I44=\"トーン1\",\"トーン1\",キー割付!I44=\"トーン2\",\"トーン2\",キー割付!I44=\"トーン3\",\"トーン3\",キー割付!I44=\"トーン4\",\"トーン4\",キー割付!I44=\"トーン5\",\"トーン5\",キー割付!I44=\"トーン6\",\"トーン6\",キー割付!I44=\"トーン7\",\"トーン7\",キー割付!I44=\"トーン7\",\"トーン7\",キー割付!I44=\"無鳴動着信\",\"トーン8\",キー割付!I44=\"グリーンスリーブス\",\"メロディ1\",キー割付!I44=\"峠の我が家\",\"メロディ2\",キー割付!I44=\"カノン\",\"メロディ3\",キー割付!I44=\"春の歌\",\"メロディ4\",キー割付!I44=\"主よ人の望みの喜びよ\",\"メロディ5\",キー割付!I44=\"メヌエット\",\"メロディ6\",キー割付!I44=\"華麗なる大円舞曲\",\"メロディ7\",キー割付!I44=\"ハンガリア舞曲第5番\",\"メロディ8\",TRUE,\"トーン1\")","v":"トーン1"},{"$f":"_xlfn.IFS(キー割付!D52=\"着信音なし\",\"トーン1\",キー割付!D52=\"トーン1\",\"トーン1\",キー割付!D52=\"トーン2\",\"トーン2\",キー割付!D52=\"トーン3\",\"トーン3\",キー割付!D52=\"トーン4\",\"トーン4\",キー割付!D52=\"トーン5\",\"トーン5\",キー割付!D52=\"トーン6\",\"トーン6\",キー割付!D52=\"トーン7\",\"トーン7\",キー割付!D52=\"トーン7\",\"トーン7\",キー割付!D52=\"無鳴動着信\",\"トーン8\",キー割付!D52=\"グリーンスリーブス\",\"メロディ1\",キー割付!D52=\"峠の我が家\",\"メロディ2\",キー割付!D52=\"カノン\",\"メロディ3\",キー割付!D52=\"春の歌\",\"メロディ4\",キー割付!D52=\"主よ人の望みの喜びよ\",\"メロディ5\",キー割付!D52=\"メヌエット\",\"メロディ6\",キー割付!D52=\"華麗なる大円舞曲\",\"メロディ7\",キー割付!D52=\"ハンガリア舞曲第5番\",\"メロディ8\",TRUE,\"トーン1\")","v":"トーン1"},{"$f":"_xlfn.IFS(キー割付!E52=\"着信音なし\",\"トーン1\",キー割付!E52=\"トーン1\",\"トーン1\",キー割付!E52=\"トーン2\",\"トーン2\",キー割付!E52=\"トーン3\",\"トーン3\",キー割付!E52=\"トーン4\",\"トーン4\",キー割付!E52=\"トーン5\",\"トーン5\",キー割付!E52=\"トーン6\",\"トーン6\",キー割付!E52=\"トーン7\",\"トーン7\",キー割付!E52=\"トーン7\",\"トーン7\",キー割付!E52=\"無鳴動着信\",\"トーン8\",キー割付!E52=\"グリーンスリーブス\",\"メロディ1\",キー割付!E52=\"峠の我が家\",\"メロディ2\",キー割付!E52=\"カノン\",\"メロディ3\",キー割付!E52=\"春の歌\",\"メロディ4\",キー割付!E52=\"主よ人の望みの喜びよ\",\"メロディ5\",キー割付!E52=\"メヌエット\",\"メロディ6\",キー割付!E52=\"華麗なる大円舞曲\",\"メロディ7\",キー割付!E52=\"ハンガリア舞曲第5番\",\"メロディ8\",TRUE,\"トーン1\")","v":"トーン1"},{"$f":"IF(E13=\"ZX-DECLDIV-IPコードレス電話機\",\"トーン1\",_xlfn.IFS(キー割付!F52=\"着信音なし\",\"トーン1\",キー割付!F52=\"トーン1\",\"トーン1\",キー割付!F52=\"トーン2\",\"トーン2\",キー割付!F52=\"トーン3\",\"トーン3\",キー割付!F52=\"トーン4\",\"トーン4\",キー割付!F52=\"トーン5\",\"トーン5\",キー割付!F52=\"トーン6\",\"トーン6\",キー割付!F52=\"トーン7\",\"トーン7\",キー割付!F52=\"トーン7\",\"トーン7\",キー割付!F52=\"無鳴動着信\",\"トーン8\",キー割付!F52=\"グリーンスリーブス\",\"メロディ1\",キー割付!F52=\"峠の我が家\",\"メロディ2\",キー割付!F52=\"カノン\",\"メロディ3\",キー割付!F52=\"春の歌\",\"メロディ4\",キー割付!F52=\"主よ人の望みの喜びよ\",\"メロディ5\",キー割付!F52=\"メヌエット\",\"メロディ6\",キー割付!F52=\"華麗なる大円舞曲\",\"メロディ7\",キー割付!F52=\"ハンガリア舞曲第5番\",\"メロディ8\",TRUE,\"トーン1\"))","v":"トーン1"},{"$f":"IF(E13=\"ZX-DECLDIV-IPコードレス電話機\",\"トーン1\",_xlfn.IFS(キー割付!G52=\"着信音なし\",\"トーン1\",キー割付!G52=\"トーン1\",\"トーン1\",キー割付!G52=\"トーン2\",\"トーン2\",キー割付!G52=\"トーン3\",\"トーン3\",キー割付!G52=\"トーン4\",\"トーン4\",キー割付!G52=\"トーン5\",\"トーン5\",キー割付!G52=\"トーン6\",\"トーン6\",キー割付!G52=\"トーン7\",\"トーン7\",キー割付!G52=\"トーン7\",\"トーン7\",キー割付!G52=\"無鳴動着信\",\"トーン8\",キー割付!G52=\"グリーンスリーブス\",\"メロディ1\",キー割付!G52=\"峠の我が家\",\"メロディ2\",キー割付!G52=\"カノン\",\"メロディ3\",キー割付!G52=\"春の歌\",\"メロディ4\",キー割付!G52=\"主よ人の望みの喜びよ\",\"メロディ5\",キー割付!G52=\"メヌエット\",\"メロディ6\",キー割付!G52=\"華麗なる大円舞曲\",\"メロディ7\",キー割付!G52=\"ハンガリア舞曲第5番\",\"メロディ8\",TRUE,\"トーン1\"))","v":"トーン1"},{"$f":"IF(E13=\"ZX-DECLDIV-IPコードレス電話機\",\"トーン1\",_xlfn.IFS(キー割付!H52=\"着信音なし\",\"トーン1\",キー割付!H52=\"トーン1\",\"トーン1\",キー割付!H52=\"トーン2\",\"トーン2\",キー割付!H52=\"トーン3\",\"トーン3\",キー割付!H52=\"トーン4\",\"トーン4\",キー割付!H52=\"トーン5\",\"トーン5\",キー割付!H52=\"トーン6\",\"トーン6\",キー割付!H52=\"トーン7\",\"トーン7\",キー割付!H52=\"トーン7\",\"トーン7\",キー割付!H52=\"無鳴動着信\",\"トーン8\",キー割付!H52=\"グリーンスリーブス\",\"メロディ1\",キー割付!H52=\"峠の我が家\",\"メロディ2\",キー割付!H52=\"カノン\",\"メロディ3\",キー割付!H52=\"春の歌\",\"メロディ4\",キー割付!H52=\"主よ人の望みの喜びよ\",\"メロディ5\",キー割付!H52=\"メヌエット\",\"メロディ6\",キー割付!H52=\"華麗なる大円舞曲\",\"メロディ7\",キー割付!H52=\"ハンガリア舞曲第5番\",\"メロディ8\",TRUE,\"トーン1\"))","v":"トーン1"},{"$f":"IF(E13=\"ZX-DECLDIV-IPコードレス電話機\",\"トーン1\",_xlfn.IFS(キー割付!I52=\"着信音なし\",\"トーン1\",キー割付!I52=\"トーン1\",\"トーン1\",キー割付!I52=\"トーン2\",\"トーン2\",キー割付!I52=\"トーン3\",\"トーン3\",キー割付!I52=\"トーン4\",\"トーン4\",キー割付!I52=\"トーン5\",\"トーン5\",キー割付!I52=\"トーン6\",\"トーン6\",キー割付!I52=\"トーン7\",\"トーン7\",キー割付!I52=\"トーン7\",\"トーン7\",キー割付!I52=\"無鳴動着信\",\"トーン8\",キー割付!I52=\"グリーンスリーブス\",\"メロディ1\",キー割付!I52=\"峠の我が家\",\"メロディ2\",キー割付!I52=\"カノン\",\"メロディ3\",キー割付!I52=\"春の歌\",\"メロディ4\",キー割付!I52=\"主よ人の望みの喜びよ\",\"メロディ5\",キー割付!I52=\"メヌエット\",\"メロディ6\",キー割付!I52=\"華麗なる大円舞曲\",\"メロディ7\",キー割付!I52=\"ハンガリア舞曲第5番\",\"メロディ8\",TRUE,\"トーン1\"))","v":"トーン1"},{"$f":"IF(E13=\"ZX-DECLDIV-IPコードレス電話機\",\"トーン1\",_xlfn.IFS(キー割付!D60=\"着信音なし\",\"トーン1\",キー割付!D60=\"トーン1\",\"トーン1\",キー割付!D60=\"トーン2\",\"トーン2\",キー割付!D60=\"トーン3\",\"トーン3\",キー割付!D60=\"トーン4\",\"トーン4\",キー割付!D60=\"トーン5\",\"トーン5\",キー割付!D60=\"トーン6\",\"トーン6\",キー割付!D60=\"トーン7\",\"トーン7\",キー割付!D60=\"トーン7\",\"トーン7\",キー割付!D60=\"無鳴動着信\",\"トーン8\",キー割付!D60=\"グリーンスリーブス\",\"メロディ1\",キー割付!D60=\"峠の我が家\",\"メロディ2\",キー割付!D60=\"カノン\",\"メロディ3\",キー割付!D60=\"春の歌\",\"メロディ4\",キー割付!D60=\"主よ人の望みの喜びよ\",\"メロディ5\",キー割付!D60=\"メヌエット\",\"メロディ6\",キー割付!D60=\"華麗なる大円舞曲\",\"メロディ7\",キー割付!D60=\"ハンガリア舞曲第5番\",\"メロディ8\",TRUE,\"トーン1\"))","v":"トーン1"},{"$f":"IF(E13=\"ZX-DECLDIV-IPコードレス電話機\",\"トーン1\",_xlfn.IFS(キー割付!E60=\"着信音なし\",\"トーン1\",キー割付!E60=\"トーン1\",\"トーン1\",キー割付!E60=\"トーン2\",\"トーン2\",キー割付!E60=\"トーン3\",\"トーン3\",キー割付!E60=\"トーン4\",\"トーン4\",キー割付!E60=\"トーン5\",\"トーン5\",キー割付!E60=\"トーン6\",\"トーン6\",キー割付!E60=\"トーン7\",\"トーン7\",キー割付!E60=\"トーン7\",\"トーン7\",キー割付!E60=\"無鳴動着信\",\"トーン8\",キー割付!E60=\"グリーンスリーブス\",\"メロディ1\",キー割付!E60=\"峠の我が家\",\"メロディ2\",キー割付!E60=\"カノン\",\"メロディ3\",キー割付!E60=\"春の歌\",\"メロディ4\",キー割付!E60=\"主よ人の望みの喜びよ\",\"メロディ5\",キー割付!E60=\"メヌエット\",\"メロディ6\",キー割付!E60=\"華麗なる大円舞曲\",\"メロディ7\",キー割付!E60=\"ハンガリア舞曲第5番\",\"メロディ8\",TRUE,\"トーン1\"))","v":"トーン1"},{"$f":"IF(E13=\"ZX-DECLDIV-IPコードレス電話機\",\"トーン1\",_xlfn.IFS(キー割付!F60=\"着信音なし\",\"トーン1\",キー割付!F60=\"トーン1\",\"トーン1\",キー割付!F60=\"トーン2\",\"トーン2\",キー割付!F60=\"トーン3\",\"トーン3\",キー割付!F60=\"トーン4\",\"トーン4\",キー割付!F60=\"トーン5\",\"トーン5\",キー割付!F60=\"トーン6\",\"トーン6\",キー割付!F60=\"トーン7\",\"トーン7\",キー割付!F60=\"トーン7\",\"トーン7\",キー割付!F60=\"無鳴動着信\",\"トーン8\",キー割付!F60=\"グリーンスリーブス\",\"メロディ1\",キー割付!F60=\"峠の我が家\",\"メロディ2\",キー割付!F60=\"カノン\",\"メロディ3\",キー割付!F60=\"春の歌\",\"メロディ4\",キー割付!F60=\"主よ人の望みの喜びよ\",\"メロディ5\",キー割付!F60=\"メヌエット\",\"メロディ6\",キー割付!F60=\"華麗なる大円舞曲\",\"メロディ7\",キー割付!F60=\"ハンガリア舞曲第5番\",\"メロディ8\",TRUE,\"トーン1\"))","v":"トーン1"},{"$f":"IF(E13=\"ZX-DECLDIV-IPコードレス電話機\",\"トーン1\",_xlfn.IFS(キー割付!G60=\"着信音なし\",\"トーン1\",キー割付!G60=\"トーン1\",\"トーン1\",キー割付!G60=\"トーン2\",\"トーン2\",キー割付!G60=\"トーン3\",\"トーン3\",キー割付!G60=\"トーン4\",\"トーン4\",キー割付!G60=\"トーン5\",\"トーン5\",キー割付!G60=\"トーン6\",\"トーン6\",キー割付!G60=\"トーン7\",\"トーン7\",キー割付!G60=\"トーン7\",\"トーン7\",キー割付!G60=\"無鳴動着信\",\"トーン8\",キー割付!G60=\"グリーンスリーブス\",\"メロディ1\",キー割付!G60=\"峠の我が家\",\"メロディ2\",キー割付!G60=\"カノン\",\"メロディ3\",キー割付!G60=\"春の歌\",\"メロディ4\",キー割付!G60=\"主よ人の望みの喜びよ\",\"メロディ5\",キー割付!G60=\"メヌエット\",\"メロディ6\",キー割付!G60=\"華麗なる大円舞曲\",\"メロディ7\",キー割付!G60=\"ハンガリア舞曲第5番\",\"メロディ8\",TRUE,\"トーン1\"))","v":"トーン1"},{"$f":"IF(E13=\"ZX-DECLDIV-IPコードレス電話機\",\"トーン1\",_xlfn.IFS(キー割付!H60=\"着信音なし\",\"トーン1\",キー割付!H60=\"トーン1\",\"トーン1\",キー割付!H60=\"トーン2\",\"トーン2\",キー割付!H60=\"トーン3\",\"トーン3\",キー割付!H60=\"トーン4\",\"トーン4\",キー割付!H60=\"トーン5\",\"トーン5\",キー割付!H60=\"トーン6\",\"トーン6\",キー割付!H60=\"トーン7\",\"トーン7\",キー割付!H60=\"トーン7\",\"トーン7\",キー割付!H60=\"無鳴動着信\",\"トーン8\",キー割付!H60=\"グリーンスリーブス\",\"メロディ1\",キー割付!H60=\"峠の我が家\",\"メロディ2\",キー割付!H60=\"カノン\",\"メロディ3\",キー割付!H60=\"春の歌\",\"メロディ4\",キー割付!H60=\"主よ人の望みの喜びよ\",\"メロディ5\",キー割付!H60=\"メヌエット\",\"メロディ6\",キー割付!H60=\"華麗なる大円舞曲\",\"メロディ7\",キー割付!H60=\"ハンガリア舞曲第5番\",\"メロディ8\",TRUE,\"トーン1\"))","v":"トーン1"},{"$f":"IF(E13=\"ZX-DECLDIV-IPコードレス電話機\",\"トーン1\",_xlfn.IFS(キー割付!I60=\"着信音なし\",\"トーン1\",キー割付!I60=\"トーン1\",\"トーン1\",キー割付!I60=\"トーン2\",\"トーン2\",キー割付!I60=\"トーン3\",\"トーン3\",キー割付!I60=\"トーン4\",\"トーン4\",キー割付!I60=\"トーン5\",\"トーン5\",キー割付!I60=\"トーン6\",\"トーン6\",キー割付!I60=\"トーン7\",\"トーン7\",キー割付!I60=\"トーン7\",\"トーン7\",キー割付!I60=\"無鳴動着信\",\"トーン8\",キー割付!I60=\"グリーンスリーブス\",\"メロディ1\",キー割付!I60=\"峠の我が家\",\"メロディ2\",キー割付!I60=\"カノン\",\"メロディ3\",キー割付!I60=\"春の歌\",\"メロディ4\",キー割付!I60=\"主よ人の望みの喜びよ\",\"メロディ5\",キー割付!I60=\"メヌエット\",\"メロディ6\",キー割付!I60=\"華麗なる大円舞曲\",\"メロディ7\",キー割付!I60=\"ハンガリア舞曲第5番\",\"メロディ8\",TRUE,\"トーン1\"))","v":"トーン1"},{"$f":"IF(E13=\"ZX-DECLDIV-IPコードレス電話機\",\"トーン1\",_xlfn.IFS(キー割付!D68=\"着信音なし\",\"トーン1\",キー割付!D68=\"トーン1\",\"トーン1\",キー割付!D68=\"トーン2\",\"トーン2\",キー割付!D68=\"トーン3\",\"トーン3\",キー割付!D68=\"トーン4\",\"トーン4\",キー割付!D68=\"トーン5\",\"トーン5\",キー割付!D68=\"トーン6\",\"トーン6\",キー割付!D68=\"トーン7\",\"トーン7\",キー割付!D68=\"トーン7\",\"トーン7\",キー割付!D68=\"無鳴動着信\",\"トーン8\",キー割付!D68=\"グリーンスリーブス\",\"メロディ1\",キー割付!D68=\"峠の我が家\",\"メロディ2\",キー割付!D68=\"カノン\",\"メロディ3\",キー割付!D68=\"春の歌\",\"メロディ4\",キー割付!D68=\"主よ人の望みの喜びよ\",\"メロディ5\",キー割付!D68=\"メヌエット\",\"メロディ6\",キー割付!D68=\"華麗なる大円舞曲\",\"メロディ7\",キー割付!D68=\"ハンガリア舞曲第5番\",\"メロディ8\",TRUE,\"トーン1\"))","v":"トーン1"},{"$f":"IF(E13=\"ZX-DECLDIV-IPコードレス電話機\",\"トーン1\",_xlfn.IFS(キー割付!E68=\"着信音なし\",\"トーン1\",キー割付!E68=\"トーン1\",\"トーン1\",キー割付!E68=\"トーン2\",\"トーン2\",キー割付!E68=\"トーン3\",\"トーン3\",キー割付!E68=\"トーン4\",\"トーン4\",キー割付!E68=\"トーン5\",\"トーン5\",キー割付!E68=\"トーン6\",\"トーン6\",キー割付!E68=\"トーン7\",\"トーン7\",キー割付!E68=\"トーン7\",\"トーン7\",キー割付!E68=\"無鳴動着信\",\"トーン8\",キー割付!E68=\"グリーンスリーブス\",\"メロディ1\",キー割付!E68=\"峠の我が家\",\"メロディ2\",キー割付!E68=\"カノン\",\"メロディ3\",キー割付!E68=\"春の歌\",\"メロディ4\",キー割付!E68=\"主よ人の望みの喜びよ\",\"メロディ5\",キー割付!E68=\"メヌエット\",\"メロディ6\",キー割付!E68=\"華麗なる大円舞曲\",\"メロディ7\",キー割付!E68=\"ハンガリア舞曲第5番\",\"メロディ8\",TRUE,\"トーン1\"))","v":"トーン1"},{"$f":"IF(E13=\"ZX-DECLDIV-IPコードレス電話機\",\"トーン1\",_xlfn.IFS(キー割付!F68=\"着信音なし\",\"トーン1\",キー割付!F68=\"トーン1\",\"トーン1\",キー割付!F68=\"トーン2\",\"トーン2\",キー割付!F68=\"トーン3\",\"トーン3\",キー割付!F68=\"トーン4\",\"トーン4\",キー割付!F68=\"トーン5\",\"トーン5\",キー割付!F68=\"トーン6\",\"トーン6\",キー割付!F68=\"トーン7\",\"トーン7\",キー割付!F68=\"トーン7\",\"トーン7\",キー割付!F68=\"無鳴動着信\",\"トーン8\",キー割付!F68=\"グリーンスリーブス\",\"メロディ1\",キー割付!F68=\"峠の我が家\",\"メロディ2\",キー割付!F68=\"カノン\",\"メロディ3\",キー割付!F68=\"春の歌\",\"メロディ4\",キー割付!F68=\"主よ人の望みの喜びよ\",\"メロディ5\",キー割付!F68=\"メヌエット\",\"メロディ6\",キー割付!F68=\"華麗なる大円舞曲\",\"メロディ7\",キー割付!F68=\"ハンガリア舞曲第5番\",\"メロディ8\",TRUE,\"トーン1\"))","v":"トーン1"},{"$f":"IF(E13=\"ZX-DECLDIV-IPコードレス電話機\",\"トーン1\",_xlfn.IFS(キー割付!G68=\"着信音なし\",\"トーン1\",キー割付!G68=\"トーン1\",\"トーン1\",キー割付!G68=\"トーン2\",\"トーン2\",キー割付!G68=\"トーン3\",\"トーン3\",キー割付!G68=\"トーン4\",\"トーン4\",キー割付!G68=\"トーン5\",\"トーン5\",キー割付!G68=\"トーン6\",\"トーン6\",キー割付!G68=\"トーン7\",\"トーン7\",キー割付!G68=\"トーン7\",\"トーン7\",キー割付!G68=\"無鳴動着信\",\"トーン8\",キー割付!G68=\"グリーンスリーブス\",\"メロディ1\",キー割付!G68=\"峠の我が家\",\"メロディ2\",キー割付!G68=\"カノン\",\"メロディ3\",キー割付!G68=\"春の歌\",\"メロディ4\",キー割付!G68=\"主よ人の望みの喜びよ\",\"メロディ5\",キー割付!G68=\"メヌエット\",\"メロディ6\",キー割付!G68=\"華麗なる大円舞曲\",\"メロディ7\",キー割付!G68=\"ハンガリア舞曲第5番\",\"メロディ8\",TRUE,\"トーン1\"))","v":"トーン1"},{"$f":"IF(E13=\"ZX-DECLDIV-IPコードレス電話機\",\"トーン1\",_xlfn.IFS(キー割付!H68=\"着信音なし\",\"トーン1\",キー割付!H68=\"トーン1\",\"トーン1\",キー割付!H68=\"トーン2\",\"トーン2\",キー割付!H68=\"トーン3\",\"トーン3\",キー割付!H68=\"トーン4\",\"トーン4\",キー割付!H68=\"トーン5\",\"トーン5\",キー割付!H68=\"トーン6\",\"トーン6\",キー割付!H68=\"トーン7\",\"トーン7\",キー割付!H68=\"トーン7\",\"トーン7\",キー割付!H68=\"無鳴動着信\",\"トーン8\",キー割付!H68=\"グリーンスリーブス\",\"メロディ1\",キー割付!H68=\"峠の我が家\",\"メロディ2\",キー割付!H68=\"カノン\",\"メロディ3\",キー割付!H68=\"春の歌\",\"メロディ4\",キー割付!H68=\"主よ人の望みの喜びよ\",\"メロディ5\",キー割付!H68=\"メヌエット\",\"メロディ6\",キー割付!H68=\"華麗なる大円舞曲\",\"メロディ7\",キー割付!H68=\"ハンガリア舞曲第5番\",\"メロディ8\",TRUE,\"トーン1\"))","v":"トーン1"},{"$f":"IF(E13=\"ZX-DECLDIV-IPコードレス電話機\",\"トーン1\",_xlfn.IFS(キー割付!I68=\"着信音なし\",\"トーン1\",キー割付!I68=\"トーン1\",\"トーン1\",キー割付!I68=\"トーン2\",\"トーン2\",キー割付!I68=\"トーン3\",\"トーン3\",キー割付!I68=\"トーン4\",\"トーン4\",キー割付!I68=\"トーン5\",\"トーン5\",キー割付!I68=\"トーン6\",\"トーン6\",キー割付!I68=\"トーン7\",\"トーン7\",キー割付!I68=\"トーン7\",\"トーン7\",キー割付!I68=\"無鳴動着信\",\"トーン8\",キー割付!I68=\"グリーンスリーブス\",\"メロディ1\",キー割付!I68=\"峠の我が家\",\"メロディ2\",キー割付!I68=\"カノン\",\"メロディ3\",キー割付!I68=\"春の歌\",\"メロディ4\",キー割付!I68=\"主よ人の望みの喜びよ\",\"メロディ5\",キー割付!I68=\"メヌエット\",\"メロディ6\",キー割付!I68=\"華麗なる大円舞曲\",\"メロディ7\",キー割付!I68=\"ハンガリア舞曲第5番\",\"メロディ8\",TRUE,\"トーン1\"))","v":"トーン1"}]
[null,null,null,null,null,{"$f":"_xlfn.IFS(キー割付!D45=\"昼夜休憩\",\"B\",キー割付!D45=\"－－－\",\"-\",キー割付!D45=\"昼－－\",\"H\",キー割付!D45=\"－夜－\",\"N\",キー割付!D45=\"－－休憩\",\"P\",キー割付!D45=\"昼夜－\",\"D\",キー割付!D45=\"昼－休憩\",\"F\",キー割付!D45=\"－夜休憩\",\"K\",TRUE,\"-\")","v":"-"},{"$f":"_xlfn.IFS(キー割付!E45=\"昼夜休憩\",\"B\",キー割付!E45=\"－－－\",\"-\",キー割付!E45=\"昼－－\",\"H\",キー割付!E45=\"－夜－\",\"N\",キー割付!E45=\"－－休憩\",\"P\",キー割付!E45=\"昼夜－\",\"D\",キー割付!E45=\"昼－休憩\",\"F\",キー割付!E45=\"－夜休憩\",\"K\",TRUE,\"-\")","v":"-"},{"$f":"_xlfn.IFS(キー割付!F45=\"昼夜休憩\",\"B\",キー割付!F45=\"－－－\",\"-\",キー割付!F45=\"昼－－\",\"H\",キー割付!F45=\"－夜－\",\"N\",キー割付!F45=\"－－休憩\",\"P\",キー割付!F45=\"昼夜－\",\"D\",キー割付!F45=\"昼－休憩\",\"F\",キー割付!F45=\"－夜休憩\",\"K\",TRUE,\"-\")","v":"-"},{"$f":"_xlfn.IFS(キー割付!G45=\"昼夜休憩\",\"B\",キー割付!G45=\"－－－\",\"-\",キー割付!G45=\"昼－－\",\"H\",キー割付!G45=\"－夜－\",\"N\",キー割付!G45=\"－－休憩\",\"P\",キー割付!G45=\"昼夜－\",\"D\",キー割付!G45=\"昼－休憩\",\"F\",キー割付!G45=\"－夜休憩\",\"K\",TRUE,\"-\")","v":"-"},{"$f":"_xlfn.IFS(キー割付!H45=\"昼夜休憩\",\"B\",キー割付!H45=\"－－－\",\"-\",キー割付!H45=\"昼－－\",\"H\",キー割付!H45=\"－夜－\",\"N\",キー割付!H45=\"－－休憩\",\"P\",キー割付!H45=\"昼夜－\",\"D\",キー割付!H45=\"昼－休憩\",\"F\",キー割付!H45=\"－夜休憩\",\"K\",TRUE,\"-\")","v":"-"},{"$f":"_xlfn.IFS(キー割付!I45=\"昼夜休憩\",\"B\",キー割付!I45=\"－－－\",\"-\",キー割付!I45=\"昼－－\",\"H\",キー割付!I45=\"－夜－\",\"N\",キー割付!I45=\"－－休憩\",\"P\",キー割付!I45=\"昼夜－\",\"D\",キー割付!I45=\"昼－休憩\",\"F\",キー割付!I45=\"－夜休憩\",\"K\",TRUE,\"-\")","v":"-"},{"$f":"_xlfn.IFS(キー割付!D53=\"昼夜休憩\",\"B\",キー割付!D53=\"－－－\",\"-\",キー割付!D53=\"昼－－\",\"H\",キー割付!D53=\"－夜－\",\"N\",キー割付!D53=\"－－休憩\",\"P\",キー割付!D53=\"昼夜－\",\"D\",キー割付!D53=\"昼－休憩\",\"F\",キー割付!D53=\"－夜休憩\",\"K\",TRUE,\"-\")","v":"-"},{"$f":"_xlfn.IFS(キー割付!E53=\"昼夜休憩\",\"B\",キー割付!E53=\"－－－\",\"-\",キー割付!E53=\"昼－－\",\"H\",キー割付!E53=\"－夜－\",\"N\",キー割付!E53=\"－－休憩\",\"P\",キー割付!E53=\"昼夜－\",\"D\",キー割付!E53=\"昼－休憩\",\"F\",キー割付!E53=\"－夜休憩\",\"K\",TRUE,\"-\")","v":"-"},{"$f":"IF(E13=\"ZX-DECLDIV-IPコードレス電話機\",\"-\",_xlfn.IFS(キー割付!F53=\"昼夜休憩\",\"B\",キー割付!F53=\"－－－\",\"-\",キー割付!F53=\"昼－－\",\"H\",キー割付!F53=\"－夜－\",\"N\",キー割付!F53=\"－－休憩\",\"P\",キー割付!F53=\"昼夜－\",\"D\",キー割付!F53=\"昼－休憩\",\"F\",キー割付!F53=\"－夜休憩\",\"K\",TRUE,\"-\"))","v":"-"},{"$f":"IF(E13=\"ZX-DECLDIV-IPコードレス電話機\",\"-\",_xlfn.IFS(キー割付!G53=\"昼夜休憩\",\"B\",キー割付!G53=\"－－－\",\"-\",キー割付!G53=\"昼－－\",\"H\",キー割付!G53=\"－夜－\",\"N\",キー割付!G53=\"－－休憩\",\"P\",キー割付!G53=\"昼夜－\",\"D\",キー割付!G53=\"昼－休憩\",\"F\",キー割付!G53=\"－夜休憩\",\"K\",TRUE,\"-\"))","v":"-"},{"$f":"IF(E13=\"ZX-DECLDIV-IPコードレス電話機\",\"-\",_xlfn.IFS(キー割付!H53=\"昼夜休憩\",\"B\",キー割付!H53=\"－－－\",\"-\",キー割付!H53=\"昼－－\",\"H\",キー割付!H53=\"－夜－\",\"N\",キー割付!H53=\"－－休憩\",\"P\",キー割付!H53=\"昼夜－\",\"D\",キー割付!H53=\"昼－休憩\",\"F\",キー割付!H53=\"－夜休憩\",\"K\",TRUE,\"-\"))","v":"-"},{"$f":"IF(E13=\"ZX-DECLDIV-IPコードレス電話機\",\"-\",_xlfn.IFS(キー割付!I53=\"昼夜休憩\",\"B\",キー割付!I53=\"－－－\",\"-\",キー割付!I53=\"昼－－\",\"H\",キー割付!I53=\"－夜－\",\"N\",キー割付!I53=\"－－休憩\",\"P\",キー割付!I53=\"昼夜－\",\"D\",キー割付!I53=\"昼－休憩\",\"F\",キー割付!I53=\"－夜休憩\",\"K\",TRUE,\"-\"))","v":"-"},{"$f":"IF(E13=\"ZX-DECLDIV-IPコードレス電話機\",\"-\",_xlfn.IFS(キー割付!D61=\"昼夜休憩\",\"B\",キー割付!D61=\"－－－\",\"-\",キー割付!D61=\"昼－－\",\"H\",キー割付!D61=\"－夜－\",\"N\",キー割付!D61=\"－－休憩\",\"P\",キー割付!D61=\"昼夜－\",\"D\",キー割付!D61=\"昼－休憩\",\"F\",キー割付!D61=\"－夜休憩\",\"K\",TRUE,\"-\"))","v":"-"},{"$f":"IF(E13=\"ZX-DECLDIV-IPコードレス電話機\",\"-\",_xlfn.IFS(キー割付!E61=\"昼夜休憩\",\"B\",キー割付!E61=\"－－－\",\"-\",キー割付!E61=\"昼－－\",\"H\",キー割付!E61=\"－夜－\",\"N\",キー割付!E61=\"－－休憩\",\"P\",キー割付!E61=\"昼夜－\",\"D\",キー割付!E61=\"昼－休憩\",\"F\",キー割付!E61=\"－夜休憩\",\"K\",TRUE,\"-\"))","v":"-"},{"$f":"IF(E13=\"ZX-DECLDIV-IPコードレス電話機\",\"-\",_xlfn.IFS(キー割付!F61=\"昼夜休憩\",\"B\",キー割付!F61=\"－－－\",\"-\",キー割付!F61=\"昼－－\",\"H\",キー割付!F61=\"－夜－\",\"N\",キー割付!F61=\"－－休憩\",\"P\",キー割付!F61=\"昼夜－\",\"D\",キー割付!F61=\"昼－休憩\",\"F\",キー割付!F61=\"－夜休憩\",\"K\",TRUE,\"-\"))","v":"-"},{"$f":"IF(E13=\"ZX-DECLDIV-IPコードレス電話機\",\"-\",_xlfn.IFS(キー割付!G61=\"昼夜休憩\",\"B\",キー割付!G61=\"－－－\",\"-\",キー割付!G61=\"昼－－\",\"H\",キー割付!G61=\"－夜－\",\"N\",キー割付!G61=\"－－休憩\",\"P\",キー割付!G61=\"昼夜－\",\"D\",キー割付!G61=\"昼－休憩\",\"F\",キー割付!G61=\"－夜休憩\",\"K\",TRUE,\"-\"))","v":"-"},{"$f":"IF(E13=\"ZX-DECLDIV-IPコードレス電話機\",\"-\",_xlfn.IFS(キー割付!H61=\"昼夜休憩\",\"B\",キー割付!H61=\"－－－\",\"-\",キー割付!H61=\"昼－－\",\"H\",キー割付!H61=\"－夜－\",\"N\",キー割付!H61=\"－－休憩\",\"P\",キー割付!H61=\"昼夜－\",\"D\",キー割付!H61=\"昼－休憩\",\"F\",キー割付!H61=\"－夜休憩\",\"K\",TRUE,\"-\"))","v":"-"},{"$f":"IF(E13=\"ZX-DECLDIV-IPコードレス電話機\",\"-\",_xlfn.IFS(キー割付!I61=\"昼夜休憩\",\"B\",キー割付!I61=\"－－－\",\"-\",キー割付!I61=\"昼－－\",\"H\",キー割付!I61=\"－夜－\",\"N\",キー割付!I61=\"－－休憩\",\"P\",キー割付!I61=\"昼夜－\",\"D\",キー割付!I61=\"昼－休憩\",\"F\",キー割付!I61=\"－夜休憩\",\"K\",TRUE,\"-\"))","v":"-"},{"$f":"IF(E13=\"ZX-DECLDIV-IPコードレス電話機\",\"-\",_xlfn.IFS(キー割付!D69=\"昼夜休憩\",\"B\",キー割付!D69=\"－－－\",\"-\",キー割付!D69=\"昼－－\",\"H\",キー割付!D69=\"－夜－\",\"N\",キー割付!D69=\"－－休憩\",\"P\",キー割付!D69=\"昼夜－\",\"D\",キー割付!D69=\"昼－休憩\",\"F\",キー割付!D69=\"－夜休憩\",\"K\",TRUE,\"-\"))","v":"-"},{"$f":"IF(E13=\"ZX-DECLDIV-IPコードレス電話機\",\"-\",_xlfn.IFS(キー割付!E69=\"昼夜休憩\",\"B\",キー割付!E69=\"－－－\",\"-\",キー割付!E69=\"昼－－\",\"H\",キー割付!E69=\"－夜－\",\"N\",キー割付!E69=\"－－休憩\",\"P\",キー割付!E69=\"昼夜－\",\"D\",キー割付!E69=\"昼－休憩\",\"F\",キー割付!E69=\"－夜休憩\",\"K\",TRUE,\"-\"))","v":"-"},{"$f":"IF(E13=\"ZX-DECLDIV-IPコードレス電話機\",\"-\",_xlfn.IFS(キー割付!F69=\"昼夜休憩\",\"B\",キー割付!F69=\"－－－\",\"-\",キー割付!F69=\"昼－－\",\"H\",キー割付!F69=\"－夜－\",\"N\",キー割付!F69=\"－－休憩\",\"P\",キー割付!F69=\"昼夜－\",\"D\",キー割付!F69=\"昼－休憩\",\"F\",キー割付!F69=\"－夜休憩\",\"K\",TRUE,\"-\"))","v":"-"},{"$f":"IF(E13=\"ZX-DECLDIV-IPコードレス電話機\",\"-\",_xlfn.IFS(キー割付!G69=\"昼夜休憩\",\"B\",キー割付!G69=\"－－－\",\"-\",キー割付!G69=\"昼－－\",\"H\",キー割付!G69=\"－夜－\",\"N\",キー割付!G69=\"－－休憩\",\"P\",キー割付!G69=\"昼夜－\",\"D\",キー割付!G69=\"昼－休憩\",\"F\",キー割付!G69=\"－夜休憩\",\"K\",TRUE,\"-\"))","v":"-"},{"$f":"IF(E13=\"ZX-DECLDIV-IPコードレス電話機\",\"-\",_xlfn.IFS(キー割付!H69=\"昼夜休憩\",\"B\",キー割付!H69=\"－－－\",\"-\",キー割付!H69=\"昼－－\",\"H\",キー割付!H69=\"－夜－\",\"N\",キー割付!H69=\"－－休憩\",\"P\",キー割付!H69=\"昼夜－\",\"D\",キー割付!H69=\"昼－休憩\",\"F\",キー割付!H69=\"－夜休憩\",\"K\",TRUE,\"-\"))","v":"-"},{"$f":"IF(E13=\"ZX-DECLDIV-IPコードレス電話機\",\"-\",_xlfn.IFS(キー割付!I69=\"昼夜休憩\",\"B\",キー割付!I69=\"－－－\",\"-\",キー割付!I69=\"昼－－\",\"H\",キー割付!I69=\"－夜－\",\"N\",キー割付!I69=\"－－休憩\",\"P\",キー割付!I69=\"昼夜－\",\"D\",キー割付!I69=\"昼－休憩\",\"F\",キー割付!I69=\"－夜休憩\",\"K\",TRUE,\"-\"))","v":"-"}]
[null,4,{"$f":"IF(IFERROR(VALUE(VLOOKUP(B16,内線_キー割用,2,FALSE)),\"\")=0,\"\",IFERROR(VALUE(VLOOKUP(B16,内線_キー割用,2,FALSE)),\"\"))","v":""},{"$f":"IF(IFERROR(VALUE(VLOOKUP(B16,内線_キー割用,4,FALSE)),\"\")=0,\"\",IFERROR(VALUE(VLOOKUP(B16,内線_キー割用,4,FALSE)),\"\"))","v":""},{"$f":"IF(IFERROR(VLOOKUP(B16,内線_キー割用,3,FALSE),\"\")=0,\"\",IFERROR(VLOOKUP(B16,内線_キー割用,3,FALSE),\"\"))","v":""},{"$f":"IF(キー割付!N43=\"\",\"未使用\",キー割付!N43)","v":"未使用"},{"$f":"IF(キー割付!O43=\"\",\"未使用\",キー割付!O43)","v":"未使用"},{"$f":"IF(キー割付!P43=\"\",\"未使用\",キー割付!P43)","v":"未使用"},{"$f":"IF(キー割付!Q43=\"\",\"未使用\",キー割付!Q43)","v":"未使用"},{"$f":"IF(キー割付!R43=\"\",\"未使用\",キー割付!R43)","v":"未使用"},{"$f":"IF(キー割付!S43=\"\",\"未使用\",キー割付!S43)","v":"未使用"},{"$f":"IF(キー割付!N51=\"\",\"未使用\",キー割付!N51)","v":"未使用"},{"$f":"IF(キー割付!O51=\"\",\"未使用\",キー割付!O51)","v":"未使用"},{"$f":"IF(E16=\"ZX-DECLDIV-IPコードレス電話機\",\"未使用\",IF(キー割付!P51=\"\",\"未使用\",キー割付!P51))","v":"未使用"},{"$f":"IF(E16=\"ZX-DECLDIV-IPコードレス電話機\",\"未使用\",IF(キー割付!Q51=\"\",\"未使用\",キー割付!Q51))","v":"未使用"},{"$f":"IF(E16=\"ZX-DECLDIV-IPコードレス電話機\",\"未使用\",IF(キー割付!R51=\"\",\"未使用\",キー割付!R51))","v":"未使用"},{"$f":"IF(E16=\"ZX-DECLDIV-IPコードレス電話機\",\"未使用\",IF(キー割付!S51=\"\",\"未使用\",キー割付!S51))","v":"未使用"},{"$f":"IF(E16=\"ZX-DECLDIV-IPコードレス電話機\",\"未使用\",IF(キー割付!N59=\"\",\"未使用\",キー割付!N59))","v":"未使用"},{"$f":"IF(E16=\"ZX-DECLDIV-IPコードレス電話機\",\"未使用\",IF(キー割付!O59=\"\",\"未使用\",キー割付!O59))","v":"未使用"},{"$f":"IF(E16=\"ZX-DECLDIV-IPコードレス電話機\",\"未使用\",IF(キー割付!P59=\"\",\"未使用\",キー割付!P59))","v":"未使用"},{"$f":"IF(E16=\"ZX-DECLDIV-IPコードレス電話機\",\"未使用\",IF(キー割付!Q59=\"\",\"未使用\",キー割付!Q59))","v":"未使用"},{"$f":"IF(E16=\"ZX-DECLDIV-IPコードレス電話機\",\"未使用\",IF(キー割付!R59=\"\",\"未使用\",キー割付!R59))","v":"未使用"},{"$f":"IF(E16=\"ZX-DECLDIV-IPコードレス電話機\",\"未使用\",IF(キー割付!S59=\"\",\"未使用\",キー割付!S59))","v":"未使用"},{"$f":"IF(E16=\"ZX-DECLDIV-IPコードレス電話機\",\"未使用\",IF(キー割付!N67=\"\",\"未使用\",キー割付!N67))","v":"未使用"},{"$f":"IF(E16=\"ZX-DECLDIV-IPコードレス電話機\",\"未使用\",IF(キー割付!O67=\"\",\"未使用\",キー割付!O67))","v":"未使用"},{"$f":"IF(E16=\"ZX-DECLDIV-IPコードレス電話機\",\"未使用\",IF(キー割付!P67=\"\",\"未使用\",キー割付!P67))","v":"未使用"},{"$f":"IF(E16=\"ZX-DECLDIV-IPコードレス電話機\",\"未使用\",IF(キー割付!Q67=\"\",\"未使用\",キー割付!Q67))","v":"未使用"},{"$f":"IF(E16=\"ZX-DECLDIV-IPコードレス電話機\",\"未使用\",IF(キー割付!R67=\"\",\"未使用\",キー割付!R67))","v":"未使用"},{"$f":"IF(E16=\"ZX-DECLDIV-IPコードレス電話機\",\"未使用\",IF(キー割付!S67=\"\",\"未使用\",キー割付!S67))","v":"未使用"}]
[null,null,null,null,null,{"$f":"_xlfn.IFS(キー割付!N44=\"着信音なし\",\"トーン1\",キー割付!N44=\"トーン1\",\"トーン1\",キー割付!N44=\"トーン2\",\"トーン2\",キー割付!N44=\"トーン3\",\"トーン3\",キー割付!N44=\"トーン4\",\"トーン4\",キー割付!N44=\"トーン5\",\"トーン5\",キー割付!N44=\"トーン6\",\"トーン6\",キー割付!N44=\"トーン7\",\"トーン7\",キー割付!N44=\"トーン7\",\"トーン7\",キー割付!N44=\"無鳴動着信\",\"トーン8\",キー割付!N44=\"グリーンスリーブス\",\"メロディ1\",キー割付!N44=\"峠の我が家\",\"メロディ2\",キー割付!N44=\"カノン\",\"メロディ3\",キー割付!N44=\"春の歌\",\"メロディ4\",キー割付!N44=\"主よ人の望みの喜びよ\",\"メロディ5\",キー割付!N44=\"メヌエット\",\"メロディ6\",キー割付!N44=\"華麗なる大円舞曲\",\"メロディ7\",キー割付!N44=\"ハンガリア舞曲第5番\",\"メロディ8\",TRUE,\"トーン1\")","v":"トーン1"},{"$f":"_xlfn.IFS(キー割付!O44=\"着信音なし\",\"トーン1\",キー割付!O44=\"トーン1\",\"トーン1\",キー割付!O44=\"トーン2\",\"トーン2\",キー割付!O44=\"トーン3\",\"トーン3\",キー割付!O44=\"トーン4\",\"トーン4\",キー割付!O44=\"トーン5\",\"トーン5\",キー割付!O44=\"トーン6\",\"トーン6\",キー割付!O44=\"トーン7\",\"トーン7\",キー割付!O44=\"トーン7\",\"トーン7\",キー割付!O44=\"無鳴動着信\",\"トーン8\",キー割付!O44=\"グリーンスリーブス\",\"メロディ1\",キー割付!O44=\"峠の我が家\",\"メロディ2\",キー割付!O44=\"カノン\",\"メロディ3\",キー割付!O44=\"春の歌\",\"メロディ4\",キー割付!O44=\"主よ人の望みの喜びよ\",\"メロディ5\",キー割付!O44=\"メヌエット\",\"メロディ6\",キー割付!O44=\"華麗なる大円舞曲\",\"メロディ7\",キー割付!O44=\"ハンガリア舞曲第5番\",\"メロディ8\",TRUE,\"トーン1\")","v":"トーン1"},{"$f":"_xlfn.IFS(キー割付!P44=\"着信音なし\",\"トーン1\",キー割付!P44=\"トーン1\",\"トーン1\",キー割付!P44=\"トーン2\",\"トーン2\",キー割付!P44=\"トーン3\",\"トーン3\",キー割付!P44=\"トーン4\",\"トーン4\",キー割付!P44=\"トーン5\",\"トーン5\",キー割付!P44=\"トーン6\",\"トーン6\",キー割付!P44=\"トーン7\",\"トーン7\",キー割付!P44=\"トーン7\",\"トーン7\",キー割付!P44=\"無鳴動着信\",\"トーン8\",キー割付!P44=\"グリーンスリーブス\",\"メロディ1\",キー割付!P44=\"峠の我が家\",\"メロディ2\",キー割付!P44=\"カノン\",\"メロディ3\",キー割付!P44=\"春の歌\",\"メロディ4\",キー割付!P44=\"主よ人の望みの喜びよ\",\"メロディ5\",キー割付!P44=\"メヌエット\",\"メロディ6\",キー割付!P44=\"華麗なる大円舞曲\",\"メロディ7\",キー割付!P44=\"ハンガリア舞曲第5番\",\"メロディ8\",TRUE,\"トーン1\")","v":"トーン1"},{"$f":"_xlfn.IFS(キー割付!Q44=\"着信音なし\",\"トーン1\",キー割付!Q44=\"トーン1\",\"トーン1\",キー割付!Q44=\"トーン2\",\"トーン2\",キー割付!Q44=\"トーン3\",\"トーン3\",キー割付!Q44=\"トーン4\",\"トーン4\",キー割付!Q44=\"トーン5\",\"トーン5\",キー割付!Q44=\"トーン6\",\"トーン6\",キー割付!Q44=\"トーン7\",\"トーン7\",キー割付!Q44=\"トーン7\",\"トーン7\",キー割付!Q44=\"無鳴動着信\",\"トーン8\",キー割付!Q44=\"グリーンスリーブス\",\"メロディ1\",キー割付!Q44=\"峠の我が家\",\"メロディ2\",キー割付!Q44=\"カノン\",\"メロディ3\",キー割付!Q44=\"春の歌\",\"メロディ4\",キー割付!Q44=\"主よ人の望みの喜びよ\",\"メロディ5\",キー割付!Q44=\"メヌエット\",\"メロディ6\",キー割付!Q44=\"華麗なる大円舞曲\",\"メロディ7\",キー割付!Q44=\"ハンガリア舞曲第5番\",\"メロディ8\",TRUE,\"トーン1\")","v":"トーン1"},{"$f":"_xlfn.IFS(キー割付!R44=\"着信音なし\",\"トーン1\",キー割付!R44=\"トーン1\",\"トーン1\",キー割付!R44=\"トーン2\",\"トーン2\",キー割付!R44=\"トーン3\",\"トーン3\",キー割付!R44=\"トーン4\",\"トーン4\",キー割付!R44=\"トーン5\",\"トーン5\",キー割付!R44=\"トーン6\",\"トーン6\",キー割付!R44=\"トーン7\",\"トーン7\",キー割付!R44=\"トーン7\",\"トーン7\",キー割付!R44=\"無鳴動着信\",\"トーン8\",キー割付!R44=\"グリーンスリーブス\",\"メロディ1\",キー割付!R44=\"峠の我が家\",\"メロディ2\",キー割付!R44=\"カノン\",\"メロディ3\",キー割付!R44=\"春の歌\",\"メロディ4\",キー割付!R44=\"主よ人の望みの喜びよ\",\"メロディ5\",キー割付!R44=\"メヌエット\",\"メロディ6\",キー割付!R44=\"華麗なる大円舞曲\",\"メロディ7\",キー割付!R44=\"ハンガリア舞曲第5番\",\"メロディ8\",TRUE,\"トーン1\")","v":"トーン1"},{"$f":"_xlfn.IFS(キー割付!S44=\"着信音なし\",\"トーン1\",キー割付!S44=\"トーン1\",\"トーン1\",キー割付!S44=\"トーン2\",\"トーン2\",キー割付!S44=\"トーン3\",\"トーン3\",キー割付!S44=\"トーン4\",\"トーン4\",キー割付!S44=\"トーン5\",\"トーン5\",キー割付!S44=\"トーン6\",\"トーン6\",キー割付!S44=\"トーン7\",\"トーン7\",キー割付!S44=\"トーン7\",\"トーン7\",キー割付!S44=\"無鳴動着信\",\"トーン8\",キー割付!S44=\"グリーンスリーブス\",\"メロディ1\",キー割付!S44=\"峠の我が家\",\"メロディ2\",キー割付!S44=\"カノン\",\"メロディ3\",キー割付!S44=\"春の歌\",\"メロディ4\",キー割付!S44=\"主よ人の望みの喜びよ\",\"メロディ5\",キー割付!S44=\"メヌエット\",\"メロディ6\",キー割付!S44=\"華麗なる大円舞曲\",\"メロディ7\",キー割付!S44=\"ハンガリア舞曲第5番\",\"メロディ8\",TRUE,\"トーン1\")","v":"トーン1"},{"$f":"_xlfn.IFS(キー割付!N52=\"着信音なし\",\"トーン1\",キー割付!N52=\"トーン1\",\"トーン1\",キー割付!N52=\"トーン2\",\"トーン2\",キー割付!N52=\"トーン3\",\"トーン3\",キー割付!N52=\"トーン4\",\"トーン4\",キー割付!N52=\"トーン5\",\"トーン5\",キー割付!N52=\"トーン6\",\"トーン6\",キー割付!N52=\"トーン7\",\"トーン7\",キー割付!N52=\"トーン7\",\"トーン7\",キー割付!N52=\"無鳴動着信\",\"トーン8\",キー割付!N52=\"グリーンスリーブス\",\"メロディ1\",キー割付!N52=\"峠の我が家\",\"メロディ2\",キー割付!N52=\"カノン\",\"メロディ3\",キー割付!N52=\"春の歌\",\"メロディ4\",キー割付!N52=\"主よ人の望みの喜びよ\",\"メロディ5\",キー割付!N52=\"メヌエット\",\"メロディ6\",キー割付!N52=\"華麗なる大円舞曲\",\"メロディ7\",キー割付!N52=\"ハンガリア舞曲第5番\",\"メロディ8\",TRUE,\"トーン1\")","v":"トーン1"},{"$f":"_xlfn.IFS(キー割付!O52=\"着信音なし\",\"トーン1\",キー割付!O52=\"トーン1\",\"トーン1\",キー割付!O52=\"トーン2\",\"トーン2\",キー割付!O52=\"トーン3\",\"トーン3\",キー割付!O52=\"トーン4\",\"トーン4\",キー割付!O52=\"トーン5\",\"トーン5\",キー割付!O52=\"トーン6\",\"トーン6\",キー割付!O52=\"トーン7\",\"トーン7\",キー割付!O52=\"トーン7\",\"トーン7\",キー割付!O52=\"無鳴動着信\",\"トーン8\",キー割付!O52=\"グリーンスリーブス\",\"メロディ1\",キー割付!O52=\"峠の我が家\",\"メロディ2\",キー割付!O52=\"カノン\",\"メロディ3\",キー割付!O52=\"春の歌\",\"メロディ4\",キー割付!O52=\"主よ人の望みの喜びよ\",\"メロディ5\",キー割付!O52=\"メヌエット\",\"メロディ6\",キー割付!O52=\"華麗なる大円舞曲\",\"メロディ7\",キー割付!O52=\"ハンガリア舞曲第5番\",\"メロディ8\",TRUE,\"トーン1\")","v":"トーン1"},{"$f":"IF(E16=\"ZX-DECLDIV-IPコードレス電話機\",\"トーン1\",_xlfn.IFS(キー割付!P52=\"着信音なし\",\"トーン1\",キー割付!P52=\"トーン1\",\"トーン1\",キー割付!P52=\"トーン2\",\"トーン2\",キー割付!P52=\"トーン3\",\"トーン3\",キー割付!P52=\"トーン4\",\"トーン4\",キー割付!P52=\"トーン5\",\"トーン5\",キー割付!P52=\"トーン6\",\"トーン6\",キー割付!P52=\"トーン7\",\"トーン7\",キー割付!P52=\"トーン7\",\"トーン7\",キー割付!P52=\"無鳴動着信\",\"トーン8\",キー割付!P52=\"グリーンスリーブス\",\"メロディ1\",キー割付!P52=\"峠の我が家\",\"メロディ2\",キー割付!P52=\"カノン\",\"メロディ3\",キー割付!P52=\"春の歌\",\"メロディ4\",キー割付!P52=\"主よ人の望みの喜びよ\",\"メロディ5\",キー割付!P52=\"メヌエット\",\"メロディ6\",キー割付!P52=\"華麗なる大円舞曲\",\"メロディ7\",キー割付!P52=\"ハンガリア舞曲第5番\",\"メロディ8\",TRUE,\"トーン1\"))","v":"トーン1"},{"$f":"IF(E16=\"ZX-DECLDIV-IPコードレス電話機\",\"トーン1\",_xlfn.IFS(キー割付!Q52=\"着信音なし\",\"トーン1\",キー割付!Q52=\"トーン1\",\"トーン1\",キー割付!Q52=\"トーン2\",\"トーン2\",キー割付!Q52=\"トーン3\",\"トーン3\",キー割付!Q52=\"トーン4\",\"トーン4\",キー割付!Q52=\"トーン5\",\"トーン5\",キー割付!Q52=\"トーン6\",\"トーン6\",キー割付!Q52=\"トーン7\",\"トーン7\",キー割付!Q52=\"トーン7\",\"トーン7\",キー割付!Q52=\"無鳴動着信\",\"トーン8\",キー割付!Q52=\"グリーンスリーブス\",\"メロディ1\",キー割付!Q52=\"峠の我が家\",\"メロディ2\",キー割付!Q52=\"カノン\",\"メロディ3\",キー割付!Q52=\"春の歌\",\"メロディ4\",キー割付!Q52=\"主よ人の望みの喜びよ\",\"メロディ5\",キー割付!Q52=\"メヌエット\",\"メロディ6\",キー割付!Q52=\"華麗なる大円舞曲\",\"メロディ7\",キー割付!Q52=\"ハンガリア舞曲第5番\",\"メロディ8\",TRUE,\"トーン1\"))","v":"トーン1"},{"$f":"IF(E16=\"ZX-DECLDIV-IPコードレス電話機\",\"トーン1\",_xlfn.IFS(キー割付!R52=\"着信音なし\",\"トーン1\",キー割付!R52=\"トーン1\",\"トーン1\",キー割付!R52=\"トーン2\",\"トーン2\",キー割付!R52=\"トーン3\",\"トーン3\",キー割付!R52=\"トーン4\",\"トーン4\",キー割付!R52=\"トーン5\",\"トーン5\",キー割付!R52=\"トーン6\",\"トーン6\",キー割付!R52=\"トーン7\",\"トーン7\",キー割付!R52=\"トーン7\",\"トーン7\",キー割付!R52=\"無鳴動着信\",\"トーン8\",キー割付!R52=\"グリーンスリーブス\",\"メロディ1\",キー割付!R52=\"峠の我が家\",\"メロディ2\",キー割付!R52=\"カノン\",\"メロディ3\",キー割付!R52=\"春の歌\",\"メロディ4\",キー割付!R52=\"主よ人の望みの喜びよ\",\"メロディ5\",キー割付!R52=\"メヌエット\",\"メロディ6\",キー割付!R52=\"華麗なる大円舞曲\",\"メロディ7\",キー割付!R52=\"ハンガリア舞曲第5番\",\"メロディ8\",TRUE,\"トーン1\"))","v":"トーン1"},{"$f":"IF(E16=\"ZX-DECLDIV-IPコードレス電話機\",\"トーン1\",_xlfn.IFS(キー割付!S52=\"着信音なし\",\"トーン1\",キー割付!S52=\"トーン1\",\"トーン1\",キー割付!S52=\"トーン2\",\"トーン2\",キー割付!S52=\"トーン3\",\"トーン3\",キー割付!S52=\"トーン4\",\"トーン4\",キー割付!S52=\"トーン5\",\"トーン5\",キー割付!S52=\"トーン6\",\"トーン6\",キー割付!S52=\"トーン7\",\"トーン7\",キー割付!S52=\"トーン7\",\"トーン7\",キー割付!S52=\"無鳴動着信\",\"トーン8\",キー割付!S52=\"グリーンスリーブス\",\"メロディ1\",キー割付!S52=\"峠の我が家\",\"メロディ2\",キー割付!S52=\"カノン\",\"メロディ3\",キー割付!S52=\"春の歌\",\"メロディ4\",キー割付!S52=\"主よ人の望みの喜びよ\",\"メロディ5\",キー割付!S52=\"メヌエット\",\"メロディ6\",キー割付!S52=\"華麗なる大円舞曲\",\"メロディ7\",キー割付!S52=\"ハンガリア舞曲第5番\",\"メロディ8\",TRUE,\"トーン1\"))","v":"トーン1"},{"$f":"IF(E16=\"ZX-DECLDIV-IPコードレス電話機\",\"トーン1\",_xlfn.IFS(キー割付!N60=\"着信音なし\",\"トーン1\",キー割付!N60=\"トーン1\",\"トーン1\",キー割付!N60=\"トーン2\",\"トーン2\",キー割付!N60=\"トーン3\",\"トーン3\",キー割付!N60=\"トーン4\",\"トーン4\",キー割付!N60=\"トーン5\",\"トーン5\",キー割付!N60=\"トーン6\",\"トーン6\",キー割付!N60=\"トーン7\",\"トーン7\",キー割付!N60=\"トーン7\",\"トーン7\",キー割付!N60=\"無鳴動着信\",\"トーン8\",キー割付!N60=\"グリーンスリーブス\",\"メロディ1\",キー割付!N60=\"峠の我が家\",\"メロディ2\",キー割付!N60=\"カノン\",\"メロディ3\",キー割付!N60=\"春の歌\",\"メロディ4\",キー割付!N60=\"主よ人の望みの喜びよ\",\"メロディ5\",キー割付!N60=\"メヌエット\",\"メロディ6\",キー割付!N60=\"華麗なる大円舞曲\",\"メロディ7\",キー割付!N60=\"ハンガリア舞曲第5番\",\"メロディ8\",TRUE,\"トーン1\"))","v":"トーン1"},{"$f":"IF(E16=\"ZX-DECLDIV-IPコードレス電話機\",\"トーン1\",_xlfn.IFS(キー割付!O60=\"着信音なし\",\"トーン1\",キー割付!O60=\"トーン1\",\"トーン1\",キー割付!O60=\"トーン2\",\"トーン2\",キー割付!O60=\"トーン3\",\"トーン3\",キー割付!O60=\"トーン4\",\"トーン4\",キー割付!O60=\"トーン5\",\"トーン5\",キー割付!O60=\"トーン6\",\"トーン6\",キー割付!O60=\"トーン7\",\"トーン7\",キー割付!O60=\"トーン7\",\"トーン7\",キー割付!O60=\"無鳴動着信\",\"トーン8\",キー割付!O60=\"グリーンスリーブス\",\"メロディ1\",キー割付!O60=\"峠の我が家\",\"メロディ2\",キー割付!O60=\"カノン\",\"メロディ3\",キー割付!O60=\"春の歌\",\"メロディ4\",キー割付!O60=\"主よ人の望みの喜びよ\",\"メロディ5\",キー割付!O60=\"メヌエット\",\"メロディ6\",キー割付!O60=\"華麗なる大円舞曲\",\"メロディ7\",キー割付!O60=\"ハンガリア舞曲第5番\",\"メロディ8\",TRUE,\"トーン1\"))","v":"トーン1"},{"$f":"IF(E16=\"ZX-DECLDIV-IPコードレス電話機\",\"トーン1\",_xlfn.IFS(キー割付!P60=\"着信音なし\",\"トーン1\",キー割付!P60=\"トーン1\",\"トーン1\",キー割付!P60=\"トーン2\",\"トーン2\",キー割付!P60=\"トーン3\",\"トーン3\",キー割付!P60=\"トーン4\",\"トーン4\",キー割付!P60=\"トーン5\",\"トーン5\",キー割付!P60=\"トーン6\",\"トーン6\",キー割付!P60=\"トーン7\",\"トーン7\",キー割付!P60=\"トーン7\",\"トーン7\",キー割付!P60=\"無鳴動着信\",\"トーン8\",キー割付!P60=\"グリーンスリーブス\",\"メロディ1\",キー割付!P60=\"峠の我が家\",\"メロディ2\",キー割付!P60=\"カノン\",\"メロディ3\",キー割付!P60=\"春の歌\",\"メロディ4\",キー割付!P60=\"主よ人の望みの喜びよ\",\"メロディ5\",キー割付!P60=\"メヌエット\",\"メロディ6\",キー割付!P60=\"華麗なる大円舞曲\",\"メロディ7\",キー割付!P60=\"ハンガリア舞曲第5番\",\"メロディ8\",TRUE,\"トーン1\"))","v":"トーン1"},{"$f":"IF(E16=\"ZX-DECLDIV-IPコードレス電話機\",\"トーン1\",_xlfn.IFS(キー割付!Q60=\"着信音なし\",\"トーン1\",キー割付!Q60=\"トーン1\",\"トーン1\",キー割付!Q60=\"トーン2\",\"トーン2\",キー割付!Q60=\"トーン3\",\"トーン3\",キー割付!Q60=\"トーン4\",\"トーン4\",キー割付!Q60=\"トーン5\",\"トーン5\",キー割付!Q60=\"トーン6\",\"トーン6\",キー割付!Q60=\"トーン7\",\"トーン7\",キー割付!Q60=\"トーン7\",\"トーン7\",キー割付!Q60=\"無鳴動着信\",\"トーン8\",キー割付!Q60=\"グリーンスリーブス\",\"メロディ1\",キー割付!Q60=\"峠の我が家\",\"メロディ2\",キー割付!Q60=\"カノン\",\"メロディ3\",キー割付!Q60=\"春の歌\",\"メロディ4\",キー割付!Q60=\"主よ人の望みの喜びよ\",\"メロディ5\",キー割付!Q60=\"メヌエット\",\"メロディ6\",キー割付!Q60=\"華麗なる大円舞曲\",\"メロディ7\",キー割付!Q60=\"ハンガリア舞曲第5番\",\"メロディ8\",TRUE,\"トーン1\"))","v":"トーン1"},{"$f":"IF(E16=\"ZX-DECLDIV-IPコードレス電話機\",\"トーン1\",_xlfn.IFS(キー割付!R60=\"着信音なし\",\"トーン1\",キー割付!R60=\"トーン1\",\"トーン1\",キー割付!R60=\"トーン2\",\"トーン2\",キー割付!R60=\"トーン3\",\"トーン3\",キー割付!R60=\"トーン4\",\"トーン4\",キー割付!R60=\"トーン5\",\"トーン5\",キー割付!R60=\"トーン6\",\"トーン6\",キー割付!R60=\"トーン7\",\"トーン7\",キー割付!R60=\"トーン7\",\"トーン7\",キー割付!R60=\"無鳴動着信\",\"トーン8\",キー割付!R60=\"グリーンスリーブス\",\"メロディ1\",キー割付!R60=\"峠の我が家\",\"メロディ2\",キー割付!R60=\"カノン\",\"メロディ3\",キー割付!R60=\"春の歌\",\"メロディ4\",キー割付!R60=\"主よ人の望みの喜びよ\",\"メロディ5\",キー割付!R60=\"メヌエット\",\"メロディ6\",キー割付!R60=\"華麗なる大円舞曲\",\"メロディ7\",キー割付!R60=\"ハンガリア舞曲第5番\",\"メロディ8\",TRUE,\"トーン1\"))","v":"トーン1"},{"$f":"IF(E16=\"ZX-DECLDIV-IPコードレス電話機\",\"トーン1\",_xlfn.IFS(キー割付!S60=\"着信音なし\",\"トーン1\",キー割付!S60=\"トーン1\",\"トーン1\",キー割付!S60=\"トーン2\",\"トーン2\",キー割付!S60=\"トーン3\",\"トーン3\",キー割付!S60=\"トーン4\",\"トーン4\",キー割付!S60=\"トーン5\",\"トーン5\",キー割付!S60=\"トーン6\",\"トーン6\",キー割付!S60=\"トーン7\",\"トーン7\",キー割付!S60=\"トーン7\",\"トーン7\",キー割付!S60=\"無鳴動着信\",\"トーン8\",キー割付!S60=\"グリーンスリーブス\",\"メロディ1\",キー割付!S60=\"峠の我が家\",\"メロディ2\",キー割付!S60=\"カノン\",\"メロディ3\",キー割付!S60=\"春の歌\",\"メロディ4\",キー割付!S60=\"主よ人の望みの喜びよ\",\"メロディ5\",キー割付!S60=\"メヌエット\",\"メロディ6\",キー割付!S60=\"華麗なる大円舞曲\",\"メロディ7\",キー割付!S60=\"ハンガリア舞曲第5番\",\"メロディ8\",TRUE,\"トーン1\"))","v":"トーン1"},{"$f":"IF(E16=\"ZX-DECLDIV-IPコードレス電話機\",\"トーン1\",_xlfn.IFS(キー割付!N68=\"着信音なし\",\"トーン1\",キー割付!N68=\"トーン1\",\"トーン1\",キー割付!N68=\"トーン2\",\"トーン2\",キー割付!N68=\"トーン3\",\"トーン3\",キー割付!N68=\"トーン4\",\"トーン4\",キー割付!N68=\"トーン5\",\"トーン5\",キー割付!N68=\"トーン6\",\"トーン6\",キー割付!N68=\"トーン7\",\"トーン7\",キー割付!N68=\"トーン7\",\"トーン7\",キー割付!N68=\"無鳴動着信\",\"トーン8\",キー割付!N68=\"グリーンスリーブス\",\"メロディ1\",キー割付!N68=\"峠の我が家\",\"メロディ2\",キー割付!N68=\"カノン\",\"メロディ3\",キー割付!N68=\"春の歌\",\"メロディ4\",キー割付!N68=\"主よ人の望みの喜びよ\",\"メロディ5\",キー割付!N68=\"メヌエット\",\"メロディ6\",キー割付!N68=\"華麗なる大円舞曲\",\"メロディ7\",キー割付!N68=\"ハンガリア舞曲第5番\",\"メロディ8\",TRUE,\"トーン1\"))","v":"トーン1"},{"$f":"IF(E16=\"ZX-DECLDIV-IPコードレス電話機\",\"トーン1\",_xlfn.IFS(キー割付!O68=\"着信音なし\",\"トーン1\",キー割付!O68=\"トーン1\",\"トーン1\",キー割付!O68=\"トーン2\",\"トーン2\",キー割付!O68=\"トーン3\",\"トーン3\",キー割付!O68=\"トーン4\",\"トーン4\",キー割付!O68=\"トーン5\",\"トーン5\",キー割付!O68=\"トーン6\",\"トーン6\",キー割付!O68=\"トーン7\",\"トーン7\",キー割付!O68=\"トーン7\",\"トーン7\",キー割付!O68=\"無鳴動着信\",\"トーン8\",キー割付!O68=\"グリーンスリーブス\",\"メロディ1\",キー割付!O68=\"峠の我が家\",\"メロディ2\",キー割付!O68=\"カノン\",\"メロディ3\",キー割付!O68=\"春の歌\",\"メロディ4\",キー割付!O68=\"主よ人の望みの喜びよ\",\"メロディ5\",キー割付!O68=\"メヌエット\",\"メロディ6\",キー割付!O68=\"華麗なる大円舞曲\",\"メロディ7\",キー割付!O68=\"ハンガリア舞曲第5番\",\"メロディ8\",TRUE,\"トーン1\"))","v":"トーン1"},{"$f":"IF(E16=\"ZX-DECLDIV-IPコードレス電話機\",\"トーン1\",_xlfn.IFS(キー割付!P68=\"着信音なし\",\"トーン1\",キー割付!P68=\"トーン1\",\"トーン1\",キー割付!P68=\"トーン2\",\"トーン2\",キー割付!P68=\"トーン3\",\"トーン3\",キー割付!P68=\"トーン4\",\"トーン4\",キー割付!P68=\"トーン5\",\"トーン5\",キー割付!P68=\"トーン6\",\"トーン6\",キー割付!P68=\"トーン7\",\"トーン7\",キー割付!P68=\"トーン7\",\"トーン7\",キー割付!P68=\"無鳴動着信\",\"トーン8\",キー割付!P68=\"グリーンスリーブス\",\"メロディ1\",キー割付!P68=\"峠の我が家\",\"メロディ2\",キー割付!P68=\"カノン\",\"メロディ3\",キー割付!P68=\"春の歌\",\"メロディ4\",キー割付!P68=\"主よ人の望みの喜びよ\",\"メロディ5\",キー割付!P68=\"メヌエット\",\"メロディ6\",キー割付!P68=\"華麗なる大円舞曲\",\"メロディ7\",キー割付!P68=\"ハンガリア舞曲第5番\",\"メロディ8\",TRUE,\"トーン1\"))","v":"トーン1"},{"$f":"IF(E16=\"ZX-DECLDIV-IPコードレス電話機\",\"トーン1\",_xlfn.IFS(キー割付!Q68=\"着信音なし\",\"トーン1\",キー割付!Q68=\"トーン1\",\"トーン1\",キー割付!Q68=\"トーン2\",\"トーン2\",キー割付!Q68=\"トーン3\",\"トーン3\",キー割付!Q68=\"トーン4\",\"トーン4\",キー割付!Q68=\"トーン5\",\"トーン5\",キー割付!Q68=\"トーン6\",\"トーン6\",キー割付!Q68=\"トーン7\",\"トーン7\",キー割付!Q68=\"トーン7\",\"トーン7\",キー割付!Q68=\"無鳴動着信\",\"トーン8\",キー割付!Q68=\"グリーンスリーブス\",\"メロディ1\",キー割付!Q68=\"峠の我が家\",\"メロディ2\",キー割付!Q68=\"カノン\",\"メロディ3\",キー割付!Q68=\"春の歌\",\"メロディ4\",キー割付!Q68=\"主よ人の望みの喜びよ\",\"メロディ5\",キー割付!Q68=\"メヌエット\",\"メロディ6\",キー割付!Q68=\"華麗なる大円舞曲\",\"メロディ7\",キー割付!Q68=\"ハンガリア舞曲第5番\",\"メロディ8\",TRUE,\"トーン1\"))","v":"トーン1"},{"$f":"IF(E16=\"ZX-DECLDIV-IPコードレス電話機\",\"トーン1\",_xlfn.IFS(キー割付!R68=\"着信音なし\",\"トーン1\",キー割付!R68=\"トーン1\",\"トーン1\",キー割付!R68=\"トーン2\",\"トーン2\",キー割付!R68=\"トーン3\",\"トーン3\",キー割付!R68=\"トーン4\",\"トーン4\",キー割付!R68=\"トーン5\",\"トーン5\",キー割付!R68=\"トーン6\",\"トーン6\",キー割付!R68=\"トーン7\",\"トーン7\",キー割付!R68=\"トーン7\",\"トーン7\",キー割付!R68=\"無鳴動着信\",\"トーン8\",キー割付!R68=\"グリーンスリーブス\",\"メロディ1\",キー割付!R68=\"峠の我が家\",\"メロディ2\",キー割付!R68=\"カノン\",\"メロディ3\",キー割付!R68=\"春の歌\",\"メロディ4\",キー割付!R68=\"主よ人の望みの喜びよ\",\"メロディ5\",キー割付!R68=\"メヌエット\",\"メロディ6\",キー割付!R68=\"華麗なる大円舞曲\",\"メロディ7\",キー割付!R68=\"ハンガリア舞曲第5番\",\"メロディ8\",TRUE,\"トーン1\"))","v":"トーン1"},{"$f":"IF(E16=\"ZX-DECLDIV-IPコードレス電話機\",\"トーン1\",_xlfn.IFS(キー割付!S68=\"着信音なし\",\"トーン1\",キー割付!S68=\"トーン1\",\"トーン1\",キー割付!S68=\"トーン2\",\"トーン2\",キー割付!S68=\"トーン3\",\"トーン3\",キー割付!S68=\"トーン4\",\"トーン4\",キー割付!S68=\"トーン5\",\"トーン5\",キー割付!S68=\"トーン6\",\"トーン6\",キー割付!S68=\"トーン7\",\"トーン7\",キー割付!S68=\"トーン7\",\"トーン7\",キー割付!S68=\"無鳴動着信\",\"トーン8\",キー割付!S68=\"グリーンスリーブス\",\"メロディ1\",キー割付!S68=\"峠の我が家\",\"メロディ2\",キー割付!S68=\"カノン\",\"メロディ3\",キー割付!S68=\"春の歌\",\"メロディ4\",キー割付!S68=\"主よ人の望みの喜びよ\",\"メロディ5\",キー割付!S68=\"メヌエット\",\"メロディ6\",キー割付!S68=\"華麗なる大円舞曲\",\"メロディ7\",キー割付!S68=\"ハンガリア舞曲第5番\",\"メロディ8\",TRUE,\"トーン1\"))","v":"トーン1"}]
[null,null,null,null,null,{"$f":"_xlfn.IFS(キー割付!N45=\"昼夜休憩\",\"B\",キー割付!N45=\"－－－\",\"-\",キー割付!N45=\"昼－－\",\"H\",キー割付!N45=\"－夜－\",\"N\",キー割付!N45=\"－－休憩\",\"P\",キー割付!N45=\"昼夜－\",\"N\",キー割付!N45=\"昼－休憩\",\"F\",キー割付!N45=\"－夜休憩\",\"K\",TRUE,\"-\")","v":"-"},{"$f":"_xlfn.IFS(キー割付!O45=\"昼夜休憩\",\"B\",キー割付!O45=\"－－－\",\"-\",キー割付!O45=\"昼－－\",\"H\",キー割付!O45=\"－夜－\",\"N\",キー割付!O45=\"－－休憩\",\"P\",キー割付!O45=\"昼夜－\",\"N\",キー割付!O45=\"昼－休憩\",\"F\",キー割付!O45=\"－夜休憩\",\"K\",TRUE,\"-\")","v":"-"},{"$f":"_xlfn.IFS(キー割付!P45=\"昼夜休憩\",\"B\",キー割付!P45=\"－－－\",\"-\",キー割付!P45=\"昼－－\",\"H\",キー割付!P45=\"－夜－\",\"N\",キー割付!P45=\"－－休憩\",\"P\",キー割付!P45=\"昼夜－\",\"N\",キー割付!P45=\"昼－休憩\",\"F\",キー割付!P45=\"－夜休憩\",\"K\",TRUE,\"-\")","v":"-"},{"$f":"_xlfn.IFS(キー割付!Q45=\"昼夜休憩\",\"B\",キー割付!Q45=\"－－－\",\"-\",キー割付!Q45=\"昼－－\",\"H\",キー割付!Q45=\"－夜－\",\"N\",キー割付!Q45=\"－－休憩\",\"P\",キー割付!Q45=\"昼夜－\",\"N\",キー割付!Q45=\"昼－休憩\",\"F\",キー割付!Q45=\"－夜休憩\",\"K\",TRUE,\"-\")","v":"-"},{"$f":"_xlfn.IFS(キー割付!R45=\"昼夜休憩\",\"B\",キー割付!R45=\"－－－\",\"-\",キー割付!R45=\"昼－－\",\"H\",キー割付!R45=\"－夜－\",\"N\",キー割付!R45=\"－－休憩\",\"P\",キー割付!R45=\"昼夜－\",\"N\",キー割付!R45=\"昼－休憩\",\"F\",キー割付!R45=\"－夜休憩\",\"K\",TRUE,\"-\")","v":"-"},{"$f":"_xlfn.IFS(キー割付!S45=\"昼夜休憩\",\"B\",キー割付!S45=\"－－－\",\"-\",キー割付!S45=\"昼－－\",\"H\",キー割付!S45=\"－夜－\",\"N\",キー割付!S45=\"－－休憩\",\"P\",キー割付!S45=\"昼夜－\",\"N\",キー割付!S45=\"昼－休憩\",\"F\",キー割付!S45=\"－夜休憩\",\"K\",TRUE,\"-\")","v":"-"},{"$f":"_xlfn.IFS(キー割付!N53=\"昼夜休憩\",\"B\",キー割付!N53=\"－－－\",\"-\",キー割付!N53=\"昼－－\",\"H\",キー割付!N53=\"－夜－\",\"N\",キー割付!N53=\"－－休憩\",\"P\",キー割付!N53=\"昼夜－\",\"N\",キー割付!N53=\"昼－休憩\",\"F\",キー割付!N53=\"－夜休憩\",\"K\",TRUE,\"-\")","v":"-"},{"$f":"_xlfn.IFS(キー割付!O53=\"昼夜休憩\",\"B\",キー割付!O53=\"－－－\",\"-\",キー割付!O53=\"昼－－\",\"H\",キー割付!O53=\"－夜－\",\"N\",キー割付!O53=\"－－休憩\",\"P\",キー割付!O53=\"昼夜－\",\"N\",キー割付!O53=\"昼－休憩\",\"F\",キー割付!O53=\"－夜休憩\",\"K\",TRUE,\"-\")","v":"-"},{"$f":"IF(E16=\"ZX-DECLDIV-IPコードレス電話機\",\"-\",_xlfn.IFS(キー割付!P53=\"昼夜休憩\",\"B\",キー割付!P53=\"－－－\",\"-\",キー割付!P53=\"昼－－\",\"H\",キー割付!P53=\"－夜－\",\"N\",キー割付!P53=\"－－休憩\",\"P\",キー割付!P53=\"昼夜－\",\"N\",キー割付!P53=\"昼－休憩\",\"F\",キー割付!P53=\"－夜休憩\",\"K\",TRUE,\"-\"))","v":"-"},{"$f":"IF(E16=\"ZX-DECLDIV-IPコードレス電話機\",\"-\",_xlfn.IFS(キー割付!Q53=\"昼夜休憩\",\"B\",キー割付!Q53=\"－－－\",\"-\",キー割付!Q53=\"昼－－\",\"H\",キー割付!Q53=\"－夜－\",\"N\",キー割付!Q53=\"－－休憩\",\"P\",キー割付!Q53=\"昼夜－\",\"N\",キー割付!Q53=\"昼－休憩\",\"F\",キー割付!Q53=\"－夜休憩\",\"K\",TRUE,\"-\"))","v":"-"},{"$f":"IF(E16=\"ZX-DECLDIV-IPコードレス電話機\",\"-\",_xlfn.IFS(キー割付!R53=\"昼夜休憩\",\"B\",キー割付!R53=\"－－－\",\"-\",キー割付!R53=\"昼－－\",\"H\",キー割付!R53=\"－夜－\",\"N\",キー割付!R53=\"－－休憩\",\"P\",キー割付!R53=\"昼夜－\",\"N\",キー割付!R53=\"昼－休憩\",\"F\",キー割付!R53=\"－夜休憩\",\"K\",TRUE,\"-\"))","v":"-"},{"$f":"IF(E16=\"ZX-DECLDIV-IPコードレス電話機\",\"-\",_xlfn.IFS(キー割付!S53=\"昼夜休憩\",\"B\",キー割付!S53=\"－－－\",\"-\",キー割付!S53=\"昼－－\",\"H\",キー割付!S53=\"－夜－\",\"N\",キー割付!S53=\"－－休憩\",\"P\",キー割付!S53=\"昼夜－\",\"N\",キー割付!S53=\"昼－休憩\",\"F\",キー割付!S53=\"－夜休憩\",\"K\",TRUE,\"-\"))","v":"-"},{"$f":"IF(E16=\"ZX-DECLDIV-IPコードレス電話機\",\"-\",_xlfn.IFS(キー割付!N61=\"昼夜休憩\",\"B\",キー割付!N61=\"－－－\",\"-\",キー割付!N61=\"昼－－\",\"H\",キー割付!N61=\"－夜－\",\"N\",キー割付!N61=\"－－休憩\",\"P\",キー割付!N61=\"昼夜－\",\"N\",キー割付!N61=\"昼－休憩\",\"F\",キー割付!N61=\"－夜休憩\",\"K\",TRUE,\"-\"))","v":"-"},{"$f":"IF(E16=\"ZX-DECLDIV-IPコードレス電話機\",\"-\",_xlfn.IFS(キー割付!O61=\"昼夜休憩\",\"B\",キー割付!O61=\"－－－\",\"-\",キー割付!O61=\"昼－－\",\"H\",キー割付!O61=\"－夜－\",\"N\",キー割付!O61=\"－－休憩\",\"P\",キー割付!O61=\"昼夜－\",\"N\",キー割付!O61=\"昼－休憩\",\"F\",キー割付!O61=\"－夜休憩\",\"K\",TRUE,\"-\"))","v":"-"},{"$f":"IF(E16=\"ZX-DECLDIV-IPコードレス電話機\",\"-\",_xlfn.IFS(キー割付!P61=\"昼夜休憩\",\"B\",キー割付!P61=\"－－－\",\"-\",キー割付!P61=\"昼－－\",\"H\",キー割付!P61=\"－夜－\",\"N\",キー割付!P61=\"－－休憩\",\"P\",キー割付!P61=\"昼夜－\",\"N\",キー割付!P61=\"昼－休憩\",\"F\",キー割付!P61=\"－夜休憩\",\"K\",TRUE,\"-\"))","v":"-"},{"$f":"IF(E16=\"ZX-DECLDIV-IPコードレス電話機\",\"-\",_xlfn.IFS(キー割付!Q61=\"昼夜休憩\",\"B\",キー割付!Q61=\"－－－\",\"-\",キー割付!Q61=\"昼－－\",\"H\",キー割付!Q61=\"－夜－\",\"N\",キー割付!Q61=\"－－休憩\",\"P\",キー割付!Q61=\"昼夜－\",\"N\",キー割付!Q61=\"昼－休憩\",\"F\",キー割付!Q61=\"－夜休憩\",\"K\",TRUE,\"-\"))","v":"-"},{"$f":"IF(E16=\"ZX-DECLDIV-IPコードレス電話機\",\"-\",_xlfn.IFS(キー割付!R61=\"昼夜休憩\",\"B\",キー割付!R61=\"－－－\",\"-\",キー割付!R61=\"昼－－\",\"H\",キー割付!R61=\"－夜－\",\"N\",キー割付!R61=\"－－休憩\",\"P\",キー割付!R61=\"昼夜－\",\"N\",キー割付!R61=\"昼－休憩\",\"F\",キー割付!R61=\"－夜休憩\",\"K\",TRUE,\"-\"))","v":"-"},{"$f":"IF(E16=\"ZX-DECLDIV-IPコードレス電話機\",\"-\",_xlfn.IFS(キー割付!S61=\"昼夜休憩\",\"B\",キー割付!S61=\"－－－\",\"-\",キー割付!S61=\"昼－－\",\"H\",キー割付!S61=\"－夜－\",\"N\",キー割付!S61=\"－－休憩\",\"P\",キー割付!S61=\"昼夜－\",\"N\",キー割付!S61=\"昼－休憩\",\"F\",キー割付!S61=\"－夜休憩\",\"K\",TRUE,\"-\"))","v":"-"},{"$f":"IF(E16=\"ZX-DECLDIV-IPコードレス電話機\",\"-\",_xlfn.IFS(キー割付!N69=\"昼夜休憩\",\"B\",キー割付!N69=\"－－－\",\"-\",キー割付!N69=\"昼－－\",\"H\",キー割付!N69=\"－夜－\",\"N\",キー割付!N69=\"－－休憩\",\"P\",キー割付!N69=\"昼夜－\",\"N\",キー割付!N69=\"昼－休憩\",\"F\",キー割付!N69=\"－夜休憩\",\"K\",TRUE,\"-\"))","v":"-"},{"$f":"IF(E16=\"ZX-DECLDIV-IPコードレス電話機\",\"-\",_xlfn.IFS(キー割付!O69=\"昼夜休憩\",\"B\",キー割付!O69=\"－－－\",\"-\",キー割付!O69=\"昼－－\",\"H\",キー割付!O69=\"－夜－\",\"N\",キー割付!O69=\"－－休憩\",\"P\",キー割付!O69=\"昼夜－\",\"N\",キー割付!O69=\"昼－休憩\",\"F\",キー割付!O69=\"－夜休憩\",\"K\",TRUE,\"-\"))","v":"-"},{"$f":"IF(E16=\"ZX-DECLDIV-IPコードレス電話機\",\"-\",_xlfn.IFS(キー割付!P69=\"昼夜休憩\",\"B\",キー割付!P69=\"－－－\",\"-\",キー割付!P69=\"昼－－\",\"H\",キー割付!P69=\"－夜－\",\"N\",キー割付!P69=\"－－休憩\",\"P\",キー割付!P69=\"昼夜－\",\"N\",キー割付!P69=\"昼－休憩\",\"F\",キー割付!P69=\"－夜休憩\",\"K\",TRUE,\"-\"))","v":"-"},{"$f":"IF(E16=\"ZX-DECLDIV-IPコードレス電話機\",\"-\",_xlfn.IFS(キー割付!Q69=\"昼夜休憩\",\"B\",キー割付!Q69=\"－－－\",\"-\",キー割付!Q69=\"昼－－\",\"H\",キー割付!Q69=\"－夜－\",\"N\",キー割付!Q69=\"－－休憩\",\"P\",キー割付!Q69=\"昼夜－\",\"N\",キー割付!Q69=\"昼－休憩\",\"F\",キー割付!Q69=\"－夜休憩\",\"K\",TRUE,\"-\"))","v":"-"},{"$f":"IF(E16=\"ZX-DECLDIV-IPコードレス電話機\",\"-\",_xlfn.IFS(キー割付!R69=\"昼夜休憩\",\"B\",キー割付!R69=\"－－－\",\"-\",キー割付!R69=\"昼－－\",\"H\",キー割付!R69=\"－夜－\",\"N\",キー割付!R69=\"－－休憩\",\"P\",キー割付!R69=\"昼夜－\",\"N\",キー割付!R69=\"昼－休憩\",\"F\",キー割付!R69=\"－夜休憩\",\"K\",TRUE,\"-\"))","v":"-"},{"$f":"IF(E16=\"ZX-DECLDIV-IPコードレス電話機\",\"-\",_xlfn.IFS(キー割付!S69=\"昼夜休憩\",\"B\",キー割付!S69=\"－－－\",\"-\",キー割付!S69=\"昼－－\",\"H\",キー割付!S69=\"－夜－\",\"N\",キー割付!S69=\"－－休憩\",\"P\",キー割付!S69=\"昼夜－\",\"N\",キー割付!S69=\"昼－休憩\",\"F\",キー割付!S69=\"－夜休憩\",\"K\",TRUE,\"-\"))","v":"-"}]
[null,5,{"$f":"IF(IFERROR(VALUE(VLOOKUP(B19,内線_キー割用,2,FALSE)),\"\")=0,\"\",IFERROR(VALUE(VLOOKUP(B19,内線_キー割用,2,FALSE)),\"\"))","v":""},{"$f":"IF(IFERROR(VALUE(VLOOKUP(B19,内線_キー割用,4,FALSE)),\"\")=0,\"\",IFERROR(VALUE(VLOOKUP(B19,内線_キー割用,4,FALSE)),\"\"))","v":""},{"$f":"IF(IFERROR(VLOOKUP(B19,内線_キー割用,3,FALSE),\"\")=0,\"\",IFERROR(VLOOKUP(B19,内線_キー割用,3,FALSE),\"\"))","v":""},{"$f":"IF(キー割付!D79=\"\",\"未使用\",キー割付!D79)","v":"未使用"},{"$f":"IF(キー割付!E79=\"\",\"未使用\",キー割付!E79)","v":"未使用"},{"$f":"IF(キー割付!F79=\"\",\"未使用\",キー割付!F79)","v":"未使用"},{"$f":"IF(キー割付!G79=\"\",\"未使用\",キー割付!G79)","v":"未使用"},{"$f":"IF(キー割付!H79=\"\",\"未使用\",キー割付!H79)","v":"未使用"},{"$f":"IF(キー割付!I79=\"\",\"未使用\",キー割付!I79)","v":"未使用"},{"$f":"IF(キー割付!D87=\"\",\"未使用\",キー割付!D87)","v":"未使用"},{"$f":"IF(キー割付!E87=\"\",\"未使用\",キー割付!E87)","v":"未使用"},{"$f":"IF(E19=\"ZX-DECLDIV-IPコードレス電話機\",\"未使用\",IF(キー割付!F87=\"\",\"未使用\",キー割付!F87))","v":"未使用"},{"$f":"IF(E19=\"ZX-DECLDIV-IPコードレス電話機\",\"未使用\",IF(キー割付!G87=\"\",\"未使用\",キー割付!G87))","v":"未使用"},{"$f":"IF(E19=\"ZX-DECLDIV-IPコードレス電話機\",\"未使用\",IF(キー割付!H87=\"\",\"未使用\",キー割付!H87))","v":"未使用"},{"$f":"IF(E19=\"ZX-DECLDIV-IPコードレス電話機\",\"未使用\",IF(キー割付!I87=\"\",\"未使用\",キー割付!I87))","v":"未使用"},{"$f":"IF(E19=\"ZX-DECLDIV-IPコードレス電話機\",\"未使用\",IF(キー割付!D95=\"\",\"未使用\",キー割付!D95))","v":"未使用"},{"$f":"IF(E19=\"ZX-DECLDIV-IPコードレス電話機\",\"未使用\",IF(キー割付!E95=\"\",\"未使用\",キー割付!E95))","v":"未使用"},{"$f":"IF(E19=\"ZX-DECLDIV-IPコードレス電話機\",\"未使用\",IF(キー割付!F95=\"\",\"未使用\",キー割付!F95))","v":"未使用"},{"$f":"IF(E19=\"ZX-DECLDIV-IPコードレス電話機\",\"未使用\",IF(キー割付!G95=\"\",\"未使用\",キー割付!G95))","v":"未使用"},{"$f":"IF(E19=\"ZX-DECLDIV-IPコードレス電話機\",\"未使用\",IF(キー割付!H95=\"\",\"未使用\",キー割付!H95))","v":"未使用"},{"$f":"IF(E19=\"ZX-DECLDIV-IPコードレス電話機\",\"未使用\",IF(キー割付!I95=\"\",\"未使用\",キー割付!I95))","v":"未使用"},{"$f":"IF(E19=\"ZX-DECLDIV-IPコードレス電話機\",\"未使用\",IF(キー割付!D103=\"\",\"未使用\",キー割付!D103))","v":"未使用"},{"$f":"IF(E19=\"ZX-DECLDIV-IPコードレス電話機\",\"未使用\",IF(キー割付!E103=\"\",\"未使用\",キー割付!E103))","v":"未使用"},{"$f":"IF(E19=\"ZX-DECLDIV-IPコードレス電話機\",\"未使用\",IF(キー割付!F103=\"\",\"未使用\",キー割付!F103))","v":"未使用"},{"$f":"IF(E19=\"ZX-DECLDIV-IPコードレス電話機\",\"未使用\",IF(キー割付!G103=\"\",\"未使用\",キー割付!G103))","v":"未使用"},{"$f":"IF(E19=\"ZX-DECLDIV-IPコードレス電話機\",\"未使用\",IF(キー割付!H103=\"\",\"未使用\",キー割付!H103))","v":"未使用"},{"$f":"IF(E19=\"ZX-DECLDIV-IPコードレス電話機\",\"未使用\",IF(キー割付!I103=\"\",\"未使用\",キー割付!I103))","v":"未使用"}]
[null,null,null,null,null,{"$f":"_xlfn.IFS(キー割付!D80=\"着信音なし\",\"トーン1\",キー割付!D80=\"トーン1\",\"トーン1\",キー割付!D80=\"トーン2\",\"トーン2\",キー割付!D80=\"トーン3\",\"トーン3\",キー割付!D80=\"トーン4\",\"トーン4\",キー割付!D80=\"トーン5\",\"トーン5\",キー割付!D80=\"トーン6\",\"トーン6\",キー割付!D80=\"トーン7\",\"トーン7\",キー割付!D80=\"トーン7\",\"トーン7\",キー割付!D80=\"無鳴動着信\",\"トーン8\",キー割付!D80=\"グリーンスリーブス\",\"メロディ1\",キー割付!D80=\"峠の我が家\",\"メロディ2\",キー割付!D80=\"カノン\",\"メロディ3\",キー割付!D80=\"春の歌\",\"メロディ4\",キー割付!D80=\"主よ人の望みの喜びよ\",\"メロディ5\",キー割付!D80=\"メヌエット\",\"メロディ6\",キー割付!D80=\"華麗なる大円舞曲\",\"メロディ7\",キー割付!D80=\"ハンガリア舞曲第5番\",\"メロディ8\",TRUE,\"トーン1\")","v":"トーン1"},{"$f":"_xlfn.IFS(キー割付!E80=\"着信音なし\",\"トーン1\",キー割付!E80=\"トーン1\",\"トーン1\",キー割付!E80=\"トーン2\",\"トーン2\",キー割付!E80=\"トーン3\",\"トーン3\",キー割付!E80=\"トーン4\",\"トーン4\",キー割付!E80=\"トーン5\",\"トーン5\",キー割付!E80=\"トーン6\",\"トーン6\",キー割付!E80=\"トーン7\",\"トーン7\",キー割付!E80=\"トーン7\",\"トーン7\",キー割付!E80=\"無鳴動着信\",\"トーン8\",キー割付!E80=\"グリーンスリーブス\",\"メロディ1\",キー割付!E80=\"峠の我が家\",\"メロディ2\",キー割付!E80=\"カノン\",\"メロディ3\",キー割付!E80=\"春の歌\",\"メロディ4\",キー割付!E80=\"主よ人の望みの喜びよ\",\"メロディ5\",キー割付!E80=\"メヌエット\",\"メロディ6\",キー割付!E80=\"華麗なる大円舞曲\",\"メロディ7\",キー割付!E80=\"ハンガリア舞曲第5番\",\"メロディ8\",TRUE,\"トーン1\")","v":"トーン1"},{"$f":"_xlfn.IFS(キー割付!F80=\"着信音なし\",\"トーン1\",キー割付!F80=\"トーン1\",\"トーン1\",キー割付!F80=\"トーン2\",\"トーン2\",キー割付!F80=\"トーン3\",\"トーン3\",キー割付!F80=\"トーン4\",\"トーン4\",キー割付!F80=\"トーン5\",\"トーン5\",キー割付!F80=\"トーン6\",\"トーン6\",キー割付!F80=\"トーン7\",\"トーン7\",キー割付!F80=\"トーン7\",\"トーン7\",キー割付!F80=\"無鳴動着信\",\"トーン8\",キー割付!F80=\"グリーンスリーブス\",\"メロディ1\",キー割付!F80=\"峠の我が家\",\"メロディ2\",キー割付!F80=\"カノン\",\"メロディ3\",キー割付!F80=\"春の歌\",\"メロディ4\",キー割付!F80=\"主よ人の望みの喜びよ\",\"メロディ5\",キー割付!F80=\"メヌエット\",\"メロディ6\",キー割付!F80=\"華麗なる大円舞曲\",\"メロディ7\",キー割付!F80=\"ハンガリア舞曲第5番\",\"メロディ8\",TRUE,\"トーン1\")","v":"トーン1"},{"$f":"_xlfn.IFS(キー割付!G80=\"着信音なし\",\"トーン1\",キー割付!G80=\"トーン1\",\"トーン1\",キー割付!G80=\"トーン2\",\"トーン2\",キー割付!G80=\"トーン3\",\"トーン3\",キー割付!G80=\"トーン4\",\"トーン4\",キー割付!G80=\"トーン5\",\"トーン5\",キー割付!G80=\"トーン6\",\"トーン6\",キー割付!G80=\"トーン7\",\"トーン7\",キー割付!G80=\"トーン7\",\"トーン7\",キー割付!G80=\"無鳴動着信\",\"トーン8\",キー割付!G80=\"グリーンスリーブス\",\"メロディ1\",キー割付!G80=\"峠の我が家\",\"メロディ2\",キー割付!G80=\"カノン\",\"メロディ3\",キー割付!G80=\"春の歌\",\"メロディ4\",キー割付!G80=\"主よ人の望みの喜びよ\",\"メロディ5\",キー割付!G80=\"メヌエット\",\"メロディ6\",キー割付!G80=\"華麗なる大円舞曲\",\"メロディ7\",キー割付!G80=\"ハンガリア舞曲第5番\",\"メロディ8\",TRUE,\"トーン1\")","v":"トーン1"},{"$f":"_xlfn.IFS(キー割付!H80=\"着信音なし\",\"トーン1\",キー割付!H80=\"トーン1\",\"トーン1\",キー割付!H80=\"トーン2\",\"トーン2\",キー割付!H80=\"トーン3\",\"トーン3\",キー割付!H80=\"トーン4\",\"トーン4\",キー割付!H80=\"トーン5\",\"トーン5\",キー割付!H80=\"トーン6\",\"トーン6\",キー割付!H80=\"トーン7\",\"トーン7\",キー割付!H80=\"トーン7\",\"トーン7\",キー割付!H80=\"無鳴動着信\",\"トーン8\",キー割付!H80=\"グリーンスリーブス\",\"メロディ1\",キー割付!H80=\"峠の我が家\",\"メロディ2\",キー割付!H80=\"カノン\",\"メロディ3\",キー割付!H80=\"春の歌\",\"メロディ4\",キー割付!H80=\"主よ人の望みの喜びよ\",\"メロディ5\",キー割付!H80=\"メヌエット\",\"メロディ6\",キー割付!H80=\"華麗なる大円舞曲\",\"メロディ7\",キー割付!H80=\"ハンガリア舞曲第5番\",\"メロディ8\",TRUE,\"トーン1\")","v":"トーン1"},{"$f":"_xlfn.IFS(キー割付!I80=\"着信音なし\",\"トーン1\",キー割付!I80=\"トーン1\",\"トーン1\",キー割付!I80=\"トーン2\",\"トーン2\",キー割付!I80=\"トーン3\",\"トーン3\",キー割付!I80=\"トーン4\",\"トーン4\",キー割付!I80=\"トーン5\",\"トーン5\",キー割付!I80=\"トーン6\",\"トーン6\",キー割付!I80=\"トーン7\",\"トーン7\",キー割付!I80=\"トーン7\",\"トーン7\",キー割付!I80=\"無鳴動着信\",\"トーン8\",キー割付!I80=\"グリーンスリーブス\",\"メロディ1\",キー割付!I80=\"峠の我が家\",\"メロディ2\",キー割付!I80=\"カノン\",\"メロディ3\",キー割付!I80=\"春の歌\",\"メロディ4\",キー割付!I80=\"主よ人の望みの喜びよ\",\"メロディ5\",キー割付!I80=\"メヌエット\",\"メロディ6\",キー割付!I80=\"華麗なる大円舞曲\",\"メロディ7\",キー割付!I80=\"ハンガリア舞曲第5番\",\"メロディ8\",TRUE,\"トーン1\")","v":"トーン1"},{"$f":"_xlfn.IFS(キー割付!D88=\"着信音なし\",\"トーン1\",キー割付!D88=\"トーン1\",\"トーン1\",キー割付!D88=\"トーン2\",\"トーン2\",キー割付!D88=\"トーン3\",\"トーン3\",キー割付!D88=\"トーン4\",\"トーン4\",キー割付!D88=\"トーン5\",\"トーン5\",キー割付!D88=\"トーン6\",\"トーン6\",キー割付!D88=\"トーン7\",\"トーン7\",キー割付!D88=\"トーン7\",\"トーン7\",キー割付!D88=\"無鳴動着信\",\"トーン8\",キー割付!D88=\"グリーンスリーブス\",\"メロディ1\",キー割付!D88=\"峠の我が家\",\"メロディ2\",キー割付!D88=\"カノン\",\"メロディ3\",キー割付!D88=\"春の歌\",\"メロディ4\",キー割付!D88=\"主よ人の望みの喜びよ\",\"メロディ5\",キー割付!D88=\"メヌエット\",\"メロディ6\",キー割付!D88=\"華麗なる大円舞曲\",\"メロディ7\",キー割付!D88=\"ハンガリア舞曲第5番\",\"メロディ8\",TRUE,\"トーン1\")","v":"トーン1"},{"$f":"_xlfn.IFS(キー割付!E88=\"着信音なし\",\"トーン1\",キー割付!E88=\"トーン1\",\"トーン1\",キー割付!E88=\"トーン2\",\"トーン2\",キー割付!E88=\"トーン3\",\"トーン3\",キー割付!E88=\"トーン4\",\"トーン4\",キー割付!E88=\"トーン5\",\"トーン5\",キー割付!E88=\"トーン6\",\"トーン6\",キー割付!E88=\"トーン7\",\"トーン7\",キー割付!E88=\"トーン7\",\"トーン7\",キー割付!E88=\"無鳴動着信\",\"トーン8\",キー割付!E88=\"グリーンスリーブス\",\"メロディ1\",キー割付!E88=\"峠の我が家\",\"メロディ2\",キー割付!E88=\"カノン\",\"メロディ3\",キー割付!E88=\"春の歌\",\"メロディ4\",キー割付!E88=\"主よ人の望みの喜びよ\",\"メロディ5\",キー割付!E88=\"メヌエット\",\"メロディ6\",キー割付!E88=\"華麗なる大円舞曲\",\"メロディ7\",キー割付!E88=\"ハンガリア舞曲第5番\",\"メロディ8\",TRUE,\"トーン1\")","v":"トーン1"},{"$f":"IF(E19=\"ZX-DECLDIV-IPコードレス電話機\",\"トーン1\",_xlfn.IFS(キー割付!F88=\"着信音なし\",\"トーン1\",キー割付!F88=\"トーン1\",\"トーン1\",キー割付!F88=\"トーン2\",\"トーン2\",キー割付!F88=\"トーン3\",\"トーン3\",キー割付!F88=\"トーン4\",\"トーン4\",キー割付!F88=\"トーン5\",\"トーン5\",キー割付!F88=\"トーン6\",\"トーン6\",キー割付!F88=\"トーン7\",\"トーン7\",キー割付!F88=\"トーン7\",\"トーン7\",キー割付!F88=\"無鳴動着信\",\"トーン8\",キー割付!F88=\"グリーンスリーブス\",\"メロディ1\",キー割付!F88=\"峠の我が家\",\"メロディ2\",キー割付!F88=\"カノン\",\"メロディ3\",キー割付!F88=\"春の歌\",\"メロディ4\",キー割付!F88=\"主よ人の望みの喜びよ\",\"メロディ5\",キー割付!F88=\"メヌエット\",\"メロディ6\",キー割付!F88=\"華麗なる大円舞曲\",\"メロディ7\",キー割付!F88=\"ハンガリア舞曲第5番\",\"メロディ8\",TRUE,\"トーン1\"))","v":"トーン1"},{"$f":"IF(E19=\"ZX-DECLDIV-IPコードレス電話機\",\"トーン1\",_xlfn.IFS(キー割付!G88=\"着信音なし\",\"トーン1\",キー割付!G88=\"トーン1\",\"トーン1\",キー割付!G88=\"トーン2\",\"トーン2\",キー割付!G88=\"トーン3\",\"トーン3\",キー割付!G88=\"トーン4\",\"トーン4\",キー割付!G88=\"トーン5\",\"トーン5\",キー割付!G88=\"トーン6\",\"トーン6\",キー割付!G88=\"トーン7\",\"トーン7\",キー割付!G88=\"トーン7\",\"トーン7\",キー割付!G88=\"無鳴動着信\",\"トーン8\",キー割付!G88=\"グリーンスリーブス\",\"メロディ1\",キー割付!G88=\"峠の我が家\",\"メロディ2\",キー割付!G88=\"カノン\",\"メロディ3\",キー割付!G88=\"春の歌\",\"メロディ4\",キー割付!G88=\"主よ人の望みの喜びよ\",\"メロディ5\",キー割付!G88=\"メヌエット\",\"メロディ6\",キー割付!G88=\"華麗なる大円舞曲\",\"メロディ7\",キー割付!G88=\"ハンガリア舞曲第5番\",\"メロディ8\",TRUE,\"トーン1\"))","v":"トーン1"},{"$f":"IF(E19=\"ZX-DECLDIV-IPコードレス電話機\",\"トーン1\",_xlfn.IFS(キー割付!H88=\"着信音なし\",\"トーン1\",キー割付!H88=\"トーン1\",\"トーン1\",キー割付!H88=\"トーン2\",\"トーン2\",キー割付!H88=\"トーン3\",\"トーン3\",キー割付!H88=\"トーン4\",\"トーン4\",キー割付!H88=\"トーン5\",\"トーン5\",キー割付!H88=\"トーン6\",\"トーン6\",キー割付!H88=\"トーン7\",\"トーン7\",キー割付!H88=\"トーン7\",\"トーン7\",キー割付!H88=\"無鳴動着信\",\"トーン8\",キー割付!H88=\"グリーンスリーブス\",\"メロディ1\",キー割付!H88=\"峠の我が家\",\"メロディ2\",キー割付!H88=\"カノン\",\"メロディ3\",キー割付!H88=\"春の歌\",\"メロディ4\",キー割付!H88=\"主よ人の望みの喜びよ\",\"メロディ5\",キー割付!H88=\"メヌエット\",\"メロディ6\",キー割付!H88=\"華麗なる大円舞曲\",\"メロディ7\",キー割付!H88=\"ハンガリア舞曲第5番\",\"メロディ8\",TRUE,\"トーン1\"))","v":"トーン1"},{"$f":"IF(E19=\"ZX-DECLDIV-IPコードレス電話機\",\"トーン1\",_xlfn.IFS(キー割付!I88=\"着信音なし\",\"トーン1\",キー割付!I88=\"トーン1\",\"トーン1\",キー割付!I88=\"トーン2\",\"トーン2\",キー割付!I88=\"トーン3\",\"トーン3\",キー割付!I88=\"トーン4\",\"トーン4\",キー割付!I88=\"トーン5\",\"トーン5\",キー割付!I88=\"トーン6\",\"トーン6\",キー割付!I88=\"トーン7\",\"トーン7\",キー割付!I88=\"トーン7\",\"トーン7\",キー割付!I88=\"無鳴動着信\",\"トーン8\",キー割付!I88=\"グリーンスリーブス\",\"メロディ1\",キー割付!I88=\"峠の我が家\",\"メロディ2\",キー割付!I88=\"カノン\",\"メロディ3\",キー割付!I88=\"春の歌\",\"メロディ4\",キー割付!I88=\"主よ人の望みの喜びよ\",\"メロディ5\",キー割付!I88=\"メヌエット\",\"メロディ6\",キー割付!I88=\"華麗なる大円舞曲\",\"メロディ7\",キー割付!I88=\"ハンガリア舞曲第5番\",\"メロディ8\",TRUE,\"トーン1\"))","v":"トーン1"},{"$f":"IF(E19=\"ZX-DECLDIV-IPコードレス電話機\",\"トーン1\",_xlfn.IFS(キー割付!D96=\"着信音なし\",\"トーン1\",キー割付!D96=\"トーン1\",\"トーン1\",キー割付!D96=\"トーン2\",\"トーン2\",キー割付!D96=\"トーン3\",\"トーン3\",キー割付!D96=\"トーン4\",\"トーン4\",キー割付!D96=\"トーン5\",\"トーン5\",キー割付!D96=\"トーン6\",\"トーン6\",キー割付!D96=\"トーン7\",\"トーン7\",キー割付!D96=\"トーン7\",\"トーン7\",キー割付!D96=\"無鳴動着信\",\"トーン8\",キー割付!D96=\"グリーンスリーブス\",\"メロディ1\",キー割付!D96=\"峠の我が家\",\"メロディ2\",キー割付!D96=\"カノン\",\"メロディ3\",キー割付!D96=\"春の歌\",\"メロディ4\",キー割付!D96=\"主よ人の望みの喜びよ\",\"メロディ5\",キー割付!D96=\"メヌエット\",\"メロディ6\",キー割付!D96=\"華麗なる大円舞曲\",\"メロディ7\",キー割付!D96=\"ハンガリア舞曲第5番\",\"メロディ8\",TRUE,\"トーン1\"))","v":"トーン1"},{"$f":"IF(E19=\"ZX-DECLDIV-IPコードレス電話機\",\"トーン1\",_xlfn.IFS(キー割付!E96=\"着信音なし\",\"トーン1\",キー割付!E96=\"トーン1\",\"トーン1\",キー割付!E96=\"トーン2\",\"トーン2\",キー割付!E96=\"トーン3\",\"トーン3\",キー割付!E96=\"トーン4\",\"トーン4\",キー割付!E96=\"トーン5\",\"トーン5\",キー割付!E96=\"トーン6\",\"トーン6\",キー割付!E96=\"トーン7\",\"トーン7\",キー割付!E96=\"トーン7\",\"トーン7\",キー割付!E96=\"無鳴動着信\",\"トーン8\",キー割付!E96=\"グリーンスリーブス\",\"メロディ1\",キー割付!E96=\"峠の我が家\",\"メロディ2\",キー割付!E96=\"カノン\",\"メロディ3\",キー割付!E96=\"春の歌\",\"メロディ4\",キー割付!E96=\"主よ人の望みの喜びよ\",\"メロディ5\",キー割付!E96=\"メヌエット\",\"メロディ6\",キー割付!E96=\"華麗なる大円舞曲\",\"メロディ7\",キー割付!E96=\"ハンガリア舞曲第5番\",\"メロディ8\",TRUE,\"トーン1\"))","v":"トーン1"},{"$f":"IF(E19=\"ZX-DECLDIV-IPコードレス電話機\",\"トーン1\",_xlfn.IFS(キー割付!F96=\"着信音なし\",\"トーン1\",キー割付!F96=\"トーン1\",\"トーン1\",キー割付!F96=\"トーン2\",\"トーン2\",キー割付!F96=\"トーン3\",\"トーン3\",キー割付!F96=\"トーン4\",\"トーン4\",キー割付!F96=\"トーン5\",\"トーン5\",キー割付!F96=\"トーン6\",\"トーン6\",キー割付!F96=\"トーン7\",\"トーン7\",キー割付!F96=\"トーン7\",\"トーン7\",キー割付!F96=\"無鳴動着信\",\"トーン8\",キー割付!F96=\"グリーンスリーブス\",\"メロディ1\",キー割付!F96=\"峠の我が家\",\"メロディ2\",キー割付!F96=\"カノン\",\"メロディ3\",キー割付!F96=\"春の歌\",\"メロディ4\",キー割付!F96=\"主よ人の望みの喜びよ\",\"メロディ5\",キー割付!F96=\"メヌエット\",\"メロディ6\",キー割付!F96=\"華麗なる大円舞曲\",\"メロディ7\",キー割付!F96=\"ハンガリア舞曲第5番\",\"メロディ8\",TRUE,\"トーン1\"))","v":"トーン1"},{"$f":"IF(E19=\"ZX-DECLDIV-IPコードレス電話機\",\"トーン1\",_xlfn.IFS(キー割付!G96=\"着信音なし\",\"トーン1\",キー割付!G96=\"トーン1\",\"トーン1\",キー割付!G96=\"トーン2\",\"トーン2\",キー割付!G96=\"トーン3\",\"トーン3\",キー割付!G96=\"トーン4\",\"トーン4\",キー割付!G96=\"トーン5\",\"トーン5\",キー割付!G96=\"トーン6\",\"トーン6\",キー割付!G96=\"トーン7\",\"トーン7\",キー割付!G96=\"トーン7\",\"トーン7\",キー割付!G96=\"無鳴動着信\",\"トーン8\",キー割付!G96=\"グリーンスリーブス\",\"メロディ1\",キー割付!G96=\"峠の我が家\",\"メロディ2\",キー割付!G96=\"カノン\",\"メロディ3\",キー割付!G96=\"春の歌\",\"メロディ4\",キー割付!G96=\"主よ人の望みの喜びよ\",\"メロディ5\",キー割付!G96=\"メヌエット\",\"メロディ6\",キー割付!G96=\"華麗なる大円舞曲\",\"メロディ7\",キー割付!G96=\"ハンガリア舞曲第5番\",\"メロディ8\",TRUE,\"トーン1\"))","v":"トーン1"},{"$f":"IF(E19=\"ZX-DECLDIV-IPコードレス電話機\",\"トーン1\",_xlfn.IFS(キー割付!H96=\"着信音なし\",\"トーン1\",キー割付!H96=\"トーン1\",\"トーン1\",キー割付!H96=\"トーン2\",\"トーン2\",キー割付!H96=\"トーン3\",\"トーン3\",キー割付!H96=\"トーン4\",\"トーン4\",キー割付!H96=\"トーン5\",\"トーン5\",キー割付!H96=\"トーン6\",\"トーン6\",キー割付!H96=\"トーン7\",\"トーン7\",キー割付!H96=\"トーン7\",\"トーン7\",キー割付!H96=\"無鳴動着信\",\"トーン8\",キー割付!H96=\"グリーンスリーブス\",\"メロディ1\",キー割付!H96=\"峠の我が家\",\"メロディ2\",キー割付!H96=\"カノン\",\"メロディ3\",キー割付!H96=\"春の歌\",\"メロディ4\",キー割付!H96=\"主よ人の望みの喜びよ\",\"メロディ5\",キー割付!H96=\"メヌエット\",\"メロディ6\",キー割付!H96=\"華麗なる大円舞曲\",\"メロディ7\",キー割付!H96=\"ハンガリア舞曲第5番\",\"メロディ8\",TRUE,\"トーン1\"))","v":"トーン1"},{"$f":"IF(E19=\"ZX-DECLDIV-IPコードレス電話機\",\"トーン1\",_xlfn.IFS(キー割付!I96=\"着信音なし\",\"トーン1\",キー割付!I96=\"トーン1\",\"トーン1\",キー割付!I96=\"トーン2\",\"トーン2\",キー割付!I96=\"トーン3\",\"トーン3\",キー割付!I96=\"トーン4\",\"トーン4\",キー割付!I96=\"トーン5\",\"トーン5\",キー割付!I96=\"トーン6\",\"トーン6\",キー割付!I96=\"トーン7\",\"トーン7\",キー割付!I96=\"トーン7\",\"トーン7\",キー割付!I96=\"無鳴動着信\",\"トーン8\",キー割付!I96=\"グリーンスリーブス\",\"メロディ1\",キー割付!I96=\"峠の我が家\",\"メロディ2\",キー割付!I96=\"カノン\",\"メロディ3\",キー割付!I96=\"春の歌\",\"メロディ4\",キー割付!I96=\"主よ人の望みの喜びよ\",\"メロディ5\",キー割付!I96=\"メヌエット\",\"メロディ6\",キー割付!I96=\"華麗なる大円舞曲\",\"メロディ7\",キー割付!I96=\"ハンガリア舞曲第5番\",\"メロディ8\",TRUE,\"トーン1\"))","v":"トーン1"},{"$f":"IF(E19=\"ZX-DECLDIV-IPコードレス電話機\",\"トーン1\",_xlfn.IFS(キー割付!D104=\"着信音なし\",\"トーン1\",キー割付!D104=\"トーン1\",\"トーン1\",キー割付!D104=\"トーン2\",\"トーン2\",キー割付!D104=\"トーン3\",\"トーン3\",キー割付!D104=\"トーン4\",\"トーン4\",キー割付!D104=\"トーン5\",\"トーン5\",キー割付!D104=\"トーン6\",\"トーン6\",キー割付!D104=\"トーン7\",\"トーン7\",キー割付!D104=\"トーン7\",\"トーン7\",キー割付!D104=\"無鳴動着信\",\"トーン8\",キー割付!D104=\"グリーンスリーブス\",\"メロディ1\",キー割付!D104=\"峠の我が家\",\"メロディ2\",キー割付!D104=\"カノン\",\"メロディ3\",キー割付!D104=\"春の歌\",\"メロディ4\",キー割付!D104=\"主よ人の望みの喜びよ\",\"メロディ5\",キー割付!D104=\"メヌエット\",\"メロディ6\",キー割付!D104=\"華麗なる大円舞曲\",\"メロディ7\",キー割付!D104=\"ハンガリア舞曲第5番\",\"メロディ8\",TRUE,\"トーン1\"))","v":"トーン1"},{"$f":"IF(E19=\"ZX-DECLDIV-IPコードレス電話機\",\"トーン1\",_xlfn.IFS(キー割付!E104=\"着信音なし\",\"トーン1\",キー割付!E104=\"トーン1\",\"トーン1\",キー割付!E104=\"トーン2\",\"トーン2\",キー割付!E104=\"トーン3\",\"トーン3\",キー割付!E104=\"トーン4\",\"トーン4\",キー割付!E104=\"トーン5\",\"トーン5\",キー割付!E104=\"トーン6\",\"トーン6\",キー割付!E104=\"トーン7\",\"トーン7\",キー割付!E104=\"トーン7\",\"トーン7\",キー割付!E104=\"無鳴動着信\",\"トーン8\",キー割付!E104=\"グリーンスリーブス\",\"メロディ1\",キー割付!E104=\"峠の我が家\",\"メロディ2\",キー割付!E104=\"カノン\",\"メロディ3\",キー割付!E104=\"春の歌\",\"メロディ4\",キー割付!E104=\"主よ人の望みの喜びよ\",\"メロディ5\",キー割付!E104=\"メヌエット\",\"メロディ6\",キー割付!E104=\"華麗なる大円舞曲\",\"メロディ7\",キー割付!E104=\"ハンガリア舞曲第5番\",\"メロディ8\",TRUE,\"トーン1\"))","v":"トーン1"},{"$f":"IF(E19=\"ZX-DECLDIV-IPコードレス電話機\",\"トーン1\",_xlfn.IFS(キー割付!F104=\"着信音なし\",\"トーン1\",キー割付!F104=\"トーン1\",\"トーン1\",キー割付!F104=\"トーン2\",\"トーン2\",キー割付!F104=\"トーン3\",\"トーン3\",キー割付!F104=\"トーン4\",\"トーン4\",キー割付!F104=\"トーン5\",\"トーン5\",キー割付!F104=\"トーン6\",\"トーン6\",キー割付!F104=\"トーン7\",\"トーン7\",キー割付!F104=\"トーン7\",\"トーン7\",キー割付!F104=\"無鳴動着信\",\"トーン8\",キー割付!F104=\"グリーンスリーブス\",\"メロディ1\",キー割付!F104=\"峠の我が家\",\"メロディ2\",キー割付!F104=\"カノン\",\"メロディ3\",キー割付!F104=\"春の歌\",\"メロディ4\",キー割付!F104=\"主よ人の望みの喜びよ\",\"メロディ5\",キー割付!F104=\"メヌエット\",\"メロディ6\",キー割付!F104=\"華麗なる大円舞曲\",\"メロディ7\",キー割付!F104=\"ハンガリア舞曲第5番\",\"メロディ8\",TRUE,\"トーン1\"))","v":"トーン1"},{"$f":"IF(E19=\"ZX-DECLDIV-IPコードレス電話機\",\"トーン1\",_xlfn.IFS(キー割付!G104=\"着信音なし\",\"トーン1\",キー割付!G104=\"トーン1\",\"トーン1\",キー割付!G104=\"トーン2\",\"トーン2\",キー割付!G104=\"トーン3\",\"トーン3\",キー割付!G104=\"トーン4\",\"トーン4\",キー割付!G104=\"トーン5\",\"トーン5\",キー割付!G104=\"トーン6\",\"トーン6\",キー割付!G104=\"トーン7\",\"トーン7\",キー割付!G104=\"トーン7\",\"トーン7\",キー割付!G104=\"無鳴動着信\",\"トーン8\",キー割付!G104=\"グリーンスリーブス\",\"メロディ1\",キー割付!G104=\"峠の我が家\",\"メロディ2\",キー割付!G104=\"カノン\",\"メロディ3\",キー割付!G104=\"春の歌\",\"メロディ4\",キー割付!G104=\"主よ人の望みの喜びよ\",\"メロディ5\",キー割付!G104=\"メヌエット\",\"メロディ6\",キー割付!G104=\"華麗なる大円舞曲\",\"メロディ7\",キー割付!G104=\"ハンガリア舞曲第5番\",\"メロディ8\",TRUE,\"トーン1\"))","v":"トーン1"},{"$f":"IF(E19=\"ZX-DECLDIV-IPコードレス電話機\",\"トーン1\",_xlfn.IFS(キー割付!H104=\"着信音なし\",\"トーン1\",キー割付!H104=\"トーン1\",\"トーン1\",キー割付!H104=\"トーン2\",\"トーン2\",キー割付!H104=\"トーン3\",\"トーン3\",キー割付!H104=\"トーン4\",\"トーン4\",キー割付!H104=\"トーン5\",\"トーン5\",キー割付!H104=\"トーン6\",\"トーン6\",キー割付!H104=\"トーン7\",\"トーン7\",キー割付!H104=\"トーン7\",\"トーン7\",キー割付!H104=\"無鳴動着信\",\"トーン8\",キー割付!H104=\"グリーンスリーブス\",\"メロディ1\",キー割付!H104=\"峠の我が家\",\"メロディ2\",キー割付!H104=\"カノン\",\"メロディ3\",キー割付!H104=\"春の歌\",\"メロディ4\",キー割付!H104=\"主よ人の望みの喜びよ\",\"メロディ5\",キー割付!H104=\"メヌエット\",\"メロディ6\",キー割付!H104=\"華麗なる大円舞曲\",\"メロディ7\",キー割付!H104=\"ハンガリア舞曲第5番\",\"メロディ8\",TRUE,\"トーン1\"))","v":"トーン1"},{"$f":"IF(E19=\"ZX-DECLDIV-IPコードレス電話機\",\"トーン1\",_xlfn.IFS(キー割付!I104=\"着信音なし\",\"トーン1\",キー割付!I104=\"トーン1\",\"トーン1\",キー割付!I104=\"トーン2\",\"トーン2\",キー割付!I104=\"トーン3\",\"トーン3\",キー割付!I104=\"トーン4\",\"トーン4\",キー割付!I104=\"トーン5\",\"トーン5\",キー割付!I104=\"トーン6\",\"トーン6\",キー割付!I104=\"トーン7\",\"トーン7\",キー割付!I104=\"トーン7\",\"トーン7\",キー割付!I104=\"無鳴動着信\",\"トーン8\",キー割付!I104=\"グリーンスリーブス\",\"メロディ1\",キー割付!I104=\"峠の我が家\",\"メロディ2\",キー割付!I104=\"カノン\",\"メロディ3\",キー割付!I104=\"春の歌\",\"メロディ4\",キー割付!I104=\"主よ人の望みの喜びよ\",\"メロディ5\",キー割付!I104=\"メヌエット\",\"メロディ6\",キー割付!I104=\"華麗なる大円舞曲\",\"メロディ7\",キー割付!I104=\"ハンガリア舞曲第5番\",\"メロディ8\",TRUE,\"トーン1\"))","v":"トーン1"}]
[null,null,null,null,null,{"$f":"_xlfn.IFS(キー割付!D81=\"昼夜休憩\",\"B\",キー割付!D81=\"－－－\",\"-\",キー割付!D81=\"昼－－\",\"H\",キー割付!D81=\"－夜－\",\"N\",キー割付!D81=\"－－休憩\",\"P\",キー割付!D81=\"昼夜－\",\"D\",キー割付!D81=\"昼－休憩\",\"F\",キー割付!D81=\"－夜休憩\",\"K\",TRUE,\"-\")","v":"-"},{"$f":"_xlfn.IFS(キー割付!E81=\"昼夜休憩\",\"B\",キー割付!E81=\"－－－\",\"-\",キー割付!E81=\"昼－－\",\"H\",キー割付!E81=\"－夜－\",\"N\",キー割付!E81=\"－－休憩\",\"P\",キー割付!E81=\"昼夜－\",\"D\",キー割付!E81=\"昼－休憩\",\"F\",キー割付!E81=\"－夜休憩\",\"K\",TRUE,\"-\")","v":"-"},{"$f":"_xlfn.IFS(キー割付!F81=\"昼夜休憩\",\"B\",キー割付!F81=\"－－－\",\"-\",キー割付!F81=\"昼－－\",\"H\",キー割付!F81=\"－夜－\",\"N\",キー割付!F81=\"－－休憩\",\"P\",キー割付!F81=\"昼夜－\",\"D\",キー割付!F81=\"昼－休憩\",\"F\",キー割付!F81=\"－夜休憩\",\"K\",TRUE,\"-\")","v":"-"},{"$f":"_xlfn.IFS(キー割付!G81=\"昼夜休憩\",\"B\",キー割付!G81=\"－－－\",\"-\",キー割付!G81=\"昼－－\",\"H\",キー割付!G81=\"－夜－\",\"N\",キー割付!G81=\"－－休憩\",\"P\",キー割付!G81=\"昼夜－\",\"D\",キー割付!G81=\"昼－休憩\",\"F\",キー割付!G81=\"－夜休憩\",\"K\",TRUE,\"-\")","v":"-"},{"$f":"_xlfn.IFS(キー割付!H81=\"昼夜休憩\",\"B\",キー割付!H81=\"－－－\",\"-\",キー割付!H81=\"昼－－\",\"H\",キー割付!H81=\"－夜－\",\"N\",キー割付!H81=\"－－休憩\",\"P\",キー割付!H81=\"昼夜－\",\"D\",キー割付!H81=\"昼－休憩\",\"F\",キー割付!H81=\"－夜休憩\",\"K\",TRUE,\"-\")","v":"-"},{"$f":"_xlfn.IFS(キー割付!I81=\"昼夜休憩\",\"B\",キー割付!I81=\"－－－\",\"-\",キー割付!I81=\"昼－－\",\"H\",キー割付!I81=\"－夜－\",\"N\",キー割付!I81=\"－－休憩\",\"P\",キー割付!I81=\"昼夜－\",\"D\",キー割付!I81=\"昼－休憩\",\"F\",キー割付!I81=\"－夜休憩\",\"K\",TRUE,\"-\")","v":"-"},{"$f":"_xlfn.IFS(キー割付!D89=\"昼夜休憩\",\"B\",キー割付!D89=\"－－－\",\"-\",キー割付!D89=\"昼－－\",\"H\",キー割付!D89=\"－夜－\",\"N\",キー割付!D89=\"－－休憩\",\"P\",キー割付!D89=\"昼夜－\",\"D\",キー割付!D89=\"昼－休憩\",\"F\",キー割付!D89=\"－夜休憩\",\"K\",TRUE,\"-\")","v":"-"},{"$f":"_xlfn.IFS(キー割付!E89=\"昼夜休憩\",\"B\",キー割付!E89=\"－－－\",\"-\",キー割付!E89=\"昼－－\",\"H\",キー割付!E89=\"－夜－\",\"N\",キー割付!E89=\"－－休憩\",\"P\",キー割付!E89=\"昼夜－\",\"D\",キー割付!E89=\"昼－休憩\",\"F\",キー割付!E89=\"－夜休憩\",\"K\",TRUE,\"-\")","v":"-"},{"$f":"IF(E19=\"ZX-DECLDIV-IPコードレス電話機\",\"-\",_xlfn.IFS(キー割付!F89=\"昼夜休憩\",\"B\",キー割付!F89=\"－－－\",\"-\",キー割付!F89=\"昼－－\",\"H\",キー割付!F89=\"－夜－\",\"N\",キー割付!F89=\"－－休憩\",\"P\",キー割付!F89=\"昼夜－\",\"D\",キー割付!F89=\"昼－休憩\",\"F\",キー割付!F89=\"－夜休憩\",\"K\",TRUE,\"-\"))","v":"-"},{"$f":"IF(E19=\"ZX-DECLDIV-IPコードレス電話機\",\"-\",_xlfn.IFS(キー割付!G89=\"昼夜休憩\",\"B\",キー割付!G89=\"－－－\",\"-\",キー割付!G89=\"昼－－\",\"H\",キー割付!G89=\"－夜－\",\"N\",キー割付!G89=\"－－休憩\",\"P\",キー割付!G89=\"昼夜－\",\"D\",キー割付!G89=\"昼－休憩\",\"F\",キー割付!G89=\"－夜休憩\",\"K\",TRUE,\"-\"))","v":"-"},{"$f":"IF(E19=\"ZX-DECLDIV-IPコードレス電話機\",\"-\",_xlfn.IFS(キー割付!H89=\"昼夜休憩\",\"B\",キー割付!H89=\"－－－\",\"-\",キー割付!H89=\"昼－－\",\"H\",キー割付!H89=\"－夜－\",\"N\",キー割付!H89=\"－－休憩\",\"P\",キー割付!H89=\"昼夜－\",\"D\",キー割付!H89=\"昼－休憩\",\"F\",キー割付!H89=\"－夜休憩\",\"K\",TRUE,\"-\"))","v":"-"},{"$f":"IF(E19=\"ZX-DECLDIV-IPコードレス電話機\",\"-\",_xlfn.IFS(キー割付!I89=\"昼夜休憩\",\"B\",キー割付!I89=\"－－－\",\"-\",キー割付!I89=\"昼－－\",\"H\",キー割付!I89=\"－夜－\",\"N\",キー割付!I89=\"－－休憩\",\"P\",キー割付!I89=\"昼夜－\",\"D\",キー割付!I89=\"昼－休憩\",\"F\",キー割付!I89=\"－夜休憩\",\"K\",TRUE,\"-\"))","v":"-"},{"$f":"IF(E19=\"ZX-DECLDIV-IPコードレス電話機\",\"-\",_xlfn.IFS(キー割付!D97=\"昼夜休憩\",\"B\",キー割付!D97=\"－－－\",\"-\",キー割付!D97=\"昼－－\",\"H\",キー割付!D97=\"－夜－\",\"N\",キー割付!D97=\"－－休憩\",\"P\",キー割付!D97=\"昼夜－\",\"D\",キー割付!D97=\"昼－休憩\",\"F\",キー割付!D97=\"－夜休憩\",\"K\",TRUE,\"-\"))","v":"-"},{"$f":"IF(E19=\"ZX-DECLDIV-IPコードレス電話機\",\"-\",_xlfn.IFS(キー割付!E97=\"昼夜休憩\",\"B\",キー割付!E97=\"－－－\",\"-\",キー割付!E97=\"昼－－\",\"H\",キー割付!E97=\"－夜－\",\"N\",キー割付!E97=\"－－休憩\",\"P\",キー割付!E97=\"昼夜－\",\"D\",キー割付!E97=\"昼－休憩\",\"F\",キー割付!E97=\"－夜休憩\",\"K\",TRUE,\"-\"))","v":"-"},{"$f":"IF(E19=\"ZX-DECLDIV-IPコードレス電話機\",\"-\",_xlfn.IFS(キー割付!F97=\"昼夜休憩\",\"B\",キー割付!F97=\"－－－\",\"-\",キー割付!F97=\"昼－－\",\"H\",キー割付!F97=\"－夜－\",\"N\",キー割付!F97=\"－－休憩\",\"P\",キー割付!F97=\"昼夜－\",\"D\",キー割付!F97=\"昼－休憩\",\"F\",キー割付!F97=\"－夜休憩\",\"K\",TRUE,\"-\"))","v":"-"},{"$f":"IF(E19=\"ZX-DECLDIV-IPコードレス電話機\",\"-\",_xlfn.IFS(キー割付!G97=\"昼夜休憩\",\"B\",キー割付!G97=\"－－－\",\"-\",キー割付!G97=\"昼－－\",\"H\",キー割付!G97=\"－夜－\",\"N\",キー割付!G97=\"－－休憩\",\"P\",キー割付!G97=\"昼夜－\",\"D\",キー割付!G97=\"昼－休憩\",\"F\",キー割付!G97=\"－夜休憩\",\"K\",TRUE,\"-\"))","v":"-"},{"$f":"IF(E19=\"ZX-DECLDIV-IPコードレス電話機\",\"-\",_xlfn.IFS(キー割付!H97=\"昼夜休憩\",\"B\",キー割付!H97=\"－－－\",\"-\",キー割付!H97=\"昼－－\",\"H\",キー割付!H97=\"－夜－\",\"N\",キー割付!H97=\"－－休憩\",\"P\",キー割付!H97=\"昼夜－\",\"D\",キー割付!H97=\"昼－休憩\",\"F\",キー割付!H97=\"－夜休憩\",\"K\",TRUE,\"-\"))","v":"-"},{"$f":"IF(E19=\"ZX-DECLDIV-IPコードレス電話機\",\"-\",_xlfn.IFS(キー割付!I97=\"昼夜休憩\",\"B\",キー割付!I97=\"－－－\",\"-\",キー割付!I97=\"昼－－\",\"H\",キー割付!I97=\"－夜－\",\"N\",キー割付!I97=\"－－休憩\",\"P\",キー割付!I97=\"昼夜－\",\"D\",キー割付!I97=\"昼－休憩\",\"F\",キー割付!I97=\"－夜休憩\",\"K\",TRUE,\"-\"))","v":"-"},{"$f":"IF(E19=\"ZX-DECLDIV-IPコードレス電話機\",\"-\",_xlfn.IFS(キー割付!D105=\"昼夜休憩\",\"B\",キー割付!D105=\"－－－\",\"-\",キー割付!D105=\"昼－－\",\"H\",キー割付!D105=\"－夜－\",\"N\",キー割付!D105=\"－－休憩\",\"P\",キー割付!D105=\"昼夜－\",\"D\",キー割付!D105=\"昼－休憩\",\"F\",キー割付!D105=\"－夜休憩\",\"K\",TRUE,\"-\"))","v":"-"},{"$f":"IF(E19=\"ZX-DECLDIV-IPコードレス電話機\",\"-\",_xlfn.IFS(キー割付!E105=\"昼夜休憩\",\"B\",キー割付!E105=\"－－－\",\"-\",キー割付!E105=\"昼－－\",\"H\",キー割付!E105=\"－夜－\",\"N\",キー割付!E105=\"－－休憩\",\"P\",キー割付!E105=\"昼夜－\",\"D\",キー割付!E105=\"昼－休憩\",\"F\",キー割付!E105=\"－夜休憩\",\"K\",TRUE,\"-\"))","v":"-"},{"$f":"IF(E19=\"ZX-DECLDIV-IPコードレス電話機\",\"-\",_xlfn.IFS(キー割付!F105=\"昼夜休憩\",\"B\",キー割付!F105=\"－－－\",\"-\",キー割付!F105=\"昼－－\",\"H\",キー割付!F105=\"－夜－\",\"N\",キー割付!F105=\"－－休憩\",\"P\",キー割付!F105=\"昼夜－\",\"D\",キー割付!F105=\"昼－休憩\",\"F\",キー割付!F105=\"－夜休憩\",\"K\",TRUE,\"-\"))","v":"-"},{"$f":"IF(E19=\"ZX-DECLDIV-IPコードレス電話機\",\"-\",_xlfn.IFS(キー割付!G105=\"昼夜休憩\",\"B\",キー割付!G105=\"－－－\",\"-\",キー割付!G105=\"昼－－\",\"H\",キー割付!G105=\"－夜－\",\"N\",キー割付!G105=\"－－休憩\",\"P\",キー割付!G105=\"昼夜－\",\"D\",キー割付!G105=\"昼－休憩\",\"F\",キー割付!G105=\"－夜休憩\",\"K\",TRUE,\"-\"))","v":"-"},{"$f":"IF(E19=\"ZX-DECLDIV-IPコードレス電話機\",\"-\",_xlfn.IFS(キー割付!H105=\"昼夜休憩\",\"B\",キー割付!H105=\"－－－\",\"-\",キー割付!H105=\"昼－－\",\"H\",キー割付!H105=\"－夜－\",\"N\",キー割付!H105=\"－－休憩\",\"P\",キー割付!H105=\"昼夜－\",\"D\",キー割付!H105=\"昼－休憩\",\"F\",キー割付!H105=\"－夜休憩\",\"K\",TRUE,\"-\"))","v":"-"},{"$f":"IF(E19=\"ZX-DECLDIV-IPコードレス電話機\",\"-\",_xlfn.IFS(キー割付!I105=\"昼夜休憩\",\"B\",キー割付!I105=\"－－－\",\"-\",キー割付!I105=\"昼－－\",\"H\",キー割付!I105=\"－夜－\",\"N\",キー割付!I105=\"－－休憩\",\"P\",キー割付!I105=\"昼夜－\",\"D\",キー割付!I105=\"昼－休憩\",\"F\",キー割付!I105=\"－夜休憩\",\"K\",TRUE,\"-\"))","v":"-"}]
[null,6,{"$f":"IF(IFERROR(VALUE(VLOOKUP(B22,内線_キー割用,2,FALSE)),\"\")=0,\"\",IFERROR(VALUE(VLOOKUP(B22,内線_キー割用,2,FALSE)),\"\"))","v":""},{"$f":"IF(IFERROR(VALUE(VLOOKUP(B22,内線_キー割用,4,FALSE)),\"\")=0,\"\",IFERROR(VALUE(VLOOKUP(B22,内線_キー割用,4,FALSE)),\"\"))","v":""},{"$f":"IF(IFERROR(VLOOKUP(B22,内線_キー割用,3,FALSE),\"\")=0,\"\",IFERROR(VLOOKUP(B22,内線_キー割用,3,FALSE),\"\"))","v":""},{"$f":"IF(キー割付!N79=\"\",\"未使用\",キー割付!N79)","v":"未使用"},{"$f":"IF(キー割付!O79=\"\",\"未使用\",キー割付!O79)","v":"未使用"},{"$f":"IF(キー割付!P79=\"\",\"未使用\",キー割付!P79)","v":"未使用"},{"$f":"IF(キー割付!Q79=\"\",\"未使用\",キー割付!Q79)","v":"未使用"},{"$f":"IF(キー割付!R79=\"\",\"未使用\",キー割付!R79)","v":"未使用"},{"$f":"IF(キー割付!S79=\"\",\"未使用\",キー割付!S79)","v":"未使用"},{"$f":"IF(キー割付!N87=\"\",\"未使用\",キー割付!N87)","v":"未使用"},{"$f":"IF(キー割付!O87=\"\",\"未使用\",キー割付!O87)","v":"未使用"},{"$f":"IF(E22=\"ZX-DECLDIV-IPコードレス電話機\",\"未使用\",IF(キー割付!P87=\"\",\"未使用\",キー割付!P87))","v":"未使用"},{"$f":"IF(E22=\"ZX-DECLDIV-IPコードレス電話機\",\"未使用\",IF(キー割付!Q87=\"\",\"未使用\",キー割付!Q87))","v":"未使用"},{"$f":"IF(E22=\"ZX-DECLDIV-IPコードレス電話機\",\"未使用\",IF(キー割付!R87=\"\",\"未使用\",キー割付!R87))","v":"未使用"},{"$f":"IF(E22=\"ZX-DECLDIV-IPコードレス電話機\",\"未使用\",IF(キー割付!S87=\"\",\"未使用\",キー割付!S87))","v":"未使用"},{"$f":"IF(E22=\"ZX-DECLDIV-IPコードレス電話機\",\"未使用\",IF(キー割付!N95=\"\",\"未使用\",キー割付!N95))","v":"未使用"},{"$f":"IF(E22=\"ZX-DECLDIV-IPコードレス電話機\",\"未使用\",IF(キー割付!O95=\"\",\"未使用\",キー割付!O95))","v":"未使用"},{"$f":"IF(E22=\"ZX-DECLDIV-IPコードレス電話機\",\"未使用\",IF(キー割付!P95=\"\",\"未使用\",キー割付!P95))","v":"未使用"},{"$f":"IF(E22=\"ZX-DECLDIV-IPコードレス電話機\",\"未使用\",IF(キー割付!Q95=\"\",\"未使用\",キー割付!Q95))","v":"未使用"},{"$f":"IF(E22=\"ZX-DECLDIV-IPコードレス電話機\",\"未使用\",IF(キー割付!R95=\"\",\"未使用\",キー割付!R95))","v":"未使用"},{"$f":"IF(E22=\"ZX-DECLDIV-IPコードレス電話機\",\"未使用\",IF(キー割付!S95=\"\",\"未使用\",キー割付!S95))","v":"未使用"},{"$f":"IF(E22=\"ZX-DECLDIV-IPコードレス電話機\",\"未使用\",IF(キー割付!N103=\"\",\"未使用\",キー割付!N103))","v":"未使用"},{"$f":"IF(E22=\"ZX-DECLDIV-IPコードレス電話機\",\"未使用\",IF(キー割付!O103=\"\",\"未使用\",キー割付!O103))","v":"未使用"},{"$f":"IF(E22=\"ZX-DECLDIV-IPコードレス電話機\",\"未使用\",IF(キー割付!P103=\"\",\"未使用\",キー割付!P103))","v":"未使用"},{"$f":"IF(E22=\"ZX-DECLDIV-IPコードレス電話機\",\"未使用\",IF(キー割付!Q103=\"\",\"未使用\",キー割付!Q103))","v":"未使用"},{"$f":"IF(E22=\"ZX-DECLDIV-IPコードレス電話機\",\"未使用\",IF(キー割付!R103=\"\",\"未使用\",キー割付!R103))","v":"未使用"},{"$f":"IF(E22=\"ZX-DECLDIV-IPコードレス電話機\",\"未使用\",IF(キー割付!S103=\"\",\"未使用\",キー割付!S103))","v":"未使用"}]
[null,null,null,null,null,{"$f":"_xlfn.IFS(キー割付!N80=\"着信音なし\",\"トーン1\",キー割付!N80=\"トーン1\",\"トーン1\",キー割付!N80=\"トーン2\",\"トーン2\",キー割付!N80=\"トーン3\",\"トーン3\",キー割付!N80=\"トーン4\",\"トーン4\",キー割付!N80=\"トーン5\",\"トーン5\",キー割付!N80=\"トーン6\",\"トーン6\",キー割付!N80=\"トーン7\",\"トーン7\",キー割付!N80=\"トーン7\",\"トーン7\",キー割付!N80=\"無鳴動着信\",\"トーン8\",キー割付!N80=\"グリーンスリーブス\",\"メロディ1\",キー割付!N80=\"峠の我が家\",\"メロディ2\",キー割付!N80=\"カノン\",\"メロディ3\",キー割付!N80=\"春の歌\",\"メロディ4\",キー割付!N80=\"主よ人の望みの喜びよ\",\"メロディ5\",キー割付!N80=\"メヌエット\",\"メロディ6\",キー割付!N80=\"華麗なる大円舞曲\",\"メロディ7\",キー割付!N80=\"ハンガリア舞曲第5番\",\"メロディ8\",TRUE,\"トーン1\")","v":"トーン1"},{"$f":"_xlfn.IFS(キー割付!O80=\"着信音なし\",\"トーン1\",キー割付!O80=\"トーン1\",\"トーン1\",キー割付!O80=\"トーン2\",\"トーン2\",キー割付!O80=\"トーン3\",\"トーン3\",キー割付!O80=\"トーン4\",\"トーン4\",キー割付!O80=\"トーン5\",\"トーン5\",キー割付!O80=\"トーン6\",\"トーン6\",キー割付!O80=\"トーン7\",\"トーン7\",キー割付!O80=\"トーン7\",\"トーン7\",キー割付!O80=\"無鳴動着信\",\"トーン8\",キー割付!O80=\"グリーンスリーブス\",\"メロディ1\",キー割付!O80=\"峠の我が家\",\"メロディ2\",キー割付!O80=\"カノン\",\"メロディ3\",キー割付!O80=\"春の歌\",\"メロディ4\",キー割付!O80=\"主よ人の望みの喜びよ\",\"メロディ5\",キー割付!O80=\"メヌエット\",\"メロディ6\",キー割付!O80=\"華麗なる大円舞曲\",\"メロディ7\",キー割付!O80=\"ハンガリア舞曲第5番\",\"メロディ8\",TRUE,\"トーン1\")","v":"トーン1"},{"$f":"_xlfn.IFS(キー割付!P80=\"着信音なし\",\"トーン1\",キー割付!P80=\"トーン1\",\"トーン1\",キー割付!P80=\"トーン2\",\"トーン2\",キー割付!P80=\"トーン3\",\"トーン3\",キー割付!P80=\"トーン4\",\"トーン4\",キー割付!P80=\"トーン5\",\"トーン5\",キー割付!P80=\"トーン6\",\"トーン6\",キー割付!P80=\"トーン7\",\"トーン7\",キー割付!P80=\"トーン7\",\"トーン7\",キー割付!P80=\"無鳴動着信\",\"トーン8\",キー割付!P80=\"グリーンスリーブス\",\"メロディ1\",キー割付!P80=\"峠の我が家\",\"メロディ2\",キー割付!P80=\"カノン\",\"メロディ3\",キー割付!P80=\"春の歌\",\"メロディ4\",キー割付!P80=\"主よ人の望みの喜びよ\",\"メロディ5\",キー割付!P80=\"メヌエット\",\"メロディ6\",キー割付!P80=\"華麗なる大円舞曲\",\"メロディ7\",キー割付!P80=\"ハンガリア舞曲第5番\",\"メロディ8\",TRUE,\"トーン1\")","v":"トーン1"},{"$f":"_xlfn.IFS(キー割付!Q80=\"着信音なし\",\"トーン1\",キー割付!Q80=\"トーン1\",\"トーン1\",キー割付!Q80=\"トーン2\",\"トーン2\",キー割付!Q80=\"トーン3\",\"トーン3\",キー割付!Q80=\"トーン4\",\"トーン4\",キー割付!Q80=\"トーン5\",\"トーン5\",キー割付!Q80=\"トーン6\",\"トーン6\",キー割付!Q80=\"トーン7\",\"トーン7\",キー割付!Q80=\"トーン7\",\"トーン7\",キー割付!Q80=\"無鳴動着信\",\"トーン8\",キー割付!Q80=\"グリーンスリーブス\",\"メロディ1\",キー割付!Q80=\"峠の我が家\",\"メロディ2\",キー割付!Q80=\"カノン\",\"メロディ3\",キー割付!Q80=\"春の歌\",\"メロディ4\",キー割付!Q80=\"主よ人の望みの喜びよ\",\"メロディ5\",キー割付!Q80=\"メヌエット\",\"メロディ6\",キー割付!Q80=\"華麗なる大円舞曲\",\"メロディ7\",キー割付!Q80=\"ハンガリア舞曲第5番\",\"メロディ8\",TRUE,\"トーン1\")","v":"トーン1"},{"$f":"_xlfn.IFS(キー割付!R80=\"着信音なし\",\"トーン1\",キー割付!R80=\"トーン1\",\"トーン1\",キー割付!R80=\"トーン2\",\"トーン2\",キー割付!R80=\"トーン3\",\"トーン3\",キー割付!R80=\"トーン4\",\"トーン4\",キー割付!R80=\"トーン5\",\"トーン5\",キー割付!R80=\"トーン6\",\"トーン6\",キー割付!R80=\"トーン7\",\"トーン7\",キー割付!R80=\"トーン7\",\"トーン7\",キー割付!R80=\"無鳴動着信\",\"トーン8\",キー割付!R80=\"グリーンスリーブス\",\"メロディ1\",キー割付!R80=\"峠の我が家\",\"メロディ2\",キー割付!R80=\"カノン\",\"メロディ3\",キー割付!R80=\"春の歌\",\"メロディ4\",キー割付!R80=\"主よ人の望みの喜びよ\",\"メロディ5\",キー割付!R80=\"メヌエット\",\"メロディ6\",キー割付!R80=\"華麗なる大円舞曲\",\"メロディ7\",キー割付!R80=\"ハンガリア舞曲第5番\",\"メロディ8\",TRUE,\"トーン1\")","v":"トーン1"},{"$f":"_xlfn.IFS(キー割付!S80=\"着信音なし\",\"トーン1\",キー割付!S80=\"トーン1\",\"トーン1\",キー割付!S80=\"トーン2\",\"トーン2\",キー割付!S80=\"トーン3\",\"トーン3\",キー割付!S80=\"トーン4\",\"トーン4\",キー割付!S80=\"トーン5\",\"トーン5\",キー割付!S80=\"トーン6\",\"トーン6\",キー割付!S80=\"トーン7\",\"トーン7\",キー割付!S80=\"トーン7\",\"トーン7\",キー割付!S80=\"無鳴動着信\",\"トーン8\",キー割付!S80=\"グリーンスリーブス\",\"メロディ1\",キー割付!S80=\"峠の我が家\",\"メロディ2\",キー割付!S80=\"カノン\",\"メロディ3\",キー割付!S80=\"春の歌\",\"メロディ4\",キー割付!S80=\"主よ人の望みの喜びよ\",\"メロディ5\",キー割付!S80=\"メヌエット\",\"メロディ6\",キー割付!S80=\"華麗なる大円舞曲\",\"メロディ7\",キー割付!S80=\"ハンガリア舞曲第5番\",\"メロディ8\",TRUE,\"トーン1\")","v":"トーン1"},{"$f":"_xlfn.IFS(キー割付!N88=\"着信音なし\",\"トーン1\",キー割付!N88=\"トーン1\",\"トーン1\",キー割付!N88=\"トーン2\",\"トーン2\",キー割付!N88=\"トーン3\",\"トーン3\",キー割付!N88=\"トーン4\",\"トーン4\",キー割付!N88=\"トーン5\",\"トーン5\",キー割付!N88=\"トーン6\",\"トーン6\",キー割付!N88=\"トーン7\",\"トーン7\",キー割付!N88=\"トーン7\",\"トーン7\",キー割付!N88=\"無鳴動着信\",\"トーン8\",キー割付!N88=\"グリーンスリーブス\",\"メロディ1\",キー割付!N88=\"峠の我が家\",\"メロディ2\",キー割付!N88=\"カノン\",\"メロディ3\",キー割付!N88=\"春の歌\",\"メロディ4\",キー割付!N88=\"主よ人の望みの喜びよ\",\"メロディ5\",キー割付!N88=\"メヌエット\",\"メロディ6\",キー割付!N88=\"華麗なる大円舞曲\",\"メロディ7\",キー割付!N88=\"ハンガリア舞曲第5番\",\"メロディ8\",TRUE,\"トーン1\")","v":"トーン1"},{"$f":"_xlfn.IFS(キー割付!O88=\"着信音なし\",\"トーン1\",キー割付!O88=\"トーン1\",\"トーン1\",キー割付!O88=\"トーン2\",\"トーン2\",キー割付!O88=\"トーン3\",\"トーン3\",キー割付!O88=\"トーン4\",\"トーン4\",キー割付!O88=\"トーン5\",\"トーン5\",キー割付!O88=\"トーン6\",\"トーン6\",キー割付!O88=\"トーン7\",\"トーン7\",キー割付!O88=\"トーン7\",\"トーン7\",キー割付!O88=\"無鳴動着信\",\"トーン8\",キー割付!O88=\"グリーンスリーブス\",\"メロディ1\",キー割付!O88=\"峠の我が家\",\"メロディ2\",キー割付!O88=\"カノン\",\"メロディ3\",キー割付!O88=\"春の歌\",\"メロディ4\",キー割付!O88=\"主よ人の望みの喜びよ\",\"メロディ5\",キー割付!O88=\"メヌエット\",\"メロディ6\",キー割付!O88=\"華麗なる大円舞曲\",\"メロディ7\",キー割付!O88=\"ハンガリア舞曲第5番\",\"メロディ8\",TRUE,\"トーン1\")","v":"トーン1"},{"$f":"IF(E22=\"ZX-DECLDIV-IPコードレス電話機\",\"トーン1\",_xlfn.IFS(キー割付!P88=\"着信音なし\",\"トーン1\",キー割付!P88=\"トーン1\",\"トーン1\",キー割付!P88=\"トーン2\",\"トーン2\",キー割付!P88=\"トーン3\",\"トーン3\",キー割付!P88=\"トーン4\",\"トーン4\",キー割付!P88=\"トーン5\",\"トーン5\",キー割付!P88=\"トーン6\",\"トーン6\",キー割付!P88=\"トーン7\",\"トーン7\",キー割付!P88=\"トーン7\",\"トーン7\",キー割付!P88=\"無鳴動着信\",\"トーン8\",キー割付!P88=\"グリーンスリーブス\",\"メロディ1\",キー割付!P88=\"峠の我が家\",\"メロディ2\",キー割付!P88=\"カノン\",\"メロディ3\",キー割付!P88=\"春の歌\",\"メロディ4\",キー割付!P88=\"主よ人の望みの喜びよ\",\"メロディ5\",キー割付!P88=\"メヌエット\",\"メロディ6\",キー割付!P88=\"華麗なる大円舞曲\",\"メロディ7\",キー割付!P88=\"ハンガリア舞曲第5番\",\"メロディ8\",TRUE,\"トーン1\"))","v":"トーン1"},{"$f":"IF(E22=\"ZX-DECLDIV-IPコードレス電話機\",\"トーン1\",_xlfn.IFS(キー割付!Q88=\"着信音なし\",\"トーン1\",キー割付!Q88=\"トーン1\",\"トーン1\",キー割付!Q88=\"トーン2\",\"トーン2\",キー割付!Q88=\"トーン3\",\"トーン3\",キー割付!Q88=\"トーン4\",\"トーン4\",キー割付!Q88=\"トーン5\",\"トーン5\",キー割付!Q88=\"トーン6\",\"トーン6\",キー割付!Q88=\"トーン7\",\"トーン7\",キー割付!Q88=\"トーン7\",\"トーン7\",キー割付!Q88=\"無鳴動着信\",\"トーン8\",キー割付!Q88=\"グリーンスリーブス\",\"メロディ1\",キー割付!Q88=\"峠の我が家\",\"メロディ2\",キー割付!Q88=\"カノン\",\"メロディ3\",キー割付!Q88=\"春の歌\",\"メロディ4\",キー割付!Q88=\"主よ人の望みの喜びよ\",\"メロディ5\",キー割付!Q88=\"メヌエット\",\"メロディ6\",キー割付!Q88=\"華麗なる大円舞曲\",\"メロディ7\",キー割付!Q88=\"ハンガリア舞曲第5番\",\"メロディ8\",TRUE,\"トーン1\"))","v":"トーン1"},{"$f":"IF(E22=\"ZX-DECLDIV-IPコードレス電話機\",\"トーン1\",_xlfn.IFS(キー割付!R88=\"着信音なし\",\"トーン1\",キー割付!R88=\"トーン1\",\"トーン1\",キー割付!R88=\"トーン2\",\"トーン2\",キー割付!R88=\"トーン3\",\"トーン3\",キー割付!R88=\"トーン4\",\"トーン4\",キー割付!R88=\"トーン5\",\"トーン5\",キー割付!R88=\"トーン6\",\"トーン6\",キー割付!R88=\"トーン7\",\"トーン7\",キー割付!R88=\"トーン7\",\"トーン7\",キー割付!R88=\"無鳴動着信\",\"トーン8\",キー割付!R88=\"グリーンスリーブス\",\"メロディ1\",キー割付!R88=\"峠の我が家\",\"メロディ2\",キー割付!R88=\"カノン\",\"メロディ3\",キー割付!R88=\"春の歌\",\"メロディ4\",キー割付!R88=\"主よ人の望みの喜びよ\",\"メロディ5\",キー割付!R88=\"メヌエット\",\"メロディ6\",キー割付!R88=\"華麗なる大円舞曲\",\"メロディ7\",キー割付!R88=\"ハンガリア舞曲第5番\",\"メロディ8\",TRUE,\"トーン1\"))","v":"トーン1"},{"$f":"IF(E22=\"ZX-DECLDIV-IPコードレス電話機\",\"トーン1\",_xlfn.IFS(キー割付!S88=\"着信音なし\",\"トーン1\",キー割付!S88=\"トーン1\",\"トーン1\",キー割付!S88=\"トーン2\",\"トーン2\",キー割付!S88=\"トーン3\",\"トーン3\",キー割付!S88=\"トーン4\",\"トーン4\",キー割付!S88=\"トーン5\",\"トーン5\",キー割付!S88=\"トーン6\",\"トーン6\",キー割付!S88=\"トーン7\",\"トーン7\",キー割付!S88=\"トーン7\",\"トーン7\",キー割付!S88=\"無鳴動着信\",\"トーン8\",キー割付!S88=\"グリーンスリーブス\",\"メロディ1\",キー割付!S88=\"峠の我が家\",\"メロディ2\",キー割付!S88=\"カノン\",\"メロディ3\",キー割付!S88=\"春の歌\",\"メロディ4\",キー割付!S88=\"主よ人の望みの喜びよ\",\"メロディ5\",キー割付!S88=\"メヌエット\",\"メロディ6\",キー割付!S88=\"華麗なる大円舞曲\",\"メロディ7\",キー割付!S88=\"ハンガリア舞曲第5番\",\"メロディ8\",TRUE,\"トーン1\"))","v":"トーン1"},{"$f":"IF(E22=\"ZX-DECLDIV-IPコードレス電話機\",\"トーン1\",_xlfn.IFS(キー割付!N96=\"着信音なし\",\"トーン1\",キー割付!N96=\"トーン1\",\"トーン1\",キー割付!N96=\"トーン2\",\"トーン2\",キー割付!N96=\"トーン3\",\"トーン3\",キー割付!N96=\"トーン4\",\"トーン4\",キー割付!N96=\"トーン5\",\"トーン5\",キー割付!N96=\"トーン6\",\"トーン6\",キー割付!N96=\"トーン7\",\"トーン7\",キー割付!N96=\"トーン7\",\"トーン7\",キー割付!N96=\"無鳴動着信\",\"トーン8\",キー割付!N96=\"グリーンスリーブス\",\"メロディ1\",キー割付!N96=\"峠の我が家\",\"メロディ2\",キー割付!N96=\"カノン\",\"メロディ3\",キー割付!N96=\"春の歌\",\"メロディ4\",キー割付!N96=\"主よ人の望みの喜びよ\",\"メロディ5\",キー割付!N96=\"メヌエット\",\"メロディ6\",キー割付!N96=\"華麗なる大円舞曲\",\"メロディ7\",キー割付!N96=\"ハンガリア舞曲第5番\",\"メロディ8\",TRUE,\"トーン1\"))","v":"トーン1"},{"$f":"IF(E22=\"ZX-DECLDIV-IPコードレス電話機\",\"トーン1\",_xlfn.IFS(キー割付!O96=\"着信音なし\",\"トーン1\",キー割付!O96=\"トーン1\",\"トーン1\",キー割付!O96=\"トーン2\",\"トーン2\",キー割付!O96=\"トーン3\",\"トーン3\",キー割付!O96=\"トーン4\",\"トーン4\",キー割付!O96=\"トーン5\",\"トーン5\",キー割付!O96=\"トーン6\",\"トーン6\",キー割付!O96=\"トーン7\",\"トーン7\",キー割付!O96=\"トーン7\",\"トーン7\",キー割付!O96=\"無鳴動着信\",\"トーン8\",キー割付!O96=\"グリーンスリーブス\",\"メロディ1\",キー割付!O96=\"峠の我が家\",\"メロディ2\",キー割付!O96=\"カノン\",\"メロディ3\",キー割付!O96=\"春の歌\",\"メロディ4\",キー割付!O96=\"主よ人の望みの喜びよ\",\"メロディ5\",キー割付!O96=\"メヌエット\",\"メロディ6\",キー割付!O96=\"華麗なる大円舞曲\",\"メロディ7\",キー割付!O96=\"ハンガリア舞曲第5番\",\"メロディ8\",TRUE,\"トーン1\"))","v":"トーン1"},{"$f":"IF(E22=\"ZX-DECLDIV-IPコードレス電話機\",\"トーン1\",_xlfn.IFS(キー割付!P96=\"着信音なし\",\"トーン1\",キー割付!P96=\"トーン1\",\"トーン1\",キー割付!P96=\"トーン2\",\"トーン2\",キー割付!P96=\"トーン3\",\"トーン3\",キー割付!P96=\"トーン4\",\"トーン4\",キー割付!P96=\"トーン5\",\"トーン5\",キー割付!P96=\"トーン6\",\"トーン6\",キー割付!P96=\"トーン7\",\"トーン7\",キー割付!P96=\"トーン7\",\"トーン7\",キー割付!P96=\"無鳴動着信\",\"トーン8\",キー割付!P96=\"グリーンスリーブス\",\"メロディ1\",キー割付!P96=\"峠の我が家\",\"メロディ2\",キー割付!P96=\"カノン\",\"メロディ3\",キー割付!P96=\"春の歌\",\"メロディ4\",キー割付!P96=\"主よ人の望みの喜びよ\",\"メロディ5\",キー割付!P96=\"メヌエット\",\"メロディ6\",キー割付!P96=\"華麗なる大円舞曲\",\"メロディ7\",キー割付!P96=\"ハンガリア舞曲第5番\",\"メロディ8\",TRUE,\"トーン1\"))","v":"トーン1"},{"$f":"IF(E22=\"ZX-DECLDIV-IPコードレス電話機\",\"トーン1\",_xlfn.IFS(キー割付!Q96=\"着信音なし\",\"トーン1\",キー割付!Q96=\"トーン1\",\"トーン1\",キー割付!Q96=\"トーン2\",\"トーン2\",キー割付!Q96=\"トーン3\",\"トーン3\",キー割付!Q96=\"トーン4\",\"トーン4\",キー割付!Q96=\"トーン5\",\"トーン5\",キー割付!Q96=\"トーン6\",\"トーン6\",キー割付!Q96=\"トーン7\",\"トーン7\",キー割付!Q96=\"トーン7\",\"トーン7\",キー割付!Q96=\"無鳴動着信\",\"トーン8\",キー割付!Q96=\"グリーンスリーブス\",\"メロディ1\",キー割付!Q96=\"峠の我が家\",\"メロディ2\",キー割付!Q96=\"カノン\",\"メロディ3\",キー割付!Q96=\"春の歌\",\"メロディ4\",キー割付!Q96=\"主よ人の望みの喜びよ\",\"メロディ5\",キー割付!Q96=\"メヌエット\",\"メロディ6\",キー割付!Q96=\"華麗なる大円舞曲\",\"メロディ7\",キー割付!Q96=\"ハンガリア舞曲第5番\",\"メロディ8\",TRUE,\"トーン1\"))","v":"トーン1"},{"$f":"IF(E22=\"ZX-DECLDIV-IPコードレス電話機\",\"トーン1\",_xlfn.IFS(キー割付!R96=\"着信音なし\",\"トーン1\",キー割付!R96=\"トーン1\",\"トーン1\",キー割付!R96=\"トーン2\",\"トーン2\",キー割付!R96=\"トーン3\",\"トーン3\",キー割付!R96=\"トーン4\",\"トーン4\",キー割付!R96=\"トーン5\",\"トーン5\",キー割付!R96=\"トーン6\",\"トーン6\",キー割付!R96=\"トーン7\",\"トーン7\",キー割付!R96=\"トーン7\",\"トーン7\",キー割付!R96=\"無鳴動着信\",\"トーン8\",キー割付!R96=\"グリーンスリーブス\",\"メロディ1\",キー割付!R96=\"峠の我が家\",\"メロディ2\",キー割付!R96=\"カノン\",\"メロディ3\",キー割付!R96=\"春の歌\",\"メロディ4\",キー割付!R96=\"主よ人の望みの喜びよ\",\"メロディ5\",キー割付!R96=\"メヌエット\",\"メロディ6\",キー割付!R96=\"華麗なる大円舞曲\",\"メロディ7\",キー割付!R96=\"ハンガリア舞曲第5番\",\"メロディ8\",TRUE,\"トーン1\"))","v":"トーン1"},{"$f":"IF(E22=\"ZX-DECLDIV-IPコードレス電話機\",\"トーン1\",_xlfn.IFS(キー割付!S96=\"着信音なし\",\"トーン1\",キー割付!S96=\"トーン1\",\"トーン1\",キー割付!S96=\"トーン2\",\"トーン2\",キー割付!S96=\"トーン3\",\"トーン3\",キー割付!S96=\"トーン4\",\"トーン4\",キー割付!S96=\"トーン5\",\"トーン5\",キー割付!S96=\"トーン6\",\"トーン6\",キー割付!S96=\"トーン7\",\"トーン7\",キー割付!S96=\"トーン7\",\"トーン7\",キー割付!S96=\"無鳴動着信\",\"トーン8\",キー割付!S96=\"グリーンスリーブス\",\"メロディ1\",キー割付!S96=\"峠の我が家\",\"メロディ2\",キー割付!S96=\"カノン\",\"メロディ3\",キー割付!S96=\"春の歌\",\"メロディ4\",キー割付!S96=\"主よ人の望みの喜びよ\",\"メロディ5\",キー割付!S96=\"メヌエット\",\"メロディ6\",キー割付!S96=\"華麗なる大円舞曲\",\"メロディ7\",キー割付!S96=\"ハンガリア舞曲第5番\",\"メロディ8\",TRUE,\"トーン1\"))","v":"トーン1"},{"$f":"IF(E22=\"ZX-DECLDIV-IPコードレス電話機\",\"トーン1\",_xlfn.IFS(キー割付!N104=\"着信音なし\",\"トーン1\",キー割付!N104=\"トーン1\",\"トーン1\",キー割付!N104=\"トーン2\",\"トーン2\",キー割付!N104=\"トーン3\",\"トーン3\",キー割付!N104=\"トーン4\",\"トーン4\",キー割付!N104=\"トーン5\",\"トーン5\",キー割付!N104=\"トーン6\",\"トーン6\",キー割付!N104=\"トーン7\",\"トーン7\",キー割付!N104=\"トーン7\",\"トーン7\",キー割付!N104=\"無鳴動着信\",\"トーン8\",キー割付!N104=\"グリーンスリーブス\",\"メロディ1\",キー割付!N104=\"峠の我が家\",\"メロディ2\",キー割付!N104=\"カノン\",\"メロディ3\",キー割付!N104=\"春の歌\",\"メロディ4\",キー割付!N104=\"主よ人の望みの喜びよ\",\"メロディ5\",キー割付!N104=\"メヌエット\",\"メロディ6\",キー割付!N104=\"華麗なる大円舞曲\",\"メロディ7\",キー割付!N104=\"ハンガリア舞曲第5番\",\"メロディ8\",TRUE,\"トーン1\"))","v":"トーン1"},{"$f":"IF(E22=\"ZX-DECLDIV-IPコードレス電話機\",\"トーン1\",_xlfn.IFS(キー割付!O104=\"着信音なし\",\"トーン1\",キー割付!O104=\"トーン1\",\"トーン1\",キー割付!O104=\"トーン2\",\"トーン2\",キー割付!O104=\"トーン3\",\"トーン3\",キー割付!O104=\"トーン4\",\"トーン4\",キー割付!O104=\"トーン5\",\"トーン5\",キー割付!O104=\"トーン6\",\"トーン6\",キー割付!O104=\"トーン7\",\"トーン7\",キー割付!O104=\"トーン7\",\"トーン7\",キー割付!O104=\"無鳴動着信\",\"トーン8\",キー割付!O104=\"グリーンスリーブス\",\"メロディ1\",キー割付!O104=\"峠の我が家\",\"メロディ2\",キー割付!O104=\"カノン\",\"メロディ3\",キー割付!O104=\"春の歌\",\"メロディ4\",キー割付!O104=\"主よ人の望みの喜びよ\",\"メロディ5\",キー割付!O104=\"メヌエット\",\"メロディ6\",キー割付!O104=\"華麗なる大円舞曲\",\"メロディ7\",キー割付!O104=\"ハンガリア舞曲第5番\",\"メロディ8\",TRUE,\"トーン1\"))","v":"トーン1"},{"$f":"IF(E22=\"ZX-DECLDIV-IPコードレス電話機\",\"トーン1\",_xlfn.IFS(キー割付!P104=\"着信音なし\",\"トーン1\",キー割付!P104=\"トーン1\",\"トーン1\",キー割付!P104=\"トーン2\",\"トーン2\",キー割付!P104=\"トーン3\",\"トーン3\",キー割付!P104=\"トーン4\",\"トーン4\",キー割付!P104=\"トーン5\",\"トーン5\",キー割付!P104=\"トーン6\",\"トーン6\",キー割付!P104=\"トーン7\",\"トーン7\",キー割付!P104=\"トーン7\",\"トーン7\",キー割付!P104=\"無鳴動着信\",\"トーン8\",キー割付!P104=\"グリーンスリーブス\",\"メロディ1\",キー割付!P104=\"峠の我が家\",\"メロディ2\",キー割付!P104=\"カノン\",\"メロディ3\",キー割付!P104=\"春の歌\",\"メロディ4\",キー割付!P104=\"主よ人の望みの喜びよ\",\"メロディ5\",キー割付!P104=\"メヌエット\",\"メロディ6\",キー割付!P104=\"華麗なる大円舞曲\",\"メロディ7\",キー割付!P104=\"ハンガリア舞曲第5番\",\"メロディ8\",TRUE,\"トーン1\"))","v":"トーン1"},{"$f":"IF(E22=\"ZX-DECLDIV-IPコードレス電話機\",\"トーン1\",_xlfn.IFS(キー割付!Q104=\"着信音なし\",\"トーン1\",キー割付!Q104=\"トーン1\",\"トーン1\",キー割付!Q104=\"トーン2\",\"トーン2\",キー割付!Q104=\"トーン3\",\"トーン3\",キー割付!Q104=\"トーン4\",\"トーン4\",キー割付!Q104=\"トーン5\",\"トーン5\",キー割付!Q104=\"トーン6\",\"トーン6\",キー割付!Q104=\"トーン7\",\"トーン7\",キー割付!Q104=\"トーン7\",\"トーン7\",キー割付!Q104=\"無鳴動着信\",\"トーン8\",キー割付!Q104=\"グリーンスリーブス\",\"メロディ1\",キー割付!Q104=\"峠の我が家\",\"メロディ2\",キー割付!Q104=\"カノン\",\"メロディ3\",キー割付!Q104=\"春の歌\",\"メロディ4\",キー割付!Q104=\"主よ人の望みの喜びよ\",\"メロディ5\",キー割付!Q104=\"メヌエット\",\"メロディ6\",キー割付!Q104=\"華麗なる大円舞曲\",\"メロディ7\",キー割付!Q104=\"ハンガリア舞曲第5番\",\"メロディ8\",TRUE,\"トーン1\"))","v":"トーン1"},{"$f":"IF(E22=\"ZX-DECLDIV-IPコードレス電話機\",\"トーン1\",_xlfn.IFS(キー割付!R104=\"着信音なし\",\"トーン1\",キー割付!R104=\"トーン1\",\"トーン1\",キー割付!R104=\"トーン2\",\"トーン2\",キー割付!R104=\"トーン3\",\"トーン3\",キー割付!R104=\"トーン4\",\"トーン4\",キー割付!R104=\"トーン5\",\"トーン5\",キー割付!R104=\"トーン6\",\"トーン6\",キー割付!R104=\"トーン7\",\"トーン7\",キー割付!R104=\"トーン7\",\"トーン7\",キー割付!R104=\"無鳴動着信\",\"トーン8\",キー割付!R104=\"グリーンスリーブス\",\"メロディ1\",キー割付!R104=\"峠の我が家\",\"メロディ2\",キー割付!R104=\"カノン\",\"メロディ3\",キー割付!R104=\"春の歌\",\"メロディ4\",キー割付!R104=\"主よ人の望みの喜びよ\",\"メロディ5\",キー割付!R104=\"メヌエット\",\"メロディ6\",キー割付!R104=\"華麗なる大円舞曲\",\"メロディ7\",キー割付!R104=\"ハンガリア舞曲第5番\",\"メロディ8\",TRUE,\"トーン1\"))","v":"トーン1"},{"$f":"IF(E22=\"ZX-DECLDIV-IPコードレス電話機\",\"トーン1\",_xlfn.IFS(キー割付!S104=\"着信音なし\",\"トーン1\",キー割付!S104=\"トーン1\",\"トーン1\",キー割付!S104=\"トーン2\",\"トーン2\",キー割付!S104=\"トーン3\",\"トーン3\",キー割付!S104=\"トーン4\",\"トーン4\",キー割付!S104=\"トーン5\",\"トーン5\",キー割付!S104=\"トーン6\",\"トーン6\",キー割付!S104=\"トーン7\",\"トーン7\",キー割付!S104=\"トーン7\",\"トーン7\",キー割付!S104=\"無鳴動着信\",\"トーン8\",キー割付!S104=\"グリーンスリーブス\",\"メロディ1\",キー割付!S104=\"峠の我が家\",\"メロディ2\",キー割付!S104=\"カノン\",\"メロディ3\",キー割付!S104=\"春の歌\",\"メロディ4\",キー割付!S104=\"主よ人の望みの喜びよ\",\"メロディ5\",キー割付!S104=\"メヌエット\",\"メロディ6\",キー割付!S104=\"華麗なる大円舞曲\",\"メロディ7\",キー割付!S104=\"ハンガリア舞曲第5番\",\"メロディ8\",TRUE,\"トーン1\"))","v":"トーン1"}]
[null,null,null,null,null,{"$f":"_xlfn.IFS(キー割付!N81=\"昼夜休憩\",\"B\",キー割付!N81=\"－－－\",\"-\",キー割付!N81=\"昼－－\",\"H\",キー割付!N81=\"－夜－\",\"N\",キー割付!N81=\"－－休憩\",\"P\",キー割付!N81=\"昼夜－\",\"N\",キー割付!N81=\"昼－休憩\",\"F\",キー割付!N81=\"－夜休憩\",\"K\",TRUE,\"-\")","v":"-"},{"$f":"_xlfn.IFS(キー割付!O81=\"昼夜休憩\",\"B\",キー割付!O81=\"－－－\",\"-\",キー割付!O81=\"昼－－\",\"H\",キー割付!O81=\"－夜－\",\"N\",キー割付!O81=\"－－休憩\",\"P\",キー割付!O81=\"昼夜－\",\"N\",キー割付!O81=\"昼－休憩\",\"F\",キー割付!O81=\"－夜休憩\",\"K\",TRUE,\"-\")","v":"-"},{"$f":"_xlfn.IFS(キー割付!P81=\"昼夜休憩\",\"B\",キー割付!P81=\"－－－\",\"-\",キー割付!P81=\"昼－－\",\"H\",キー割付!P81=\"－夜－\",\"N\",キー割付!P81=\"－－休憩\",\"P\",キー割付!P81=\"昼夜－\",\"N\",キー割付!P81=\"昼－休憩\",\"F\",キー割付!P81=\"－夜休憩\",\"K\",TRUE,\"-\")","v":"-"},{"$f":"_xlfn.IFS(キー割付!Q81=\"昼夜休憩\",\"B\",キー割付!Q81=\"－－－\",\"-\",キー割付!Q81=\"昼－－\",\"H\",キー割付!Q81=\"－夜－\",\"N\",キー割付!Q81=\"－－休憩\",\"P\",キー割付!Q81=\"昼夜－\",\"N\",キー割付!Q81=\"昼－休憩\",\"F\",キー割付!Q81=\"－夜休憩\",\"K\",TRUE,\"-\")","v":"-"},{"$f":"_xlfn.IFS(キー割付!R81=\"昼夜休憩\",\"B\",キー割付!R81=\"－－－\",\"-\",キー割付!R81=\"昼－－\",\"H\",キー割付!R81=\"－夜－\",\"N\",キー割付!R81=\"－－休憩\",\"P\",キー割付!R81=\"昼夜－\",\"N\",キー割付!R81=\"昼－休憩\",\"F\",キー割付!R81=\"－夜休憩\",\"K\",TRUE,\"-\")","v":"-"},{"$f":"_xlfn.IFS(キー割付!S81=\"昼夜休憩\",\"B\",キー割付!S81=\"－－－\",\"-\",キー割付!S81=\"昼－－\",\"H\",キー割付!S81=\"－夜－\",\"N\",キー割付!S81=\"－－休憩\",\"P\",キー割付!S81=\"昼夜－\",\"N\",キー割付!S81=\"昼－休憩\",\"F\",キー割付!S81=\"－夜休憩\",\"K\",TRUE,\"-\")","v":"-"},{"$f":"_xlfn.IFS(キー割付!N89=\"昼夜休憩\",\"B\",キー割付!N89=\"－－－\",\"-\",キー割付!N89=\"昼－－\",\"H\",キー割付!N89=\"－夜－\",\"N\",キー割付!N89=\"－－休憩\",\"P\",キー割付!N89=\"昼夜－\",\"N\",キー割付!N89=\"昼－休憩\",\"F\",キー割付!N89=\"－夜休憩\",\"K\",TRUE,\"-\")","v":"-"},{"$f":"_xlfn.IFS(キー割付!O89=\"昼夜休憩\",\"B\",キー割付!O89=\"－－－\",\"-\",キー割付!O89=\"昼－－\",\"H\",キー割付!O89=\"－夜－\",\"N\",キー割付!O89=\"－－休憩\",\"P\",キー割付!O89=\"昼夜－\",\"N\",キー割付!O89=\"昼－休憩\",\"F\",キー割付!O89=\"－夜休憩\",\"K\",TRUE,\"-\")","v":"-"},{"$f":"IF(E22=\"ZX-DECLDIV-IPコードレス電話機\",\"-\",_xlfn.IFS(キー割付!P89=\"昼夜休憩\",\"B\",キー割付!P89=\"－－－\",\"-\",キー割付!P89=\"昼－－\",\"H\",キー割付!P89=\"－夜－\",\"N\",キー割付!P89=\"－－休憩\",\"P\",キー割付!P89=\"昼夜－\",\"N\",キー割付!P89=\"昼－休憩\",\"F\",キー割付!P89=\"－夜休憩\",\"K\",TRUE,\"-\"))","v":"-"},{"$f":"IF(E22=\"ZX-DECLDIV-IPコードレス電話機\",\"-\",_xlfn.IFS(キー割付!Q89=\"昼夜休憩\",\"B\",キー割付!Q89=\"－－－\",\"-\",キー割付!Q89=\"昼－－\",\"H\",キー割付!Q89=\"－夜－\",\"N\",キー割付!Q89=\"－－休憩\",\"P\",キー割付!Q89=\"昼夜－\",\"N\",キー割付!Q89=\"昼－休憩\",\"F\",キー割付!Q89=\"－夜休憩\",\"K\",TRUE,\"-\"))","v":"-"},{"$f":"IF(E22=\"ZX-DECLDIV-IPコードレス電話機\",\"-\",_xlfn.IFS(キー割付!R89=\"昼夜休憩\",\"B\",キー割付!R89=\"－－－\",\"-\",キー割付!R89=\"昼－－\",\"H\",キー割付!R89=\"－夜－\",\"N\",キー割付!R89=\"－－休憩\",\"P\",キー割付!R89=\"昼夜－\",\"N\",キー割付!R89=\"昼－休憩\",\"F\",キー割付!R89=\"－夜休憩\",\"K\",TRUE,\"-\"))","v":"-"},{"$f":"IF(E22=\"ZX-DECLDIV-IPコードレス電話機\",\"-\",_xlfn.IFS(キー割付!S89=\"昼夜休憩\",\"B\",キー割付!S89=\"－－－\",\"-\",キー割付!S89=\"昼－－\",\"H\",キー割付!S89=\"－夜－\",\"N\",キー割付!S89=\"－－休憩\",\"P\",キー割付!S89=\"昼夜－\",\"N\",キー割付!S89=\"昼－休憩\",\"F\",キー割付!S89=\"－夜休憩\",\"K\",TRUE,\"-\"))","v":"-"},{"$f":"IF(E22=\"ZX-DECLDIV-IPコードレス電話機\",\"-\",_xlfn.IFS(キー割付!N97=\"昼夜休憩\",\"B\",キー割付!N97=\"－－－\",\"-\",キー割付!N97=\"昼－－\",\"H\",キー割付!N97=\"－夜－\",\"N\",キー割付!N97=\"－－休憩\",\"P\",キー割付!N97=\"昼夜－\",\"N\",キー割付!N97=\"昼－休憩\",\"F\",キー割付!N97=\"－夜休憩\",\"K\",TRUE,\"-\"))","v":"-"},{"$f":"IF(E22=\"ZX-DECLDIV-IPコードレス電話機\",\"-\",_xlfn.IFS(キー割付!O97=\"昼夜休憩\",\"B\",キー割付!O97=\"－－－\",\"-\",キー割付!O97=\"昼－－\",\"H\",キー割付!O97=\"－夜－\",\"N\",キー割付!O97=\"－－休憩\",\"P\",キー割付!O97=\"昼夜－\",\"N\",キー割付!O97=\"昼－休憩\",\"F\",キー割付!O97=\"－夜休憩\",\"K\",TRUE,\"-\"))","v":"-"},{"$f":"IF(E22=\"ZX-DECLDIV-IPコードレス電話機\",\"-\",_xlfn.IFS(キー割付!P97=\"昼夜休憩\",\"B\",キー割付!P97=\"－－－\",\"-\",キー割付!P97=\"昼－－\",\"H\",キー割付!P97=\"－夜－\",\"N\",キー割付!P97=\"－－休憩\",\"P\",キー割付!P97=\"昼夜－\",\"N\",キー割付!P97=\"昼－休憩\",\"F\",キー割付!P97=\"－夜休憩\",\"K\",TRUE,\"-\"))","v":"-"},{"$f":"IF(E22=\"ZX-DECLDIV-IPコードレス電話機\",\"-\",_xlfn.IFS(キー割付!Q97=\"昼夜休憩\",\"B\",キー割付!Q97=\"－－－\",\"-\",キー割付!Q97=\"昼－－\",\"H\",キー割付!Q97=\"－夜－\",\"N\",キー割付!Q97=\"－－休憩\",\"P\",キー割付!Q97=\"昼夜－\",\"N\",キー割付!Q97=\"昼－休憩\",\"F\",キー割付!Q97=\"－夜休憩\",\"K\",TRUE,\"-\"))","v":"-"},{"$f":"IF(E22=\"ZX-DECLDIV-IPコードレス電話機\",\"-\",_xlfn.IFS(キー割付!R97=\"昼夜休憩\",\"B\",キー割付!R97=\"－－－\",\"-\",キー割付!R97=\"昼－－\",\"H\",キー割付!R97=\"－夜－\",\"N\",キー割付!R97=\"－－休憩\",\"P\",キー割付!R97=\"昼夜－\",\"N\",キー割付!R97=\"昼－休憩\",\"F\",キー割付!R97=\"－夜休憩\",\"K\",TRUE,\"-\"))","v":"-"},{"$f":"IF(E22=\"ZX-DECLDIV-IPコードレス電話機\",\"-\",_xlfn.IFS(キー割付!S97=\"昼夜休憩\",\"B\",キー割付!S97=\"－－－\",\"-\",キー割付!S97=\"昼－－\",\"H\",キー割付!S97=\"－夜－\",\"N\",キー割付!S97=\"－－休憩\",\"P\",キー割付!S97=\"昼夜－\",\"N\",キー割付!S97=\"昼－休憩\",\"F\",キー割付!S97=\"－夜休憩\",\"K\",TRUE,\"-\"))","v":"-"},{"$f":"IF(E22=\"ZX-DECLDIV-IPコードレス電話機\",\"-\",_xlfn.IFS(キー割付!N105=\"昼夜休憩\",\"B\",キー割付!N105=\"－－－\",\"-\",キー割付!N105=\"昼－－\",\"H\",キー割付!N105=\"－夜－\",\"N\",キー割付!N105=\"－－休憩\",\"P\",キー割付!N105=\"昼夜－\",\"N\",キー割付!N105=\"昼－休憩\",\"F\",キー割付!N105=\"－夜休憩\",\"K\",TRUE,\"-\"))","v":"-"},{"$f":"IF(E22=\"ZX-DECLDIV-IPコードレス電話機\",\"-\",_xlfn.IFS(キー割付!O105=\"昼夜休憩\",\"B\",キー割付!O105=\"－－－\",\"-\",キー割付!O105=\"昼－－\",\"H\",キー割付!O105=\"－夜－\",\"N\",キー割付!O105=\"－－休憩\",\"P\",キー割付!O105=\"昼夜－\",\"N\",キー割付!O105=\"昼－休憩\",\"F\",キー割付!O105=\"－夜休憩\",\"K\",TRUE,\"-\"))","v":"-"},{"$f":"IF(E22=\"ZX-DECLDIV-IPコードレス電話機\",\"-\",_xlfn.IFS(キー割付!P105=\"昼夜休憩\",\"B\",キー割付!P105=\"－－－\",\"-\",キー割付!P105=\"昼－－\",\"H\",キー割付!P105=\"－夜－\",\"N\",キー割付!P105=\"－－休憩\",\"P\",キー割付!P105=\"昼夜－\",\"N\",キー割付!P105=\"昼－休憩\",\"F\",キー割付!P105=\"－夜休憩\",\"K\",TRUE,\"-\"))","v":"-"},{"$f":"IF(E22=\"ZX-DECLDIV-IPコードレス電話機\",\"-\",_xlfn.IFS(キー割付!Q105=\"昼夜休憩\",\"B\",キー割付!Q105=\"－－－\",\"-\",キー割付!Q105=\"昼－－\",\"H\",キー割付!Q105=\"－夜－\",\"N\",キー割付!Q105=\"－－休憩\",\"P\",キー割付!Q105=\"昼夜－\",\"N\",キー割付!Q105=\"昼－休憩\",\"F\",キー割付!Q105=\"－夜休憩\",\"K\",TRUE,\"-\"))","v":"-"},{"$f":"IF(E22=\"ZX-DECLDIV-IPコードレス電話機\",\"-\",_xlfn.IFS(キー割付!R105=\"昼夜休憩\",\"B\",キー割付!R105=\"－－－\",\"-\",キー割付!R105=\"昼－－\",\"H\",キー割付!R105=\"－夜－\",\"N\",キー割付!R105=\"－－休憩\",\"P\",キー割付!R105=\"昼夜－\",\"N\",キー割付!R105=\"昼－休憩\",\"F\",キー割付!R105=\"－夜休憩\",\"K\",TRUE,\"-\"))","v":"-"},{"$f":"IF(E22=\"ZX-DECLDIV-IPコードレス電話機\",\"-\",_xlfn.IFS(キー割付!S105=\"昼夜休憩\",\"B\",キー割付!S105=\"－－－\",\"-\",キー割付!S105=\"昼－－\",\"H\",キー割付!S105=\"－夜－\",\"N\",キー割付!S105=\"－－休憩\",\"P\",キー割付!S105=\"昼夜－\",\"N\",キー割付!S105=\"昼－休憩\",\"F\",キー割付!S105=\"－夜休憩\",\"K\",TRUE,\"-\"))","v":"-"}]
[null,7,{"$f":"IF(IFERROR(VALUE(VLOOKUP(B25,内線_キー割用,2,FALSE)),\"\")=0,\"\",IFERROR(VALUE(VLOOKUP(B25,内線_キー割用,2,FALSE)),\"\"))","v":""},{"$f":"IF(IFERROR(VALUE(VLOOKUP(B25,内線_キー割用,4,FALSE)),\"\")=0,\"\",IFERROR(VALUE(VLOOKUP(B25,内線_キー割用,4,FALSE)),\"\"))","v":""},{"$f":"IF(IFERROR(VLOOKUP(B25,内線_キー割用,3,FALSE),\"\")=0,\"\",IFERROR(VLOOKUP(B25,内線_キー割用,3,FALSE),\"\"))","v":""},{"$f":"IF(キー割付!D115=\"\",\"未使用\",キー割付!D115)","v":"未使用"},{"$f":"IF(キー割付!E115=\"\",\"未使用\",キー割付!E115)","v":"未使用"},{"$f":"IF(キー割付!F115=\"\",\"未使用\",キー割付!F115)","v":"未使用"},{"$f":"IF(キー割付!G115=\"\",\"未使用\",キー割付!G115)","v":"未使用"},{"$f":"IF(キー割付!H115=\"\",\"未使用\",キー割付!H115)","v":"未使用"},{"$f":"IF(キー割付!I115=\"\",\"未使用\",キー割付!I115)","v":"未使用"},{"$f":"IF(キー割付!D123=\"\",\"未使用\",キー割付!D123)","v":"未使用"},{"$f":"IF(キー割付!E123=\"\",\"未使用\",キー割付!E123)","v":"未使用"},{"$f":"IF(E25=\"ZX-DECLDIV-IPコードレス電話機\",\"未使用\",IF(キー割付!F123=\"\",\"未使用\",キー割付!F123))","v":"未使用"},{"$f":"IF(E25=\"ZX-DECLDIV-IPコードレス電話機\",\"未使用\",IF(キー割付!G123=\"\",\"未使用\",キー割付!G123))","v":"未使用"},{"$f":"IF(E25=\"ZX-DECLDIV-IPコードレス電話機\",\"未使用\",IF(キー割付!H123=\"\",\"未使用\",キー割付!H123))","v":"未使用"},{"$f":"IF(E25=\"ZX-DECLDIV-IPコードレス電話機\",\"未使用\",IF(キー割付!I123=\"\",\"未使用\",キー割付!I123))","v":"未使用"},{"$f":"IF(E25=\"ZX-DECLDIV-IPコードレス電話機\",\"未使用\",IF(キー割付!D131=\"\",\"未使用\",キー割付!D131))","v":"未使用"},{"$f":"IF(E25=\"ZX-DECLDIV-IPコードレス電話機\",\"未使用\",IF(キー割付!E131=\"\",\"未使用\",キー割付!E131))","v":"未使用"},{"$f":"IF(E25=\"ZX-DECLDIV-IPコードレス電話機\",\"未使用\",IF(キー割付!F131=\"\",\"未使用\",キー割付!F131))","v":"未使用"},{"$f":"IF(E25=\"ZX-DECLDIV-IPコードレス電話機\",\"未使用\",IF(キー割付!G131=\"\",\"未使用\",キー割付!G131))","v":"未使用"},{"$f":"IF(E25=\"ZX-DECLDIV-IPコードレス電話機\",\"未使用\",IF(キー割付!H131=\"\",\"未使用\",キー割付!H131))","v":"未使用"},{"$f":"IF(E25=\"ZX-DECLDIV-IPコードレス電話機\",\"未使用\",IF(キー割付!I131=\"\",\"未使用\",キー割付!I131))","v":"未使用"},{"$f":"IF(E25=\"ZX-DECLDIV-IPコードレス電話機\",\"未使用\",IF(キー割付!D139=\"\",\"未使用\",キー割付!D139))","v":"未使用"},{"$f":"IF(E25=\"ZX-DECLDIV-IPコードレス電話機\",\"未使用\",IF(キー割付!E139=\"\",\"未使用\",キー割付!E139))","v":"未使用"},{"$f":"IF(E25=\"ZX-DECLDIV-IPコードレス電話機\",\"未使用\",IF(キー割付!F139=\"\",\"未使用\",キー割付!F139))","v":"未使用"},{"$f":"IF(E25=\"ZX-DECLDIV-IPコードレス電話機\",\"未使用\",IF(キー割付!G139=\"\",\"未使用\",キー割付!G139))","v":"未使用"},{"$f":"IF(E25=\"ZX-DECLDIV-IPコードレス電話機\",\"未使用\",IF(キー割付!H139=\"\",\"未使用\",キー割付!H139))","v":"未使用"},{"$f":"IF(E25=\"ZX-DECLDIV-IPコードレス電話機\",\"未使用\",IF(キー割付!I139=\"\",\"未使用\",キー割付!I139))","v":"未使用"}]
[null,null,null,null,null,{"$f":"_xlfn.IFS(キー割付!D116=\"着信音なし\",\"トーン1\",キー割付!D116=\"トーン1\",\"トーン1\",キー割付!D116=\"トーン2\",\"トーン2\",キー割付!D116=\"トーン3\",\"トーン3\",キー割付!D116=\"トーン4\",\"トーン4\",キー割付!D116=\"トーン5\",\"トーン5\",キー割付!D116=\"トーン6\",\"トーン6\",キー割付!D116=\"トーン7\",\"トーン7\",キー割付!D116=\"トーン7\",\"トーン7\",キー割付!D116=\"無鳴動着信\",\"トーン8\",キー割付!D116=\"グリーンスリーブス\",\"メロディ1\",キー割付!D116=\"峠の我が家\",\"メロディ2\",キー割付!D116=\"カノン\",\"メロディ3\",キー割付!D116=\"春の歌\",\"メロディ4\",キー割付!D116=\"主よ人の望みの喜びよ\",\"メロディ5\",キー割付!D116=\"メヌエット\",\"メロディ6\",キー割付!D116=\"華麗なる大円舞曲\",\"メロディ7\",キー割付!D116=\"ハンガリア舞曲第5番\",\"メロディ8\",TRUE,\"トーン1\")","v":"トーン1"},{"$f":"_xlfn.IFS(キー割付!E116=\"着信音なし\",\"トーン1\",キー割付!E116=\"トーン1\",\"トーン1\",キー割付!E116=\"トーン2\",\"トーン2\",キー割付!E116=\"トーン3\",\"トーン3\",キー割付!E116=\"トーン4\",\"トーン4\",キー割付!E116=\"トーン5\",\"トーン5\",キー割付!E116=\"トーン6\",\"トーン6\",キー割付!E116=\"トーン7\",\"トーン7\",キー割付!E116=\"トーン7\",\"トーン7\",キー割付!E116=\"無鳴動着信\",\"トーン8\",キー割付!E116=\"グリーンスリーブス\",\"メロディ1\",キー割付!E116=\"峠の我が家\",\"メロディ2\",キー割付!E116=\"カノン\",\"メロディ3\",キー割付!E116=\"春の歌\",\"メロディ4\",キー割付!E116=\"主よ人の望みの喜びよ\",\"メロディ5\",キー割付!E116=\"メヌエット\",\"メロディ6\",キー割付!E116=\"華麗なる大円舞曲\",\"メロディ7\",キー割付!E116=\"ハンガリア舞曲第5番\",\"メロディ8\",TRUE,\"トーン1\")","v":"トーン1"},{"$f":"_xlfn.IFS(キー割付!F116=\"着信音なし\",\"トーン1\",キー割付!F116=\"トーン1\",\"トーン1\",キー割付!F116=\"トーン2\",\"トーン2\",キー割付!F116=\"トーン3\",\"トーン3\",キー割付!F116=\"トーン4\",\"トーン4\",キー割付!F116=\"トーン5\",\"トーン5\",キー割付!F116=\"トーン6\",\"トーン6\",キー割付!F116=\"トーン7\",\"トーン7\",キー割付!F116=\"トーン7\",\"トーン7\",キー割付!F116=\"無鳴動着信\",\"トーン8\",キー割付!F116=\"グリーンスリーブス\",\"メロディ1\",キー割付!F116=\"峠の我が家\",\"メロディ2\",キー割付!F116=\"カノン\",\"メロディ3\",キー割付!F116=\"春の歌\",\"メロディ4\",キー割付!F116=\"主よ人の望みの喜びよ\",\"メロディ5\",キー割付!F116=\"メヌエット\",\"メロディ6\",キー割付!F116=\"華麗なる大円舞曲\",\"メロディ7\",キー割付!F116=\"ハンガリア舞曲第5番\",\"メロディ8\",TRUE,\"トーン1\")","v":"トーン1"},{"$f":"_xlfn.IFS(キー割付!G116=\"着信音なし\",\"トーン1\",キー割付!G116=\"トーン1\",\"トーン1\",キー割付!G116=\"トーン2\",\"トーン2\",キー割付!G116=\"トーン3\",\"トーン3\",キー割付!G116=\"トーン4\",\"トーン4\",キー割付!G116=\"トーン5\",\"トーン5\",キー割付!G116=\"トーン6\",\"トーン6\",キー割付!G116=\"トーン7\",\"トーン7\",キー割付!G116=\"トーン7\",\"トーン7\",キー割付!G116=\"無鳴動着信\",\"トーン8\",キー割付!G116=\"グリーンスリーブス\",\"メロディ1\",キー割付!G116=\"峠の我が家\",\"メロディ2\",キー割付!G116=\"カノン\",\"メロディ3\",キー割付!G116=\"春の歌\",\"メロディ4\",キー割付!G116=\"主よ人の望みの喜びよ\",\"メロディ5\",キー割付!G116=\"メヌエット\",\"メロディ6\",キー割付!G116=\"華麗なる大円舞曲\",\"メロディ7\",キー割付!G116=\"ハンガリア舞曲第5番\",\"メロディ8\",TRUE,\"トーン1\")","v":"トーン1"},{"$f":"_xlfn.IFS(キー割付!H116=\"着信音なし\",\"トーン1\",キー割付!H116=\"トーン1\",\"トーン1\",キー割付!H116=\"トーン2\",\"トーン2\",キー割付!H116=\"トーン3\",\"トーン3\",キー割付!H116=\"トーン4\",\"トーン4\",キー割付!H116=\"トーン5\",\"トーン5\",キー割付!H116=\"トーン6\",\"トーン6\",キー割付!H116=\"トーン7\",\"トーン7\",キー割付!H116=\"トーン7\",\"トーン7\",キー割付!H116=\"無鳴動着信\",\"トーン8\",キー割付!H116=\"グリーンスリーブス\",\"メロディ1\",キー割付!H116=\"峠の我が家\",\"メロディ2\",キー割付!H116=\"カノン\",\"メロディ3\",キー割付!H116=\"春の歌\",\"メロディ4\",キー割付!H116=\"主よ人の望みの喜びよ\",\"メロディ5\",キー割付!H116=\"メヌエット\",\"メロディ6\",キー割付!H116=\"華麗なる大円舞曲\",\"メロディ7\",キー割付!H116=\"ハンガリア舞曲第5番\",\"メロディ8\",TRUE,\"トーン1\")","v":"トーン1"},{"$f":"_xlfn.IFS(キー割付!I116=\"着信音なし\",\"トーン1\",キー割付!I116=\"トーン1\",\"トーン1\",キー割付!I116=\"トーン2\",\"トーン2\",キー割付!I116=\"トーン3\",\"トーン3\",キー割付!I116=\"トーン4\",\"トーン4\",キー割付!I116=\"トーン5\",\"トーン5\",キー割付!I116=\"トーン6\",\"トーン6\",キー割付!I116=\"トーン7\",\"トーン7\",キー割付!I116=\"トーン7\",\"トーン7\",キー割付!I116=\"無鳴動着信\",\"トーン8\",キー割付!I116=\"グリーンスリーブス\",\"メロディ1\",キー割付!I116=\"峠の我が家\",\"メロディ2\",キー割付!I116=\"カノン\",\"メロディ3\",キー割付!I116=\"春の歌\",\"メロディ4\",キー割付!I116=\"主よ人の望みの喜びよ\",\"メロディ5\",キー割付!I116=\"メヌエット\",\"メロディ6\",キー割付!I116=\"華麗なる大円舞曲\",\"メロディ7\",キー割付!I116=\"ハンガリア舞曲第5番\",\"メロディ8\",TRUE,\"トーン1\")","v":"トーン1"},{"$f":"_xlfn.IFS(キー割付!D124=\"着信音なし\",\"トーン1\",キー割付!D124=\"トーン1\",\"トーン1\",キー割付!D124=\"トーン2\",\"トーン2\",キー割付!D124=\"トーン3\",\"トーン3\",キー割付!D124=\"トーン4\",\"トーン4\",キー割付!D124=\"トーン5\",\"トーン5\",キー割付!D124=\"トーン6\",\"トーン6\",キー割付!D124=\"トーン7\",\"トーン7\",キー割付!D124=\"トーン7\",\"トーン7\",キー割付!D124=\"無鳴動着信\",\"トーン8\",キー割付!D124=\"グリーンスリーブス\",\"メロディ1\",キー割付!D124=\"峠の我が家\",\"メロディ2\",キー割付!D124=\"カノン\",\"メロディ3\",キー割付!D124=\"春の歌\",\"メロディ4\",キー割付!D124=\"主よ人の望みの喜びよ\",\"メロディ5\",キー割付!D124=\"メヌエット\",\"メロディ6\",キー割付!D124=\"華麗なる大円舞曲\",\"メロディ7\",キー割付!D124=\"ハンガリア舞曲第5番\",\"メロディ8\",TRUE,\"トーン1\")","v":"トーン1"},{"$f":"_xlfn.IFS(キー割付!E124=\"着信音なし\",\"トーン1\",キー割付!E124=\"トーン1\",\"トーン1\",キー割付!E124=\"トーン2\",\"トーン2\",キー割付!E124=\"トーン3\",\"トーン3\",キー割付!E124=\"トーン4\",\"トーン4\",キー割付!E124=\"トーン5\",\"トーン5\",キー割付!E124=\"トーン6\",\"トーン6\",キー割付!E124=\"トーン7\",\"トーン7\",キー割付!E124=\"トーン7\",\"トーン7\",キー割付!E124=\"無鳴動着信\",\"トーン8\",キー割付!E124=\"グリーンスリーブス\",\"メロディ1\",キー割付!E124=\"峠の我が家\",\"メロディ2\",キー割付!E124=\"カノン\",\"メロディ3\",キー割付!E124=\"春の歌\",\"メロディ4\",キー割付!E124=\"主よ人の望みの喜びよ\",\"メロディ5\",キー割付!E124=\"メヌエット\",\"メロディ6\",キー割付!E124=\"華麗なる大円舞曲\",\"メロディ7\",キー割付!E124=\"ハンガリア舞曲第5番\",\"メロディ8\",TRUE,\"トーン1\")","v":"トーン1"},{"$f":"IF(E25=\"ZX-DECLDIV-IPコードレス電話機\",\"トーン1\",_xlfn.IFS(キー割付!F124=\"着信音なし\",\"トーン1\",キー割付!F124=\"トーン1\",\"トーン1\",キー割付!F124=\"トーン2\",\"トーン2\",キー割付!F124=\"トーン3\",\"トーン3\",キー割付!F124=\"トーン4\",\"トーン4\",キー割付!F124=\"トーン5\",\"トーン5\",キー割付!F124=\"トーン6\",\"トーン6\",キー割付!F124=\"トーン7\",\"トーン7\",キー割付!F124=\"トーン7\",\"トーン7\",キー割付!F124=\"無鳴動着信\",\"トーン8\",キー割付!F124=\"グリーンスリーブス\",\"メロディ1\",キー割付!F124=\"峠の我が家\",\"メロディ2\",キー割付!F124=\"カノン\",\"メロディ3\",キー割付!F124=\"春の歌\",\"メロディ4\",キー割付!F124=\"主よ人の望みの喜びよ\",\"メロディ5\",キー割付!F124=\"メヌエット\",\"メロディ6\",キー割付!F124=\"華麗なる大円舞曲\",\"メロディ7\",キー割付!F124=\"ハンガリア舞曲第5番\",\"メロディ8\",TRUE,\"トーン1\"))","v":"トーン1"},{"$f":"IF(E25=\"ZX-DECLDIV-IPコードレス電話機\",\"トーン1\",_xlfn.IFS(キー割付!G124=\"着信音なし\",\"トーン1\",キー割付!G124=\"トーン1\",\"トーン1\",キー割付!G124=\"トーン2\",\"トーン2\",キー割付!G124=\"トーン3\",\"トーン3\",キー割付!G124=\"トーン4\",\"トーン4\",キー割付!G124=\"トーン5\",\"トーン5\",キー割付!G124=\"トーン6\",\"トーン6\",キー割付!G124=\"トーン7\",\"トーン7\",キー割付!G124=\"トーン7\",\"トーン7\",キー割付!G124=\"無鳴動着信\",\"トーン8\",キー割付!G124=\"グリーンスリーブス\",\"メロディ1\",キー割付!G124=\"峠の我が家\",\"メロディ2\",キー割付!G124=\"カノン\",\"メロディ3\",キー割付!G124=\"春の歌\",\"メロディ4\",キー割付!G124=\"主よ人の望みの喜びよ\",\"メロディ5\",キー割付!G124=\"メヌエット\",\"メロディ6\",キー割付!G124=\"華麗なる大円舞曲\",\"メロディ7\",キー割付!G124=\"ハンガリア舞曲第5番\",\"メロディ8\",TRUE,\"トーン1\"))","v":"トーン1"},{"$f":"IF(E25=\"ZX-DECLDIV-IPコードレス電話機\",\"トーン1\",_xlfn.IFS(キー割付!H124=\"着信音なし\",\"トーン1\",キー割付!H124=\"トーン1\",\"トーン1\",キー割付!H124=\"トーン2\",\"トーン2\",キー割付!H124=\"トーン3\",\"トーン3\",キー割付!H124=\"トーン4\",\"トーン4\",キー割付!H124=\"トーン5\",\"トーン5\",キー割付!H124=\"トーン6\",\"トーン6\",キー割付!H124=\"トーン7\",\"トーン7\",キー割付!H124=\"トーン7\",\"トーン7\",キー割付!H124=\"無鳴動着信\",\"トーン8\",キー割付!H124=\"グリーンスリーブス\",\"メロディ1\",キー割付!H124=\"峠の我が家\",\"メロディ2\",キー割付!H124=\"カノン\",\"メロディ3\",キー割付!H124=\"春の歌\",\"メロディ4\",キー割付!H124=\"主よ人の望みの喜びよ\",\"メロディ5\",キー割付!H124=\"メヌエット\",\"メロディ6\",キー割付!H124=\"華麗なる大円舞曲\",\"メロディ7\",キー割付!H124=\"ハンガリア舞曲第5番\",\"メロディ8\",TRUE,\"トーン1\"))","v":"トーン1"},{"$f":"IF(E25=\"ZX-DECLDIV-IPコードレス電話機\",\"トーン1\",_xlfn.IFS(キー割付!I124=\"着信音なし\",\"トーン1\",キー割付!I124=\"トーン1\",\"トーン1\",キー割付!I124=\"トーン2\",\"トーン2\",キー割付!I124=\"トーン3\",\"トーン3\",キー割付!I124=\"トーン4\",\"トーン4\",キー割付!I124=\"トーン5\",\"トーン5\",キー割付!I124=\"トーン6\",\"トーン6\",キー割付!I124=\"トーン7\",\"トーン7\",キー割付!I124=\"トーン7\",\"トーン7\",キー割付!I124=\"無鳴動着信\",\"トーン8\",キー割付!I124=\"グリーンスリーブス\",\"メロディ1\",キー割付!I124=\"峠の我が家\",\"メロディ2\",キー割付!I124=\"カノン\",\"メロディ3\",キー割付!I124=\"春の歌\",\"メロディ4\",キー割付!I124=\"主よ人の望みの喜びよ\",\"メロディ5\",キー割付!I124=\"メヌエット\",\"メロディ6\",キー割付!I124=\"華麗なる大円舞曲\",\"メロディ7\",キー割付!I124=\"ハンガリア舞曲第5番\",\"メロディ8\",TRUE,\"トーン1\"))","v":"トーン1"},{"$f":"IF(E25=\"ZX-DECLDIV-IPコードレス電話機\",\"トーン1\",_xlfn.IFS(キー割付!D132=\"着信音なし\",\"トーン1\",キー割付!D132=\"トーン1\",\"トーン1\",キー割付!D132=\"トーン2\",\"トーン2\",キー割付!D132=\"トーン3\",\"トーン3\",キー割付!D132=\"トーン4\",\"トーン4\",キー割付!D132=\"トーン5\",\"トーン5\",キー割付!D132=\"トーン6\",\"トーン6\",キー割付!D132=\"トーン7\",\"トーン7\",キー割付!D132=\"トーン7\",\"トーン7\",キー割付!D132=\"無鳴動着信\",\"トーン8\",キー割付!D132=\"グリーンスリーブス\",\"メロディ1\",キー割付!D132=\"峠の我が家\",\"メロディ2\",キー割付!D132=\"カノン\",\"メロディ3\",キー割付!D132=\"春の歌\",\"メロディ4\",キー割付!D132=\"主よ人の望みの喜びよ\",\"メロディ5\",キー割付!D132=\"メヌエット\",\"メロディ6\",キー割付!D132=\"華麗なる大円舞曲\",\"メロディ7\",キー割付!D132=\"ハンガリア舞曲第5番\",\"メロディ8\",TRUE,\"トーン1\"))","v":"トーン1"},{"$f":"IF(E25=\"ZX-DECLDIV-IPコードレス電話機\",\"トーン1\",_xlfn.IFS(キー割付!E132=\"着信音なし\",\"トーン1\",キー割付!E132=\"トーン1\",\"トーン1\",キー割付!E132=\"トーン2\",\"トーン2\",キー割付!E132=\"トーン3\",\"トーン3\",キー割付!E132=\"トーン4\",\"トーン4\",キー割付!E132=\"トーン5\",\"トーン5\",キー割付!E132=\"トーン6\",\"トーン6\",キー割付!E132=\"トーン7\",\"トーン7\",キー割付!E132=\"トーン7\",\"トーン7\",キー割付!E132=\"無鳴動着信\",\"トーン8\",キー割付!E132=\"グリーンスリーブス\",\"メロディ1\",キー割付!E132=\"峠の我が家\",\"メロディ2\",キー割付!E132=\"カノン\",\"メロディ3\",キー割付!E132=\"春の歌\",\"メロディ4\",キー割付!E132=\"主よ人の望みの喜びよ\",\"メロディ5\",キー割付!E132=\"メヌエット\",\"メロディ6\",キー割付!E132=\"華麗なる大円舞曲\",\"メロディ7\",キー割付!E132=\"ハンガリア舞曲第5番\",\"メロディ8\",TRUE,\"トーン1\"))","v":"トーン1"},{"$f":"IF(E25=\"ZX-DECLDIV-IPコードレス電話機\",\"トーン1\",_xlfn.IFS(キー割付!F132=\"着信音なし\",\"トーン1\",キー割付!F132=\"トーン1\",\"トーン1\",キー割付!F132=\"トーン2\",\"トーン2\",キー割付!F132=\"トーン3\",\"トーン3\",キー割付!F132=\"トーン4\",\"トーン4\",キー割付!F132=\"トーン5\",\"トーン5\",キー割付!F132=\"トーン6\",\"トーン6\",キー割付!F132=\"トーン7\",\"トーン7\",キー割付!F132=\"トーン7\",\"トーン7\",キー割付!F132=\"無鳴動着信\",\"トーン8\",キー割付!F132=\"グリーンスリーブス\",\"メロディ1\",キー割付!F132=\"峠の我が家\",\"メロディ2\",キー割付!F132=\"カノン\",\"メロディ3\",キー割付!F132=\"春の歌\",\"メロディ4\",キー割付!F132=\"主よ人の望みの喜びよ\",\"メロディ5\",キー割付!F132=\"メヌエット\",\"メロディ6\",キー割付!F132=\"華麗なる大円舞曲\",\"メロディ7\",キー割付!F132=\"ハンガリア舞曲第5番\",\"メロディ8\",TRUE,\"トーン1\"))","v":"トーン1"},{"$f":"IF(E25=\"ZX-DECLDIV-IPコードレス電話機\",\"トーン1\",_xlfn.IFS(キー割付!G132=\"着信音なし\",\"トーン1\",キー割付!G132=\"トーン1\",\"トーン1\",キー割付!G132=\"トーン2\",\"トーン2\",キー割付!G132=\"トーン3\",\"トーン3\",キー割付!G132=\"トーン4\",\"トーン4\",キー割付!G132=\"トーン5\",\"トーン5\",キー割付!G132=\"トーン6\",\"トーン6\",キー割付!G132=\"トーン7\",\"トーン7\",キー割付!G132=\"トーン7\",\"トーン7\",キー割付!G132=\"無鳴動着信\",\"トーン8\",キー割付!G132=\"グリーンスリーブス\",\"メロディ1\",キー割付!G132=\"峠の我が家\",\"メロディ2\",キー割付!G132=\"カノン\",\"メロディ3\",キー割付!G132=\"春の歌\",\"メロディ4\",キー割付!G132=\"主よ人の望みの喜びよ\",\"メロディ5\",キー割付!G132=\"メヌエット\",\"メロディ6\",キー割付!G132=\"華麗なる大円舞曲\",\"メロディ7\",キー割付!G132=\"ハンガリア舞曲第5番\",\"メロディ8\",TRUE,\"トーン1\"))","v":"トーン1"},{"$f":"IF(E25=\"ZX-DECLDIV-IPコードレス電話機\",\"トーン1\",_xlfn.IFS(キー割付!H132=\"着信音なし\",\"トーン1\",キー割付!H132=\"トーン1\",\"トーン1\",キー割付!H132=\"トーン2\",\"トーン2\",キー割付!H132=\"トーン3\",\"トーン3\",キー割付!H132=\"トーン4\",\"トーン4\",キー割付!H132=\"トーン5\",\"トーン5\",キー割付!H132=\"トーン6\",\"トーン6\",キー割付!H132=\"トーン7\",\"トーン7\",キー割付!H132=\"トーン7\",\"トーン7\",キー割付!H132=\"無鳴動着信\",\"トーン8\",キー割付!H132=\"グリーンスリーブス\",\"メロディ1\",キー割付!H132=\"峠の我が家\",\"メロディ2\",キー割付!H132=\"カノン\",\"メロディ3\",キー割付!H132=\"春の歌\",\"メロディ4\",キー割付!H132=\"主よ人の望みの喜びよ\",\"メロディ5\",キー割付!H132=\"メヌエット\",\"メロディ6\",キー割付!H132=\"華麗なる大円舞曲\",\"メロディ7\",キー割付!H132=\"ハンガリア舞曲第5番\",\"メロディ8\",TRUE,\"トーン1\"))","v":"トーン1"},{"$f":"IF(E25=\"ZX-DECLDIV-IPコードレス電話機\",\"トーン1\",_xlfn.IFS(キー割付!I132=\"着信音なし\",\"トーン1\",キー割付!I132=\"トーン1\",\"トーン1\",キー割付!I132=\"トーン2\",\"トーン2\",キー割付!I132=\"トーン3\",\"トーン3\",キー割付!I132=\"トーン4\",\"トーン4\",キー割付!I132=\"トーン5\",\"トーン5\",キー割付!I132=\"トーン6\",\"トーン6\",キー割付!I132=\"トーン7\",\"トーン7\",キー割付!I132=\"トーン7\",\"トーン7\",キー割付!I132=\"無鳴動着信\",\"トーン8\",キー割付!I132=\"グリーンスリーブス\",\"メロディ1\",キー割付!I132=\"峠の我が家\",\"メロディ2\",キー割付!I132=\"カノン\",\"メロディ3\",キー割付!I132=\"春の歌\",\"メロディ4\",キー割付!I132=\"主よ人の望みの喜びよ\",\"メロディ5\",キー割付!I132=\"メヌエット\",\"メロディ6\",キー割付!I132=\"華麗なる大円舞曲\",\"メロディ7\",キー割付!I132=\"ハンガリア舞曲第5番\",\"メロディ8\",TRUE,\"トーン1\"))","v":"トーン1"},{"$f":"IF(E25=\"ZX-DECLDIV-IPコードレス電話機\",\"トーン1\",_xlfn.IFS(キー割付!D140=\"着信音なし\",\"トーン1\",キー割付!D140=\"トーン1\",\"トーン1\",キー割付!D140=\"トーン2\",\"トーン2\",キー割付!D140=\"トーン3\",\"トーン3\",キー割付!D140=\"トーン4\",\"トーン4\",キー割付!D140=\"トーン5\",\"トーン5\",キー割付!D140=\"トーン6\",\"トーン6\",キー割付!D140=\"トーン7\",\"トーン7\",キー割付!D140=\"トーン7\",\"トーン7\",キー割付!D140=\"無鳴動着信\",\"トーン8\",キー割付!D140=\"グリーンスリーブス\",\"メロディ1\",キー割付!D140=\"峠の我が家\",\"メロディ2\",キー割付!D140=\"カノン\",\"メロディ3\",キー割付!D140=\"春の歌\",\"メロディ4\",キー割付!D140=\"主よ人の望みの喜びよ\",\"メロディ5\",キー割付!D140=\"メヌエット\",\"メロディ6\",キー割付!D140=\"華麗なる大円舞曲\",\"メロディ7\",キー割付!D140=\"ハンガリア舞曲第5番\",\"メロディ8\",TRUE,\"トーン1\"))","v":"トーン1"},{"$f":"IF(E25=\"ZX-DECLDIV-IPコードレス電話機\",\"トーン1\",_xlfn.IFS(キー割付!E140=\"着信音なし\",\"トーン1\",キー割付!E140=\"トーン1\",\"トーン1\",キー割付!E140=\"トーン2\",\"トーン2\",キー割付!E140=\"トーン3\",\"トーン3\",キー割付!E140=\"トーン4\",\"トーン4\",キー割付!E140=\"トーン5\",\"トーン5\",キー割付!E140=\"トーン6\",\"トーン6\",キー割付!E140=\"トーン7\",\"トーン7\",キー割付!E140=\"トーン7\",\"トーン7\",キー割付!E140=\"無鳴動着信\",\"トーン8\",キー割付!E140=\"グリーンスリーブス\",\"メロディ1\",キー割付!E140=\"峠の我が家\",\"メロディ2\",キー割付!E140=\"カノン\",\"メロディ3\",キー割付!E140=\"春の歌\",\"メロディ4\",キー割付!E140=\"主よ人の望みの喜びよ\",\"メロディ5\",キー割付!E140=\"メヌエット\",\"メロディ6\",キー割付!E140=\"華麗なる大円舞曲\",\"メロディ7\",キー割付!E140=\"ハンガリア舞曲第5番\",\"メロディ8\",TRUE,\"トーン1\"))","v":"トーン1"},{"$f":"IF(E25=\"ZX-DECLDIV-IPコードレス電話機\",\"トーン1\",_xlfn.IFS(キー割付!F140=\"着信音なし\",\"トーン1\",キー割付!F140=\"トーン1\",\"トーン1\",キー割付!F140=\"トーン2\",\"トーン2\",キー割付!F140=\"トーン3\",\"トーン3\",キー割付!F140=\"トーン4\",\"トーン4\",キー割付!F140=\"トーン5\",\"トーン5\",キー割付!F140=\"トーン6\",\"トーン6\",キー割付!F140=\"トーン7\",\"トーン7\",キー割付!F140=\"トーン7\",\"トーン7\",キー割付!F140=\"無鳴動着信\",\"トーン8\",キー割付!F140=\"グリーンスリーブス\",\"メロディ1\",キー割付!F140=\"峠の我が家\",\"メロディ2\",キー割付!F140=\"カノン\",\"メロディ3\",キー割付!F140=\"春の歌\",\"メロディ4\",キー割付!F140=\"主よ人の望みの喜びよ\",\"メロディ5\",キー割付!F140=\"メヌエット\",\"メロディ6\",キー割付!F140=\"華麗なる大円舞曲\",\"メロディ7\",キー割付!F140=\"ハンガリア舞曲第5番\",\"メロディ8\",TRUE,\"トーン1\"))","v":"トーン1"},{"$f":"IF(E25=\"ZX-DECLDIV-IPコードレス電話機\",\"トーン1\",_xlfn.IFS(キー割付!G140=\"着信音なし\",\"トーン1\",キー割付!G140=\"トーン1\",\"トーン1\",キー割付!G140=\"トーン2\",\"トーン2\",キー割付!G140=\"トーン3\",\"トーン3\",キー割付!G140=\"トーン4\",\"トーン4\",キー割付!G140=\"トーン5\",\"トーン5\",キー割付!G140=\"トーン6\",\"トーン6\",キー割付!G140=\"トーン7\",\"トーン7\",キー割付!G140=\"トーン7\",\"トーン7\",キー割付!G140=\"無鳴動着信\",\"トーン8\",キー割付!G140=\"グリーンスリーブス\",\"メロディ1\",キー割付!G140=\"峠の我が家\",\"メロディ2\",キー割付!G140=\"カノン\",\"メロディ3\",キー割付!G140=\"春の歌\",\"メロディ4\",キー割付!G140=\"主よ人の望みの喜びよ\",\"メロディ5\",キー割付!G140=\"メヌエット\",\"メロディ6\",キー割付!G140=\"華麗なる大円舞曲\",\"メロディ7\",キー割付!G140=\"ハンガリア舞曲第5番\",\"メロディ8\",TRUE,\"トーン1\"))","v":"トーン1"},{"$f":"IF(E25=\"ZX-DECLDIV-IPコードレス電話機\",\"トーン1\",_xlfn.IFS(キー割付!H140=\"着信音なし\",\"トーン1\",キー割付!H140=\"トーン1\",\"トーン1\",キー割付!H140=\"トーン2\",\"トーン2\",キー割付!H140=\"トーン3\",\"トーン3\",キー割付!H140=\"トーン4\",\"トーン4\",キー割付!H140=\"トーン5\",\"トーン5\",キー割付!H140=\"トーン6\",\"トーン6\",キー割付!H140=\"トーン7\",\"トーン7\",キー割付!H140=\"トーン7\",\"トーン7\",キー割付!H140=\"無鳴動着信\",\"トーン8\",キー割付!H140=\"グリーンスリーブス\",\"メロディ1\",キー割付!H140=\"峠の我が家\",\"メロディ2\",キー割付!H140=\"カノン\",\"メロディ3\",キー割付!H140=\"春の歌\",\"メロディ4\",キー割付!H140=\"主よ人の望みの喜びよ\",\"メロディ5\",キー割付!H140=\"メヌエット\",\"メロディ6\",キー割付!H140=\"華麗なる大円舞曲\",\"メロディ7\",キー割付!H140=\"ハンガリア舞曲第5番\",\"メロディ8\",TRUE,\"トーン1\"))","v":"トーン1"},{"$f":"IF(E25=\"ZX-DECLDIV-IPコードレス電話機\",\"トーン1\",_xlfn.IFS(キー割付!I140=\"着信音なし\",\"トーン1\",キー割付!I140=\"トーン1\",\"トーン1\",キー割付!I140=\"トーン2\",\"トーン2\",キー割付!I140=\"トーン3\",\"トーン3\",キー割付!I140=\"トーン4\",\"トーン4\",キー割付!I140=\"トーン5\",\"トーン5\",キー割付!I140=\"トーン6\",\"トーン6\",キー割付!I140=\"トーン7\",\"トーン7\",キー割付!I140=\"トーン7\",\"トーン7\",キー割付!I140=\"無鳴動着信\",\"トーン8\",キー割付!I140=\"グリーンスリーブス\",\"メロディ1\",キー割付!I140=\"峠の我が家\",\"メロディ2\",キー割付!I140=\"カノン\",\"メロディ3\",キー割付!I140=\"春の歌\",\"メロディ4\",キー割付!I140=\"主よ人の望みの喜びよ\",\"メロディ5\",キー割付!I140=\"メヌエット\",\"メロディ6\",キー割付!I140=\"華麗なる大円舞曲\",\"メロディ7\",キー割付!I140=\"ハンガリア舞曲第5番\",\"メロディ8\",TRUE,\"トーン1\"))","v":"トーン1"}]
[null,null,null,null,null,{"$f":"_xlfn.IFS(キー割付!D117=\"昼夜休憩\",\"B\",キー割付!D117=\"－－－\",\"-\",キー割付!D117=\"昼－－\",\"H\",キー割付!D117=\"－夜－\",\"N\",キー割付!D117=\"－－休憩\",\"P\",キー割付!D117=\"昼夜－\",\"D\",キー割付!D117=\"昼－休憩\",\"F\",キー割付!D117=\"－夜休憩\",\"K\",TRUE,\"-\")","v":"-"},{"$f":"_xlfn.IFS(キー割付!E117=\"昼夜休憩\",\"B\",キー割付!E117=\"－－－\",\"-\",キー割付!E117=\"昼－－\",\"H\",キー割付!E117=\"－夜－\",\"N\",キー割付!E117=\"－－休憩\",\"P\",キー割付!E117=\"昼夜－\",\"D\",キー割付!E117=\"昼－休憩\",\"F\",キー割付!E117=\"－夜休憩\",\"K\",TRUE,\"-\")","v":"-"},{"$f":"_xlfn.IFS(キー割付!F117=\"昼夜休憩\",\"B\",キー割付!F117=\"－－－\",\"-\",キー割付!F117=\"昼－－\",\"H\",キー割付!F117=\"－夜－\",\"N\",キー割付!F117=\"－－休憩\",\"P\",キー割付!F117=\"昼夜－\",\"D\",キー割付!F117=\"昼－休憩\",\"F\",キー割付!F117=\"－夜休憩\",\"K\",TRUE,\"-\")","v":"-"},{"$f":"_xlfn.IFS(キー割付!G117=\"昼夜休憩\",\"B\",キー割付!G117=\"－－－\",\"-\",キー割付!G117=\"昼－－\",\"H\",キー割付!G117=\"－夜－\",\"N\",キー割付!G117=\"－－休憩\",\"P\",キー割付!G117=\"昼夜－\",\"D\",キー割付!G117=\"昼－休憩\",\"F\",キー割付!G117=\"－夜休憩\",\"K\",TRUE,\"-\")","v":"-"},{"$f":"_xlfn.IFS(キー割付!H117=\"昼夜休憩\",\"B\",キー割付!H117=\"－－－\",\"-\",キー割付!H117=\"昼－－\",\"H\",キー割付!H117=\"－夜－\",\"N\",キー割付!H117=\"－－休憩\",\"P\",キー割付!H117=\"昼夜－\",\"D\",キー割付!H117=\"昼－休憩\",\"F\",キー割付!H117=\"－夜休憩\",\"K\",TRUE,\"-\")","v":"-"},{"$f":"_xlfn.IFS(キー割付!I117=\"昼夜休憩\",\"B\",キー割付!I117=\"－－－\",\"-\",キー割付!I117=\"昼－－\",\"H\",キー割付!I117=\"－夜－\",\"N\",キー割付!I117=\"－－休憩\",\"P\",キー割付!I117=\"昼夜－\",\"D\",キー割付!I117=\"昼－休憩\",\"F\",キー割付!I117=\"－夜休憩\",\"K\",TRUE,\"-\")","v":"-"},{"$f":"_xlfn.IFS(キー割付!D125=\"昼夜休憩\",\"B\",キー割付!D125=\"－－－\",\"-\",キー割付!D125=\"昼－－\",\"H\",キー割付!D125=\"－夜－\",\"N\",キー割付!D125=\"－－休憩\",\"P\",キー割付!D125=\"昼夜－\",\"D\",キー割付!D125=\"昼－休憩\",\"F\",キー割付!D125=\"－夜休憩\",\"K\",TRUE,\"-\")","v":"-"},{"$f":"_xlfn.IFS(キー割付!E125=\"昼夜休憩\",\"B\",キー割付!E125=\"－－－\",\"-\",キー割付!E125=\"昼－－\",\"H\",キー割付!E125=\"－夜－\",\"N\",キー割付!E125=\"－－休憩\",\"P\",キー割付!E125=\"昼夜－\",\"D\",キー割付!E125=\"昼－休憩\",\"F\",キー割付!E125=\"－夜休憩\",\"K\",TRUE,\"-\")","v":"-"},{"$f":"IF(E25=\"ZX-DECLDIV-IPコードレス電話機\",\"-\",_xlfn.IFS(キー割付!F125=\"昼夜休憩\",\"B\",キー割付!F125=\"－－－\",\"-\",キー割付!F125=\"昼－－\",\"H\",キー割付!F125=\"－夜－\",\"N\",キー割付!F125=\"－－休憩\",\"P\",キー割付!F125=\"昼夜－\",\"D\",キー割付!F125=\"昼－休憩\",\"F\",キー割付!F125=\"－夜休憩\",\"K\",TRUE,\"-\"))","v":"-"},{"$f":"IF(E25=\"ZX-DECLDIV-IPコードレス電話機\",\"-\",_xlfn.IFS(キー割付!G125=\"昼夜休憩\",\"B\",キー割付!G125=\"－－－\",\"-\",キー割付!G125=\"昼－－\",\"H\",キー割付!G125=\"－夜－\",\"N\",キー割付!G125=\"－－休憩\",\"P\",キー割付!G125=\"昼夜－\",\"D\",キー割付!G125=\"昼－休憩\",\"F\",キー割付!G125=\"－夜休憩\",\"K\",TRUE,\"-\"))","v":"-"},{"$f":"IF(E25=\"ZX-DECLDIV-IPコードレス電話機\",\"-\",_xlfn.IFS(キー割付!H125=\"昼夜休憩\",\"B\",キー割付!H125=\"－－－\",\"-\",キー割付!H125=\"昼－－\",\"H\",キー割付!H125=\"－夜－\",\"N\",キー割付!H125=\"－－休憩\",\"P\",キー割付!H125=\"昼夜－\",\"D\",キー割付!H125=\"昼－休憩\",\"F\",キー割付!H125=\"－夜休憩\",\"K\",TRUE,\"-\"))","v":"-"},{"$f":"IF(E25=\"ZX-DECLDIV-IPコードレス電話機\",\"-\",_xlfn.IFS(キー割付!I125=\"昼夜休憩\",\"B\",キー割付!I125=\"－－－\",\"-\",キー割付!I125=\"昼－－\",\"H\",キー割付!I125=\"－夜－\",\"N\",キー割付!I125=\"－－休憩\",\"P\",キー割付!I125=\"昼夜－\",\"D\",キー割付!I125=\"昼－休憩\",\"F\",キー割付!I125=\"－夜休憩\",\"K\",TRUE,\"-\"))","v":"-"},{"$f":"IF(E25=\"ZX-DECLDIV-IPコードレス電話機\",\"-\",_xlfn.IFS(キー割付!D133=\"昼夜休憩\",\"B\",キー割付!D133=\"－－－\",\"-\",キー割付!D133=\"昼－－\",\"H\",キー割付!D133=\"－夜－\",\"N\",キー割付!D133=\"－－休憩\",\"P\",キー割付!D133=\"昼夜－\",\"D\",キー割付!D133=\"昼－休憩\",\"F\",キー割付!D133=\"－夜休憩\",\"K\",TRUE,\"-\"))","v":"-"},{"$f":"IF(E25=\"ZX-DECLDIV-IPコードレス電話機\",\"-\",_xlfn.IFS(キー割付!E133=\"昼夜休憩\",\"B\",キー割付!E133=\"－－－\",\"-\",キー割付!E133=\"昼－－\",\"H\",キー割付!E133=\"－夜－\",\"N\",キー割付!E133=\"－－休憩\",\"P\",キー割付!E133=\"昼夜－\",\"D\",キー割付!E133=\"昼－休憩\",\"F\",キー割付!E133=\"－夜休憩\",\"K\",TRUE,\"-\"))","v":"-"},{"$f":"IF(E25=\"ZX-DECLDIV-IPコードレス電話機\",\"-\",_xlfn.IFS(キー割付!F133=\"昼夜休憩\",\"B\",キー割付!F133=\"－－－\",\"-\",キー割付!F133=\"昼－－\",\"H\",キー割付!F133=\"－夜－\",\"N\",キー割付!F133=\"－－休憩\",\"P\",キー割付!F133=\"昼夜－\",\"D\",キー割付!F133=\"昼－休憩\",\"F\",キー割付!F133=\"－夜休憩\",\"K\",TRUE,\"-\"))","v":"-"},{"$f":"IF(E25=\"ZX-DECLDIV-IPコードレス電話機\",\"-\",_xlfn.IFS(キー割付!G133=\"昼夜休憩\",\"B\",キー割付!G133=\"－－－\",\"-\",キー割付!G133=\"昼－－\",\"H\",キー割付!G133=\"－夜－\",\"N\",キー割付!G133=\"－－休憩\",\"P\",キー割付!G133=\"昼夜－\",\"D\",キー割付!G133=\"昼－休憩\",\"F\",キー割付!G133=\"－夜休憩\",\"K\",TRUE,\"-\"))","v":"-"},{"$f":"IF(E25=\"ZX-DECLDIV-IPコードレス電話機\",\"-\",_xlfn.IFS(キー割付!H133=\"昼夜休憩\",\"B\",キー割付!H133=\"－－－\",\"-\",キー割付!H133=\"昼－－\",\"H\",キー割付!H133=\"－夜－\",\"N\",キー割付!H133=\"－－休憩\",\"P\",キー割付!H133=\"昼夜－\",\"D\",キー割付!H133=\"昼－休憩\",\"F\",キー割付!H133=\"－夜休憩\",\"K\",TRUE,\"-\"))","v":"-"},{"$f":"IF(E25=\"ZX-DECLDIV-IPコードレス電話機\",\"-\",_xlfn.IFS(キー割付!I133=\"昼夜休憩\",\"B\",キー割付!I133=\"－－－\",\"-\",キー割付!I133=\"昼－－\",\"H\",キー割付!I133=\"－夜－\",\"N\",キー割付!I133=\"－－休憩\",\"P\",キー割付!I133=\"昼夜－\",\"D\",キー割付!I133=\"昼－休憩\",\"F\",キー割付!I133=\"－夜休憩\",\"K\",TRUE,\"-\"))","v":"-"},{"$f":"IF(E25=\"ZX-DECLDIV-IPコードレス電話機\",\"-\",_xlfn.IFS(キー割付!D141=\"昼夜休憩\",\"B\",キー割付!D141=\"－－－\",\"-\",キー割付!D141=\"昼－－\",\"H\",キー割付!D141=\"－夜－\",\"N\",キー割付!D141=\"－－休憩\",\"P\",キー割付!D141=\"昼夜－\",\"D\",キー割付!D141=\"昼－休憩\",\"F\",キー割付!D141=\"－夜休憩\",\"K\",TRUE,\"-\"))","v":"-"},{"$f":"IF(E25=\"ZX-DECLDIV-IPコードレス電話機\",\"-\",_xlfn.IFS(キー割付!E141=\"昼夜休憩\",\"B\",キー割付!E141=\"－－－\",\"-\",キー割付!E141=\"昼－－\",\"H\",キー割付!E141=\"－夜－\",\"N\",キー割付!E141=\"－－休憩\",\"P\",キー割付!E141=\"昼夜－\",\"D\",キー割付!E141=\"昼－休憩\",\"F\",キー割付!E141=\"－夜休憩\",\"K\",TRUE,\"-\"))","v":"-"},{"$f":"IF(E25=\"ZX-DECLDIV-IPコードレス電話機\",\"-\",_xlfn.IFS(キー割付!F141=\"昼夜休憩\",\"B\",キー割付!F141=\"－－－\",\"-\",キー割付!F141=\"昼－－\",\"H\",キー割付!F141=\"－夜－\",\"N\",キー割付!F141=\"－－休憩\",\"P\",キー割付!F141=\"昼夜－\",\"D\",キー割付!F141=\"昼－休憩\",\"F\",キー割付!F141=\"－夜休憩\",\"K\",TRUE,\"-\"))","v":"-"},{"$f":"IF(E25=\"ZX-DECLDIV-IPコードレス電話機\",\"-\",_xlfn.IFS(キー割付!G141=\"昼夜休憩\",\"B\",キー割付!G141=\"－－－\",\"-\",キー割付!G141=\"昼－－\",\"H\",キー割付!G141=\"－夜－\",\"N\",キー割付!G141=\"－－休憩\",\"P\",キー割付!G141=\"昼夜－\",\"D\",キー割付!G141=\"昼－休憩\",\"F\",キー割付!G141=\"－夜休憩\",\"K\",TRUE,\"-\"))","v":"-"},{"$f":"IF(E25=\"ZX-DECLDIV-IPコードレス電話機\",\"-\",_xlfn.IFS(キー割付!H141=\"昼夜休憩\",\"B\",キー割付!H141=\"－－－\",\"-\",キー割付!H141=\"昼－－\",\"H\",キー割付!H141=\"－夜－\",\"N\",キー割付!H141=\"－－休憩\",\"P\",キー割付!H141=\"昼夜－\",\"D\",キー割付!H141=\"昼－休憩\",\"F\",キー割付!H141=\"－夜休憩\",\"K\",TRUE,\"-\"))","v":"-"},{"$f":"IF(E25=\"ZX-DECLDIV-IPコードレス電話機\",\"-\",_xlfn.IFS(キー割付!I141=\"昼夜休憩\",\"B\",キー割付!I141=\"－－－\",\"-\",キー割付!I141=\"昼－－\",\"H\",キー割付!I141=\"－夜－\",\"N\",キー割付!I141=\"－－休憩\",\"P\",キー割付!I141=\"昼夜－\",\"D\",キー割付!I141=\"昼－休憩\",\"F\",キー割付!I141=\"－夜休憩\",\"K\",TRUE,\"-\"))","v":"-"}]
[null,8,{"$f":"IF(IFERROR(VALUE(VLOOKUP(B28,内線_キー割用,2,FALSE)),\"\")=0,\"\",IFERROR(VALUE(VLOOKUP(B28,内線_キー割用,2,FALSE)),\"\"))","v":""},{"$f":"IF(IFERROR(VALUE(VLOOKUP(B28,内線_キー割用,4,FALSE)),\"\")=0,\"\",IFERROR(VALUE(VLOOKUP(B28,内線_キー割用,4,FALSE)),\"\"))","v":""},{"$f":"IF(IFERROR(VLOOKUP(B28,内線_キー割用,3,FALSE),\"\")=0,\"\",IFERROR(VLOOKUP(B28,内線_キー割用,3,FALSE),\"\"))","v":""},{"$f":"IF(キー割付!N115=\"\",\"未使用\",キー割付!N115)","v":"未使用"},{"$f":"IF(キー割付!O115=\"\",\"未使用\",キー割付!O115)","v":"未使用"},{"$f":"IF(キー割付!P115=\"\",\"未使用\",キー割付!P115)","v":"未使用"},{"$f":"IF(キー割付!Q115=\"\",\"未使用\",キー割付!Q115)","v":"未使用"},{"$f":"IF(キー割付!R115=\"\",\"未使用\",キー割付!R115)","v":"未使用"},{"$f":"IF(キー割付!S115=\"\",\"未使用\",キー割付!S115)","v":"未使用"},{"$f":"IF(キー割付!N123=\"\",\"未使用\",キー割付!N123)","v":"未使用"},{"$f":"IF(キー割付!O123=\"\",\"未使用\",キー割付!O123)","v":"未使用"},{"$f":"IF(E28=\"ZX-DECLDIV-IPコードレス電話機\",\"未使用\",IF(キー割付!P123=\"\",\"未使用\",キー割付!P123))","v":"未使用"},{"$f":"IF(E28=\"ZX-DECLDIV-IPコードレス電話機\",\"未使用\",IF(キー割付!Q123=\"\",\"未使用\",キー割付!Q123))","v":"未使用"},{"$f":"IF(E28=\"ZX-DECLDIV-IPコードレス電話機\",\"未使用\",IF(キー割付!R123=\"\",\"未使用\",キー割付!R123))","v":"未使用"},{"$f":"IF(E28=\"ZX-DECLDIV-IPコードレス電話機\",\"未使用\",IF(キー割付!S123=\"\",\"未使用\",キー割付!S123))","v":"未使用"},{"$f":"IF(E28=\"ZX-DECLDIV-IPコードレス電話機\",\"未使用\",IF(キー割付!N131=\"\",\"未使用\",キー割付!N131))","v":"未使用"},{"$f":"IF(E28=\"ZX-DECLDIV-IPコードレス電話機\",\"未使用\",IF(キー割付!O131=\"\",\"未使用\",キー割付!O131))","v":"未使用"},{"$f":"IF(E28=\"ZX-DECLDIV-IPコードレス電話機\",\"未使用\",IF(キー割付!P131=\"\",\"未使用\",キー割付!P131))","v":"未使用"},{"$f":"IF(E28=\"ZX-DECLDIV-IPコードレス電話機\",\"未使用\",IF(キー割付!Q131=\"\",\"未使用\",キー割付!Q131))","v":"未使用"},{"$f":"IF(E28=\"ZX-DECLDIV-IPコードレス電話機\",\"未使用\",IF(キー割付!R131=\"\",\"未使用\",キー割付!R131))","v":"未使用"},{"$f":"IF(E28=\"ZX-DECLDIV-IPコードレス電話機\",\"未使用\",IF(キー割付!S131=\"\",\"未使用\",キー割付!S131))","v":"未使用"},{"$f":"IF(E28=\"ZX-DECLDIV-IPコードレス電話機\",\"未使用\",IF(キー割付!N139=\"\",\"未使用\",キー割付!N139))","v":"未使用"},{"$f":"IF(E28=\"ZX-DECLDIV-IPコードレス電話機\",\"未使用\",IF(キー割付!O139=\"\",\"未使用\",キー割付!O139))","v":"未使用"},{"$f":"IF(E28=\"ZX-DECLDIV-IPコードレス電話機\",\"未使用\",IF(キー割付!P139=\"\",\"未使用\",キー割付!P139))","v":"未使用"},{"$f":"IF(E28=\"ZX-DECLDIV-IPコードレス電話機\",\"未使用\",IF(キー割付!Q139=\"\",\"未使用\",キー割付!Q139))","v":"未使用"},{"$f":"IF(E28=\"ZX-DECLDIV-IPコードレス電話機\",\"未使用\",IF(キー割付!R139=\"\",\"未使用\",キー割付!R139))","v":"未使用"},{"$f":"IF(E28=\"ZX-DECLDIV-IPコードレス電話機\",\"未使用\",IF(キー割付!S139=\"\",\"未使用\",キー割付!S139))","v":"未使用"}]
[null,null,null,null,null,{"$f":"_xlfn.IFS(キー割付!N116=\"着信音なし\",\"トーン1\",キー割付!N116=\"トーン1\",\"トーン1\",キー割付!N116=\"トーン2\",\"トーン2\",キー割付!N116=\"トーン3\",\"トーン3\",キー割付!N116=\"トーン4\",\"トーン4\",キー割付!N116=\"トーン5\",\"トーン5\",キー割付!N116=\"トーン6\",\"トーン6\",キー割付!N116=\"トーン7\",\"トーン7\",キー割付!N116=\"トーン7\",\"トーン7\",キー割付!N116=\"無鳴動着信\",\"トーン8\",キー割付!N116=\"グリーンスリーブス\",\"メロディ1\",キー割付!N116=\"峠の我が家\",\"メロディ2\",キー割付!N116=\"カノン\",\"メロディ3\",キー割付!N116=\"春の歌\",\"メロディ4\",キー割付!N116=\"主よ人の望みの喜びよ\",\"メロディ5\",キー割付!N116=\"メヌエット\",\"メロディ6\",キー割付!N116=\"華麗なる大円舞曲\",\"メロディ7\",キー割付!N116=\"ハンガリア舞曲第5番\",\"メロディ8\",TRUE,\"トーン1\")","v":"トーン1"},{"$f":"_xlfn.IFS(キー割付!O116=\"着信音なし\",\"トーン1\",キー割付!O116=\"トーン1\",\"トーン1\",キー割付!O116=\"トーン2\",\"トーン2\",キー割付!O116=\"トーン3\",\"トーン3\",キー割付!O116=\"トーン4\",\"トーン4\",キー割付!O116=\"トーン5\",\"トーン5\",キー割付!O116=\"トーン6\",\"トーン6\",キー割付!O116=\"トーン7\",\"トーン7\",キー割付!O116=\"トーン7\",\"トーン7\",キー割付!O116=\"無鳴動着信\",\"トーン8\",キー割付!O116=\"グリーンスリーブス\",\"メロディ1\",キー割付!O116=\"峠の我が家\",\"メロディ2\",キー割付!O116=\"カノン\",\"メロディ3\",キー割付!O116=\"春の歌\",\"メロディ4\",キー割付!O116=\"主よ人の望みの喜びよ\",\"メロディ5\",キー割付!O116=\"メヌエット\",\"メロディ6\",キー割付!O116=\"華麗なる大円舞曲\",\"メロディ7\",キー割付!O116=\"ハンガリア舞曲第5番\",\"メロディ8\",TRUE,\"トーン1\")","v":"トーン1"},{"$f":"_xlfn.IFS(キー割付!P116=\"着信音なし\",\"トーン1\",キー割付!P116=\"トーン1\",\"トーン1\",キー割付!P116=\"トーン2\",\"トーン2\",キー割付!P116=\"トーン3\",\"トーン3\",キー割付!P116=\"トーン4\",\"トーン4\",キー割付!P116=\"トーン5\",\"トーン5\",キー割付!P116=\"トーン6\",\"トーン6\",キー割付!P116=\"トーン7\",\"トーン7\",キー割付!P116=\"トーン7\",\"トーン7\",キー割付!P116=\"無鳴動着信\",\"トーン8\",キー割付!P116=\"グリーンスリーブス\",\"メロディ1\",キー割付!P116=\"峠の我が家\",\"メロディ2\",キー割付!P116=\"カノン\",\"メロディ3\",キー割付!P116=\"春の歌\",\"メロディ4\",キー割付!P116=\"主よ人の望みの喜びよ\",\"メロディ5\",キー割付!P116=\"メヌエット\",\"メロディ6\",キー割付!P116=\"華麗なる大円舞曲\",\"メロディ7\",キー割付!P116=\"ハンガリア舞曲第5番\",\"メロディ8\",TRUE,\"トーン1\")","v":"トーン1"},{"$f":"_xlfn.IFS(キー割付!Q116=\"着信音なし\",\"トーン1\",キー割付!Q116=\"トーン1\",\"トーン1\",キー割付!Q116=\"トーン2\",\"トーン2\",キー割付!Q116=\"トーン3\",\"トーン3\",キー割付!Q116=\"トーン4\",\"トーン4\",キー割付!Q116=\"トーン5\",\"トーン5\",キー割付!Q116=\"トーン6\",\"トーン6\",キー割付!Q116=\"トーン7\",\"トーン7\",キー割付!Q116=\"トーン7\",\"トーン7\",キー割付!Q116=\"無鳴動着信\",\"トーン8\",キー割付!Q116=\"グリーンスリーブス\",\"メロディ1\",キー割付!Q116=\"峠の我が家\",\"メロディ2\",キー割付!Q116=\"カノン\",\"メロディ3\",キー割付!Q116=\"春の歌\",\"メロディ4\",キー割付!Q116=\"主よ人の望みの喜びよ\",\"メロディ5\",キー割付!Q116=\"メヌエット\",\"メロディ6\",キー割付!Q116=\"華麗なる大円舞曲\",\"メロディ7\",キー割付!Q116=\"ハンガリア舞曲第5番\",\"メロディ8\",TRUE,\"トーン1\")","v":"トーン1"},{"$f":"_xlfn.IFS(キー割付!R116=\"着信音なし\",\"トーン1\",キー割付!R116=\"トーン1\",\"トーン1\",キー割付!R116=\"トーン2\",\"トーン2\",キー割付!R116=\"トーン3\",\"トーン3\",キー割付!R116=\"トーン4\",\"トーン4\",キー割付!R116=\"トーン5\",\"トーン5\",キー割付!R116=\"トーン6\",\"トーン6\",キー割付!R116=\"トーン7\",\"トーン7\",キー割付!R116=\"トーン7\",\"トーン7\",キー割付!R116=\"無鳴動着信\",\"トーン8\",キー割付!R116=\"グリーンスリーブス\",\"メロディ1\",キー割付!R116=\"峠の我が家\",\"メロディ2\",キー割付!R116=\"カノン\",\"メロディ3\",キー割付!R116=\"春の歌\",\"メロディ4\",キー割付!R116=\"主よ人の望みの喜びよ\",\"メロディ5\",キー割付!R116=\"メヌエット\",\"メロディ6\",キー割付!R116=\"華麗なる大円舞曲\",\"メロディ7\",キー割付!R116=\"ハンガリア舞曲第5番\",\"メロディ8\",TRUE,\"トーン1\")","v":"トーン1"},{"$f":"_xlfn.IFS(キー割付!S116=\"着信音なし\",\"トーン1\",キー割付!S116=\"トーン1\",\"トーン1\",キー割付!S116=\"トーン2\",\"トーン2\",キー割付!S116=\"トーン3\",\"トーン3\",キー割付!S116=\"トーン4\",\"トーン4\",キー割付!S116=\"トーン5\",\"トーン5\",キー割付!S116=\"トーン6\",\"トーン6\",キー割付!S116=\"トーン7\",\"トーン7\",キー割付!S116=\"トーン7\",\"トーン7\",キー割付!S116=\"無鳴動着信\",\"トーン8\",キー割付!S116=\"グリーンスリーブス\",\"メロディ1\",キー割付!S116=\"峠の我が家\",\"メロディ2\",キー割付!S116=\"カノン\",\"メロディ3\",キー割付!S116=\"春の歌\",\"メロディ4\",キー割付!S116=\"主よ人の望みの喜びよ\",\"メロディ5\",キー割付!S116=\"メヌエット\",\"メロディ6\",キー割付!S116=\"華麗なる大円舞曲\",\"メロディ7\",キー割付!S116=\"ハンガリア舞曲第5番\",\"メロディ8\",TRUE,\"トーン1\")","v":"トーン1"},{"$f":"_xlfn.IFS(キー割付!N124=\"着信音なし\",\"トーン1\",キー割付!N124=\"トーン1\",\"トーン1\",キー割付!N124=\"トーン2\",\"トーン2\",キー割付!N124=\"トーン3\",\"トーン3\",キー割付!N124=\"トーン4\",\"トーン4\",キー割付!N124=\"トーン5\",\"トーン5\",キー割付!N124=\"トーン6\",\"トーン6\",キー割付!N124=\"トーン7\",\"トーン7\",キー割付!N124=\"トーン7\",\"トーン7\",キー割付!N124=\"無鳴動着信\",\"トーン8\",キー割付!N124=\"グリーンスリーブス\",\"メロディ1\",キー割付!N124=\"峠の我が家\",\"メロディ2\",キー割付!N124=\"カノン\",\"メロディ3\",キー割付!N124=\"春の歌\",\"メロディ4\",キー割付!N124=\"主よ人の望みの喜びよ\",\"メロディ5\",キー割付!N124=\"メヌエット\",\"メロディ6\",キー割付!N124=\"華麗なる大円舞曲\",\"メロディ7\",キー割付!N124=\"ハンガリア舞曲第5番\",\"メロディ8\",TRUE,\"トーン1\")","v":"トーン1"},{"$f":"_xlfn.IFS(キー割付!O124=\"着信音なし\",\"トーン1\",キー割付!O124=\"トーン1\",\"トーン1\",キー割付!O124=\"トーン2\",\"トーン2\",キー割付!O124=\"トーン3\",\"トーン3\",キー割付!O124=\"トーン4\",\"トーン4\",キー割付!O124=\"トーン5\",\"トーン5\",キー割付!O124=\"トーン6\",\"トーン6\",キー割付!O124=\"トーン7\",\"トーン7\",キー割付!O124=\"トーン7\",\"トーン7\",キー割付!O124=\"無鳴動着信\",\"トーン8\",キー割付!O124=\"グリーンスリーブス\",\"メロディ1\",キー割付!O124=\"峠の我が家\",\"メロディ2\",キー割付!O124=\"カノン\",\"メロディ3\",キー割付!O124=\"春の歌\",\"メロディ4\",キー割付!O124=\"主よ人の望みの喜びよ\",\"メロディ5\",キー割付!O124=\"メヌエット\",\"メロディ6\",キー割付!O124=\"華麗なる大円舞曲\",\"メロディ7\",キー割付!O124=\"ハンガリア舞曲第5番\",\"メロディ8\",TRUE,\"トーン1\")","v":"トーン1"},{"$f":"IF(E28=\"ZX-DECLDIV-IPコードレス電話機\",\"トーン1\",_xlfn.IFS(キー割付!P124=\"着信音なし\",\"トーン1\",キー割付!P124=\"トーン1\",\"トーン1\",キー割付!P124=\"トーン2\",\"トーン2\",キー割付!P124=\"トーン3\",\"トーン3\",キー割付!P124=\"トーン4\",\"トーン4\",キー割付!P124=\"トーン5\",\"トーン5\",キー割付!P124=\"トーン6\",\"トーン6\",キー割付!P124=\"トーン7\",\"トーン7\",キー割付!P124=\"トーン7\",\"トーン7\",キー割付!P124=\"無鳴動着信\",\"トーン8\",キー割付!P124=\"グリーンスリーブス\",\"メロディ1\",キー割付!P124=\"峠の我が家\",\"メロディ2\",キー割付!P124=\"カノン\",\"メロディ3\",キー割付!P124=\"春の歌\",\"メロディ4\",キー割付!P124=\"主よ人の望みの喜びよ\",\"メロディ5\",キー割付!P124=\"メヌエット\",\"メロディ6\",キー割付!P124=\"華麗なる大円舞曲\",\"メロディ7\",キー割付!P124=\"ハンガリア舞曲第5番\",\"メロディ8\",TRUE,\"トーン1\"))","v":"トーン1"},{"$f":"IF(E28=\"ZX-DECLDIV-IPコードレス電話機\",\"トーン1\",_xlfn.IFS(キー割付!Q124=\"着信音なし\",\"トーン1\",キー割付!Q124=\"トーン1\",\"トーン1\",キー割付!Q124=\"トーン2\",\"トーン2\",キー割付!Q124=\"トーン3\",\"トーン3\",キー割付!Q124=\"トーン4\",\"トーン4\",キー割付!Q124=\"トーン5\",\"トーン5\",キー割付!Q124=\"トーン6\",\"トーン6\",キー割付!Q124=\"トーン7\",\"トーン7\",キー割付!Q124=\"トーン7\",\"トーン7\",キー割付!Q124=\"無鳴動着信\",\"トーン8\",キー割付!Q124=\"グリーンスリーブス\",\"メロディ1\",キー割付!Q124=\"峠の我が家\",\"メロディ2\",キー割付!Q124=\"カノン\",\"メロディ3\",キー割付!Q124=\"春の歌\",\"メロディ4\",キー割付!Q124=\"主よ人の望みの喜びよ\",\"メロディ5\",キー割付!Q124=\"メヌエット\",\"メロディ6\",キー割付!Q124=\"華麗なる大円舞曲\",\"メロディ7\",キー割付!Q124=\"ハンガリア舞曲第5番\",\"メロディ8\",TRUE,\"トーン1\"))","v":"トーン1"},{"$f":"IF(E28=\"ZX-DECLDIV-IPコードレス電話機\",\"トーン1\",_xlfn.IFS(キー割付!R124=\"着信音なし\",\"トーン1\",キー割付!R124=\"トーン1\",\"トーン1\",キー割付!R124=\"トーン2\",\"トーン2\",キー割付!R124=\"トーン3\",\"トーン3\",キー割付!R124=\"トーン4\",\"トーン4\",キー割付!R124=\"トーン5\",\"トーン5\",キー割付!R124=\"トーン6\",\"トーン6\",キー割付!R124=\"トーン7\",\"トーン7\",キー割付!R124=\"トーン7\",\"トーン7\",キー割付!R124=\"無鳴動着信\",\"トーン8\",キー割付!R124=\"グリーンスリーブス\",\"メロディ1\",キー割付!R124=\"峠の我が家\",\"メロディ2\",キー割付!R124=\"カノン\",\"メロディ3\",キー割付!R124=\"春の歌\",\"メロディ4\",キー割付!R124=\"主よ人の望みの喜びよ\",\"メロディ5\",キー割付!R124=\"メヌエット\",\"メロディ6\",キー割付!R124=\"華麗なる大円舞曲\",\"メロディ7\",キー割付!R124=\"ハンガリア舞曲第5番\",\"メロディ8\",TRUE,\"トーン1\"))","v":"トーン1"},{"$f":"IF(E28=\"ZX-DECLDIV-IPコードレス電話機\",\"トーン1\",_xlfn.IFS(キー割付!S124=\"着信音なし\",\"トーン1\",キー割付!S124=\"トーン1\",\"トーン1\",キー割付!S124=\"トーン2\",\"トーン2\",キー割付!S124=\"トーン3\",\"トーン3\",キー割付!S124=\"トーン4\",\"トーン4\",キー割付!S124=\"トーン5\",\"トーン5\",キー割付!S124=\"トーン6\",\"トーン6\",キー割付!S124=\"トーン7\",\"トーン7\",キー割付!S124=\"トーン7\",\"トーン7\",キー割付!S124=\"無鳴動着信\",\"トーン8\",キー割付!S124=\"グリーンスリーブス\",\"メロディ1\",キー割付!S124=\"峠の我が家\",\"メロディ2\",キー割付!S124=\"カノン\",\"メロディ3\",キー割付!S124=\"春の歌\",\"メロディ4\",キー割付!S124=\"主よ人の望みの喜びよ\",\"メロディ5\",キー割付!S124=\"メヌエット\",\"メロディ6\",キー割付!S124=\"華麗なる大円舞曲\",\"メロディ7\",キー割付!S124=\"ハンガリア舞曲第5番\",\"メロディ8\",TRUE,\"トーン1\"))","v":"トーン1"},{"$f":"IF(E28=\"ZX-DECLDIV-IPコードレス電話機\",\"トーン1\",_xlfn.IFS(キー割付!N132=\"着信音なし\",\"トーン1\",キー割付!N132=\"トーン1\",\"トーン1\",キー割付!N132=\"トーン2\",\"トーン2\",キー割付!N132=\"トーン3\",\"トーン3\",キー割付!N132=\"トーン4\",\"トーン4\",キー割付!N132=\"トーン5\",\"トーン5\",キー割付!N132=\"トーン6\",\"トーン6\",キー割付!N132=\"トーン7\",\"トーン7\",キー割付!N132=\"トーン7\",\"トーン7\",キー割付!N132=\"無鳴動着信\",\"トーン8\",キー割付!N132=\"グリーンスリーブス\",\"メロディ1\",キー割付!N132=\"峠の我が家\",\"メロディ2\",キー割付!N132=\"カノン\",\"メロディ3\",キー割付!N132=\"春の歌\",\"メロディ4\",キー割付!N132=\"主よ人の望みの喜びよ\",\"メロディ5\",キー割付!N132=\"メヌエット\",\"メロディ6\",キー割付!N132=\"華麗なる大円舞曲\",\"メロディ7\",キー割付!N132=\"ハンガリア舞曲第5番\",\"メロディ8\",TRUE,\"トーン1\"))","v":"トーン1"},{"$f":"IF(E28=\"ZX-DECLDIV-IPコードレス電話機\",\"トーン1\",_xlfn.IFS(キー割付!O132=\"着信音なし\",\"トーン1\",キー割付!O132=\"トーン1\",\"トーン1\",キー割付!O132=\"トーン2\",\"トーン2\",キー割付!O132=\"トーン3\",\"トーン3\",キー割付!O132=\"トーン4\",\"トーン4\",キー割付!O132=\"トーン5\",\"トーン5\",キー割付!O132=\"トーン6\",\"トーン6\",キー割付!O132=\"トーン7\",\"トーン7\",キー割付!O132=\"トーン7\",\"トーン7\",キー割付!O132=\"無鳴動着信\",\"トーン8\",キー割付!O132=\"グリーンスリーブス\",\"メロディ1\",キー割付!O132=\"峠の我が家\",\"メロディ2\",キー割付!O132=\"カノン\",\"メロディ3\",キー割付!O132=\"春の歌\",\"メロディ4\",キー割付!O132=\"主よ人の望みの喜びよ\",\"メロディ5\",キー割付!O132=\"メヌエット\",\"メロディ6\",キー割付!O132=\"華麗なる大円舞曲\",\"メロディ7\",キー割付!O132=\"ハンガリア舞曲第5番\",\"メロディ8\",TRUE,\"トーン1\"))","v":"トーン1"},{"$f":"IF(E28=\"ZX-DECLDIV-IPコードレス電話機\",\"トーン1\",_xlfn.IFS(キー割付!P132=\"着信音なし\",\"トーン1\",キー割付!P132=\"トーン1\",\"トーン1\",キー割付!P132=\"トーン2\",\"トーン2\",キー割付!P132=\"トーン3\",\"トーン3\",キー割付!P132=\"トーン4\",\"トーン4\",キー割付!P132=\"トーン5\",\"トーン5\",キー割付!P132=\"トーン6\",\"トーン6\",キー割付!P132=\"トーン7\",\"トーン7\",キー割付!P132=\"トーン7\",\"トーン7\",キー割付!P132=\"無鳴動着信\",\"トーン8\",キー割付!P132=\"グリーンスリーブス\",\"メロディ1\",キー割付!P132=\"峠の我が家\",\"メロディ2\",キー割付!P132=\"カノン\",\"メロディ3\",キー割付!P132=\"春の歌\",\"メロディ4\",キー割付!P132=\"主よ人の望みの喜びよ\",\"メロディ5\",キー割付!P132=\"メヌエット\",\"メロディ6\",キー割付!P132=\"華麗なる大円舞曲\",\"メロディ7\",キー割付!P132=\"ハンガリア舞曲第5番\",\"メロディ8\",TRUE,\"トーン1\"))","v":"トーン1"},{"$f":"IF(E28=\"ZX-DECLDIV-IPコードレス電話機\",\"トーン1\",_xlfn.IFS(キー割付!Q132=\"着信音なし\",\"トーン1\",キー割付!Q132=\"トーン1\",\"トーン1\",キー割付!Q132=\"トーン2\",\"トーン2\",キー割付!Q132=\"トーン3\",\"トーン3\",キー割付!Q132=\"トーン4\",\"トーン4\",キー割付!Q132=\"トーン5\",\"トーン5\",キー割付!Q132=\"トーン6\",\"トーン6\",キー割付!Q132=\"トーン7\",\"トーン7\",キー割付!Q132=\"トーン7\",\"トーン7\",キー割付!Q132=\"無鳴動着信\",\"トーン8\",キー割付!Q132=\"グリーンスリーブス\",\"メロディ1\",キー割付!Q132=\"峠の我が家\",\"メロディ2\",キー割付!Q132=\"カノン\",\"メロディ3\",キー割付!Q132=\"春の歌\",\"メロディ4\",キー割付!Q132=\"主よ人の望みの喜びよ\",\"メロディ5\",キー割付!Q132=\"メヌエット\",\"メロディ6\",キー割付!Q132=\"華麗なる大円舞曲\",\"メロディ7\",キー割付!Q132=\"ハンガリア舞曲第5番\",\"メロディ8\",TRUE,\"トーン1\"))","v":"トーン1"},{"$f":"IF(E28=\"ZX-DECLDIV-IPコードレス電話機\",\"トーン1\",_xlfn.IFS(キー割付!R132=\"着信音なし\",\"トーン1\",キー割付!R132=\"トーン1\",\"トーン1\",キー割付!R132=\"トーン2\",\"トーン2\",キー割付!R132=\"トーン3\",\"トーン3\",キー割付!R132=\"トーン4\",\"トーン4\",キー割付!R132=\"トーン5\",\"トーン5\",キー割付!R132=\"トーン6\",\"トーン6\",キー割付!R132=\"トーン7\",\"トーン7\",キー割付!R132=\"トーン7\",\"トーン7\",キー割付!R132=\"無鳴動着信\",\"トーン8\",キー割付!R132=\"グリーンスリーブス\",\"メロディ1\",キー割付!R132=\"峠の我が家\",\"メロディ2\",キー割付!R132=\"カノン\",\"メロディ3\",キー割付!R132=\"春の歌\",\"メロディ4\",キー割付!R132=\"主よ人の望みの喜びよ\",\"メロディ5\",キー割付!R132=\"メヌエット\",\"メロディ6\",キー割付!R132=\"華麗なる大円舞曲\",\"メロディ7\",キー割付!R132=\"ハンガリア舞曲第5番\",\"メロディ8\",TRUE,\"トーン1\"))","v":"トーン1"},{"$f":"IF(E28=\"ZX-DECLDIV-IPコードレス電話機\",\"トーン1\",_xlfn.IFS(キー割付!S132=\"着信音なし\",\"トーン1\",キー割付!S132=\"トーン1\",\"トーン1\",キー割付!S132=\"トーン2\",\"トーン2\",キー割付!S132=\"トーン3\",\"トーン3\",キー割付!S132=\"トーン4\",\"トーン4\",キー割付!S132=\"トーン5\",\"トーン5\",キー割付!S132=\"トーン6\",\"トーン6\",キー割付!S132=\"トーン7\",\"トーン7\",キー割付!S132=\"トーン7\",\"トーン7\",キー割付!S132=\"無鳴動着信\",\"トーン8\",キー割付!S132=\"グリーンスリーブス\",\"メロディ1\",キー割付!S132=\"峠の我が家\",\"メロディ2\",キー割付!S132=\"カノン\",\"メロディ3\",キー割付!S132=\"春の歌\",\"メロディ4\",キー割付!S132=\"主よ人の望みの喜びよ\",\"メロディ5\",キー割付!S132=\"メヌエット\",\"メロディ6\",キー割付!S132=\"華麗なる大円舞曲\",\"メロディ7\",キー割付!S132=\"ハンガリア舞曲第5番\",\"メロディ8\",TRUE,\"トーン1\"))","v":"トーン1"},{"$f":"IF(E28=\"ZX-DECLDIV-IPコードレス電話機\",\"トーン1\",_xlfn.IFS(キー割付!N140=\"着信音なし\",\"トーン1\",キー割付!N140=\"トーン1\",\"トーン1\",キー割付!N140=\"トーン2\",\"トーン2\",キー割付!N140=\"トーン3\",\"トーン3\",キー割付!N140=\"トーン4\",\"トーン4\",キー割付!N140=\"トーン5\",\"トーン5\",キー割付!N140=\"トーン6\",\"トーン6\",キー割付!N140=\"トーン7\",\"トーン7\",キー割付!N140=\"トーン7\",\"トーン7\",キー割付!N140=\"無鳴動着信\",\"トーン8\",キー割付!N140=\"グリーンスリーブス\",\"メロディ1\",キー割付!N140=\"峠の我が家\",\"メロディ2\",キー割付!N140=\"カノン\",\"メロディ3\",キー割付!N140=\"春の歌\",\"メロディ4\",キー割付!N140=\"主よ人の望みの喜びよ\",\"メロディ5\",キー割付!N140=\"メヌエット\",\"メロディ6\",キー割付!N140=\"華麗なる大円舞曲\",\"メロディ7\",キー割付!N140=\"ハンガリア舞曲第5番\",\"メロディ8\",TRUE,\"トーン1\"))","v":"トーン1"},{"$f":"IF(E28=\"ZX-DECLDIV-IPコードレス電話機\",\"トーン1\",_xlfn.IFS(キー割付!O140=\"着信音なし\",\"トーン1\",キー割付!O140=\"トーン1\",\"トーン1\",キー割付!O140=\"トーン2\",\"トーン2\",キー割付!O140=\"トーン3\",\"トーン3\",キー割付!O140=\"トーン4\",\"トーン4\",キー割付!O140=\"トーン5\",\"トーン5\",キー割付!O140=\"トーン6\",\"トーン6\",キー割付!O140=\"トーン7\",\"トーン7\",キー割付!O140=\"トーン7\",\"トーン7\",キー割付!O140=\"無鳴動着信\",\"トーン8\",キー割付!O140=\"グリーンスリーブス\",\"メロディ1\",キー割付!O140=\"峠の我が家\",\"メロディ2\",キー割付!O140=\"カノン\",\"メロディ3\",キー割付!O140=\"春の歌\",\"メロディ4\",キー割付!O140=\"主よ人の望みの喜びよ\",\"メロディ5\",キー割付!O140=\"メヌエット\",\"メロディ6\",キー割付!O140=\"華麗なる大円舞曲\",\"メロディ7\",キー割付!O140=\"ハンガリア舞曲第5番\",\"メロディ8\",TRUE,\"トーン1\"))","v":"トーン1"},{"$f":"IF(E28=\"ZX-DECLDIV-IPコードレス電話機\",\"トーン1\",_xlfn.IFS(キー割付!P140=\"着信音なし\",\"トーン1\",キー割付!P140=\"トーン1\",\"トーン1\",キー割付!P140=\"トーン2\",\"トーン2\",キー割付!P140=\"トーン3\",\"トーン3\",キー割付!P140=\"トーン4\",\"トーン4\",キー割付!P140=\"トーン5\",\"トーン5\",キー割付!P140=\"トーン6\",\"トーン6\",キー割付!P140=\"トーン7\",\"トーン7\",キー割付!P140=\"トーン7\",\"トーン7\",キー割付!P140=\"無鳴動着信\",\"トーン8\",キー割付!P140=\"グリーンスリーブス\",\"メロディ1\",キー割付!P140=\"峠の我が家\",\"メロディ2\",キー割付!P140=\"カノン\",\"メロディ3\",キー割付!P140=\"春の歌\",\"メロディ4\",キー割付!P140=\"主よ人の望みの喜びよ\",\"メロディ5\",キー割付!P140=\"メヌエット\",\"メロディ6\",キー割付!P140=\"華麗なる大円舞曲\",\"メロディ7\",キー割付!P140=\"ハンガリア舞曲第5番\",\"メロディ8\",TRUE,\"トーン1\"))","v":"トーン1"},{"$f":"IF(E28=\"ZX-DECLDIV-IPコードレス電話機\",\"トーン1\",_xlfn.IFS(キー割付!Q140=\"着信音なし\",\"トーン1\",キー割付!Q140=\"トーン1\",\"トーン1\",キー割付!Q140=\"トーン2\",\"トーン2\",キー割付!Q140=\"トーン3\",\"トーン3\",キー割付!Q140=\"トーン4\",\"トーン4\",キー割付!Q140=\"トーン5\",\"トーン5\",キー割付!Q140=\"トーン6\",\"トーン6\",キー割付!Q140=\"トーン7\",\"トーン7\",キー割付!Q140=\"トーン7\",\"トーン7\",キー割付!Q140=\"無鳴動着信\",\"トーン8\",キー割付!Q140=\"グリーンスリーブス\",\"メロディ1\",キー割付!Q140=\"峠の我が家\",\"メロディ2\",キー割付!Q140=\"カノン\",\"メロディ3\",キー割付!Q140=\"春の歌\",\"メロディ4\",キー割付!Q140=\"主よ人の望みの喜びよ\",\"メロディ5\",キー割付!Q140=\"メヌエット\",\"メロディ6\",キー割付!Q140=\"華麗なる大円舞曲\",\"メロディ7\",キー割付!Q140=\"ハンガリア舞曲第5番\",\"メロディ8\",TRUE,\"トーン1\"))","v":"トーン1"},{"$f":"IF(E28=\"ZX-DECLDIV-IPコードレス電話機\",\"トーン1\",_xlfn.IFS(キー割付!R140=\"着信音なし\",\"トーン1\",キー割付!R140=\"トーン1\",\"トーン1\",キー割付!R140=\"トーン2\",\"トーン2\",キー割付!R140=\"トーン3\",\"トーン3\",キー割付!R140=\"トーン4\",\"トーン4\",キー割付!R140=\"トーン5\",\"トーン5\",キー割付!R140=\"トーン6\",\"トーン6\",キー割付!R140=\"トーン7\",\"トーン7\",キー割付!R140=\"トーン7\",\"トーン7\",キー割付!R140=\"無鳴動着信\",\"トーン8\",キー割付!R140=\"グリーンスリーブス\",\"メロディ1\",キー割付!R140=\"峠の我が家\",\"メロディ2\",キー割付!R140=\"カノン\",\"メロディ3\",キー割付!R140=\"春の歌\",\"メロディ4\",キー割付!R140=\"主よ人の望みの喜びよ\",\"メロディ5\",キー割付!R140=\"メヌエット\",\"メロディ6\",キー割付!R140=\"華麗なる大円舞曲\",\"メロディ7\",キー割付!R140=\"ハンガリア舞曲第5番\",\"メロディ8\",TRUE,\"トーン1\"))","v":"トーン1"},{"$f":"IF(E28=\"ZX-DECLDIV-IPコードレス電話機\",\"トーン1\",_xlfn.IFS(キー割付!S140=\"着信音なし\",\"トーン1\",キー割付!S140=\"トーン1\",\"トーン1\",キー割付!S140=\"トーン2\",\"トーン2\",キー割付!S140=\"トーン3\",\"トーン3\",キー割付!S140=\"トーン4\",\"トーン4\",キー割付!S140=\"トーン5\",\"トーン5\",キー割付!S140=\"トーン6\",\"トーン6\",キー割付!S140=\"トーン7\",\"トーン7\",キー割付!S140=\"トーン7\",\"トーン7\",キー割付!S140=\"無鳴動着信\",\"トーン8\",キー割付!S140=\"グリーンスリーブス\",\"メロディ1\",キー割付!S140=\"峠の我が家\",\"メロディ2\",キー割付!S140=\"カノン\",\"メロディ3\",キー割付!S140=\"春の歌\",\"メロディ4\",キー割付!S140=\"主よ人の望みの喜びよ\",\"メロディ5\",キー割付!S140=\"メヌエット\",\"メロディ6\",キー割付!S140=\"華麗なる大円舞曲\",\"メロディ7\",キー割付!S140=\"ハンガリア舞曲第5番\",\"メロディ8\",TRUE,\"トーン1\"))","v":"トーン1"}]
[null,null,null,null,null,{"$f":"_xlfn.IFS(キー割付!N117=\"昼夜休憩\",\"B\",キー割付!N117=\"－－－\",\"-\",キー割付!N117=\"昼－－\",\"H\",キー割付!N117=\"－夜－\",\"N\",キー割付!N117=\"－－休憩\",\"P\",キー割付!N117=\"昼夜－\",\"N\",キー割付!N117=\"昼－休憩\",\"F\",キー割付!N117=\"－夜休憩\",\"K\",TRUE,\"-\")","v":"-"},{"$f":"_xlfn.IFS(キー割付!O117=\"昼夜休憩\",\"B\",キー割付!O117=\"－－－\",\"-\",キー割付!O117=\"昼－－\",\"H\",キー割付!O117=\"－夜－\",\"N\",キー割付!O117=\"－－休憩\",\"P\",キー割付!O117=\"昼夜－\",\"N\",キー割付!O117=\"昼－休憩\",\"F\",キー割付!O117=\"－夜休憩\",\"K\",TRUE,\"-\")","v":"-"},{"$f":"_xlfn.IFS(キー割付!P117=\"昼夜休憩\",\"B\",キー割付!P117=\"－－－\",\"-\",キー割付!P117=\"昼－－\",\"H\",キー割付!P117=\"－夜－\",\"N\",キー割付!P117=\"－－休憩\",\"P\",キー割付!P117=\"昼夜－\",\"N\",キー割付!P117=\"昼－休憩\",\"F\",キー割付!P117=\"－夜休憩\",\"K\",TRUE,\"-\")","v":"-"},{"$f":"_xlfn.IFS(キー割付!Q117=\"昼夜休憩\",\"B\",キー割付!Q117=\"－－－\",\"-\",キー割付!Q117=\"昼－－\",\"H\",キー割付!Q117=\"－夜－\",\"N\",キー割付!Q117=\"－－休憩\",\"P\",キー割付!Q117=\"昼夜－\",\"N\",キー割付!Q117=\"昼－休憩\",\"F\",キー割付!Q117=\"－夜休憩\",\"K\",TRUE,\"-\")","v":"-"},{"$f":"_xlfn.IFS(キー割付!R117=\"昼夜休憩\",\"B\",キー割付!R117=\"－－－\",\"-\",キー割付!R117=\"昼－－\",\"H\",キー割付!R117=\"－夜－\",\"N\",キー割付!R117=\"－－休憩\",\"P\",キー割付!R117=\"昼夜－\",\"N\",キー割付!R117=\"昼－休憩\",\"F\",キー割付!R117=\"－夜休憩\",\"K\",TRUE,\"-\")","v":"-"},{"$f":"_xlfn.IFS(キー割付!S117=\"昼夜休憩\",\"B\",キー割付!S117=\"－－－\",\"-\",キー割付!S117=\"昼－－\",\"H\",キー割付!S117=\"－夜－\",\"N\",キー割付!S117=\"－－休憩\",\"P\",キー割付!S117=\"昼夜－\",\"N\",キー割付!S117=\"昼－休憩\",\"F\",キー割付!S117=\"－夜休憩\",\"K\",TRUE,\"-\")","v":"-"},{"$f":"_xlfn.IFS(キー割付!N125=\"昼夜休憩\",\"B\",キー割付!N125=\"－－－\",\"-\",キー割付!N125=\"昼－－\",\"H\",キー割付!N125=\"－夜－\",\"N\",キー割付!N125=\"－－休憩\",\"P\",キー割付!N125=\"昼夜－\",\"N\",キー割付!N125=\"昼－休憩\",\"F\",キー割付!N125=\"－夜休憩\",\"K\",TRUE,\"-\")","v":"-"},{"$f":"_xlfn.IFS(キー割付!O125=\"昼夜休憩\",\"B\",キー割付!O125=\"－－－\",\"-\",キー割付!O125=\"昼－－\",\"H\",キー割付!O125=\"－夜－\",\"N\",キー割付!O125=\"－－休憩\",\"P\",キー割付!O125=\"昼夜－\",\"N\",キー割付!O125=\"昼－休憩\",\"F\",キー割付!O125=\"－夜休憩\",\"K\",TRUE,\"-\")","v":"-"},{"$f":"IF(E28=\"ZX-DECLDIV-IPコードレス電話機\",\"-\",_xlfn.IFS(キー割付!P125=\"昼夜休憩\",\"B\",キー割付!P125=\"－－－\",\"-\",キー割付!P125=\"昼－－\",\"H\",キー割付!P125=\"－夜－\",\"N\",キー割付!P125=\"－－休憩\",\"P\",キー割付!P125=\"昼夜－\",\"N\",キー割付!P125=\"昼－休憩\",\"F\",キー割付!P125=\"－夜休憩\",\"K\",TRUE,\"-\"))","v":"-"},{"$f":"IF(E28=\"ZX-DECLDIV-IPコードレス電話機\",\"-\",_xlfn.IFS(キー割付!Q125=\"昼夜休憩\",\"B\",キー割付!Q125=\"－－－\",\"-\",キー割付!Q125=\"昼－－\",\"H\",キー割付!Q125=\"－夜－\",\"N\",キー割付!Q125=\"－－休憩\",\"P\",キー割付!Q125=\"昼夜－\",\"N\",キー割付!Q125=\"昼－休憩\",\"F\",キー割付!Q125=\"－夜休憩\",\"K\",TRUE,\"-\"))","v":"-"},{"$f":"IF(E28=\"ZX-DECLDIV-IPコードレス電話機\",\"-\",_xlfn.IFS(キー割付!R125=\"昼夜休憩\",\"B\",キー割付!R125=\"－－－\",\"-\",キー割付!R125=\"昼－－\",\"H\",キー割付!R125=\"－夜－\",\"N\",キー割付!R125=\"－－休憩\",\"P\",キー割付!R125=\"昼夜－\",\"N\",キー割付!R125=\"昼－休憩\",\"F\",キー割付!R125=\"－夜休憩\",\"K\",TRUE,\"-\"))","v":"-"},{"$f":"IF(E28=\"ZX-DECLDIV-IPコードレス電話機\",\"-\",_xlfn.IFS(キー割付!S125=\"昼夜休憩\",\"B\",キー割付!S125=\"－－－\",\"-\",キー割付!S125=\"昼－－\",\"H\",キー割付!S125=\"－夜－\",\"N\",キー割付!S125=\"－－休憩\",\"P\",キー割付!S125=\"昼夜－\",\"N\",キー割付!S125=\"昼－休憩\",\"F\",キー割付!S125=\"－夜休憩\",\"K\",TRUE,\"-\"))","v":"-"},{"$f":"IF(E28=\"ZX-DECLDIV-IPコードレス電話機\",\"-\",_xlfn.IFS(キー割付!N133=\"昼夜休憩\",\"B\",キー割付!N133=\"－－－\",\"-\",キー割付!N133=\"昼－－\",\"H\",キー割付!N133=\"－夜－\",\"N\",キー割付!N133=\"－－休憩\",\"P\",キー割付!N133=\"昼夜－\",\"N\",キー割付!N133=\"昼－休憩\",\"F\",キー割付!N133=\"－夜休憩\",\"K\",TRUE,\"-\"))","v":"-"},{"$f":"IF(E28=\"ZX-DECLDIV-IPコードレス電話機\",\"-\",_xlfn.IFS(キー割付!O133=\"昼夜休憩\",\"B\",キー割付!O133=\"－－－\",\"-\",キー割付!O133=\"昼－－\",\"H\",キー割付!O133=\"－夜－\",\"N\",キー割付!O133=\"－－休憩\",\"P\",キー割付!O133=\"昼夜－\",\"N\",キー割付!O133=\"昼－休憩\",\"F\",キー割付!O133=\"－夜休憩\",\"K\",TRUE,\"-\"))","v":"-"},{"$f":"IF(E28=\"ZX-DECLDIV-IPコードレス電話機\",\"-\",_xlfn.IFS(キー割付!P133=\"昼夜休憩\",\"B\",キー割付!P133=\"－－－\",\"-\",キー割付!P133=\"昼－－\",\"H\",キー割付!P133=\"－夜－\",\"N\",キー割付!P133=\"－－休憩\",\"P\",キー割付!P133=\"昼夜－\",\"N\",キー割付!P133=\"昼－休憩\",\"F\",キー割付!P133=\"－夜休憩\",\"K\",TRUE,\"-\"))","v":"-"},{"$f":"IF(E28=\"ZX-DECLDIV-IPコードレス電話機\",\"-\",_xlfn.IFS(キー割付!Q133=\"昼夜休憩\",\"B\",キー割付!Q133=\"－－－\",\"-\",キー割付!Q133=\"昼－－\",\"H\",キー割付!Q133=\"－夜－\",\"N\",キー割付!Q133=\"－－休憩\",\"P\",キー割付!Q133=\"昼夜－\",\"N\",キー割付!Q133=\"昼－休憩\",\"F\",キー割付!Q133=\"－夜休憩\",\"K\",TRUE,\"-\"))","v":"-"},{"$f":"IF(E28=\"ZX-DECLDIV-IPコードレス電話機\",\"-\",_xlfn.IFS(キー割付!R133=\"昼夜休憩\",\"B\",キー割付!R133=\"－－－\",\"-\",キー割付!R133=\"昼－－\",\"H\",キー割付!R133=\"－夜－\",\"N\",キー割付!R133=\"－－休憩\",\"P\",キー割付!R133=\"昼夜－\",\"N\",キー割付!R133=\"昼－休憩\",\"F\",キー割付!R133=\"－夜休憩\",\"K\",TRUE,\"-\"))","v":"-"},{"$f":"IF(E28=\"ZX-DECLDIV-IPコードレス電話機\",\"-\",_xlfn.IFS(キー割付!S133=\"昼夜休憩\",\"B\",キー割付!S133=\"－－－\",\"-\",キー割付!S133=\"昼－－\",\"H\",キー割付!S133=\"－夜－\",\"N\",キー割付!S133=\"－－休憩\",\"P\",キー割付!S133=\"昼夜－\",\"N\",キー割付!S133=\"昼－休憩\",\"F\",キー割付!S133=\"－夜休憩\",\"K\",TRUE,\"-\"))","v":"-"},{"$f":"IF(E28=\"ZX-DECLDIV-IPコードレス電話機\",\"-\",_xlfn.IFS(キー割付!N141=\"昼夜休憩\",\"B\",キー割付!N141=\"－－－\",\"-\",キー割付!N141=\"昼－－\",\"H\",キー割付!N141=\"－夜－\",\"N\",キー割付!N141=\"－－休憩\",\"P\",キー割付!N141=\"昼夜－\",\"N\",キー割付!N141=\"昼－休憩\",\"F\",キー割付!N141=\"－夜休憩\",\"K\",TRUE,\"-\"))","v":"-"},{"$f":"IF(E28=\"ZX-DECLDIV-IPコードレス電話機\",\"-\",_xlfn.IFS(キー割付!O141=\"昼夜休憩\",\"B\",キー割付!O141=\"－－－\",\"-\",キー割付!O141=\"昼－－\",\"H\",キー割付!O141=\"－夜－\",\"N\",キー割付!O141=\"－－休憩\",\"P\",キー割付!O141=\"昼夜－\",\"N\",キー割付!O141=\"昼－休憩\",\"F\",キー割付!O141=\"－夜休憩\",\"K\",TRUE,\"-\"))","v":"-"},{"$f":"IF(E28=\"ZX-DECLDIV-IPコードレス電話機\",\"-\",_xlfn.IFS(キー割付!P141=\"昼夜休憩\",\"B\",キー割付!P141=\"－－－\",\"-\",キー割付!P141=\"昼－－\",\"H\",キー割付!P141=\"－夜－\",\"N\",キー割付!P141=\"－－休憩\",\"P\",キー割付!P141=\"昼夜－\",\"N\",キー割付!P141=\"昼－休憩\",\"F\",キー割付!P141=\"－夜休憩\",\"K\",TRUE,\"-\"))","v":"-"},{"$f":"IF(E28=\"ZX-DECLDIV-IPコードレス電話機\",\"-\",_xlfn.IFS(キー割付!Q141=\"昼夜休憩\",\"B\",キー割付!Q141=\"－－－\",\"-\",キー割付!Q141=\"昼－－\",\"H\",キー割付!Q141=\"－夜－\",\"N\",キー割付!Q141=\"－－休憩\",\"P\",キー割付!Q141=\"昼夜－\",\"N\",キー割付!Q141=\"昼－休憩\",\"F\",キー割付!Q141=\"－夜休憩\",\"K\",TRUE,\"-\"))","v":"-"},{"$f":"IF(E28=\"ZX-DECLDIV-IPコードレス電話機\",\"-\",_xlfn.IFS(キー割付!R141=\"昼夜休憩\",\"B\",キー割付!R141=\"－－－\",\"-\",キー割付!R141=\"昼－－\",\"H\",キー割付!R141=\"－夜－\",\"N\",キー割付!R141=\"－－休憩\",\"P\",キー割付!R141=\"昼夜－\",\"N\",キー割付!R141=\"昼－休憩\",\"F\",キー割付!R141=\"－夜休憩\",\"K\",TRUE,\"-\"))","v":"-"},{"$f":"IF(E28=\"ZX-DECLDIV-IPコードレス電話機\",\"-\",_xlfn.IFS(キー割付!S141=\"昼夜休憩\",\"B\",キー割付!S141=\"－－－\",\"-\",キー割付!S141=\"昼－－\",\"H\",キー割付!S141=\"－夜－\",\"N\",キー割付!S141=\"－－休憩\",\"P\",キー割付!S141=\"昼夜－\",\"N\",キー割付!S141=\"昼－休憩\",\"F\",キー割付!S141=\"－夜休憩\",\"K\",TRUE,\"-\"))","v":"-"}]
[null,9,{"$f":"IF(IFERROR(VALUE(VLOOKUP(B31,内線_キー割用,2,FALSE)),\"\")=0,\"\",IFERROR(VALUE(VLOOKUP(B31,内線_キー割用,2,FALSE)),\"\"))","v":""},{"$f":"IF(IFERROR(VALUE(VLOOKUP(B31,内線_キー割用,4,FALSE)),\"\")=0,\"\",IFERROR(VALUE(VLOOKUP(B31,内線_キー割用,4,FALSE)),\"\"))","v":""},{"$f":"IF(IFERROR(VLOOKUP(B31,内線_キー割用,3,FALSE),\"\")=0,\"\",IFERROR(VLOOKUP(B31,内線_キー割用,3,FALSE),\"\"))","v":""},{"$f":"IF(キー割付!D151=\"\",\"未使用\",キー割付!D151)","v":"未使用"},{"$f":"IF(キー割付!E151=\"\",\"未使用\",キー割付!E151)","v":"未使用"},{"$f":"IF(キー割付!F151=\"\",\"未使用\",キー割付!F151)","v":"未使用"},{"$f":"IF(キー割付!G151=\"\",\"未使用\",キー割付!G151)","v":"未使用"},{"$f":"IF(キー割付!H151=\"\",\"未使用\",キー割付!H151)","v":"未使用"},{"$f":"IF(キー割付!I151=\"\",\"未使用\",キー割付!I151)","v":"未使用"},{"$f":"IF(キー割付!D159=\"\",\"未使用\",キー割付!D159)","v":"未使用"},{"$f":"IF(キー割付!E159=\"\",\"未使用\",キー割付!E159)","v":"未使用"},{"$f":"IF(E31=\"ZX-DECLDIV-IPコードレス電話機\",\"未使用\",IF(キー割付!F159=\"\",\"未使用\",キー割付!F159))","v":"未使用"},{"$f":"IF(E31=\"ZX-DECLDIV-IPコードレス電話機\",\"未使用\",IF(キー割付!G159=\"\",\"未使用\",キー割付!G159))","v":"未使用"},{"$f":"IF(E31=\"ZX-DECLDIV-IPコードレス電話機\",\"未使用\",IF(キー割付!H159=\"\",\"未使用\",キー割付!H159))","v":"未使用"},{"$f":"IF(E31=\"ZX-DECLDIV-IPコードレス電話機\",\"未使用\",IF(キー割付!I159=\"\",\"未使用\",キー割付!I159))","v":"未使用"},{"$f":"IF(E31=\"ZX-DECLDIV-IPコードレス電話機\",\"未使用\",IF(キー割付!D167=\"\",\"未使用\",キー割付!D167))","v":"未使用"},{"$f":"IF(E31=\"ZX-DECLDIV-IPコードレス電話機\",\"未使用\",IF(キー割付!E167=\"\",\"未使用\",キー割付!E167))","v":"未使用"},{"$f":"IF(E31=\"ZX-DECLDIV-IPコードレス電話機\",\"未使用\",IF(キー割付!F167=\"\",\"未使用\",キー割付!F167))","v":"未使用"},{"$f":"IF(E31=\"ZX-DECLDIV-IPコードレス電話機\",\"未使用\",IF(キー割付!G167=\"\",\"未使用\",キー割付!G167))","v":"未使用"},{"$f":"IF(E31=\"ZX-DECLDIV-IPコードレス電話機\",\"未使用\",IF(キー割付!H167=\"\",\"未使用\",キー割付!H167))","v":"未使用"},{"$f":"IF(E31=\"ZX-DECLDIV-IPコードレス電話機\",\"未使用\",IF(キー割付!I167=\"\",\"未使用\",キー割付!I167))","v":"未使用"},{"$f":"IF(E31=\"ZX-DECLDIV-IPコードレス電話機\",\"未使用\",IF(キー割付!D175=\"\",\"未使用\",キー割付!D175))","v":"未使用"},{"$f":"IF(E31=\"ZX-DECLDIV-IPコードレス電話機\",\"未使用\",IF(キー割付!E175=\"\",\"未使用\",キー割付!E175))","v":"未使用"},{"$f":"IF(E31=\"ZX-DECLDIV-IPコードレス電話機\",\"未使用\",IF(キー割付!F175=\"\",\"未使用\",キー割付!F175))","v":"未使用"},{"$f":"IF(E31=\"ZX-DECLDIV-IPコードレス電話機\",\"未使用\",IF(キー割付!G175=\"\",\"未使用\",キー割付!G175))","v":"未使用"},{"$f":"IF(E31=\"ZX-DECLDIV-IPコードレス電話機\",\"未使用\",IF(キー割付!H175=\"\",\"未使用\",キー割付!H175))","v":"未使用"},{"$f":"IF(E31=\"ZX-DECLDIV-IPコードレス電話機\",\"未使用\",IF(キー割付!I175=\"\",\"未使用\",キー割付!I175))","v":"未使用"}]
[null,null,null,null,null,{"$f":"_xlfn.IFS(キー割付!N152=\"着信音なし\",\"トーン1\",キー割付!N152=\"トーン1\",\"トーン1\",キー割付!N152=\"トーン2\",\"トーン2\",キー割付!N152=\"トーン3\",\"トーン3\",キー割付!N152=\"トーン4\",\"トーン4\",キー割付!N152=\"トーン5\",\"トーン5\",キー割付!N152=\"トーン6\",\"トーン6\",キー割付!N152=\"トーン7\",\"トーン7\",キー割付!N152=\"トーン7\",\"トーン7\",キー割付!N152=\"無鳴動着信\",\"トーン8\",キー割付!N152=\"グリーンスリーブス\",\"メロディ1\",キー割付!N152=\"峠の我が家\",\"メロディ2\",キー割付!N152=\"カノン\",\"メロディ3\",キー割付!N152=\"春の歌\",\"メロディ4\",キー割付!N152=\"主よ人の望みの喜びよ\",\"メロディ5\",キー割付!N152=\"メヌエット\",\"メロディ6\",キー割付!N152=\"華麗なる大円舞曲\",\"メロディ7\",キー割付!N152=\"ハンガリア舞曲第5番\",\"メロディ8\",TRUE,\"トーン1\")","v":"トーン1"},{"$f":"_xlfn.IFS(キー割付!E152=\"着信音なし\",\"トーン1\",キー割付!E152=\"トーン1\",\"トーン1\",キー割付!E152=\"トーン2\",\"トーン2\",キー割付!E152=\"トーン3\",\"トーン3\",キー割付!E152=\"トーン4\",\"トーン4\",キー割付!E152=\"トーン5\",\"トーン5\",キー割付!E152=\"トーン6\",\"トーン6\",キー割付!E152=\"トーン7\",\"トーン7\",キー割付!E152=\"トーン7\",\"トーン7\",キー割付!E152=\"無鳴動着信\",\"トーン8\",キー割付!E152=\"グリーンスリーブス\",\"メロディ1\",キー割付!E152=\"峠の我が家\",\"メロディ2\",キー割付!E152=\"カノン\",\"メロディ3\",キー割付!E152=\"春の歌\",\"メロディ4\",キー割付!E152=\"主よ人の望みの喜びよ\",\"メロディ5\",キー割付!E152=\"メヌエット\",\"メロディ6\",キー割付!E152=\"華麗なる大円舞曲\",\"メロディ7\",キー割付!E152=\"ハンガリア舞曲第5番\",\"メロディ8\",TRUE,\"トーン1\")","v":"トーン1"},{"$f":"_xlfn.IFS(キー割付!F152=\"着信音なし\",\"トーン1\",キー割付!F152=\"トーン1\",\"トーン1\",キー割付!F152=\"トーン2\",\"トーン2\",キー割付!F152=\"トーン3\",\"トーン3\",キー割付!F152=\"トーン4\",\"トーン4\",キー割付!F152=\"トーン5\",\"トーン5\",キー割付!F152=\"トーン6\",\"トーン6\",キー割付!F152=\"トーン7\",\"トーン7\",キー割付!F152=\"トーン7\",\"トーン7\",キー割付!F152=\"無鳴動着信\",\"トーン8\",キー割付!F152=\"グリーンスリーブス\",\"メロディ1\",キー割付!F152=\"峠の我が家\",\"メロディ2\",キー割付!F152=\"カノン\",\"メロディ3\",キー割付!F152=\"春の歌\",\"メロディ4\",キー割付!F152=\"主よ人の望みの喜びよ\",\"メロディ5\",キー割付!F152=\"メヌエット\",\"メロディ6\",キー割付!F152=\"華麗なる大円舞曲\",\"メロディ7\",キー割付!F152=\"ハンガリア舞曲第5番\",\"メロディ8\",TRUE,\"トーン1\")","v":"トーン1"},{"$f":"_xlfn.IFS(キー割付!G152=\"着信音なし\",\"トーン1\",キー割付!G152=\"トーン1\",\"トーン1\",キー割付!G152=\"トーン2\",\"トーン2\",キー割付!G152=\"トーン3\",\"トーン3\",キー割付!G152=\"トーン4\",\"トーン4\",キー割付!G152=\"トーン5\",\"トーン5\",キー割付!G152=\"トーン6\",\"トーン6\",キー割付!G152=\"トーン7\",\"トーン7\",キー割付!G152=\"トーン7\",\"トーン7\",キー割付!G152=\"無鳴動着信\",\"トーン8\",キー割付!G152=\"グリーンスリーブス\",\"メロディ1\",キー割付!G152=\"峠の我が家\",\"メロディ2\",キー割付!G152=\"カノン\",\"メロディ3\",キー割付!G152=\"春の歌\",\"メロディ4\",キー割付!G152=\"主よ人の望みの喜びよ\",\"メロディ5\",キー割付!G152=\"メヌエット\",\"メロディ6\",キー割付!G152=\"華麗なる大円舞曲\",\"メロディ7\",キー割付!G152=\"ハンガリア舞曲第5番\",\"メロディ8\",TRUE,\"トーン1\")","v":"トーン1"},{"$f":"_xlfn.IFS(キー割付!H152=\"着信音なし\",\"トーン1\",キー割付!H152=\"トーン1\",\"トーン1\",キー割付!H152=\"トーン2\",\"トーン2\",キー割付!H152=\"トーン3\",\"トーン3\",キー割付!H152=\"トーン4\",\"トーン4\",キー割付!H152=\"トーン5\",\"トーン5\",キー割付!H152=\"トーン6\",\"トーン6\",キー割付!H152=\"トーン7\",\"トーン7\",キー割付!H152=\"トーン7\",\"トーン7\",キー割付!H152=\"無鳴動着信\",\"トーン8\",キー割付!H152=\"グリーンスリーブス\",\"メロディ1\",キー割付!H152=\"峠の我が家\",\"メロディ2\",キー割付!H152=\"カノン\",\"メロディ3\",キー割付!H152=\"春の歌\",\"メロディ4\",キー割付!H152=\"主よ人の望みの喜びよ\",\"メロディ5\",キー割付!H152=\"メヌエット\",\"メロディ6\",キー割付!H152=\"華麗なる大円舞曲\",\"メロディ7\",キー割付!H152=\"ハンガリア舞曲第5番\",\"メロディ8\",TRUE,\"トーン1\")","v":"トーン1"},{"$f":"_xlfn.IFS(キー割付!I152=\"着信音なし\",\"トーン1\",キー割付!I152=\"トーン1\",\"トーン1\",キー割付!I152=\"トーン2\",\"トーン2\",キー割付!I152=\"トーン3\",\"トーン3\",キー割付!I152=\"トーン4\",\"トーン4\",キー割付!I152=\"トーン5\",\"トーン5\",キー割付!I152=\"トーン6\",\"トーン6\",キー割付!I152=\"トーン7\",\"トーン7\",キー割付!I152=\"トーン7\",\"トーン7\",キー割付!I152=\"無鳴動着信\",\"トーン8\",キー割付!I152=\"グリーンスリーブス\",\"メロディ1\",キー割付!I152=\"峠の我が家\",\"メロディ2\",キー割付!I152=\"カノン\",\"メロディ3\",キー割付!I152=\"春の歌\",\"メロディ4\",キー割付!I152=\"主よ人の望みの喜びよ\",\"メロディ5\",キー割付!I152=\"メヌエット\",\"メロディ6\",キー割付!I152=\"華麗なる大円舞曲\",\"メロディ7\",キー割付!I152=\"ハンガリア舞曲第5番\",\"メロディ8\",TRUE,\"トーン1\")","v":"トーン1"},{"$f":"_xlfn.IFS(キー割付!N160=\"着信音なし\",\"トーン1\",キー割付!N160=\"トーン1\",\"トーン1\",キー割付!N160=\"トーン2\",\"トーン2\",キー割付!N160=\"トーン3\",\"トーン3\",キー割付!N160=\"トーン4\",\"トーン4\",キー割付!N160=\"トーン5\",\"トーン5\",キー割付!N160=\"トーン6\",\"トーン6\",キー割付!N160=\"トーン7\",\"トーン7\",キー割付!N160=\"トーン7\",\"トーン7\",キー割付!N160=\"無鳴動着信\",\"トーン8\",キー割付!N160=\"グリーンスリーブス\",\"メロディ1\",キー割付!N160=\"峠の我が家\",\"メロディ2\",キー割付!N160=\"カノン\",\"メロディ3\",キー割付!N160=\"春の歌\",\"メロディ4\",キー割付!N160=\"主よ人の望みの喜びよ\",\"メロディ5\",キー割付!N160=\"メヌエット\",\"メロディ6\",キー割付!N160=\"華麗なる大円舞曲\",\"メロディ7\",キー割付!N160=\"ハンガリア舞曲第5番\",\"メロディ8\",TRUE,\"トーン1\")","v":"トーン1"},{"$f":"_xlfn.IFS(キー割付!E160=\"着信音なし\",\"トーン1\",キー割付!E160=\"トーン1\",\"トーン1\",キー割付!E160=\"トーン2\",\"トーン2\",キー割付!E160=\"トーン3\",\"トーン3\",キー割付!E160=\"トーン4\",\"トーン4\",キー割付!E160=\"トーン5\",\"トーン5\",キー割付!E160=\"トーン6\",\"トーン6\",キー割付!E160=\"トーン7\",\"トーン7\",キー割付!E160=\"トーン7\",\"トーン7\",キー割付!E160=\"無鳴動着信\",\"トーン8\",キー割付!E160=\"グリーンスリーブス\",\"メロディ1\",キー割付!E160=\"峠の我が家\",\"メロディ2\",キー割付!E160=\"カノン\",\"メロディ3\",キー割付!E160=\"春の歌\",\"メロディ4\",キー割付!E160=\"主よ人の望みの喜びよ\",\"メロディ5\",キー割付!E160=\"メヌエット\",\"メロディ6\",キー割付!E160=\"華麗なる大円舞曲\",\"メロディ7\",キー割付!E160=\"ハンガリア舞曲第5番\",\"メロディ8\",TRUE,\"トーン1\")","v":"トーン1"},{"$f":"IF(E31=\"ZX-DECLDIV-IPコードレス電話機\",\"トーン1\",_xlfn.IFS(キー割付!F160=\"着信音なし\",\"トーン1\",キー割付!F160=\"トーン1\",\"トーン1\",キー割付!F160=\"トーン2\",\"トーン2\",キー割付!F160=\"トーン3\",\"トーン3\",キー割付!F160=\"トーン4\",\"トーン4\",キー割付!F160=\"トーン5\",\"トーン5\",キー割付!F160=\"トーン6\",\"トーン6\",キー割付!F160=\"トーン7\",\"トーン7\",キー割付!F160=\"トーン7\",\"トーン7\",キー割付!F160=\"無鳴動着信\",\"トーン8\",キー割付!F160=\"グリーンスリーブス\",\"メロディ1\",キー割付!F160=\"峠の我が家\",\"メロディ2\",キー割付!F160=\"カノン\",\"メロディ3\",キー割付!F160=\"春の歌\",\"メロディ4\",キー割付!F160=\"主よ人の望みの喜びよ\",\"メロディ5\",キー割付!F160=\"メヌエット\",\"メロディ6\",キー割付!F160=\"華麗なる大円舞曲\",\"メロディ7\",キー割付!F160=\"ハンガリア舞曲第5番\",\"メロディ8\",TRUE,\"トーン1\"))","v":"トーン1"},{"$f":"IF(E31=\"ZX-DECLDIV-IPコードレス電話機\",\"トーン1\",_xlfn.IFS(キー割付!G160=\"着信音なし\",\"トーン1\",キー割付!G160=\"トーン1\",\"トーン1\",キー割付!G160=\"トーン2\",\"トーン2\",キー割付!G160=\"トーン3\",\"トーン3\",キー割付!G160=\"トーン4\",\"トーン4\",キー割付!G160=\"トーン5\",\"トーン5\",キー割付!G160=\"トーン6\",\"トーン6\",キー割付!G160=\"トーン7\",\"トーン7\",キー割付!G160=\"トーン7\",\"トーン7\",キー割付!G160=\"無鳴動着信\",\"トーン8\",キー割付!G160=\"グリーンスリーブス\",\"メロディ1\",キー割付!G160=\"峠の我が家\",\"メロディ2\",キー割付!G160=\"カノン\",\"メロディ3\",キー割付!G160=\"春の歌\",\"メロディ4\",キー割付!G160=\"主よ人の望みの喜びよ\",\"メロディ5\",キー割付!G160=\"メヌエット\",\"メロディ6\",キー割付!G160=\"華麗なる大円舞曲\",\"メロディ7\",キー割付!G160=\"ハンガリア舞曲第5番\",\"メロディ8\",TRUE,\"トーン1\"))","v":"トーン1"},{"$f":"IF(E31=\"ZX-DECLDIV-IPコードレス電話機\",\"トーン1\",_xlfn.IFS(キー割付!H160=\"着信音なし\",\"トーン1\",キー割付!H160=\"トーン1\",\"トーン1\",キー割付!H160=\"トーン2\",\"トーン2\",キー割付!H160=\"トーン3\",\"トーン3\",キー割付!H160=\"トーン4\",\"トーン4\",キー割付!H160=\"トーン5\",\"トーン5\",キー割付!H160=\"トーン6\",\"トーン6\",キー割付!H160=\"トーン7\",\"トーン7\",キー割付!H160=\"トーン7\",\"トーン7\",キー割付!H160=\"無鳴動着信\",\"トーン8\",キー割付!H160=\"グリーンスリーブス\",\"メロディ1\",キー割付!H160=\"峠の我が家\",\"メロディ2\",キー割付!H160=\"カノン\",\"メロディ3\",キー割付!H160=\"春の歌\",\"メロディ4\",キー割付!H160=\"主よ人の望みの喜びよ\",\"メロディ5\",キー割付!H160=\"メヌエット\",\"メロディ6\",キー割付!H160=\"華麗なる大円舞曲\",\"メロディ7\",キー割付!H160=\"ハンガリア舞曲第5番\",\"メロディ8\",TRUE,\"トーン1\"))","v":"トーン1"},{"$f":"IF(E31=\"ZX-DECLDIV-IPコードレス電話機\",\"トーン1\",_xlfn.IFS(キー割付!I160=\"着信音なし\",\"トーン1\",キー割付!I160=\"トーン1\",\"トーン1\",キー割付!I160=\"トーン2\",\"トーン2\",キー割付!I160=\"トーン3\",\"トーン3\",キー割付!I160=\"トーン4\",\"トーン4\",キー割付!I160=\"トーン5\",\"トーン5\",キー割付!I160=\"トーン6\",\"トーン6\",キー割付!I160=\"トーン7\",\"トーン7\",キー割付!I160=\"トーン7\",\"トーン7\",キー割付!I160=\"無鳴動着信\",\"トーン8\",キー割付!I160=\"グリーンスリーブス\",\"メロディ1\",キー割付!I160=\"峠の我が家\",\"メロディ2\",キー割付!I160=\"カノン\",\"メロディ3\",キー割付!I160=\"春の歌\",\"メロディ4\",キー割付!I160=\"主よ人の望みの喜びよ\",\"メロディ5\",キー割付!I160=\"メヌエット\",\"メロディ6\",キー割付!I160=\"華麗なる大円舞曲\",\"メロディ7\",キー割付!I160=\"ハンガリア舞曲第5番\",\"メロディ8\",TRUE,\"トーン1\"))","v":"トーン1"},{"$f":"IF(E31=\"ZX-DECLDIV-IPコードレス電話機\",\"トーン1\",_xlfn.IFS(キー割付!N168=\"着信音なし\",\"トーン1\",キー割付!N168=\"トーン1\",\"トーン1\",キー割付!N168=\"トーン2\",\"トーン2\",キー割付!N168=\"トーン3\",\"トーン3\",キー割付!N168=\"トーン4\",\"トーン4\",キー割付!N168=\"トーン5\",\"トーン5\",キー割付!N168=\"トーン6\",\"トーン6\",キー割付!N168=\"トーン7\",\"トーン7\",キー割付!N168=\"トーン7\",\"トーン7\",キー割付!N168=\"無鳴動着信\",\"トーン8\",キー割付!N168=\"グリーンスリーブス\",\"メロディ1\",キー割付!N168=\"峠の我が家\",\"メロディ2\",キー割付!N168=\"カノン\",\"メロディ3\",キー割付!N168=\"春の歌\",\"メロディ4\",キー割付!N168=\"主よ人の望みの喜びよ\",\"メロディ5\",キー割付!N168=\"メヌエット\",\"メロディ6\",キー割付!N168=\"華麗なる大円舞曲\",\"メロディ7\",キー割付!N168=\"ハンガリア舞曲第5番\",\"メロディ8\",TRUE,\"トーン1\"))","v":"トーン1"},{"$f":"IF(E31=\"ZX-DECLDIV-IPコードレス電話機\",\"トーン1\",_xlfn.IFS(キー割付!E168=\"着信音なし\",\"トーン1\",キー割付!E168=\"トーン1\",\"トーン1\",キー割付!E168=\"トーン2\",\"トーン2\",キー割付!E168=\"トーン3\",\"トーン3\",キー割付!E168=\"トーン4\",\"トーン4\",キー割付!E168=\"トーン5\",\"トーン5\",キー割付!E168=\"トーン6\",\"トーン6\",キー割付!E168=\"トーン7\",\"トーン7\",キー割付!E168=\"トーン7\",\"トーン7\",キー割付!E168=\"無鳴動着信\",\"トーン8\",キー割付!E168=\"グリーンスリーブス\",\"メロディ1\",キー割付!E168=\"峠の我が家\",\"メロディ2\",キー割付!E168=\"カノン\",\"メロディ3\",キー割付!E168=\"春の歌\",\"メロディ4\",キー割付!E168=\"主よ人の望みの喜びよ\",\"メロディ5\",キー割付!E168=\"メヌエット\",\"メロディ6\",キー割付!E168=\"華麗なる大円舞曲\",\"メロディ7\",キー割付!E168=\"ハンガリア舞曲第5番\",\"メロディ8\",TRUE,\"トーン1\"))","v":"トーン1"},{"$f":"IF(E31=\"ZX-DECLDIV-IPコードレス電話機\",\"トーン1\",_xlfn.IFS(キー割付!F168=\"着信音なし\",\"トーン1\",キー割付!F168=\"トーン1\",\"トーン1\",キー割付!F168=\"トーン2\",\"トーン2\",キー割付!F168=\"トーン3\",\"トーン3\",キー割付!F168=\"トーン4\",\"トーン4\",キー割付!F168=\"トーン5\",\"トーン5\",キー割付!F168=\"トーン6\",\"トーン6\",キー割付!F168=\"トーン7\",\"トーン7\",キー割付!F168=\"トーン7\",\"トーン7\",キー割付!F168=\"無鳴動着信\",\"トーン8\",キー割付!F168=\"グリーンスリーブス\",\"メロディ1\",キー割付!F168=\"峠の我が家\",\"メロディ2\",キー割付!F168=\"カノン\",\"メロディ3\",キー割付!F168=\"春の歌\",\"メロディ4\",キー割付!F168=\"主よ人の望みの喜びよ\",\"メロディ5\",キー割付!F168=\"メヌエット\",\"メロディ6\",キー割付!F168=\"華麗なる大円舞曲\",\"メロディ7\",キー割付!F168=\"ハンガリア舞曲第5番\",\"メロディ8\",TRUE,\"トーン1\"))","v":"トーン1"},{"$f":"IF(E31=\"ZX-DECLDIV-IPコードレス電話機\",\"トーン1\",_xlfn.IFS(キー割付!G168=\"着信音なし\",\"トーン1\",キー割付!G168=\"トーン1\",\"トーン1\",キー割付!G168=\"トーン2\",\"トーン2\",キー割付!G168=\"トーン3\",\"トーン3\",キー割付!G168=\"トーン4\",\"トーン4\",キー割付!G168=\"トーン5\",\"トーン5\",キー割付!G168=\"トーン6\",\"トーン6\",キー割付!G168=\"トーン7\",\"トーン7\",キー割付!G168=\"トーン7\",\"トーン7\",キー割付!G168=\"無鳴動着信\",\"トーン8\",キー割付!G168=\"グリーンスリーブス\",\"メロディ1\",キー割付!G168=\"峠の我が家\",\"メロディ2\",キー割付!G168=\"カノン\",\"メロディ3\",キー割付!G168=\"春の歌\",\"メロディ4\",キー割付!G168=\"主よ人の望みの喜びよ\",\"メロディ5\",キー割付!G168=\"メヌエット\",\"メロディ6\",キー割付!G168=\"華麗なる大円舞曲\",\"メロディ7\",キー割付!G168=\"ハンガリア舞曲第5番\",\"メロディ8\",TRUE,\"トーン1\"))","v":"トーン1"},{"$f":"IF(E31=\"ZX-DECLDIV-IPコードレス電話機\",\"トーン1\",_xlfn.IFS(キー割付!H168=\"着信音なし\",\"トーン1\",キー割付!H168=\"トーン1\",\"トーン1\",キー割付!H168=\"トーン2\",\"トーン2\",キー割付!H168=\"トーン3\",\"トーン3\",キー割付!H168=\"トーン4\",\"トーン4\",キー割付!H168=\"トーン5\",\"トーン5\",キー割付!H168=\"トーン6\",\"トーン6\",キー割付!H168=\"トーン7\",\"トーン7\",キー割付!H168=\"トーン7\",\"トーン7\",キー割付!H168=\"無鳴動着信\",\"トーン8\",キー割付!H168=\"グリーンスリーブス\",\"メロディ1\",キー割付!H168=\"峠の我が家\",\"メロディ2\",キー割付!H168=\"カノン\",\"メロディ3\",キー割付!H168=\"春の歌\",\"メロディ4\",キー割付!H168=\"主よ人の望みの喜びよ\",\"メロディ5\",キー割付!H168=\"メヌエット\",\"メロディ6\",キー割付!H168=\"華麗なる大円舞曲\",\"メロディ7\",キー割付!H168=\"ハンガリア舞曲第5番\",\"メロディ8\",TRUE,\"トーン1\"))","v":"トーン1"},{"$f":"IF(E31=\"ZX-DECLDIV-IPコードレス電話機\",\"トーン1\",_xlfn.IFS(キー割付!I168=\"着信音なし\",\"トーン1\",キー割付!I168=\"トーン1\",\"トーン1\",キー割付!I168=\"トーン2\",\"トーン2\",キー割付!I168=\"トーン3\",\"トーン3\",キー割付!I168=\"トーン4\",\"トーン4\",キー割付!I168=\"トーン5\",\"トーン5\",キー割付!I168=\"トーン6\",\"トーン6\",キー割付!I168=\"トーン7\",\"トーン7\",キー割付!I168=\"トーン7\",\"トーン7\",キー割付!I168=\"無鳴動着信\",\"トーン8\",キー割付!I168=\"グリーンスリーブス\",\"メロディ1\",キー割付!I168=\"峠の我が家\",\"メロディ2\",キー割付!I168=\"カノン\",\"メロディ3\",キー割付!I168=\"春の歌\",\"メロディ4\",キー割付!I168=\"主よ人の望みの喜びよ\",\"メロディ5\",キー割付!I168=\"メヌエット\",\"メロディ6\",キー割付!I168=\"華麗なる大円舞曲\",\"メロディ7\",キー割付!I168=\"ハンガリア舞曲第5番\",\"メロディ8\",TRUE,\"トーン1\"))","v":"トーン1"},{"$f":"IF(E31=\"ZX-DECLDIV-IPコードレス電話機\",\"トーン1\",_xlfn.IFS(キー割付!N186=\"着信音なし\",\"トーン1\",キー割付!N186=\"トーン1\",\"トーン1\",キー割付!N186=\"トーン2\",\"トーン2\",キー割付!N186=\"トーン3\",\"トーン3\",キー割付!N186=\"トーン4\",\"トーン4\",キー割付!N186=\"トーン5\",\"トーン5\",キー割付!N186=\"トーン6\",\"トーン6\",キー割付!N186=\"トーン7\",\"トーン7\",キー割付!N186=\"トーン7\",\"トーン7\",キー割付!N186=\"無鳴動着信\",\"トーン8\",キー割付!N186=\"グリーンスリーブス\",\"メロディ1\",キー割付!N186=\"峠の我が家\",\"メロディ2\",キー割付!N186=\"カノン\",\"メロディ3\",キー割付!N186=\"春の歌\",\"メロディ4\",キー割付!N186=\"主よ人の望みの喜びよ\",\"メロディ5\",キー割付!N186=\"メヌエット\",\"メロディ6\",キー割付!N186=\"華麗なる大円舞曲\",\"メロディ7\",キー割付!N186=\"ハンガリア舞曲第5番\",\"メロディ8\",TRUE,\"トーン1\"))","v":"トーン1"},{"$f":"IF(E31=\"ZX-DECLDIV-IPコードレス電話機\",\"トーン1\",_xlfn.IFS(キー割付!E186=\"着信音なし\",\"トーン1\",キー割付!E186=\"トーン1\",\"トーン1\",キー割付!E186=\"トーン2\",\"トーン2\",キー割付!E186=\"トーン3\",\"トーン3\",キー割付!E186=\"トーン4\",\"トーン4\",キー割付!E186=\"トーン5\",\"トーン5\",キー割付!E186=\"トーン6\",\"トーン6\",キー割付!E186=\"トーン7\",\"トーン7\",キー割付!E186=\"トーン7\",\"トーン7\",キー割付!E186=\"無鳴動着信\",\"トーン8\",キー割付!E186=\"グリーンスリーブス\",\"メロディ1\",キー割付!E186=\"峠の我が家\",\"メロディ2\",キー割付!E186=\"カノン\",\"メロディ3\",キー割付!E186=\"春の歌\",\"メロディ4\",キー割付!E186=\"主よ人の望みの喜びよ\",\"メロディ5\",キー割付!E186=\"メヌエット\",\"メロディ6\",キー割付!E186=\"華麗なる大円舞曲\",\"メロディ7\",キー割付!E186=\"ハンガリア舞曲第5番\",\"メロディ8\",TRUE,\"トーン1\"))","v":"トーン1"},{"$f":"IF(E31=\"ZX-DECLDIV-IPコードレス電話機\",\"トーン1\",_xlfn.IFS(キー割付!F186=\"着信音なし\",\"トーン1\",キー割付!F186=\"トーン1\",\"トーン1\",キー割付!F186=\"トーン2\",\"トーン2\",キー割付!F186=\"トーン3\",\"トーン3\",キー割付!F186=\"トーン4\",\"トーン4\",キー割付!F186=\"トーン5\",\"トーン5\",キー割付!F186=\"トーン6\",\"トーン6\",キー割付!F186=\"トーン7\",\"トーン7\",キー割付!F186=\"トーン7\",\"トーン7\",キー割付!F186=\"無鳴動着信\",\"トーン8\",キー割付!F186=\"グリーンスリーブス\",\"メロディ1\",キー割付!F186=\"峠の我が家\",\"メロディ2\",キー割付!F186=\"カノン\",\"メロディ3\",キー割付!F186=\"春の歌\",\"メロディ4\",キー割付!F186=\"主よ人の望みの喜びよ\",\"メロディ5\",キー割付!F186=\"メヌエット\",\"メロディ6\",キー割付!F186=\"華麗なる大円舞曲\",\"メロディ7\",キー割付!F186=\"ハンガリア舞曲第5番\",\"メロディ8\",TRUE,\"トーン1\"))","v":"トーン1"},{"$f":"IF(E31=\"ZX-DECLDIV-IPコードレス電話機\",\"トーン1\",_xlfn.IFS(キー割付!G186=\"着信音なし\",\"トーン1\",キー割付!G186=\"トーン1\",\"トーン1\",キー割付!G186=\"トーン2\",\"トーン2\",キー割付!G186=\"トーン3\",\"トーン3\",キー割付!G186=\"トーン4\",\"トーン4\",キー割付!G186=\"トーン5\",\"トーン5\",キー割付!G186=\"トーン6\",\"トーン6\",キー割付!G186=\"トーン7\",\"トーン7\",キー割付!G186=\"トーン7\",\"トーン7\",キー割付!G186=\"無鳴動着信\",\"トーン8\",キー割付!G186=\"グリーンスリーブス\",\"メロディ1\",キー割付!G186=\"峠の我が家\",\"メロディ2\",キー割付!G186=\"カノン\",\"メロディ3\",キー割付!G186=\"春の歌\",\"メロディ4\",キー割付!G186=\"主よ人の望みの喜びよ\",\"メロディ5\",キー割付!G186=\"メヌエット\",\"メロディ6\",キー割付!G186=\"華麗なる大円舞曲\",\"メロディ7\",キー割付!G186=\"ハンガリア舞曲第5番\",\"メロディ8\",TRUE,\"トーン1\"))","v":"トーン1"},{"$f":"IF(E31=\"ZX-DECLDIV-IPコードレス電話機\",\"トーン1\",_xlfn.IFS(キー割付!H186=\"着信音なし\",\"トーン1\",キー割付!H186=\"トーン1\",\"トーン1\",キー割付!H186=\"トーン2\",\"トーン2\",キー割付!H186=\"トーン3\",\"トーン3\",キー割付!H186=\"トーン4\",\"トーン4\",キー割付!H186=\"トーン5\",\"トーン5\",キー割付!H186=\"トーン6\",\"トーン6\",キー割付!H186=\"トーン7\",\"トーン7\",キー割付!H186=\"トーン7\",\"トーン7\",キー割付!H186=\"無鳴動着信\",\"トーン8\",キー割付!H186=\"グリーンスリーブス\",\"メロディ1\",キー割付!H186=\"峠の我が家\",\"メロディ2\",キー割付!H186=\"カノン\",\"メロディ3\",キー割付!H186=\"春の歌\",\"メロディ4\",キー割付!H186=\"主よ人の望みの喜びよ\",\"メロディ5\",キー割付!H186=\"メヌエット\",\"メロディ6\",キー割付!H186=\"華麗なる大円舞曲\",\"メロディ7\",キー割付!H186=\"ハンガリア舞曲第5番\",\"メロディ8\",TRUE,\"トーン1\"))","v":"トーン1"},{"$f":"IF(E31=\"ZX-DECLDIV-IPコードレス電話機\",\"トーン1\",_xlfn.IFS(キー割付!I186=\"着信音なし\",\"トーン1\",キー割付!I186=\"トーン1\",\"トーン1\",キー割付!I186=\"トーン2\",\"トーン2\",キー割付!I186=\"トーン3\",\"トーン3\",キー割付!I186=\"トーン4\",\"トーン4\",キー割付!I186=\"トーン5\",\"トーン5\",キー割付!I186=\"トーン6\",\"トーン6\",キー割付!I186=\"トーン7\",\"トーン7\",キー割付!I186=\"トーン7\",\"トーン7\",キー割付!I186=\"無鳴動着信\",\"トーン8\",キー割付!I186=\"グリーンスリーブス\",\"メロディ1\",キー割付!I186=\"峠の我が家\",\"メロディ2\",キー割付!I186=\"カノン\",\"メロディ3\",キー割付!I186=\"春の歌\",\"メロディ4\",キー割付!I186=\"主よ人の望みの喜びよ\",\"メロディ5\",キー割付!I186=\"メヌエット\",\"メロディ6\",キー割付!I186=\"華麗なる大円舞曲\",\"メロディ7\",キー割付!I186=\"ハンガリア舞曲第5番\",\"メロディ8\",TRUE,\"トーン1\"))","v":"トーン1"}]
[null,null,null,null,null,{"$f":"_xlfn.IFS(キー割付!D153=\"昼夜休憩\",\"B\",キー割付!D153=\"－－－\",\"-\",キー割付!D153=\"昼－－\",\"H\",キー割付!D153=\"－夜－\",\"N\",キー割付!D153=\"－－休憩\",\"P\",キー割付!D153=\"昼夜－\",\"D\",キー割付!D153=\"昼－休憩\",\"F\",キー割付!D153=\"－夜休憩\",\"K\",TRUE,\"-\")","v":"-"},{"$f":"_xlfn.IFS(キー割付!E153=\"昼夜休憩\",\"B\",キー割付!E153=\"－－－\",\"-\",キー割付!E153=\"昼－－\",\"H\",キー割付!E153=\"－夜－\",\"N\",キー割付!E153=\"－－休憩\",\"P\",キー割付!E153=\"昼夜－\",\"D\",キー割付!E153=\"昼－休憩\",\"F\",キー割付!E153=\"－夜休憩\",\"K\",TRUE,\"-\")","v":"-"},{"$f":"_xlfn.IFS(キー割付!F153=\"昼夜休憩\",\"B\",キー割付!F153=\"－－－\",\"-\",キー割付!F153=\"昼－－\",\"H\",キー割付!F153=\"－夜－\",\"N\",キー割付!F153=\"－－休憩\",\"P\",キー割付!F153=\"昼夜－\",\"D\",キー割付!F153=\"昼－休憩\",\"F\",キー割付!F153=\"－夜休憩\",\"K\",TRUE,\"-\")","v":"-"},{"$f":"_xlfn.IFS(キー割付!G153=\"昼夜休憩\",\"B\",キー割付!G153=\"－－－\",\"-\",キー割付!G153=\"昼－－\",\"H\",キー割付!G153=\"－夜－\",\"N\",キー割付!G153=\"－－休憩\",\"P\",キー割付!G153=\"昼夜－\",\"D\",キー割付!G153=\"昼－休憩\",\"F\",キー割付!G153=\"－夜休憩\",\"K\",TRUE,\"-\")","v":"-"},{"$f":"_xlfn.IFS(キー割付!H153=\"昼夜休憩\",\"B\",キー割付!H153=\"－－－\",\"-\",キー割付!H153=\"昼－－\",\"H\",キー割付!H153=\"－夜－\",\"N\",キー割付!H153=\"－－休憩\",\"P\",キー割付!H153=\"昼夜－\",\"D\",キー割付!H153=\"昼－休憩\",\"F\",キー割付!H153=\"－夜休憩\",\"K\",TRUE,\"-\")","v":"-"},{"$f":"_xlfn.IFS(キー割付!I153=\"昼夜休憩\",\"B\",キー割付!I153=\"－－－\",\"-\",キー割付!I153=\"昼－－\",\"H\",キー割付!I153=\"－夜－\",\"N\",キー割付!I153=\"－－休憩\",\"P\",キー割付!I153=\"昼夜－\",\"D\",キー割付!I153=\"昼－休憩\",\"F\",キー割付!I153=\"－夜休憩\",\"K\",TRUE,\"-\")","v":"-"},{"$f":"_xlfn.IFS(キー割付!D161=\"昼夜休憩\",\"B\",キー割付!D161=\"－－－\",\"-\",キー割付!D161=\"昼－－\",\"H\",キー割付!D161=\"－夜－\",\"N\",キー割付!D161=\"－－休憩\",\"P\",キー割付!D161=\"昼夜－\",\"D\",キー割付!D161=\"昼－休憩\",\"F\",キー割付!D161=\"－夜休憩\",\"K\",TRUE,\"-\")","v":"-"},{"$f":"_xlfn.IFS(キー割付!E161=\"昼夜休憩\",\"B\",キー割付!E161=\"－－－\",\"-\",キー割付!E161=\"昼－－\",\"H\",キー割付!E161=\"－夜－\",\"N\",キー割付!E161=\"－－休憩\",\"P\",キー割付!E161=\"昼夜－\",\"D\",キー割付!E161=\"昼－休憩\",\"F\",キー割付!E161=\"－夜休憩\",\"K\",TRUE,\"-\")","v":"-"},{"$f":"IF(E31=\"ZX-DECLDIV-IPコードレス電話機\",\"-\",_xlfn.IFS(キー割付!F161=\"昼夜休憩\",\"B\",キー割付!F161=\"－－－\",\"-\",キー割付!F161=\"昼－－\",\"H\",キー割付!F161=\"－夜－\",\"N\",キー割付!F161=\"－－休憩\",\"P\",キー割付!F161=\"昼夜－\",\"D\",キー割付!F161=\"昼－休憩\",\"F\",キー割付!F161=\"－夜休憩\",\"K\",TRUE,\"-\"))","v":"-"},{"$f":"IF(E31=\"ZX-DECLDIV-IPコードレス電話機\",\"-\",_xlfn.IFS(キー割付!G161=\"昼夜休憩\",\"B\",キー割付!G161=\"－－－\",\"-\",キー割付!G161=\"昼－－\",\"H\",キー割付!G161=\"－夜－\",\"N\",キー割付!G161=\"－－休憩\",\"P\",キー割付!G161=\"昼夜－\",\"D\",キー割付!G161=\"昼－休憩\",\"F\",キー割付!G161=\"－夜休憩\",\"K\",TRUE,\"-\"))","v":"-"},{"$f":"IF(E31=\"ZX-DECLDIV-IPコードレス電話機\",\"-\",_xlfn.IFS(キー割付!H161=\"昼夜休憩\",\"B\",キー割付!H161=\"－－－\",\"-\",キー割付!H161=\"昼－－\",\"H\",キー割付!H161=\"－夜－\",\"N\",キー割付!H161=\"－－休憩\",\"P\",キー割付!H161=\"昼夜－\",\"D\",キー割付!H161=\"昼－休憩\",\"F\",キー割付!H161=\"－夜休憩\",\"K\",TRUE,\"-\"))","v":"-"},{"$f":"IF(E31=\"ZX-DECLDIV-IPコードレス電話機\",\"-\",_xlfn.IFS(キー割付!I161=\"昼夜休憩\",\"B\",キー割付!I161=\"－－－\",\"-\",キー割付!I161=\"昼－－\",\"H\",キー割付!I161=\"－夜－\",\"N\",キー割付!I161=\"－－休憩\",\"P\",キー割付!I161=\"昼夜－\",\"D\",キー割付!I161=\"昼－休憩\",\"F\",キー割付!I161=\"－夜休憩\",\"K\",TRUE,\"-\"))","v":"-"},{"$f":"IF(E31=\"ZX-DECLDIV-IPコードレス電話機\",\"-\",_xlfn.IFS(キー割付!D169=\"昼夜休憩\",\"B\",キー割付!D169=\"－－－\",\"-\",キー割付!D169=\"昼－－\",\"H\",キー割付!D169=\"－夜－\",\"N\",キー割付!D169=\"－－休憩\",\"P\",キー割付!D169=\"昼夜－\",\"D\",キー割付!D169=\"昼－休憩\",\"F\",キー割付!D169=\"－夜休憩\",\"K\",TRUE,\"-\"))","v":"-"},{"$f":"IF(E31=\"ZX-DECLDIV-IPコードレス電話機\",\"-\",_xlfn.IFS(キー割付!E169=\"昼夜休憩\",\"B\",キー割付!E169=\"－－－\",\"-\",キー割付!E169=\"昼－－\",\"H\",キー割付!E169=\"－夜－\",\"N\",キー割付!E169=\"－－休憩\",\"P\",キー割付!E169=\"昼夜－\",\"D\",キー割付!E169=\"昼－休憩\",\"F\",キー割付!E169=\"－夜休憩\",\"K\",TRUE,\"-\"))","v":"-"},{"$f":"IF(E31=\"ZX-DECLDIV-IPコードレス電話機\",\"-\",_xlfn.IFS(キー割付!F169=\"昼夜休憩\",\"B\",キー割付!F169=\"－－－\",\"-\",キー割付!F169=\"昼－－\",\"H\",キー割付!F169=\"－夜－\",\"N\",キー割付!F169=\"－－休憩\",\"P\",キー割付!F169=\"昼夜－\",\"D\",キー割付!F169=\"昼－休憩\",\"F\",キー割付!F169=\"－夜休憩\",\"K\",TRUE,\"-\"))","v":"-"},{"$f":"IF(E31=\"ZX-DECLDIV-IPコードレス電話機\",\"-\",_xlfn.IFS(キー割付!G169=\"昼夜休憩\",\"B\",キー割付!G169=\"－－－\",\"-\",キー割付!G169=\"昼－－\",\"H\",キー割付!G169=\"－夜－\",\"N\",キー割付!G169=\"－－休憩\",\"P\",キー割付!G169=\"昼夜－\",\"D\",キー割付!G169=\"昼－休憩\",\"F\",キー割付!G169=\"－夜休憩\",\"K\",TRUE,\"-\"))","v":"-"},{"$f":"IF(E31=\"ZX-DECLDIV-IPコードレス電話機\",\"-\",_xlfn.IFS(キー割付!H169=\"昼夜休憩\",\"B\",キー割付!H169=\"－－－\",\"-\",キー割付!H169=\"昼－－\",\"H\",キー割付!H169=\"－夜－\",\"N\",キー割付!H169=\"－－休憩\",\"P\",キー割付!H169=\"昼夜－\",\"D\",キー割付!H169=\"昼－休憩\",\"F\",キー割付!H169=\"－夜休憩\",\"K\",TRUE,\"-\"))","v":"-"},{"$f":"IF(E31=\"ZX-DECLDIV-IPコードレス電話機\",\"-\",_xlfn.IFS(キー割付!I169=\"昼夜休憩\",\"B\",キー割付!I169=\"－－－\",\"-\",キー割付!I169=\"昼－－\",\"H\",キー割付!I169=\"－夜－\",\"N\",キー割付!I169=\"－－休憩\",\"P\",キー割付!I169=\"昼夜－\",\"D\",キー割付!I169=\"昼－休憩\",\"F\",キー割付!I169=\"－夜休憩\",\"K\",TRUE,\"-\"))","v":"-"},{"$f":"IF(E31=\"ZX-DECLDIV-IPコードレス電話機\",\"-\",_xlfn.IFS(キー割付!D177=\"昼夜休憩\",\"B\",キー割付!D177=\"－－－\",\"-\",キー割付!D177=\"昼－－\",\"H\",キー割付!D177=\"－夜－\",\"N\",キー割付!D177=\"－－休憩\",\"P\",キー割付!D177=\"昼夜－\",\"D\",キー割付!D177=\"昼－休憩\",\"F\",キー割付!D177=\"－夜休憩\",\"K\",TRUE,\"-\"))","v":"-"},{"$f":"IF(E31=\"ZX-DECLDIV-IPコードレス電話機\",\"-\",_xlfn.IFS(キー割付!E177=\"昼夜休憩\",\"B\",キー割付!E177=\"－－－\",\"-\",キー割付!E177=\"昼－－\",\"H\",キー割付!E177=\"－夜－\",\"N\",キー割付!E177=\"－－休憩\",\"P\",キー割付!E177=\"昼夜－\",\"D\",キー割付!E177=\"昼－休憩\",\"F\",キー割付!E177=\"－夜休憩\",\"K\",TRUE,\"-\"))","v":"-"},{"$f":"IF(E31=\"ZX-DECLDIV-IPコードレス電話機\",\"-\",_xlfn.IFS(キー割付!F177=\"昼夜休憩\",\"B\",キー割付!F177=\"－－－\",\"-\",キー割付!F177=\"昼－－\",\"H\",キー割付!F177=\"－夜－\",\"N\",キー割付!F177=\"－－休憩\",\"P\",キー割付!F177=\"昼夜－\",\"D\",キー割付!F177=\"昼－休憩\",\"F\",キー割付!F177=\"－夜休憩\",\"K\",TRUE,\"-\"))","v":"-"},{"$f":"IF(E31=\"ZX-DECLDIV-IPコードレス電話機\",\"-\",_xlfn.IFS(キー割付!G177=\"昼夜休憩\",\"B\",キー割付!G177=\"－－－\",\"-\",キー割付!G177=\"昼－－\",\"H\",キー割付!G177=\"－夜－\",\"N\",キー割付!G177=\"－－休憩\",\"P\",キー割付!G177=\"昼夜－\",\"D\",キー割付!G177=\"昼－休憩\",\"F\",キー割付!G177=\"－夜休憩\",\"K\",TRUE,\"-\"))","v":"-"},{"$f":"IF(E31=\"ZX-DECLDIV-IPコードレス電話機\",\"-\",_xlfn.IFS(キー割付!H177=\"昼夜休憩\",\"B\",キー割付!H177=\"－－－\",\"-\",キー割付!H177=\"昼－－\",\"H\",キー割付!H177=\"－夜－\",\"N\",キー割付!H177=\"－－休憩\",\"P\",キー割付!H177=\"昼夜－\",\"D\",キー割付!H177=\"昼－休憩\",\"F\",キー割付!H177=\"－夜休憩\",\"K\",TRUE,\"-\"))","v":"-"},{"$f":"IF(E31=\"ZX-DECLDIV-IPコードレス電話機\",\"-\",_xlfn.IFS(キー割付!I177=\"昼夜休憩\",\"B\",キー割付!I177=\"－－－\",\"-\",キー割付!I177=\"昼－－\",\"H\",キー割付!I177=\"－夜－\",\"N\",キー割付!I177=\"－－休憩\",\"P\",キー割付!I177=\"昼夜－\",\"D\",キー割付!I177=\"昼－休憩\",\"F\",キー割付!I177=\"－夜休憩\",\"K\",TRUE,\"-\"))","v":"-"}]
[null,10,{"$f":"IF(IFERROR(VALUE(VLOOKUP(B34,内線_キー割用,2,FALSE)),\"\")=0,\"\",IFERROR(VALUE(VLOOKUP(B34,内線_キー割用,2,FALSE)),\"\"))","v":""},{"$f":"IF(IFERROR(VALUE(VLOOKUP(B34,内線_キー割用,4,FALSE)),\"\")=0,\"\",IFERROR(VALUE(VLOOKUP(B34,内線_キー割用,4,FALSE)),\"\"))","v":""},{"$f":"IF(IFERROR(VLOOKUP(B34,内線_キー割用,3,FALSE),\"\")=0,\"\",IFERROR(VLOOKUP(B34,内線_キー割用,3,FALSE),\"\"))","v":""},{"$f":"IF(キー割付!N151=\"\",\"未使用\",キー割付!N151)","v":"未使用"},{"$f":"IF(キー割付!O151=\"\",\"未使用\",キー割付!O151)","v":"未使用"},{"$f":"IF(キー割付!P151=\"\",\"未使用\",キー割付!P151)","v":"未使用"},{"$f":"IF(キー割付!Q151=\"\",\"未使用\",キー割付!Q151)","v":"未使用"},{"$f":"IF(キー割付!R151=\"\",\"未使用\",キー割付!R151)","v":"未使用"},{"$f":"IF(キー割付!S151=\"\",\"未使用\",キー割付!S151)","v":"未使用"},{"$f":"IF(キー割付!N159=\"\",\"未使用\",キー割付!N159)","v":"未使用"},{"$f":"IF(キー割付!O159=\"\",\"未使用\",キー割付!O159)","v":"未使用"},{"$f":"IF(E34=\"ZX-DECLDIV-IPコードレス電話機\",\"未使用\",IF(キー割付!P159=\"\",\"未使用\",キー割付!P159))","v":"未使用"},{"$f":"IF(E34=\"ZX-DECLDIV-IPコードレス電話機\",\"未使用\",IF(キー割付!Q159=\"\",\"未使用\",キー割付!Q159))","v":"未使用"},{"$f":"IF(E34=\"ZX-DECLDIV-IPコードレス電話機\",\"未使用\",IF(キー割付!R159=\"\",\"未使用\",キー割付!R159))","v":"未使用"},{"$f":"IF(E34=\"ZX-DECLDIV-IPコードレス電話機\",\"未使用\",IF(キー割付!S159=\"\",\"未使用\",キー割付!S159))","v":"未使用"},{"$f":"IF(E34=\"ZX-DECLDIV-IPコードレス電話機\",\"未使用\",IF(キー割付!N167=\"\",\"未使用\",キー割付!N167))","v":"未使用"},{"$f":"IF(E34=\"ZX-DECLDIV-IPコードレス電話機\",\"未使用\",IF(キー割付!O167=\"\",\"未使用\",キー割付!O167))","v":"未使用"},{"$f":"IF(E34=\"ZX-DECLDIV-IPコードレス電話機\",\"未使用\",IF(キー割付!P167=\"\",\"未使用\",キー割付!P167))","v":"未使用"},{"$f":"IF(E34=\"ZX-DECLDIV-IPコードレス電話機\",\"未使用\",IF(キー割付!Q167=\"\",\"未使用\",キー割付!Q167))","v":"未使用"},{"$f":"IF(E34=\"ZX-DECLDIV-IPコードレス電話機\",\"未使用\",IF(キー割付!R167=\"\",\"未使用\",キー割付!R167))","v":"未使用"},{"$f":"IF(E34=\"ZX-DECLDIV-IPコードレス電話機\",\"未使用\",IF(キー割付!S167=\"\",\"未使用\",キー割付!S167))","v":"未使用"},{"$f":"IF(E34=\"ZX-DECLDIV-IPコードレス電話機\",\"未使用\",IF(キー割付!N175=\"\",\"未使用\",キー割付!N175))","v":"未使用"},{"$f":"IF(E34=\"ZX-DECLDIV-IPコードレス電話機\",\"未使用\",IF(キー割付!O175=\"\",\"未使用\",キー割付!O175))","v":"未使用"},{"$f":"IF(E34=\"ZX-DECLDIV-IPコードレス電話機\",\"未使用\",IF(キー割付!P175=\"\",\"未使用\",キー割付!P175))","v":"未使用"},{"$f":"IF(E34=\"ZX-DECLDIV-IPコードレス電話機\",\"未使用\",IF(キー割付!Q175=\"\",\"未使用\",キー割付!Q175))","v":"未使用"},{"$f":"IF(E34=\"ZX-DECLDIV-IPコードレス電話機\",\"未使用\",IF(キー割付!R175=\"\",\"未使用\",キー割付!R175))","v":"未使用"},{"$f":"IF(E34=\"ZX-DECLDIV-IPコードレス電話機\",\"未使用\",IF(キー割付!S175=\"\",\"未使用\",キー割付!S175))","v":"未使用"}]
[null,null,null,null,null,{"$f":"_xlfn.IFS(キー割付!N152=\"着信音なし\",\"トーン1\",キー割付!N152=\"トーン1\",\"トーン1\",キー割付!N152=\"トーン2\",\"トーン2\",キー割付!N152=\"トーン3\",\"トーン3\",キー割付!N152=\"トーン4\",\"トーン4\",キー割付!N152=\"トーン5\",\"トーン5\",キー割付!N152=\"トーン6\",\"トーン6\",キー割付!N152=\"トーン7\",\"トーン7\",キー割付!N152=\"トーン7\",\"トーン7\",キー割付!N152=\"無鳴動着信\",\"トーン8\",キー割付!N152=\"グリーンスリーブス\",\"メロディ1\",キー割付!N152=\"峠の我が家\",\"メロディ2\",キー割付!N152=\"カノン\",\"メロディ3\",キー割付!N152=\"春の歌\",\"メロディ4\",キー割付!N152=\"主よ人の望みの喜びよ\",\"メロディ5\",キー割付!N152=\"メヌエット\",\"メロディ6\",キー割付!N152=\"華麗なる大円舞曲\",\"メロディ7\",キー割付!N152=\"ハンガリア舞曲第5番\",\"メロディ8\",TRUE,\"トーン1\")","v":"トーン1"},{"$f":"_xlfn.IFS(キー割付!O152=\"着信音なし\",\"トーン1\",キー割付!O152=\"トーン1\",\"トーン1\",キー割付!O152=\"トーン2\",\"トーン2\",キー割付!O152=\"トーン3\",\"トーン3\",キー割付!O152=\"トーン4\",\"トーン4\",キー割付!O152=\"トーン5\",\"トーン5\",キー割付!O152=\"トーン6\",\"トーン6\",キー割付!O152=\"トーン7\",\"トーン7\",キー割付!O152=\"トーン7\",\"トーン7\",キー割付!O152=\"無鳴動着信\",\"トーン8\",キー割付!O152=\"グリーンスリーブス\",\"メロディ1\",キー割付!O152=\"峠の我が家\",\"メロディ2\",キー割付!O152=\"カノン\",\"メロディ3\",キー割付!O152=\"春の歌\",\"メロディ4\",キー割付!O152=\"主よ人の望みの喜びよ\",\"メロディ5\",キー割付!O152=\"メヌエット\",\"メロディ6\",キー割付!O152=\"華麗なる大円舞曲\",\"メロディ7\",キー割付!O152=\"ハンガリア舞曲第5番\",\"メロディ8\",TRUE,\"トーン1\")","v":"トーン1"},{"$f":"_xlfn.IFS(キー割付!P152=\"着信音なし\",\"トーン1\",キー割付!P152=\"トーン1\",\"トーン1\",キー割付!P152=\"トーン2\",\"トーン2\",キー割付!P152=\"トーン3\",\"トーン3\",キー割付!P152=\"トーン4\",\"トーン4\",キー割付!P152=\"トーン5\",\"トーン5\",キー割付!P152=\"トーン6\",\"トーン6\",キー割付!P152=\"トーン7\",\"トーン7\",キー割付!P152=\"トーン7\",\"トーン7\",キー割付!P152=\"無鳴動着信\",\"トーン8\",キー割付!P152=\"グリーンスリーブス\",\"メロディ1\",キー割付!P152=\"峠の我が家\",\"メロディ2\",キー割付!P152=\"カノン\",\"メロディ3\",キー割付!P152=\"春の歌\",\"メロディ4\",キー割付!P152=\"主よ人の望みの喜びよ\",\"メロディ5\",キー割付!P152=\"メヌエット\",\"メロディ6\",キー割付!P152=\"華麗なる大円舞曲\",\"メロディ7\",キー割付!P152=\"ハンガリア舞曲第5番\",\"メロディ8\",TRUE,\"トーン1\")","v":"トーン1"},{"$f":"_xlfn.IFS(キー割付!Q152=\"着信音なし\",\"トーン1\",キー割付!Q152=\"トーン1\",\"トーン1\",キー割付!Q152=\"トーン2\",\"トーン2\",キー割付!Q152=\"トーン3\",\"トーン3\",キー割付!Q152=\"トーン4\",\"トーン4\",キー割付!Q152=\"トーン5\",\"トーン5\",キー割付!Q152=\"トーン6\",\"トーン6\",キー割付!Q152=\"トーン7\",\"トーン7\",キー割付!Q152=\"トーン7\",\"トーン7\",キー割付!Q152=\"無鳴動着信\",\"トーン8\",キー割付!Q152=\"グリーンスリーブス\",\"メロディ1\",キー割付!Q152=\"峠の我が家\",\"メロディ2\",キー割付!Q152=\"カノン\",\"メロディ3\",キー割付!Q152=\"春の歌\",\"メロディ4\",キー割付!Q152=\"主よ人の望みの喜びよ\",\"メロディ5\",キー割付!Q152=\"メヌエット\",\"メロディ6\",キー割付!Q152=\"華麗なる大円舞曲\",\"メロディ7\",キー割付!Q152=\"ハンガリア舞曲第5番\",\"メロディ8\",TRUE,\"トーン1\")","v":"トーン1"},{"$f":"_xlfn.IFS(キー割付!R152=\"着信音なし\",\"トーン1\",キー割付!R152=\"トーン1\",\"トーン1\",キー割付!R152=\"トーン2\",\"トーン2\",キー割付!R152=\"トーン3\",\"トーン3\",キー割付!R152=\"トーン4\",\"トーン4\",キー割付!R152=\"トーン5\",\"トーン5\",キー割付!R152=\"トーン6\",\"トーン6\",キー割付!R152=\"トーン7\",\"トーン7\",キー割付!R152=\"トーン7\",\"トーン7\",キー割付!R152=\"無鳴動着信\",\"トーン8\",キー割付!R152=\"グリーンスリーブス\",\"メロディ1\",キー割付!R152=\"峠の我が家\",\"メロディ2\",キー割付!R152=\"カノン\",\"メロディ3\",キー割付!R152=\"春の歌\",\"メロディ4\",キー割付!R152=\"主よ人の望みの喜びよ\",\"メロディ5\",キー割付!R152=\"メヌエット\",\"メロディ6\",キー割付!R152=\"華麗なる大円舞曲\",\"メロディ7\",キー割付!R152=\"ハンガリア舞曲第5番\",\"メロディ8\",TRUE,\"トーン1\")","v":"トーン1"},{"$f":"_xlfn.IFS(キー割付!S152=\"着信音なし\",\"トーン1\",キー割付!S152=\"トーン1\",\"トーン1\",キー割付!S152=\"トーン2\",\"トーン2\",キー割付!S152=\"トーン3\",\"トーン3\",キー割付!S152=\"トーン4\",\"トーン4\",キー割付!S152=\"トーン5\",\"トーン5\",キー割付!S152=\"トーン6\",\"トーン6\",キー割付!S152=\"トーン7\",\"トーン7\",キー割付!S152=\"トーン7\",\"トーン7\",キー割付!S152=\"無鳴動着信\",\"トーン8\",キー割付!S152=\"グリーンスリーブス\",\"メロディ1\",キー割付!S152=\"峠の我が家\",\"メロディ2\",キー割付!S152=\"カノン\",\"メロディ3\",キー割付!S152=\"春の歌\",\"メロディ4\",キー割付!S152=\"主よ人の望みの喜びよ\",\"メロディ5\",キー割付!S152=\"メヌエット\",\"メロディ6\",キー割付!S152=\"華麗なる大円舞曲\",\"メロディ7\",キー割付!S152=\"ハンガリア舞曲第5番\",\"メロディ8\",TRUE,\"トーン1\")","v":"トーン1"},{"$f":"_xlfn.IFS(キー割付!N160=\"着信音なし\",\"トーン1\",キー割付!N160=\"トーン1\",\"トーン1\",キー割付!N160=\"トーン2\",\"トーン2\",キー割付!N160=\"トーン3\",\"トーン3\",キー割付!N160=\"トーン4\",\"トーン4\",キー割付!N160=\"トーン5\",\"トーン5\",キー割付!N160=\"トーン6\",\"トーン6\",キー割付!N160=\"トーン7\",\"トーン7\",キー割付!N160=\"トーン7\",\"トーン7\",キー割付!N160=\"無鳴動着信\",\"トーン8\",キー割付!N160=\"グリーンスリーブス\",\"メロディ1\",キー割付!N160=\"峠の我が家\",\"メロディ2\",キー割付!N160=\"カノン\",\"メロディ3\",キー割付!N160=\"春の歌\",\"メロディ4\",キー割付!N160=\"主よ人の望みの喜びよ\",\"メロディ5\",キー割付!N160=\"メヌエット\",\"メロディ6\",キー割付!N160=\"華麗なる大円舞曲\",\"メロディ7\",キー割付!N160=\"ハンガリア舞曲第5番\",\"メロディ8\",TRUE,\"トーン1\")","v":"トーン1"},{"$f":"_xlfn.IFS(キー割付!O160=\"着信音なし\",\"トーン1\",キー割付!O160=\"トーン1\",\"トーン1\",キー割付!O160=\"トーン2\",\"トーン2\",キー割付!O160=\"トーン3\",\"トーン3\",キー割付!O160=\"トーン4\",\"トーン4\",キー割付!O160=\"トーン5\",\"トーン5\",キー割付!O160=\"トーン6\",\"トーン6\",キー割付!O160=\"トーン7\",\"トーン7\",キー割付!O160=\"トーン7\",\"トーン7\",キー割付!O160=\"無鳴動着信\",\"トーン8\",キー割付!O160=\"グリーンスリーブス\",\"メロディ1\",キー割付!O160=\"峠の我が家\",\"メロディ2\",キー割付!O160=\"カノン\",\"メロディ3\",キー割付!O160=\"春の歌\",\"メロディ4\",キー割付!O160=\"主よ人の望みの喜びよ\",\"メロディ5\",キー割付!O160=\"メヌエット\",\"メロディ6\",キー割付!O160=\"華麗なる大円舞曲\",\"メロディ7\",キー割付!O160=\"ハンガリア舞曲第5番\",\"メロディ8\",TRUE,\"トーン1\")","v":"トーン1"},{"$f":"IF(E34=\"ZX-DECLDIV-IPコードレス電話機\",\"トーン1\",_xlfn.IFS(キー割付!P160=\"着信音なし\",\"トーン1\",キー割付!P160=\"トーン1\",\"トーン1\",キー割付!P160=\"トーン2\",\"トーン2\",キー割付!P160=\"トーン3\",\"トーン3\",キー割付!P160=\"トーン4\",\"トーン4\",キー割付!P160=\"トーン5\",\"トーン5\",キー割付!P160=\"トーン6\",\"トーン6\",キー割付!P160=\"トーン7\",\"トーン7\",キー割付!P160=\"トーン7\",\"トーン7\",キー割付!P160=\"無鳴動着信\",\"トーン8\",キー割付!P160=\"グリーンスリーブス\",\"メロディ1\",キー割付!P160=\"峠の我が家\",\"メロディ2\",キー割付!P160=\"カノン\",\"メロディ3\",キー割付!P160=\"春の歌\",\"メロディ4\",キー割付!P160=\"主よ人の望みの喜びよ\",\"メロディ5\",キー割付!P160=\"メヌエット\",\"メロディ6\",キー割付!P160=\"華麗なる大円舞曲\",\"メロディ7\",キー割付!P160=\"ハンガリア舞曲第5番\",\"メロディ8\",TRUE,\"トーン1\"))","v":"トーン1"},{"$f":"IF(E34=\"ZX-DECLDIV-IPコードレス電話機\",\"トーン1\",_xlfn.IFS(キー割付!Q160=\"着信音なし\",\"トーン1\",キー割付!Q160=\"トーン1\",\"トーン1\",キー割付!Q160=\"トーン2\",\"トーン2\",キー割付!Q160=\"トーン3\",\"トーン3\",キー割付!Q160=\"トーン4\",\"トーン4\",キー割付!Q160=\"トーン5\",\"トーン5\",キー割付!Q160=\"トーン6\",\"トーン6\",キー割付!Q160=\"トーン7\",\"トーン7\",キー割付!Q160=\"トーン7\",\"トーン7\",キー割付!Q160=\"無鳴動着信\",\"トーン8\",キー割付!Q160=\"グリーンスリーブス\",\"メロディ1\",キー割付!Q160=\"峠の我が家\",\"メロディ2\",キー割付!Q160=\"カノン\",\"メロディ3\",キー割付!Q160=\"春の歌\",\"メロディ4\",キー割付!Q160=\"主よ人の望みの喜びよ\",\"メロディ5\",キー割付!Q160=\"メヌエット\",\"メロディ6\",キー割付!Q160=\"華麗なる大円舞曲\",\"メロディ7\",キー割付!Q160=\"ハンガリア舞曲第5番\",\"メロディ8\",TRUE,\"トーン1\"))","v":"トーン1"},{"$f":"IF(E34=\"ZX-DECLDIV-IPコードレス電話機\",\"トーン1\",_xlfn.IFS(キー割付!R160=\"着信音なし\",\"トーン1\",キー割付!R160=\"トーン1\",\"トーン1\",キー割付!R160=\"トーン2\",\"トーン2\",キー割付!R160=\"トーン3\",\"トーン3\",キー割付!R160=\"トーン4\",\"トーン4\",キー割付!R160=\"トーン5\",\"トーン5\",キー割付!R160=\"トーン6\",\"トーン6\",キー割付!R160=\"トーン7\",\"トーン7\",キー割付!R160=\"トーン7\",\"トーン7\",キー割付!R160=\"無鳴動着信\",\"トーン8\",キー割付!R160=\"グリーンスリーブス\",\"メロディ1\",キー割付!R160=\"峠の我が家\",\"メロディ2\",キー割付!R160=\"カノン\",\"メロディ3\",キー割付!R160=\"春の歌\",\"メロディ4\",キー割付!R160=\"主よ人の望みの喜びよ\",\"メロディ5\",キー割付!R160=\"メヌエット\",\"メロディ6\",キー割付!R160=\"華麗なる大円舞曲\",\"メロディ7\",キー割付!R160=\"ハンガリア舞曲第5番\",\"メロディ8\",TRUE,\"トーン1\"))","v":"トーン1"},{"$f":"IF(E34=\"ZX-DECLDIV-IPコードレス電話機\",\"トーン1\",_xlfn.IFS(キー割付!S160=\"着信音なし\",\"トーン1\",キー割付!S160=\"トーン1\",\"トーン1\",キー割付!S160=\"トーン2\",\"トーン2\",キー割付!S160=\"トーン3\",\"トーン3\",キー割付!S160=\"トーン4\",\"トーン4\",キー割付!S160=\"トーン5\",\"トーン5\",キー割付!S160=\"トーン6\",\"トーン6\",キー割付!S160=\"トーン7\",\"トーン7\",キー割付!S160=\"トーン7\",\"トーン7\",キー割付!S160=\"無鳴動着信\",\"トーン8\",キー割付!S160=\"グリーンスリーブス\",\"メロディ1\",キー割付!S160=\"峠の我が家\",\"メロディ2\",キー割付!S160=\"カノン\",\"メロディ3\",キー割付!S160=\"春の歌\",\"メロディ4\",キー割付!S160=\"主よ人の望みの喜びよ\",\"メロディ5\",キー割付!S160=\"メヌエット\",\"メロディ6\",キー割付!S160=\"華麗なる大円舞曲\",\"メロディ7\",キー割付!S160=\"ハンガリア舞曲第5番\",\"メロディ8\",TRUE,\"トーン1\"))","v":"トーン1"},{"$f":"IF(E34=\"ZX-DECLDIV-IPコードレス電話機\",\"トーン1\",_xlfn.IFS(キー割付!N168=\"着信音なし\",\"トーン1\",キー割付!N168=\"トーン1\",\"トーン1\",キー割付!N168=\"トーン2\",\"トーン2\",キー割付!N168=\"トーン3\",\"トーン3\",キー割付!N168=\"トーン4\",\"トーン4\",キー割付!N168=\"トーン5\",\"トーン5\",キー割付!N168=\"トーン6\",\"トーン6\",キー割付!N168=\"トーン7\",\"トーン7\",キー割付!N168=\"トーン7\",\"トーン7\",キー割付!N168=\"無鳴動着信\",\"トーン8\",キー割付!N168=\"グリーンスリーブス\",\"メロディ1\",キー割付!N168=\"峠の我が家\",\"メロディ2\",キー割付!N168=\"カノン\",\"メロディ3\",キー割付!N168=\"春の歌\",\"メロディ4\",キー割付!N168=\"主よ人の望みの喜びよ\",\"メロディ5\",キー割付!N168=\"メヌエット\",\"メロディ6\",キー割付!N168=\"華麗なる大円舞曲\",\"メロディ7\",キー割付!N168=\"ハンガリア舞曲第5番\",\"メロディ8\",TRUE,\"トーン1\"))","v":"トーン1"},{"$f":"IF(E34=\"ZX-DECLDIV-IPコードレス電話機\",\"トーン1\",_xlfn.IFS(キー割付!O168=\"着信音なし\",\"トーン1\",キー割付!O168=\"トーン1\",\"トーン1\",キー割付!O168=\"トーン2\",\"トーン2\",キー割付!O168=\"トーン3\",\"トーン3\",キー割付!O168=\"トーン4\",\"トーン4\",キー割付!O168=\"トーン5\",\"トーン5\",キー割付!O168=\"トーン6\",\"トーン6\",キー割付!O168=\"トーン7\",\"トーン7\",キー割付!O168=\"トーン7\",\"トーン7\",キー割付!O168=\"無鳴動着信\",\"トーン8\",キー割付!O168=\"グリーンスリーブス\",\"メロディ1\",キー割付!O168=\"峠の我が家\",\"メロディ2\",キー割付!O168=\"カノン\",\"メロディ3\",キー割付!O168=\"春の歌\",\"メロディ4\",キー割付!O168=\"主よ人の望みの喜びよ\",\"メロディ5\",キー割付!O168=\"メヌエット\",\"メロディ6\",キー割付!O168=\"華麗なる大円舞曲\",\"メロディ7\",キー割付!O168=\"ハンガリア舞曲第5番\",\"メロディ8\",TRUE,\"トーン1\"))","v":"トーン1"},{"$f":"IF(E34=\"ZX-DECLDIV-IPコードレス電話機\",\"トーン1\",_xlfn.IFS(キー割付!P168=\"着信音なし\",\"トーン1\",キー割付!P168=\"トーン1\",\"トーン1\",キー割付!P168=\"トーン2\",\"トーン2\",キー割付!P168=\"トーン3\",\"トーン3\",キー割付!P168=\"トーン4\",\"トーン4\",キー割付!P168=\"トーン5\",\"トーン5\",キー割付!P168=\"トーン6\",\"トーン6\",キー割付!P168=\"トーン7\",\"トーン7\",キー割付!P168=\"トーン7\",\"トーン7\",キー割付!P168=\"無鳴動着信\",\"トーン8\",キー割付!P168=\"グリーンスリーブス\",\"メロディ1\",キー割付!P168=\"峠の我が家\",\"メロディ2\",キー割付!P168=\"カノン\",\"メロディ3\",キー割付!P168=\"春の歌\",\"メロディ4\",キー割付!P168=\"主よ人の望みの喜びよ\",\"メロディ5\",キー割付!P168=\"メヌエット\",\"メロディ6\",キー割付!P168=\"華麗なる大円舞曲\",\"メロディ7\",キー割付!P168=\"ハンガリア舞曲第5番\",\"メロディ8\",TRUE,\"トーン1\"))","v":"トーン1"},{"$f":"IF(E34=\"ZX-DECLDIV-IPコードレス電話機\",\"トーン1\",_xlfn.IFS(キー割付!Q168=\"着信音なし\",\"トーン1\",キー割付!Q168=\"トーン1\",\"トーン1\",キー割付!Q168=\"トーン2\",\"トーン2\",キー割付!Q168=\"トーン3\",\"トーン3\",キー割付!Q168=\"トーン4\",\"トーン4\",キー割付!Q168=\"トーン5\",\"トーン5\",キー割付!Q168=\"トーン6\",\"トーン6\",キー割付!Q168=\"トーン7\",\"トーン7\",キー割付!Q168=\"トーン7\",\"トーン7\",キー割付!Q168=\"無鳴動着信\",\"トーン8\",キー割付!Q168=\"グリーンスリーブス\",\"メロディ1\",キー割付!Q168=\"峠の我が家\",\"メロディ2\",キー割付!Q168=\"カノン\",\"メロディ3\",キー割付!Q168=\"春の歌\",\"メロディ4\",キー割付!Q168=\"主よ人の望みの喜びよ\",\"メロディ5\",キー割付!Q168=\"メヌエット\",\"メロディ6\",キー割付!Q168=\"華麗なる大円舞曲\",\"メロディ7\",キー割付!Q168=\"ハンガリア舞曲第5番\",\"メロディ8\",TRUE,\"トーン1\"))","v":"トーン1"},{"$f":"IF(E34=\"ZX-DECLDIV-IPコードレス電話機\",\"トーン1\",_xlfn.IFS(キー割付!R168=\"着信音なし\",\"トーン1\",キー割付!R168=\"トーン1\",\"トーン1\",キー割付!R168=\"トーン2\",\"トーン2\",キー割付!R168=\"トーン3\",\"トーン3\",キー割付!R168=\"トーン4\",\"トーン4\",キー割付!R168=\"トーン5\",\"トーン5\",キー割付!R168=\"トーン6\",\"トーン6\",キー割付!R168=\"トーン7\",\"トーン7\",キー割付!R168=\"トーン7\",\"トーン7\",キー割付!R168=\"無鳴動着信\",\"トーン8\",キー割付!R168=\"グリーンスリーブス\",\"メロディ1\",キー割付!R168=\"峠の我が家\",\"メロディ2\",キー割付!R168=\"カノン\",\"メロディ3\",キー割付!R168=\"春の歌\",\"メロディ4\",キー割付!R168=\"主よ人の望みの喜びよ\",\"メロディ5\",キー割付!R168=\"メヌエット\",\"メロディ6\",キー割付!R168=\"華麗なる大円舞曲\",\"メロディ7\",キー割付!R168=\"ハンガリア舞曲第5番\",\"メロディ8\",TRUE,\"トーン1\"))","v":"トーン1"},{"$f":"IF(E34=\"ZX-DECLDIV-IPコードレス電話機\",\"トーン1\",_xlfn.IFS(キー割付!S168=\"着信音なし\",\"トーン1\",キー割付!S168=\"トーン1\",\"トーン1\",キー割付!S168=\"トーン2\",\"トーン2\",キー割付!S168=\"トーン3\",\"トーン3\",キー割付!S168=\"トーン4\",\"トーン4\",キー割付!S168=\"トーン5\",\"トーン5\",キー割付!S168=\"トーン6\",\"トーン6\",キー割付!S168=\"トーン7\",\"トーン7\",キー割付!S168=\"トーン7\",\"トーン7\",キー割付!S168=\"無鳴動着信\",\"トーン8\",キー割付!S168=\"グリーンスリーブス\",\"メロディ1\",キー割付!S168=\"峠の我が家\",\"メロディ2\",キー割付!S168=\"カノン\",\"メロディ3\",キー割付!S168=\"春の歌\",\"メロディ4\",キー割付!S168=\"主よ人の望みの喜びよ\",\"メロディ5\",キー割付!S168=\"メヌエット\",\"メロディ6\",キー割付!S168=\"華麗なる大円舞曲\",\"メロディ7\",キー割付!S168=\"ハンガリア舞曲第5番\",\"メロディ8\",TRUE,\"トーン1\"))","v":"トーン1"},{"$f":"IF(E34=\"ZX-DECLDIV-IPコードレス電話機\",\"トーン1\",_xlfn.IFS(キー割付!N186=\"着信音なし\",\"トーン1\",キー割付!N186=\"トーン1\",\"トーン1\",キー割付!N186=\"トーン2\",\"トーン2\",キー割付!N186=\"トーン3\",\"トーン3\",キー割付!N186=\"トーン4\",\"トーン4\",キー割付!N186=\"トーン5\",\"トーン5\",キー割付!N186=\"トーン6\",\"トーン6\",キー割付!N186=\"トーン7\",\"トーン7\",キー割付!N186=\"トーン7\",\"トーン7\",キー割付!N186=\"無鳴動着信\",\"トーン8\",キー割付!N186=\"グリーンスリーブス\",\"メロディ1\",キー割付!N186=\"峠の我が家\",\"メロディ2\",キー割付!N186=\"カノン\",\"メロディ3\",キー割付!N186=\"春の歌\",\"メロディ4\",キー割付!N186=\"主よ人の望みの喜びよ\",\"メロディ5\",キー割付!N186=\"メヌエット\",\"メロディ6\",キー割付!N186=\"華麗なる大円舞曲\",\"メロディ7\",キー割付!N186=\"ハンガリア舞曲第5番\",\"メロディ8\",TRUE,\"トーン1\"))","v":"トーン1"},{"$f":"IF(E34=\"ZX-DECLDIV-IPコードレス電話機\",\"トーン1\",_xlfn.IFS(キー割付!O186=\"着信音なし\",\"トーン1\",キー割付!O186=\"トーン1\",\"トーン1\",キー割付!O186=\"トーン2\",\"トーン2\",キー割付!O186=\"トーン3\",\"トーン3\",キー割付!O186=\"トーン4\",\"トーン4\",キー割付!O186=\"トーン5\",\"トーン5\",キー割付!O186=\"トーン6\",\"トーン6\",キー割付!O186=\"トーン7\",\"トーン7\",キー割付!O186=\"トーン7\",\"トーン7\",キー割付!O186=\"無鳴動着信\",\"トーン8\",キー割付!O186=\"グリーンスリーブス\",\"メロディ1\",キー割付!O186=\"峠の我が家\",\"メロディ2\",キー割付!O186=\"カノン\",\"メロディ3\",キー割付!O186=\"春の歌\",\"メロディ4\",キー割付!O186=\"主よ人の望みの喜びよ\",\"メロディ5\",キー割付!O186=\"メヌエット\",\"メロディ6\",キー割付!O186=\"華麗なる大円舞曲\",\"メロディ7\",キー割付!O186=\"ハンガリア舞曲第5番\",\"メロディ8\",TRUE,\"トーン1\"))","v":"トーン1"},{"$f":"IF(E34=\"ZX-DECLDIV-IPコードレス電話機\",\"トーン1\",_xlfn.IFS(キー割付!P186=\"着信音なし\",\"トーン1\",キー割付!P186=\"トーン1\",\"トーン1\",キー割付!P186=\"トーン2\",\"トーン2\",キー割付!P186=\"トーン3\",\"トーン3\",キー割付!P186=\"トーン4\",\"トーン4\",キー割付!P186=\"トーン5\",\"トーン5\",キー割付!P186=\"トーン6\",\"トーン6\",キー割付!P186=\"トーン7\",\"トーン7\",キー割付!P186=\"トーン7\",\"トーン7\",キー割付!P186=\"無鳴動着信\",\"トーン8\",キー割付!P186=\"グリーンスリーブス\",\"メロディ1\",キー割付!P186=\"峠の我が家\",\"メロディ2\",キー割付!P186=\"カノン\",\"メロディ3\",キー割付!P186=\"春の歌\",\"メロディ4\",キー割付!P186=\"主よ人の望みの喜びよ\",\"メロディ5\",キー割付!P186=\"メヌエット\",\"メロディ6\",キー割付!P186=\"華麗なる大円舞曲\",\"メロディ7\",キー割付!P186=\"ハンガリア舞曲第5番\",\"メロディ8\",TRUE,\"トーン1\"))","v":"トーン1"},{"$f":"IF(E34=\"ZX-DECLDIV-IPコードレス電話機\",\"トーン1\",_xlfn.IFS(キー割付!Q186=\"着信音なし\",\"トーン1\",キー割付!Q186=\"トーン1\",\"トーン1\",キー割付!Q186=\"トーン2\",\"トーン2\",キー割付!Q186=\"トーン3\",\"トーン3\",キー割付!Q186=\"トーン4\",\"トーン4\",キー割付!Q186=\"トーン5\",\"トーン5\",キー割付!Q186=\"トーン6\",\"トーン6\",キー割付!Q186=\"トーン7\",\"トーン7\",キー割付!Q186=\"トーン7\",\"トーン7\",キー割付!Q186=\"無鳴動着信\",\"トーン8\",キー割付!Q186=\"グリーンスリーブス\",\"メロディ1\",キー割付!Q186=\"峠の我が家\",\"メロディ2\",キー割付!Q186=\"カノン\",\"メロディ3\",キー割付!Q186=\"春の歌\",\"メロディ4\",キー割付!Q186=\"主よ人の望みの喜びよ\",\"メロディ5\",キー割付!Q186=\"メヌエット\",\"メロディ6\",キー割付!Q186=\"華麗なる大円舞曲\",\"メロディ7\",キー割付!Q186=\"ハンガリア舞曲第5番\",\"メロディ8\",TRUE,\"トーン1\"))","v":"トーン1"},{"$f":"IF(E34=\"ZX-DECLDIV-IPコードレス電話機\",\"トーン1\",_xlfn.IFS(キー割付!R186=\"着信音なし\",\"トーン1\",キー割付!R186=\"トーン1\",\"トーン1\",キー割付!R186=\"トーン2\",\"トーン2\",キー割付!R186=\"トーン3\",\"トーン3\",キー割付!R186=\"トーン4\",\"トーン4\",キー割付!R186=\"トーン5\",\"トーン5\",キー割付!R186=\"トーン6\",\"トーン6\",キー割付!R186=\"トーン7\",\"トーン7\",キー割付!R186=\"トーン7\",\"トーン7\",キー割付!R186=\"無鳴動着信\",\"トーン8\",キー割付!R186=\"グリーンスリーブス\",\"メロディ1\",キー割付!R186=\"峠の我が家\",\"メロディ2\",キー割付!R186=\"カノン\",\"メロディ3\",キー割付!R186=\"春の歌\",\"メロディ4\",キー割付!R186=\"主よ人の望みの喜びよ\",\"メロディ5\",キー割付!R186=\"メヌエット\",\"メロディ6\",キー割付!R186=\"華麗なる大円舞曲\",\"メロディ7\",キー割付!R186=\"ハンガリア舞曲第5番\",\"メロディ8\",TRUE,\"トーン1\"))","v":"トーン1"},{"$f":"IF(E34=\"ZX-DECLDIV-IPコードレス電話機\",\"トーン1\",_xlfn.IFS(キー割付!S186=\"着信音なし\",\"トーン1\",キー割付!S186=\"トーン1\",\"トーン1\",キー割付!S186=\"トーン2\",\"トーン2\",キー割付!S186=\"トーン3\",\"トーン3\",キー割付!S186=\"トーン4\",\"トーン4\",キー割付!S186=\"トーン5\",\"トーン5\",キー割付!S186=\"トーン6\",\"トーン6\",キー割付!S186=\"トーン7\",\"トーン7\",キー割付!S186=\"トーン7\",\"トーン7\",キー割付!S186=\"無鳴動着信\",\"トーン8\",キー割付!S186=\"グリーンスリーブス\",\"メロディ1\",キー割付!S186=\"峠の我が家\",\"メロディ2\",キー割付!S186=\"カノン\",\"メロディ3\",キー割付!S186=\"春の歌\",\"メロディ4\",キー割付!S186=\"主よ人の望みの喜びよ\",\"メロディ5\",キー割付!S186=\"メヌエット\",\"メロディ6\",キー割付!S186=\"華麗なる大円舞曲\",\"メロディ7\",キー割付!S186=\"ハンガリア舞曲第5番\",\"メロディ8\",TRUE,\"トーン1\"))","v":"トーン1"}]
[null,null,null,null,null,{"$f":"_xlfn.IFS(キー割付!N153=\"昼夜休憩\",\"B\",キー割付!N153=\"－－－\",\"-\",キー割付!N153=\"昼－－\",\"H\",キー割付!N153=\"－夜－\",\"N\",キー割付!N153=\"－－休憩\",\"P\",キー割付!N153=\"昼夜－\",\"N\",キー割付!N153=\"昼－休憩\",\"F\",キー割付!N153=\"－夜休憩\",\"K\",TRUE,\"-\")","v":"-"},{"$f":"_xlfn.IFS(キー割付!O153=\"昼夜休憩\",\"B\",キー割付!O153=\"－－－\",\"-\",キー割付!O153=\"昼－－\",\"H\",キー割付!O153=\"－夜－\",\"N\",キー割付!O153=\"－－休憩\",\"P\",キー割付!O153=\"昼夜－\",\"N\",キー割付!O153=\"昼－休憩\",\"F\",キー割付!O153=\"－夜休憩\",\"K\",TRUE,\"-\")","v":"-"},{"$f":"_xlfn.IFS(キー割付!P153=\"昼夜休憩\",\"B\",キー割付!P153=\"－－－\",\"-\",キー割付!P153=\"昼－－\",\"H\",キー割付!P153=\"－夜－\",\"N\",キー割付!P153=\"－－休憩\",\"P\",キー割付!P153=\"昼夜－\",\"N\",キー割付!P153=\"昼－休憩\",\"F\",キー割付!P153=\"－夜休憩\",\"K\",TRUE,\"-\")","v":"-"},{"$f":"_xlfn.IFS(キー割付!Q153=\"昼夜休憩\",\"B\",キー割付!Q153=\"－－－\",\"-\",キー割付!Q153=\"昼－－\",\"H\",キー割付!Q153=\"－夜－\",\"N\",キー割付!Q153=\"－－休憩\",\"P\",キー割付!Q153=\"昼夜－\",\"N\",キー割付!Q153=\"昼－休憩\",\"F\",キー割付!Q153=\"－夜休憩\",\"K\",TRUE,\"-\")","v":"-"},{"$f":"_xlfn.IFS(キー割付!R153=\"昼夜休憩\",\"B\",キー割付!R153=\"－－－\",\"-\",キー割付!R153=\"昼－－\",\"H\",キー割付!R153=\"－夜－\",\"N\",キー割付!R153=\"－－休憩\",\"P\",キー割付!R153=\"昼夜－\",\"N\",キー割付!R153=\"昼－休憩\",\"F\",キー割付!R153=\"－夜休憩\",\"K\",TRUE,\"-\")","v":"-"},{"$f":"_xlfn.IFS(キー割付!S153=\"昼夜休憩\",\"B\",キー割付!S153=\"－－－\",\"-\",キー割付!S153=\"昼－－\",\"H\",キー割付!S153=\"－夜－\",\"N\",キー割付!S153=\"－－休憩\",\"P\",キー割付!S153=\"昼夜－\",\"N\",キー割付!S153=\"昼－休憩\",\"F\",キー割付!S153=\"－夜休憩\",\"K\",TRUE,\"-\")","v":"-"},{"$f":"_xlfn.IFS(キー割付!N161=\"昼夜休憩\",\"B\",キー割付!N161=\"－－－\",\"-\",キー割付!N161=\"昼－－\",\"H\",キー割付!N161=\"－夜－\",\"N\",キー割付!N161=\"－－休憩\",\"P\",キー割付!N161=\"昼夜－\",\"N\",キー割付!N161=\"昼－休憩\",\"F\",キー割付!N161=\"－夜休憩\",\"K\",TRUE,\"-\")","v":"-"},{"$f":"_xlfn.IFS(キー割付!O161=\"昼夜休憩\",\"B\",キー割付!O161=\"－－－\",\"-\",キー割付!O161=\"昼－－\",\"H\",キー割付!O161=\"－夜－\",\"N\",キー割付!O161=\"－－休憩\",\"P\",キー割付!O161=\"昼夜－\",\"N\",キー割付!O161=\"昼－休憩\",\"F\",キー割付!O161=\"－夜休憩\",\"K\",TRUE,\"-\")","v":"-"},{"$f":"IF(E34=\"ZX-DECLDIV-IPコードレス電話機\",\"-\",_xlfn.IFS(キー割付!P161=\"昼夜休憩\",\"B\",キー割付!P161=\"－－－\",\"-\",キー割付!P161=\"昼－－\",\"H\",キー割付!P161=\"－夜－\",\"N\",キー割付!P161=\"－－休憩\",\"P\",キー割付!P161=\"昼夜－\",\"N\",キー割付!P161=\"昼－休憩\",\"F\",キー割付!P161=\"－夜休憩\",\"K\",TRUE,\"-\"))","v":"-"},{"$f":"IF(E34=\"ZX-DECLDIV-IPコードレス電話機\",\"-\",_xlfn.IFS(キー割付!Q161=\"昼夜休憩\",\"B\",キー割付!Q161=\"－－－\",\"-\",キー割付!Q161=\"昼－－\",\"H\",キー割付!Q161=\"－夜－\",\"N\",キー割付!Q161=\"－－休憩\",\"P\",キー割付!Q161=\"昼夜－\",\"N\",キー割付!Q161=\"昼－休憩\",\"F\",キー割付!Q161=\"－夜休憩\",\"K\",TRUE,\"-\"))","v":"-"},{"$f":"IF(E34=\"ZX-DECLDIV-IPコードレス電話機\",\"-\",_xlfn.IFS(キー割付!R161=\"昼夜休憩\",\"B\",キー割付!R161=\"－－－\",\"-\",キー割付!R161=\"昼－－\",\"H\",キー割付!R161=\"－夜－\",\"N\",キー割付!R161=\"－－休憩\",\"P\",キー割付!R161=\"昼夜－\",\"N\",キー割付!R161=\"昼－休憩\",\"F\",キー割付!R161=\"－夜休憩\",\"K\",TRUE,\"-\"))","v":"-"},{"$f":"IF(E34=\"ZX-DECLDIV-IPコードレス電話機\",\"-\",_xlfn.IFS(キー割付!S161=\"昼夜休憩\",\"B\",キー割付!S161=\"－－－\",\"-\",キー割付!S161=\"昼－－\",\"H\",キー割付!S161=\"－夜－\",\"N\",キー割付!S161=\"－－休憩\",\"P\",キー割付!S161=\"昼夜－\",\"N\",キー割付!S161=\"昼－休憩\",\"F\",キー割付!S161=\"－夜休憩\",\"K\",TRUE,\"-\"))","v":"-"},{"$f":"IF(E34=\"ZX-DECLDIV-IPコードレス電話機\",\"-\",_xlfn.IFS(キー割付!N169=\"昼夜休憩\",\"B\",キー割付!N169=\"－－－\",\"-\",キー割付!N169=\"昼－－\",\"H\",キー割付!N169=\"－夜－\",\"N\",キー割付!N169=\"－－休憩\",\"P\",キー割付!N169=\"昼夜－\",\"N\",キー割付!N169=\"昼－休憩\",\"F\",キー割付!N169=\"－夜休憩\",\"K\",TRUE,\"-\"))","v":"-"},{"$f":"IF(E34=\"ZX-DECLDIV-IPコードレス電話機\",\"-\",_xlfn.IFS(キー割付!O169=\"昼夜休憩\",\"B\",キー割付!O169=\"－－－\",\"-\",キー割付!O169=\"昼－－\",\"H\",キー割付!O169=\"－夜－\",\"N\",キー割付!O169=\"－－休憩\",\"P\",キー割付!O169=\"昼夜－\",\"N\",キー割付!O169=\"昼－休憩\",\"F\",キー割付!O169=\"－夜休憩\",\"K\",TRUE,\"-\"))","v":"-"},{"$f":"IF(E34=\"ZX-DECLDIV-IPコードレス電話機\",\"-\",_xlfn.IFS(キー割付!P169=\"昼夜休憩\",\"B\",キー割付!P169=\"－－－\",\"-\",キー割付!P169=\"昼－－\",\"H\",キー割付!P169=\"－夜－\",\"N\",キー割付!P169=\"－－休憩\",\"P\",キー割付!P169=\"昼夜－\",\"N\",キー割付!P169=\"昼－休憩\",\"F\",キー割付!P169=\"－夜休憩\",\"K\",TRUE,\"-\"))","v":"-"},{"$f":"IF(E34=\"ZX-DECLDIV-IPコードレス電話機\",\"-\",_xlfn.IFS(キー割付!Q169=\"昼夜休憩\",\"B\",キー割付!Q169=\"－－－\",\"-\",キー割付!Q169=\"昼－－\",\"H\",キー割付!Q169=\"－夜－\",\"N\",キー割付!Q169=\"－－休憩\",\"P\",キー割付!Q169=\"昼夜－\",\"N\",キー割付!Q169=\"昼－休憩\",\"F\",キー割付!Q169=\"－夜休憩\",\"K\",TRUE,\"-\"))","v":"-"},{"$f":"IF(E34=\"ZX-DECLDIV-IPコードレス電話機\",\"-\",_xlfn.IFS(キー割付!R169=\"昼夜休憩\",\"B\",キー割付!R169=\"－－－\",\"-\",キー割付!R169=\"昼－－\",\"H\",キー割付!R169=\"－夜－\",\"N\",キー割付!R169=\"－－休憩\",\"P\",キー割付!R169=\"昼夜－\",\"N\",キー割付!R169=\"昼－休憩\",\"F\",キー割付!R169=\"－夜休憩\",\"K\",TRUE,\"-\"))","v":"-"},{"$f":"IF(E34=\"ZX-DECLDIV-IPコードレス電話機\",\"-\",_xlfn.IFS(キー割付!S169=\"昼夜休憩\",\"B\",キー割付!S169=\"－－－\",\"-\",キー割付!S169=\"昼－－\",\"H\",キー割付!S169=\"－夜－\",\"N\",キー割付!S169=\"－－休憩\",\"P\",キー割付!S169=\"昼夜－\",\"N\",キー割付!S169=\"昼－休憩\",\"F\",キー割付!S169=\"－夜休憩\",\"K\",TRUE,\"-\"))","v":"-"},{"$f":"IF(E34=\"ZX-DECLDIV-IPコードレス電話機\",\"-\",_xlfn.IFS(キー割付!N177=\"昼夜休憩\",\"B\",キー割付!N177=\"－－－\",\"-\",キー割付!N177=\"昼－－\",\"H\",キー割付!N177=\"－夜－\",\"N\",キー割付!N177=\"－－休憩\",\"P\",キー割付!N177=\"昼夜－\",\"N\",キー割付!N177=\"昼－休憩\",\"F\",キー割付!N177=\"－夜休憩\",\"K\",TRUE,\"-\"))","v":"-"},{"$f":"IF(E34=\"ZX-DECLDIV-IPコードレス電話機\",\"-\",_xlfn.IFS(キー割付!O177=\"昼夜休憩\",\"B\",キー割付!O177=\"－－－\",\"-\",キー割付!O177=\"昼－－\",\"H\",キー割付!O177=\"－夜－\",\"N\",キー割付!O177=\"－－休憩\",\"P\",キー割付!O177=\"昼夜－\",\"N\",キー割付!O177=\"昼－休憩\",\"F\",キー割付!O177=\"－夜休憩\",\"K\",TRUE,\"-\"))","v":"-"},{"$f":"IF(E34=\"ZX-DECLDIV-IPコードレス電話機\",\"-\",_xlfn.IFS(キー割付!P177=\"昼夜休憩\",\"B\",キー割付!P177=\"－－－\",\"-\",キー割付!P177=\"昼－－\",\"H\",キー割付!P177=\"－夜－\",\"N\",キー割付!P177=\"－－休憩\",\"P\",キー割付!P177=\"昼夜－\",\"N\",キー割付!P177=\"昼－休憩\",\"F\",キー割付!P177=\"－夜休憩\",\"K\",TRUE,\"-\"))","v":"-"},{"$f":"IF(E34=\"ZX-DECLDIV-IPコードレス電話機\",\"-\",_xlfn.IFS(キー割付!Q177=\"昼夜休憩\",\"B\",キー割付!Q177=\"－－－\",\"-\",キー割付!Q177=\"昼－－\",\"H\",キー割付!Q177=\"－夜－\",\"N\",キー割付!Q177=\"－－休憩\",\"P\",キー割付!Q177=\"昼夜－\",\"N\",キー割付!Q177=\"昼－休憩\",\"F\",キー割付!Q177=\"－夜休憩\",\"K\",TRUE,\"-\"))","v":"-"},{"$f":"IF(E34=\"ZX-DECLDIV-IPコードレス電話機\",\"-\",_xlfn.IFS(キー割付!R177=\"昼夜休憩\",\"B\",キー割付!R177=\"－－－\",\"-\",キー割付!R177=\"昼－－\",\"H\",キー割付!R177=\"－夜－\",\"N\",キー割付!R177=\"－－休憩\",\"P\",キー割付!R177=\"昼夜－\",\"N\",キー割付!R177=\"昼－休憩\",\"F\",キー割付!R177=\"－夜休憩\",\"K\",TRUE,\"-\"))","v":"-"},{"$f":"IF(E34=\"ZX-DECLDIV-IPコードレス電話機\",\"-\",_xlfn.IFS(キー割付!S177=\"昼夜休憩\",\"B\",キー割付!S177=\"－－－\",\"-\",キー割付!S177=\"昼－－\",\"H\",キー割付!S177=\"－夜－\",\"N\",キー割付!S177=\"－－休憩\",\"P\",キー割付!S177=\"昼夜－\",\"N\",キー割付!S177=\"昼－休憩\",\"F\",キー割付!S177=\"－夜休憩\",\"K\",TRUE,\"-\"))","v":"-"}]
[null,11,{"$f":"IF(IFERROR(VALUE(VLOOKUP(B37,内線_キー割用,2,FALSE)),\"\")=0,\"\",IFERROR(VALUE(VLOOKUP(B37,内線_キー割用,2,FALSE)),\"\"))","v":""},{"$f":"IF(IFERROR(VALUE(VLOOKUP(B37,内線_キー割用,4,FALSE)),\"\")=0,\"\",IFERROR(VALUE(VLOOKUP(B37,内線_キー割用,4,FALSE)),\"\"))","v":""},{"$f":"IF(IFERROR(VLOOKUP(B37,内線_キー割用,3,FALSE),\"\")=0,\"\",IFERROR(VLOOKUP(B37,内線_キー割用,3,FALSE),\"\"))","v":""},{"$f":"IF(キー割付!D187=\"\",\"未使用\",キー割付!D187)","v":"未使用"},{"$f":"IF(キー割付!E187=\"\",\"未使用\",キー割付!E187)","v":"未使用"},{"$f":"IF(キー割付!F187=\"\",\"未使用\",キー割付!F187)","v":"未使用"},{"$f":"IF(キー割付!G187=\"\",\"未使用\",キー割付!G187)","v":"未使用"},{"$f":"IF(キー割付!H187=\"\",\"未使用\",キー割付!H187)","v":"未使用"},{"$f":"IF(キー割付!I187=\"\",\"未使用\",キー割付!I187)","v":"未使用"},{"$f":"IF(キー割付!D195=\"\",\"未使用\",キー割付!D195)","v":"未使用"},{"$f":"IF(キー割付!E195=\"\",\"未使用\",キー割付!E195)","v":"未使用"},{"$f":"IF(E37=\"ZX-DECLDIV-IPコードレス電話機\",\"未使用\",IF(キー割付!F195=\"\",\"未使用\",キー割付!F195))","v":"未使用"},{"$f":"IF(E37=\"ZX-DECLDIV-IPコードレス電話機\",\"未使用\",IF(キー割付!G195=\"\",\"未使用\",キー割付!G195))","v":"未使用"},{"$f":"IF(E37=\"ZX-DECLDIV-IPコードレス電話機\",\"未使用\",IF(キー割付!H195=\"\",\"未使用\",キー割付!H195))","v":"未使用"},{"$f":"IF(E37=\"ZX-DECLDIV-IPコードレス電話機\",\"未使用\",IF(キー割付!I195=\"\",\"未使用\",キー割付!I195))","v":"未使用"},{"$f":"IF(E37=\"ZX-DECLDIV-IPコードレス電話機\",\"未使用\",IF(キー割付!D203=\"\",\"未使用\",キー割付!D203))","v":"未使用"},{"$f":"IF(E37=\"ZX-DECLDIV-IPコードレス電話機\",\"未使用\",IF(キー割付!E203=\"\",\"未使用\",キー割付!E203))","v":"未使用"},{"$f":"IF(E37=\"ZX-DECLDIV-IPコードレス電話機\",\"未使用\",IF(キー割付!F203=\"\",\"未使用\",キー割付!F203))","v":"未使用"},{"$f":"IF(E37=\"ZX-DECLDIV-IPコードレス電話機\",\"未使用\",IF(キー割付!G203=\"\",\"未使用\",キー割付!G203))","v":"未使用"},{"$f":"IF(E37=\"ZX-DECLDIV-IPコードレス電話機\",\"未使用\",IF(キー割付!H203=\"\",\"未使用\",キー割付!H203))","v":"未使用"},{"$f":"IF(E37=\"ZX-DECLDIV-IPコードレス電話機\",\"未使用\",IF(キー割付!I203=\"\",\"未使用\",キー割付!I203))","v":"未使用"},{"$f":"IF(E37=\"ZX-DECLDIV-IPコードレス電話機\",\"未使用\",IF(キー割付!D211=\"\",\"未使用\",キー割付!D211))","v":"未使用"},{"$f":"IF(E37=\"ZX-DECLDIV-IPコードレス電話機\",\"未使用\",IF(キー割付!E211=\"\",\"未使用\",キー割付!E211))","v":"未使用"},{"$f":"IF(E37=\"ZX-DECLDIV-IPコードレス電話機\",\"未使用\",IF(キー割付!F211=\"\",\"未使用\",キー割付!F211))","v":"未使用"},{"$f":"IF(E37=\"ZX-DECLDIV-IPコードレス電話機\",\"未使用\",IF(キー割付!G211=\"\",\"未使用\",キー割付!G211))","v":"未使用"},{"$f":"IF(E37=\"ZX-DECLDIV-IPコードレス電話機\",\"未使用\",IF(キー割付!H211=\"\",\"未使用\",キー割付!H211))","v":"未使用"},{"$f":"IF(E37=\"ZX-DECLDIV-IPコードレス電話機\",\"未使用\",IF(キー割付!I211=\"\",\"未使用\",キー割付!I211))","v":"未使用"}]
[null,null,null,null,null,{"$f":"_xlfn.IFS(キー割付!D188=\"着信音なし\",\"トーン1\",キー割付!D188=\"トーン1\",\"トーン1\",キー割付!D188=\"トーン2\",\"トーン2\",キー割付!D188=\"トーン3\",\"トーン3\",キー割付!D188=\"トーン4\",\"トーン4\",キー割付!D188=\"トーン5\",\"トーン5\",キー割付!D188=\"トーン6\",\"トーン6\",キー割付!D188=\"トーン7\",\"トーン7\",キー割付!D188=\"トーン7\",\"トーン7\",キー割付!D188=\"無鳴動着信\",\"トーン8\",キー割付!D188=\"グリーンスリーブス\",\"メロディ1\",キー割付!D188=\"峠の我が家\",\"メロディ2\",キー割付!D188=\"カノン\",\"メロディ3\",キー割付!D188=\"春の歌\",\"メロディ4\",キー割付!D188=\"主よ人の望みの喜びよ\",\"メロディ5\",キー割付!D188=\"メヌエット\",\"メロディ6\",キー割付!D188=\"華麗なる大円舞曲\",\"メロディ7\",キー割付!D188=\"ハンガリア舞曲第5番\",\"メロディ8\",TRUE,\"トーン1\")","v":"トーン1"},{"$f":"_xlfn.IFS(キー割付!E188=\"着信音なし\",\"トーン1\",キー割付!E188=\"トーン1\",\"トーン1\",キー割付!E188=\"トーン2\",\"トーン2\",キー割付!E188=\"トーン3\",\"トーン3\",キー割付!E188=\"トーン4\",\"トーン4\",キー割付!E188=\"トーン5\",\"トーン5\",キー割付!E188=\"トーン6\",\"トーン6\",キー割付!E188=\"トーン7\",\"トーン7\",キー割付!E188=\"トーン7\",\"トーン7\",キー割付!E188=\"無鳴動着信\",\"トーン8\",キー割付!E188=\"グリーンスリーブス\",\"メロディ1\",キー割付!E188=\"峠の我が家\",\"メロディ2\",キー割付!E188=\"カノン\",\"メロディ3\",キー割付!E188=\"春の歌\",\"メロディ4\",キー割付!E188=\"主よ人の望みの喜びよ\",\"メロディ5\",キー割付!E188=\"メヌエット\",\"メロディ6\",キー割付!E188=\"華麗なる大円舞曲\",\"メロディ7\",キー割付!E188=\"ハンガリア舞曲第5番\",\"メロディ8\",TRUE,\"トーン1\")","v":"トーン1"},{"$f":"_xlfn.IFS(キー割付!F188=\"着信音なし\",\"トーン1\",キー割付!F188=\"トーン1\",\"トーン1\",キー割付!F188=\"トーン2\",\"トーン2\",キー割付!F188=\"トーン3\",\"トーン3\",キー割付!F188=\"トーン4\",\"トーン4\",キー割付!F188=\"トーン5\",\"トーン5\",キー割付!F188=\"トーン6\",\"トーン6\",キー割付!F188=\"トーン7\",\"トーン7\",キー割付!F188=\"トーン7\",\"トーン7\",キー割付!F188=\"無鳴動着信\",\"トーン8\",キー割付!F188=\"グリーンスリーブス\",\"メロディ1\",キー割付!F188=\"峠の我が家\",\"メロディ2\",キー割付!F188=\"カノン\",\"メロディ3\",キー割付!F188=\"春の歌\",\"メロディ4\",キー割付!F188=\"主よ人の望みの喜びよ\",\"メロディ5\",キー割付!F188=\"メヌエット\",\"メロディ6\",キー割付!F188=\"華麗なる大円舞曲\",\"メロディ7\",キー割付!F188=\"ハンガリア舞曲第5番\",\"メロディ8\",TRUE,\"トーン1\")","v":"トーン1"},{"$f":"_xlfn.IFS(キー割付!G188=\"着信音なし\",\"トーン1\",キー割付!G188=\"トーン1\",\"トーン1\",キー割付!G188=\"トーン2\",\"トーン2\",キー割付!G188=\"トーン3\",\"トーン3\",キー割付!G188=\"トーン4\",\"トーン4\",キー割付!G188=\"トーン5\",\"トーン5\",キー割付!G188=\"トーン6\",\"トーン6\",キー割付!G188=\"トーン7\",\"トーン7\",キー割付!G188=\"トーン7\",\"トーン7\",キー割付!G188=\"無鳴動着信\",\"トーン8\",キー割付!G188=\"グリーンスリーブス\",\"メロディ1\",キー割付!G188=\"峠の我が家\",\"メロディ2\",キー割付!G188=\"カノン\",\"メロディ3\",キー割付!G188=\"春の歌\",\"メロディ4\",キー割付!G188=\"主よ人の望みの喜びよ\",\"メロディ5\",キー割付!G188=\"メヌエット\",\"メロディ6\",キー割付!G188=\"華麗なる大円舞曲\",\"メロディ7\",キー割付!G188=\"ハンガリア舞曲第5番\",\"メロディ8\",TRUE,\"トーン1\")","v":"トーン1"},{"$f":"_xlfn.IFS(キー割付!H188=\"着信音なし\",\"トーン1\",キー割付!H188=\"トーン1\",\"トーン1\",キー割付!H188=\"トーン2\",\"トーン2\",キー割付!H188=\"トーン3\",\"トーン3\",キー割付!H188=\"トーン4\",\"トーン4\",キー割付!H188=\"トーン5\",\"トーン5\",キー割付!H188=\"トーン6\",\"トーン6\",キー割付!H188=\"トーン7\",\"トーン7\",キー割付!H188=\"トーン7\",\"トーン7\",キー割付!H188=\"無鳴動着信\",\"トーン8\",キー割付!H188=\"グリーンスリーブス\",\"メロディ1\",キー割付!H188=\"峠の我が家\",\"メロディ2\",キー割付!H188=\"カノン\",\"メロディ3\",キー割付!H188=\"春の歌\",\"メロディ4\",キー割付!H188=\"主よ人の望みの喜びよ\",\"メロディ5\",キー割付!H188=\"メヌエット\",\"メロディ6\",キー割付!H188=\"華麗なる大円舞曲\",\"メロディ7\",キー割付!H188=\"ハンガリア舞曲第5番\",\"メロディ8\",TRUE,\"トーン1\")","v":"トーン1"},{"$f":"_xlfn.IFS(キー割付!I188=\"着信音なし\",\"トーン1\",キー割付!I188=\"トーン1\",\"トーン1\",キー割付!I188=\"トーン2\",\"トーン2\",キー割付!I188=\"トーン3\",\"トーン3\",キー割付!I188=\"トーン4\",\"トーン4\",キー割付!I188=\"トーン5\",\"トーン5\",キー割付!I188=\"トーン6\",\"トーン6\",キー割付!I188=\"トーン7\",\"トーン7\",キー割付!I188=\"トーン7\",\"トーン7\",キー割付!I188=\"無鳴動着信\",\"トーン8\",キー割付!I188=\"グリーンスリーブス\",\"メロディ1\",キー割付!I188=\"峠の我が家\",\"メロディ2\",キー割付!I188=\"カノン\",\"メロディ3\",キー割付!I188=\"春の歌\",\"メロディ4\",キー割付!I188=\"主よ人の望みの喜びよ\",\"メロディ5\",キー割付!I188=\"メヌエット\",\"メロディ6\",キー割付!I188=\"華麗なる大円舞曲\",\"メロディ7\",キー割付!I188=\"ハンガリア舞曲第5番\",\"メロディ8\",TRUE,\"トーン1\")","v":"トーン1"},{"$f":"_xlfn.IFS(キー割付!D196=\"着信音なし\",\"トーン1\",キー割付!D196=\"トーン1\",\"トーン1\",キー割付!D196=\"トーン2\",\"トーン2\",キー割付!D196=\"トーン3\",\"トーン3\",キー割付!D196=\"トーン4\",\"トーン4\",キー割付!D196=\"トーン5\",\"トーン5\",キー割付!D196=\"トーン6\",\"トーン6\",キー割付!D196=\"トーン7\",\"トーン7\",キー割付!D196=\"トーン7\",\"トーン7\",キー割付!D196=\"無鳴動着信\",\"トーン8\",キー割付!D196=\"グリーンスリーブス\",\"メロディ1\",キー割付!D196=\"峠の我が家\",\"メロディ2\",キー割付!D196=\"カノン\",\"メロディ3\",キー割付!D196=\"春の歌\",\"メロディ4\",キー割付!D196=\"主よ人の望みの喜びよ\",\"メロディ5\",キー割付!D196=\"メヌエット\",\"メロディ6\",キー割付!D196=\"華麗なる大円舞曲\",\"メロディ7\",キー割付!D196=\"ハンガリア舞曲第5番\",\"メロディ8\",TRUE,\"トーン1\")","v":"トーン1"},{"$f":"_xlfn.IFS(キー割付!E196=\"着信音なし\",\"トーン1\",キー割付!E196=\"トーン1\",\"トーン1\",キー割付!E196=\"トーン2\",\"トーン2\",キー割付!E196=\"トーン3\",\"トーン3\",キー割付!E196=\"トーン4\",\"トーン4\",キー割付!E196=\"トーン5\",\"トーン5\",キー割付!E196=\"トーン6\",\"トーン6\",キー割付!E196=\"トーン7\",\"トーン7\",キー割付!E196=\"トーン7\",\"トーン7\",キー割付!E196=\"無鳴動着信\",\"トーン8\",キー割付!E196=\"グリーンスリーブス\",\"メロディ1\",キー割付!E196=\"峠の我が家\",\"メロディ2\",キー割付!E196=\"カノン\",\"メロディ3\",キー割付!E196=\"春の歌\",\"メロディ4\",キー割付!E196=\"主よ人の望みの喜びよ\",\"メロディ5\",キー割付!E196=\"メヌエット\",\"メロディ6\",キー割付!E196=\"華麗なる大円舞曲\",\"メロディ7\",キー割付!E196=\"ハンガリア舞曲第5番\",\"メロディ8\",TRUE,\"トーン1\")","v":"トーン1"},{"$f":"IF(E37=\"ZX-DECLDIV-IPコードレス電話機\",\"トーン1\",_xlfn.IFS(キー割付!F196=\"着信音なし\",\"トーン1\",キー割付!F196=\"トーン1\",\"トーン1\",キー割付!F196=\"トーン2\",\"トーン2\",キー割付!F196=\"トーン3\",\"トーン3\",キー割付!F196=\"トーン4\",\"トーン4\",キー割付!F196=\"トーン5\",\"トーン5\",キー割付!F196=\"トーン6\",\"トーン6\",キー割付!F196=\"トーン7\",\"トーン7\",キー割付!F196=\"トーン7\",\"トーン7\",キー割付!F196=\"無鳴動着信\",\"トーン8\",キー割付!F196=\"グリーンスリーブス\",\"メロディ1\",キー割付!F196=\"峠の我が家\",\"メロディ2\",キー割付!F196=\"カノン\",\"メロディ3\",キー割付!F196=\"春の歌\",\"メロディ4\",キー割付!F196=\"主よ人の望みの喜びよ\",\"メロディ5\",キー割付!F196=\"メヌエット\",\"メロディ6\",キー割付!F196=\"華麗なる大円舞曲\",\"メロディ7\",キー割付!F196=\"ハンガリア舞曲第5番\",\"メロディ8\",TRUE,\"トーン1\"))","v":"トーン1"},{"$f":"IF(E37=\"ZX-DECLDIV-IPコードレス電話機\",\"トーン1\",_xlfn.IFS(キー割付!G196=\"着信音なし\",\"トーン1\",キー割付!G196=\"トーン1\",\"トーン1\",キー割付!G196=\"トーン2\",\"トーン2\",キー割付!G196=\"トーン3\",\"トーン3\",キー割付!G196=\"トーン4\",\"トーン4\",キー割付!G196=\"トーン5\",\"トーン5\",キー割付!G196=\"トーン6\",\"トーン6\",キー割付!G196=\"トーン7\",\"トーン7\",キー割付!G196=\"トーン7\",\"トーン7\",キー割付!G196=\"無鳴動着信\",\"トーン8\",キー割付!G196=\"グリーンスリーブス\",\"メロディ1\",キー割付!G196=\"峠の我が家\",\"メロディ2\",キー割付!G196=\"カノン\",\"メロディ3\",キー割付!G196=\"春の歌\",\"メロディ4\",キー割付!G196=\"主よ人の望みの喜びよ\",\"メロディ5\",キー割付!G196=\"メヌエット\",\"メロディ6\",キー割付!G196=\"華麗なる大円舞曲\",\"メロディ7\",キー割付!G196=\"ハンガリア舞曲第5番\",\"メロディ8\",TRUE,\"トーン1\"))","v":"トーン1"},{"$f":"IF(E37=\"ZX-DECLDIV-IPコードレス電話機\",\"トーン1\",_xlfn.IFS(キー割付!H196=\"着信音なし\",\"トーン1\",キー割付!H196=\"トーン1\",\"トーン1\",キー割付!H196=\"トーン2\",\"トーン2\",キー割付!H196=\"トーン3\",\"トーン3\",キー割付!H196=\"トーン4\",\"トーン4\",キー割付!H196=\"トーン5\",\"トーン5\",キー割付!H196=\"トーン6\",\"トーン6\",キー割付!H196=\"トーン7\",\"トーン7\",キー割付!H196=\"トーン7\",\"トーン7\",キー割付!H196=\"無鳴動着信\",\"トーン8\",キー割付!H196=\"グリーンスリーブス\",\"メロディ1\",キー割付!H196=\"峠の我が家\",\"メロディ2\",キー割付!H196=\"カノン\",\"メロディ3\",キー割付!H196=\"春の歌\",\"メロディ4\",キー割付!H196=\"主よ人の望みの喜びよ\",\"メロディ5\",キー割付!H196=\"メヌエット\",\"メロディ6\",キー割付!H196=\"華麗なる大円舞曲\",\"メロディ7\",キー割付!H196=\"ハンガリア舞曲第5番\",\"メロディ8\",TRUE,\"トーン1\"))","v":"トーン1"},{"$f":"IF(E37=\"ZX-DECLDIV-IPコードレス電話機\",\"トーン1\",_xlfn.IFS(キー割付!I196=\"着信音なし\",\"トーン1\",キー割付!I196=\"トーン1\",\"トーン1\",キー割付!I196=\"トーン2\",\"トーン2\",キー割付!I196=\"トーン3\",\"トーン3\",キー割付!I196=\"トーン4\",\"トーン4\",キー割付!I196=\"トーン5\",\"トーン5\",キー割付!I196=\"トーン6\",\"トーン6\",キー割付!I196=\"トーン7\",\"トーン7\",キー割付!I196=\"トーン7\",\"トーン7\",キー割付!I196=\"無鳴動着信\",\"トーン8\",キー割付!I196=\"グリーンスリーブス\",\"メロディ1\",キー割付!I196=\"峠の我が家\",\"メロディ2\",キー割付!I196=\"カノン\",\"メロディ3\",キー割付!I196=\"春の歌\",\"メロディ4\",キー割付!I196=\"主よ人の望みの喜びよ\",\"メロディ5\",キー割付!I196=\"メヌエット\",\"メロディ6\",キー割付!I196=\"華麗なる大円舞曲\",\"メロディ7\",キー割付!I196=\"ハンガリア舞曲第5番\",\"メロディ8\",TRUE,\"トーン1\"))","v":"トーン1"},{"$f":"IF(E37=\"ZX-DECLDIV-IPコードレス電話機\",\"トーン1\",_xlfn.IFS(キー割付!D204=\"着信音なし\",\"トーン1\",キー割付!D204=\"トーン1\",\"トーン1\",キー割付!D204=\"トーン2\",\"トーン2\",キー割付!D204=\"トーン3\",\"トーン3\",キー割付!D204=\"トーン4\",\"トーン4\",キー割付!D204=\"トーン5\",\"トーン5\",キー割付!D204=\"トーン6\",\"トーン6\",キー割付!D204=\"トーン7\",\"トーン7\",キー割付!D204=\"トーン7\",\"トーン7\",キー割付!D204=\"無鳴動着信\",\"トーン8\",キー割付!D204=\"グリーンスリーブス\",\"メロディ1\",キー割付!D204=\"峠の我が家\",\"メロディ2\",キー割付!D204=\"カノン\",\"メロディ3\",キー割付!D204=\"春の歌\",\"メロディ4\",キー割付!D204=\"主よ人の望みの喜びよ\",\"メロディ5\",キー割付!D204=\"メヌエット\",\"メロディ6\",キー割付!D204=\"華麗なる大円舞曲\",\"メロディ7\",キー割付!D204=\"ハンガリア舞曲第5番\",\"メロディ8\",TRUE,\"トーン1\"))","v":"トーン1"},{"$f":"IF(E37=\"ZX-DECLDIV-IPコードレス電話機\",\"トーン1\",_xlfn.IFS(キー割付!E204=\"着信音なし\",\"トーン1\",キー割付!E204=\"トーン1\",\"トーン1\",キー割付!E204=\"トーン2\",\"トーン2\",キー割付!E204=\"トーン3\",\"トーン3\",キー割付!E204=\"トーン4\",\"トーン4\",キー割付!E204=\"トーン5\",\"トーン5\",キー割付!E204=\"トーン6\",\"トーン6\",キー割付!E204=\"トーン7\",\"トーン7\",キー割付!E204=\"トーン7\",\"トーン7\",キー割付!E204=\"無鳴動着信\",\"トーン8\",キー割付!E204=\"グリーンスリーブス\",\"メロディ1\",キー割付!E204=\"峠の我が家\",\"メロディ2\",キー割付!E204=\"カノン\",\"メロディ3\",キー割付!E204=\"春の歌\",\"メロディ4\",キー割付!E204=\"主よ人の望みの喜びよ\",\"メロディ5\",キー割付!E204=\"メヌエット\",\"メロディ6\",キー割付!E204=\"華麗なる大円舞曲\",\"メロディ7\",キー割付!E204=\"ハンガリア舞曲第5番\",\"メロディ8\",TRUE,\"トーン1\"))","v":"トーン1"},{"$f":"IF(E37=\"ZX-DECLDIV-IPコードレス電話機\",\"トーン1\",_xlfn.IFS(キー割付!F204=\"着信音なし\",\"トーン1\",キー割付!F204=\"トーン1\",\"トーン1\",キー割付!F204=\"トーン2\",\"トーン2\",キー割付!F204=\"トーン3\",\"トーン3\",キー割付!F204=\"トーン4\",\"トーン4\",キー割付!F204=\"トーン5\",\"トーン5\",キー割付!F204=\"トーン6\",\"トーン6\",キー割付!F204=\"トーン7\",\"トーン7\",キー割付!F204=\"トーン7\",\"トーン7\",キー割付!F204=\"無鳴動着信\",\"トーン8\",キー割付!F204=\"グリーンスリーブス\",\"メロディ1\",キー割付!F204=\"峠の我が家\",\"メロディ2\",キー割付!F204=\"カノン\",\"メロディ3\",キー割付!F204=\"春の歌\",\"メロディ4\",キー割付!F204=\"主よ人の望みの喜びよ\",\"メロディ5\",キー割付!F204=\"メヌエット\",\"メロディ6\",キー割付!F204=\"華麗なる大円舞曲\",\"メロディ7\",キー割付!F204=\"ハンガリア舞曲第5番\",\"メロディ8\",TRUE,\"トーン1\"))","v":"トーン1"},{"$f":"IF(E37=\"ZX-DECLDIV-IPコードレス電話機\",\"トーン1\",_xlfn.IFS(キー割付!G204=\"着信音なし\",\"トーン1\",キー割付!G204=\"トーン1\",\"トーン1\",キー割付!G204=\"トーン2\",\"トーン2\",キー割付!G204=\"トーン3\",\"トーン3\",キー割付!G204=\"トーン4\",\"トーン4\",キー割付!G204=\"トーン5\",\"トーン5\",キー割付!G204=\"トーン6\",\"トーン6\",キー割付!G204=\"トーン7\",\"トーン7\",キー割付!G204=\"トーン7\",\"トーン7\",キー割付!G204=\"無鳴動着信\",\"トーン8\",キー割付!G204=\"グリーンスリーブス\",\"メロディ1\",キー割付!G204=\"峠の我が家\",\"メロディ2\",キー割付!G204=\"カノン\",\"メロディ3\",キー割付!G204=\"春の歌\",\"メロディ4\",キー割付!G204=\"主よ人の望みの喜びよ\",\"メロディ5\",キー割付!G204=\"メヌエット\",\"メロディ6\",キー割付!G204=\"華麗なる大円舞曲\",\"メロディ7\",キー割付!G204=\"ハンガリア舞曲第5番\",\"メロディ8\",TRUE,\"トーン1\"))","v":"トーン1"},{"$f":"IF(E37=\"ZX-DECLDIV-IPコードレス電話機\",\"トーン1\",_xlfn.IFS(キー割付!H204=\"着信音なし\",\"トーン1\",キー割付!H204=\"トーン1\",\"トーン1\",キー割付!H204=\"トーン2\",\"トーン2\",キー割付!H204=\"トーン3\",\"トーン3\",キー割付!H204=\"トーン4\",\"トーン4\",キー割付!H204=\"トーン5\",\"トーン5\",キー割付!H204=\"トーン6\",\"トーン6\",キー割付!H204=\"トーン7\",\"トーン7\",キー割付!H204=\"トーン7\",\"トーン7\",キー割付!H204=\"無鳴動着信\",\"トーン8\",キー割付!H204=\"グリーンスリーブス\",\"メロディ1\",キー割付!H204=\"峠の我が家\",\"メロディ2\",キー割付!H204=\"カノン\",\"メロディ3\",キー割付!H204=\"春の歌\",\"メロディ4\",キー割付!H204=\"主よ人の望みの喜びよ\",\"メロディ5\",キー割付!H204=\"メヌエット\",\"メロディ6\",キー割付!H204=\"華麗なる大円舞曲\",\"メロディ7\",キー割付!H204=\"ハンガリア舞曲第5番\",\"メロディ8\",TRUE,\"トーン1\"))","v":"トーン1"},{"$f":"IF(E37=\"ZX-DECLDIV-IPコードレス電話機\",\"トーン1\",_xlfn.IFS(キー割付!I204=\"着信音なし\",\"トーン1\",キー割付!I204=\"トーン1\",\"トーン1\",キー割付!I204=\"トーン2\",\"トーン2\",キー割付!I204=\"トーン3\",\"トーン3\",キー割付!I204=\"トーン4\",\"トーン4\",キー割付!I204=\"トーン5\",\"トーン5\",キー割付!I204=\"トーン6\",\"トーン6\",キー割付!I204=\"トーン7\",\"トーン7\",キー割付!I204=\"トーン7\",\"トーン7\",キー割付!I204=\"無鳴動着信\",\"トーン8\",キー割付!I204=\"グリーンスリーブス\",\"メロディ1\",キー割付!I204=\"峠の我が家\",\"メロディ2\",キー割付!I204=\"カノン\",\"メロディ3\",キー割付!I204=\"春の歌\",\"メロディ4\",キー割付!I204=\"主よ人の望みの喜びよ\",\"メロディ5\",キー割付!I204=\"メヌエット\",\"メロディ6\",キー割付!I204=\"華麗なる大円舞曲\",\"メロディ7\",キー割付!I204=\"ハンガリア舞曲第5番\",\"メロディ8\",TRUE,\"トーン1\"))","v":"トーン1"},{"$f":"IF(E37=\"ZX-DECLDIV-IPコードレス電話機\",\"トーン1\",_xlfn.IFS(キー割付!D212=\"着信音なし\",\"トーン1\",キー割付!D212=\"トーン1\",\"トーン1\",キー割付!D212=\"トーン2\",\"トーン2\",キー割付!D212=\"トーン3\",\"トーン3\",キー割付!D212=\"トーン4\",\"トーン4\",キー割付!D212=\"トーン5\",\"トーン5\",キー割付!D212=\"トーン6\",\"トーン6\",キー割付!D212=\"トーン7\",\"トーン7\",キー割付!D212=\"トーン7\",\"トーン7\",キー割付!D212=\"無鳴動着信\",\"トーン8\",キー割付!D212=\"グリーンスリーブス\",\"メロディ1\",キー割付!D212=\"峠の我が家\",\"メロディ2\",キー割付!D212=\"カノン\",\"メロディ3\",キー割付!D212=\"春の歌\",\"メロディ4\",キー割付!D212=\"主よ人の望みの喜びよ\",\"メロディ5\",キー割付!D212=\"メヌエット\",\"メロディ6\",キー割付!D212=\"華麗なる大円舞曲\",\"メロディ7\",キー割付!D212=\"ハンガリア舞曲第5番\",\"メロディ8\",TRUE,\"トーン1\"))","v":"トーン1"},{"$f":"IF(E37=\"ZX-DECLDIV-IPコードレス電話機\",\"トーン1\",_xlfn.IFS(キー割付!E212=\"着信音なし\",\"トーン1\",キー割付!E212=\"トーン1\",\"トーン1\",キー割付!E212=\"トーン2\",\"トーン2\",キー割付!E212=\"トーン3\",\"トーン3\",キー割付!E212=\"トーン4\",\"トーン4\",キー割付!E212=\"トーン5\",\"トーン5\",キー割付!E212=\"トーン6\",\"トーン6\",キー割付!E212=\"トーン7\",\"トーン7\",キー割付!E212=\"トーン7\",\"トーン7\",キー割付!E212=\"無鳴動着信\",\"トーン8\",キー割付!E212=\"グリーンスリーブス\",\"メロディ1\",キー割付!E212=\"峠の我が家\",\"メロディ2\",キー割付!E212=\"カノン\",\"メロディ3\",キー割付!E212=\"春の歌\",\"メロディ4\",キー割付!E212=\"主よ人の望みの喜びよ\",\"メロディ5\",キー割付!E212=\"メヌエット\",\"メロディ6\",キー割付!E212=\"華麗なる大円舞曲\",\"メロディ7\",キー割付!E212=\"ハンガリア舞曲第5番\",\"メロディ8\",TRUE,\"トーン1\"))","v":"トーン1"},{"$f":"IF(E37=\"ZX-DECLDIV-IPコードレス電話機\",\"トーン1\",_xlfn.IFS(キー割付!F212=\"着信音なし\",\"トーン1\",キー割付!F212=\"トーン1\",\"トーン1\",キー割付!F212=\"トーン2\",\"トーン2\",キー割付!F212=\"トーン3\",\"トーン3\",キー割付!F212=\"トーン4\",\"トーン4\",キー割付!F212=\"トーン5\",\"トーン5\",キー割付!F212=\"トーン6\",\"トーン6\",キー割付!F212=\"トーン7\",\"トーン7\",キー割付!F212=\"トーン7\",\"トーン7\",キー割付!F212=\"無鳴動着信\",\"トーン8\",キー割付!F212=\"グリーンスリーブス\",\"メロディ1\",キー割付!F212=\"峠の我が家\",\"メロディ2\",キー割付!F212=\"カノン\",\"メロディ3\",キー割付!F212=\"春の歌\",\"メロディ4\",キー割付!F212=\"主よ人の望みの喜びよ\",\"メロディ5\",キー割付!F212=\"メヌエット\",\"メロディ6\",キー割付!F212=\"華麗なる大円舞曲\",\"メロディ7\",キー割付!F212=\"ハンガリア舞曲第5番\",\"メロディ8\",TRUE,\"トーン1\"))","v":"トーン1"},{"$f":"IF(E37=\"ZX-DECLDIV-IPコードレス電話機\",\"トーン1\",_xlfn.IFS(キー割付!G212=\"着信音なし\",\"トーン1\",キー割付!G212=\"トーン1\",\"トーン1\",キー割付!G212=\"トーン2\",\"トーン2\",キー割付!G212=\"トーン3\",\"トーン3\",キー割付!G212=\"トーン4\",\"トーン4\",キー割付!G212=\"トーン5\",\"トーン5\",キー割付!G212=\"トーン6\",\"トーン6\",キー割付!G212=\"トーン7\",\"トーン7\",キー割付!G212=\"トーン7\",\"トーン7\",キー割付!G212=\"無鳴動着信\",\"トーン8\",キー割付!G212=\"グリーンスリーブス\",\"メロディ1\",キー割付!G212=\"峠の我が家\",\"メロディ2\",キー割付!G212=\"カノン\",\"メロディ3\",キー割付!G212=\"春の歌\",\"メロディ4\",キー割付!G212=\"主よ人の望みの喜びよ\",\"メロディ5\",キー割付!G212=\"メヌエット\",\"メロディ6\",キー割付!G212=\"華麗なる大円舞曲\",\"メロディ7\",キー割付!G212=\"ハンガリア舞曲第5番\",\"メロディ8\",TRUE,\"トーン1\"))","v":"トーン1"},{"$f":"IF(E37=\"ZX-DECLDIV-IPコードレス電話機\",\"トーン1\",_xlfn.IFS(キー割付!H212=\"着信音なし\",\"トーン1\",キー割付!H212=\"トーン1\",\"トーン1\",キー割付!H212=\"トーン2\",\"トーン2\",キー割付!H212=\"トーン3\",\"トーン3\",キー割付!H212=\"トーン4\",\"トーン4\",キー割付!H212=\"トーン5\",\"トーン5\",キー割付!H212=\"トーン6\",\"トーン6\",キー割付!H212=\"トーン7\",\"トーン7\",キー割付!H212=\"トーン7\",\"トーン7\",キー割付!H212=\"無鳴動着信\",\"トーン8\",キー割付!H212=\"グリーンスリーブス\",\"メロディ1\",キー割付!H212=\"峠の我が家\",\"メロディ2\",キー割付!H212=\"カノン\",\"メロディ3\",キー割付!H212=\"春の歌\",\"メロディ4\",キー割付!H212=\"主よ人の望みの喜びよ\",\"メロディ5\",キー割付!H212=\"メヌエット\",\"メロディ6\",キー割付!H212=\"華麗なる大円舞曲\",\"メロディ7\",キー割付!H212=\"ハンガリア舞曲第5番\",\"メロディ8\",TRUE,\"トーン1\"))","v":"トーン1"},{"$f":"IF(E37=\"ZX-DECLDIV-IPコードレス電話機\",\"トーン1\",_xlfn.IFS(キー割付!I212=\"着信音なし\",\"トーン1\",キー割付!I212=\"トーン1\",\"トーン1\",キー割付!I212=\"トーン2\",\"トーン2\",キー割付!I212=\"トーン3\",\"トーン3\",キー割付!I212=\"トーン4\",\"トーン4\",キー割付!I212=\"トーン5\",\"トーン5\",キー割付!I212=\"トーン6\",\"トーン6\",キー割付!I212=\"トーン7\",\"トーン7\",キー割付!I212=\"トーン7\",\"トーン7\",キー割付!I212=\"無鳴動着信\",\"トーン8\",キー割付!I212=\"グリーンスリーブス\",\"メロディ1\",キー割付!I212=\"峠の我が家\",\"メロディ2\",キー割付!I212=\"カノン\",\"メロディ3\",キー割付!I212=\"春の歌\",\"メロディ4\",キー割付!I212=\"主よ人の望みの喜びよ\",\"メロディ5\",キー割付!I212=\"メヌエット\",\"メロディ6\",キー割付!I212=\"華麗なる大円舞曲\",\"メロディ7\",キー割付!I212=\"ハンガリア舞曲第5番\",\"メロディ8\",TRUE,\"トーン1\"))","v":"トーン1"}]
[null,null,null,null,null,{"$f":"_xlfn.IFS(キー割付!D189=\"昼夜休憩\",\"B\",キー割付!D189=\"－－－\",\"-\",キー割付!D189=\"昼－－\",\"H\",キー割付!D189=\"－夜－\",\"N\",キー割付!D189=\"－－休憩\",\"P\",キー割付!D189=\"昼夜－\",\"D\",キー割付!D189=\"昼－休憩\",\"F\",キー割付!D189=\"－夜休憩\",\"K\",TRUE,\"-\")","v":"-"},{"$f":"_xlfn.IFS(キー割付!E189=\"昼夜休憩\",\"B\",キー割付!E189=\"－－－\",\"-\",キー割付!E189=\"昼－－\",\"H\",キー割付!E189=\"－夜－\",\"N\",キー割付!E189=\"－－休憩\",\"P\",キー割付!E189=\"昼夜－\",\"D\",キー割付!E189=\"昼－休憩\",\"F\",キー割付!E189=\"－夜休憩\",\"K\",TRUE,\"-\")","v":"-"},{"$f":"_xlfn.IFS(キー割付!F189=\"昼夜休憩\",\"B\",キー割付!F189=\"－－－\",\"-\",キー割付!F189=\"昼－－\",\"H\",キー割付!F189=\"－夜－\",\"N\",キー割付!F189=\"－－休憩\",\"P\",キー割付!F189=\"昼夜－\",\"D\",キー割付!F189=\"昼－休憩\",\"F\",キー割付!F189=\"－夜休憩\",\"K\",TRUE,\"-\")","v":"-"},{"$f":"_xlfn.IFS(キー割付!G189=\"昼夜休憩\",\"B\",キー割付!G189=\"－－－\",\"-\",キー割付!G189=\"昼－－\",\"H\",キー割付!G189=\"－夜－\",\"N\",キー割付!G189=\"－－休憩\",\"P\",キー割付!G189=\"昼夜－\",\"D\",キー割付!G189=\"昼－休憩\",\"F\",キー割付!G189=\"－夜休憩\",\"K\",TRUE,\"-\")","v":"-"},{"$f":"_xlfn.IFS(キー割付!H189=\"昼夜休憩\",\"B\",キー割付!H189=\"－－－\",\"-\",キー割付!H189=\"昼－－\",\"H\",キー割付!H189=\"－夜－\",\"N\",キー割付!H189=\"－－休憩\",\"P\",キー割付!H189=\"昼夜－\",\"D\",キー割付!H189=\"昼－休憩\",\"F\",キー割付!H189=\"－夜休憩\",\"K\",TRUE,\"-\")","v":"-"},{"$f":"_xlfn.IFS(キー割付!I189=\"昼夜休憩\",\"B\",キー割付!I189=\"－－－\",\"-\",キー割付!I189=\"昼－－\",\"H\",キー割付!I189=\"－夜－\",\"N\",キー割付!I189=\"－－休憩\",\"P\",キー割付!I189=\"昼夜－\",\"D\",キー割付!I189=\"昼－休憩\",\"F\",キー割付!I189=\"－夜休憩\",\"K\",TRUE,\"-\")","v":"-"},{"$f":"_xlfn.IFS(キー割付!D197=\"昼夜休憩\",\"B\",キー割付!D197=\"－－－\",\"-\",キー割付!D197=\"昼－－\",\"H\",キー割付!D197=\"－夜－\",\"N\",キー割付!D197=\"－－休憩\",\"P\",キー割付!D197=\"昼夜－\",\"D\",キー割付!D197=\"昼－休憩\",\"F\",キー割付!D197=\"－夜休憩\",\"K\",TRUE,\"-\")","v":"-"},{"$f":"_xlfn.IFS(キー割付!E197=\"昼夜休憩\",\"B\",キー割付!E197=\"－－－\",\"-\",キー割付!E197=\"昼－－\",\"H\",キー割付!E197=\"－夜－\",\"N\",キー割付!E197=\"－－休憩\",\"P\",キー割付!E197=\"昼夜－\",\"D\",キー割付!E197=\"昼－休憩\",\"F\",キー割付!E197=\"－夜休憩\",\"K\",TRUE,\"-\")","v":"-"},{"$f":"IF(E37=\"ZX-DECLDIV-IPコードレス電話機\",\"-\",_xlfn.IFS(キー割付!F197=\"昼夜休憩\",\"B\",キー割付!F197=\"－－－\",\"-\",キー割付!F197=\"昼－－\",\"H\",キー割付!F197=\"－夜－\",\"N\",キー割付!F197=\"－－休憩\",\"P\",キー割付!F197=\"昼夜－\",\"D\",キー割付!F197=\"昼－休憩\",\"F\",キー割付!F197=\"－夜休憩\",\"K\",TRUE,\"-\"))","v":"-"},{"$f":"IF(E37=\"ZX-DECLDIV-IPコードレス電話機\",\"-\",_xlfn.IFS(キー割付!G197=\"昼夜休憩\",\"B\",キー割付!G197=\"－－－\",\"-\",キー割付!G197=\"昼－－\",\"H\",キー割付!G197=\"－夜－\",\"N\",キー割付!G197=\"－－休憩\",\"P\",キー割付!G197=\"昼夜－\",\"D\",キー割付!G197=\"昼－休憩\",\"F\",キー割付!G197=\"－夜休憩\",\"K\",TRUE,\"-\"))","v":"-"},{"$f":"IF(E37=\"ZX-DECLDIV-IPコードレス電話機\",\"-\",_xlfn.IFS(キー割付!H197=\"昼夜休憩\",\"B\",キー割付!H197=\"－－－\",\"-\",キー割付!H197=\"昼－－\",\"H\",キー割付!H197=\"－夜－\",\"N\",キー割付!H197=\"－－休憩\",\"P\",キー割付!H197=\"昼夜－\",\"D\",キー割付!H197=\"昼－休憩\",\"F\",キー割付!H197=\"－夜休憩\",\"K\",TRUE,\"-\"))","v":"-"},{"$f":"IF(E37=\"ZX-DECLDIV-IPコードレス電話機\",\"-\",_xlfn.IFS(キー割付!I197=\"昼夜休憩\",\"B\",キー割付!I197=\"－－－\",\"-\",キー割付!I197=\"昼－－\",\"H\",キー割付!I197=\"－夜－\",\"N\",キー割付!I197=\"－－休憩\",\"P\",キー割付!I197=\"昼夜－\",\"D\",キー割付!I197=\"昼－休憩\",\"F\",キー割付!I197=\"－夜休憩\",\"K\",TRUE,\"-\"))","v":"-"},{"$f":"IF(E37=\"ZX-DECLDIV-IPコードレス電話機\",\"-\",_xlfn.IFS(キー割付!D205=\"昼夜休憩\",\"B\",キー割付!D205=\"－－－\",\"-\",キー割付!D205=\"昼－－\",\"H\",キー割付!D205=\"－夜－\",\"N\",キー割付!D205=\"－－休憩\",\"P\",キー割付!D205=\"昼夜－\",\"D\",キー割付!D205=\"昼－休憩\",\"F\",キー割付!D205=\"－夜休憩\",\"K\",TRUE,\"-\"))","v":"-"},{"$f":"IF(E37=\"ZX-DECLDIV-IPコードレス電話機\",\"-\",_xlfn.IFS(キー割付!E205=\"昼夜休憩\",\"B\",キー割付!E205=\"－－－\",\"-\",キー割付!E205=\"昼－－\",\"H\",キー割付!E205=\"－夜－\",\"N\",キー割付!E205=\"－－休憩\",\"P\",キー割付!E205=\"昼夜－\",\"D\",キー割付!E205=\"昼－休憩\",\"F\",キー割付!E205=\"－夜休憩\",\"K\",TRUE,\"-\"))","v":"-"},{"$f":"IF(E37=\"ZX-DECLDIV-IPコードレス電話機\",\"-\",_xlfn.IFS(キー割付!F205=\"昼夜休憩\",\"B\",キー割付!F205=\"－－－\",\"-\",キー割付!F205=\"昼－－\",\"H\",キー割付!F205=\"－夜－\",\"N\",キー割付!F205=\"－－休憩\",\"P\",キー割付!F205=\"昼夜－\",\"D\",キー割付!F205=\"昼－休憩\",\"F\",キー割付!F205=\"－夜休憩\",\"K\",TRUE,\"-\"))","v":"-"},{"$f":"IF(E37=\"ZX-DECLDIV-IPコードレス電話機\",\"-\",_xlfn.IFS(キー割付!G205=\"昼夜休憩\",\"B\",キー割付!G205=\"－－－\",\"-\",キー割付!G205=\"昼－－\",\"H\",キー割付!G205=\"－夜－\",\"N\",キー割付!G205=\"－－休憩\",\"P\",キー割付!G205=\"昼夜－\",\"D\",キー割付!G205=\"昼－休憩\",\"F\",キー割付!G205=\"－夜休憩\",\"K\",TRUE,\"-\"))","v":"-"},{"$f":"IF(E37=\"ZX-DECLDIV-IPコードレス電話機\",\"-\",_xlfn.IFS(キー割付!H205=\"昼夜休憩\",\"B\",キー割付!H205=\"－－－\",\"-\",キー割付!H205=\"昼－－\",\"H\",キー割付!H205=\"－夜－\",\"N\",キー割付!H205=\"－－休憩\",\"P\",キー割付!H205=\"昼夜－\",\"D\",キー割付!H205=\"昼－休憩\",\"F\",キー割付!H205=\"－夜休憩\",\"K\",TRUE,\"-\"))","v":"-"},{"$f":"IF(E37=\"ZX-DECLDIV-IPコードレス電話機\",\"-\",_xlfn.IFS(キー割付!I205=\"昼夜休憩\",\"B\",キー割付!I205=\"－－－\",\"-\",キー割付!I205=\"昼－－\",\"H\",キー割付!I205=\"－夜－\",\"N\",キー割付!I205=\"－－休憩\",\"P\",キー割付!I205=\"昼夜－\",\"D\",キー割付!I205=\"昼－休憩\",\"F\",キー割付!I205=\"－夜休憩\",\"K\",TRUE,\"-\"))","v":"-"},{"$f":"IF(E37=\"ZX-DECLDIV-IPコードレス電話機\",\"-\",_xlfn.IFS(キー割付!D213=\"昼夜休憩\",\"B\",キー割付!D213=\"－－－\",\"-\",キー割付!D213=\"昼－－\",\"H\",キー割付!D213=\"－夜－\",\"N\",キー割付!D213=\"－－休憩\",\"P\",キー割付!D213=\"昼夜－\",\"D\",キー割付!D213=\"昼－休憩\",\"F\",キー割付!D213=\"－夜休憩\",\"K\",TRUE,\"-\"))","v":"-"},{"$f":"IF(E37=\"ZX-DECLDIV-IPコードレス電話機\",\"-\",_xlfn.IFS(キー割付!E213=\"昼夜休憩\",\"B\",キー割付!E213=\"－－－\",\"-\",キー割付!E213=\"昼－－\",\"H\",キー割付!E213=\"－夜－\",\"N\",キー割付!E213=\"－－休憩\",\"P\",キー割付!E213=\"昼夜－\",\"D\",キー割付!E213=\"昼－休憩\",\"F\",キー割付!E213=\"－夜休憩\",\"K\",TRUE,\"-\"))","v":"-"},{"$f":"IF(E37=\"ZX-DECLDIV-IPコードレス電話機\",\"-\",_xlfn.IFS(キー割付!F213=\"昼夜休憩\",\"B\",キー割付!F213=\"－－－\",\"-\",キー割付!F213=\"昼－－\",\"H\",キー割付!F213=\"－夜－\",\"N\",キー割付!F213=\"－－休憩\",\"P\",キー割付!F213=\"昼夜－\",\"D\",キー割付!F213=\"昼－休憩\",\"F\",キー割付!F213=\"－夜休憩\",\"K\",TRUE,\"-\"))","v":"-"},{"$f":"IF(E37=\"ZX-DECLDIV-IPコードレス電話機\",\"-\",_xlfn.IFS(キー割付!G213=\"昼夜休憩\",\"B\",キー割付!G213=\"－－－\",\"-\",キー割付!G213=\"昼－－\",\"H\",キー割付!G213=\"－夜－\",\"N\",キー割付!G213=\"－－休憩\",\"P\",キー割付!G213=\"昼夜－\",\"D\",キー割付!G213=\"昼－休憩\",\"F\",キー割付!G213=\"－夜休憩\",\"K\",TRUE,\"-\"))","v":"-"},{"$f":"IF(E37=\"ZX-DECLDIV-IPコードレス電話機\",\"-\",_xlfn.IFS(キー割付!H213=\"昼夜休憩\",\"B\",キー割付!H213=\"－－－\",\"-\",キー割付!H213=\"昼－－\",\"H\",キー割付!H213=\"－夜－\",\"N\",キー割付!H213=\"－－休憩\",\"P\",キー割付!H213=\"昼夜－\",\"D\",キー割付!H213=\"昼－休憩\",\"F\",キー割付!H213=\"－夜休憩\",\"K\",TRUE,\"-\"))","v":"-"},{"$f":"IF(E37=\"ZX-DECLDIV-IPコードレス電話機\",\"-\",_xlfn.IFS(キー割付!I213=\"昼夜休憩\",\"B\",キー割付!I213=\"－－－\",\"-\",キー割付!I213=\"昼－－\",\"H\",キー割付!I213=\"－夜－\",\"N\",キー割付!I213=\"－－休憩\",\"P\",キー割付!I213=\"昼夜－\",\"D\",キー割付!I213=\"昼－休憩\",\"F\",キー割付!I213=\"－夜休憩\",\"K\",TRUE,\"-\"))","v":"-"}]
[null,12,{"$f":"IF(IFERROR(VALUE(VLOOKUP(B40,内線_キー割用,2,FALSE)),\"\")=0,\"\",IFERROR(VALUE(VLOOKUP(B40,内線_キー割用,2,FALSE)),\"\"))","v":""},{"$f":"IF(IFERROR(VALUE(VLOOKUP(B40,内線_キー割用,4,FALSE)),\"\")=0,\"\",IFERROR(VALUE(VLOOKUP(B40,内線_キー割用,4,FALSE)),\"\"))","v":""},{"$f":"IF(IFERROR(VLOOKUP(B40,内線_キー割用,3,FALSE),\"\")=0,\"\",IFERROR(VLOOKUP(B40,内線_キー割用,3,FALSE),\"\"))","v":""},{"$f":"IF(キー割付!N187=\"\",\"未使用\",キー割付!N187)","v":"未使用"},{"$f":"IF(キー割付!O187=\"\",\"未使用\",キー割付!O187)","v":"未使用"},{"$f":"IF(キー割付!P187=\"\",\"未使用\",キー割付!P187)","v":"未使用"},{"$f":"IF(キー割付!Q187=\"\",\"未使用\",キー割付!Q187)","v":"未使用"},{"$f":"IF(キー割付!R187=\"\",\"未使用\",キー割付!R187)","v":"未使用"},{"$f":"IF(キー割付!S187=\"\",\"未使用\",キー割付!S187)","v":"未使用"},{"$f":"IF(キー割付!N195=\"\",\"未使用\",キー割付!N195)","v":"未使用"},{"$f":"IF(キー割付!O195=\"\",\"未使用\",キー割付!O195)","v":"未使用"},{"$f":"IF(E40=\"ZX-DECLDIV-IPコードレス電話機\",\"未使用\",IF(キー割付!P195=\"\",\"未使用\",キー割付!P195))","v":"未使用"},{"$f":"IF(E40=\"ZX-DECLDIV-IPコードレス電話機\",\"未使用\",IF(キー割付!Q195=\"\",\"未使用\",キー割付!Q195))","v":"未使用"},{"$f":"IF(E40=\"ZX-DECLDIV-IPコードレス電話機\",\"未使用\",IF(キー割付!R195=\"\",\"未使用\",キー割付!R195))","v":"未使用"},{"$f":"IF(E40=\"ZX-DECLDIV-IPコードレス電話機\",\"未使用\",IF(キー割付!S195=\"\",\"未使用\",キー割付!S195))","v":"未使用"},{"$f":"IF(E40=\"ZX-DECLDIV-IPコードレス電話機\",\"未使用\",IF(キー割付!N203=\"\",\"未使用\",キー割付!N203))","v":"未使用"},{"$f":"IF(E40=\"ZX-DECLDIV-IPコードレス電話機\",\"未使用\",IF(キー割付!O203=\"\",\"未使用\",キー割付!O203))","v":"未使用"},{"$f":"IF(E40=\"ZX-DECLDIV-IPコードレス電話機\",\"未使用\",IF(キー割付!P203=\"\",\"未使用\",キー割付!P203))","v":"未使用"},{"$f":"IF(E40=\"ZX-DECLDIV-IPコードレス電話機\",\"未使用\",IF(キー割付!Q203=\"\",\"未使用\",キー割付!Q203))","v":"未使用"},{"$f":"IF(E40=\"ZX-DECLDIV-IPコードレス電話機\",\"未使用\",IF(キー割付!R203=\"\",\"未使用\",キー割付!R203))","v":"未使用"},{"$f":"IF(E40=\"ZX-DECLDIV-IPコードレス電話機\",\"未使用\",IF(キー割付!S203=\"\",\"未使用\",キー割付!S203))","v":"未使用"},{"$f":"IF(E40=\"ZX-DECLDIV-IPコードレス電話機\",\"未使用\",IF(キー割付!N211=\"\",\"未使用\",キー割付!N211))","v":"未使用"},{"$f":"IF(E40=\"ZX-DECLDIV-IPコードレス電話機\",\"未使用\",IF(キー割付!O211=\"\",\"未使用\",キー割付!O211))","v":"未使用"},{"$f":"IF(E40=\"ZX-DECLDIV-IPコードレス電話機\",\"未使用\",IF(キー割付!P211=\"\",\"未使用\",キー割付!P211))","v":"未使用"},{"$f":"IF(E40=\"ZX-DECLDIV-IPコードレス電話機\",\"未使用\",IF(キー割付!Q211=\"\",\"未使用\",キー割付!Q211))","v":"未使用"},{"$f":"IF(E40=\"ZX-DECLDIV-IPコードレス電話機\",\"未使用\",IF(キー割付!R211=\"\",\"未使用\",キー割付!R211))","v":"未使用"},{"$f":"IF(E40=\"ZX-DECLDIV-IPコードレス電話機\",\"未使用\",IF(キー割付!S211=\"\",\"未使用\",キー割付!S211))","v":"未使用"}]
[null,null,null,null,null,{"$f":"_xlfn.IFS(キー割付!N188=\"着信音なし\",\"トーン1\",キー割付!N188=\"トーン1\",\"トーン1\",キー割付!N188=\"トーン2\",\"トーン2\",キー割付!N188=\"トーン3\",\"トーン3\",キー割付!N188=\"トーン4\",\"トーン4\",キー割付!N188=\"トーン5\",\"トーン5\",キー割付!N188=\"トーン6\",\"トーン6\",キー割付!N188=\"トーン7\",\"トーン7\",キー割付!N188=\"トーン7\",\"トーン7\",キー割付!N188=\"無鳴動着信\",\"トーン8\",キー割付!N188=\"グリーンスリーブス\",\"メロディ1\",キー割付!N188=\"峠の我が家\",\"メロディ2\",キー割付!N188=\"カノン\",\"メロディ3\",キー割付!N188=\"春の歌\",\"メロディ4\",キー割付!N188=\"主よ人の望みの喜びよ\",\"メロディ5\",キー割付!N188=\"メヌエット\",\"メロディ6\",キー割付!N188=\"華麗なる大円舞曲\",\"メロディ7\",キー割付!N188=\"ハンガリア舞曲第5番\",\"メロディ8\",TRUE,\"トーン1\")","v":"トーン1"},{"$f":"_xlfn.IFS(キー割付!O188=\"着信音なし\",\"トーン1\",キー割付!O188=\"トーン1\",\"トーン1\",キー割付!O188=\"トーン2\",\"トーン2\",キー割付!O188=\"トーン3\",\"トーン3\",キー割付!O188=\"トーン4\",\"トーン4\",キー割付!O188=\"トーン5\",\"トーン5\",キー割付!O188=\"トーン6\",\"トーン6\",キー割付!O188=\"トーン7\",\"トーン7\",キー割付!O188=\"トーン7\",\"トーン7\",キー割付!O188=\"無鳴動着信\",\"トーン8\",キー割付!O188=\"グリーンスリーブス\",\"メロディ1\",キー割付!O188=\"峠の我が家\",\"メロディ2\",キー割付!O188=\"カノン\",\"メロディ3\",キー割付!O188=\"春の歌\",\"メロディ4\",キー割付!O188=\"主よ人の望みの喜びよ\",\"メロディ5\",キー割付!O188=\"メヌエット\",\"メロディ6\",キー割付!O188=\"華麗なる大円舞曲\",\"メロディ7\",キー割付!O188=\"ハンガリア舞曲第5番\",\"メロディ8\",TRUE,\"トーン1\")","v":"トーン1"},{"$f":"_xlfn.IFS(キー割付!P188=\"着信音なし\",\"トーン1\",キー割付!P188=\"トーン1\",\"トーン1\",キー割付!P188=\"トーン2\",\"トーン2\",キー割付!P188=\"トーン3\",\"トーン3\",キー割付!P188=\"トーン4\",\"トーン4\",キー割付!P188=\"トーン5\",\"トーン5\",キー割付!P188=\"トーン6\",\"トーン6\",キー割付!P188=\"トーン7\",\"トーン7\",キー割付!P188=\"トーン7\",\"トーン7\",キー割付!P188=\"無鳴動着信\",\"トーン8\",キー割付!P188=\"グリーンスリーブス\",\"メロディ1\",キー割付!P188=\"峠の我が家\",\"メロディ2\",キー割付!P188=\"カノン\",\"メロディ3\",キー割付!P188=\"春の歌\",\"メロディ4\",キー割付!P188=\"主よ人の望みの喜びよ\",\"メロディ5\",キー割付!P188=\"メヌエット\",\"メロディ6\",キー割付!P188=\"華麗なる大円舞曲\",\"メロディ7\",キー割付!P188=\"ハンガリア舞曲第5番\",\"メロディ8\",TRUE,\"トーン1\")","v":"トーン1"},{"$f":"_xlfn.IFS(キー割付!Q188=\"着信音なし\",\"トーン1\",キー割付!Q188=\"トーン1\",\"トーン1\",キー割付!Q188=\"トーン2\",\"トーン2\",キー割付!Q188=\"トーン3\",\"トーン3\",キー割付!Q188=\"トーン4\",\"トーン4\",キー割付!Q188=\"トーン5\",\"トーン5\",キー割付!Q188=\"トーン6\",\"トーン6\",キー割付!Q188=\"トーン7\",\"トーン7\",キー割付!Q188=\"トーン7\",\"トーン7\",キー割付!Q188=\"無鳴動着信\",\"トーン8\",キー割付!Q188=\"グリーンスリーブス\",\"メロディ1\",キー割付!Q188=\"峠の我が家\",\"メロディ2\",キー割付!Q188=\"カノン\",\"メロディ3\",キー割付!Q188=\"春の歌\",\"メロディ4\",キー割付!Q188=\"主よ人の望みの喜びよ\",\"メロディ5\",キー割付!Q188=\"メヌエット\",\"メロディ6\",キー割付!Q188=\"華麗なる大円舞曲\",\"メロディ7\",キー割付!Q188=\"ハンガリア舞曲第5番\",\"メロディ8\",TRUE,\"トーン1\")","v":"トーン1"},{"$f":"_xlfn.IFS(キー割付!R188=\"着信音なし\",\"トーン1\",キー割付!R188=\"トーン1\",\"トーン1\",キー割付!R188=\"トーン2\",\"トーン2\",キー割付!R188=\"トーン3\",\"トーン3\",キー割付!R188=\"トーン4\",\"トーン4\",キー割付!R188=\"トーン5\",\"トーン5\",キー割付!R188=\"トーン6\",\"トーン6\",キー割付!R188=\"トーン7\",\"トーン7\",キー割付!R188=\"トーン7\",\"トーン7\",キー割付!R188=\"無鳴動着信\",\"トーン8\",キー割付!R188=\"グリーンスリーブス\",\"メロディ1\",キー割付!R188=\"峠の我が家\",\"メロディ2\",キー割付!R188=\"カノン\",\"メロディ3\",キー割付!R188=\"春の歌\",\"メロディ4\",キー割付!R188=\"主よ人の望みの喜びよ\",\"メロディ5\",キー割付!R188=\"メヌエット\",\"メロディ6\",キー割付!R188=\"華麗なる大円舞曲\",\"メロディ7\",キー割付!R188=\"ハンガリア舞曲第5番\",\"メロディ8\",TRUE,\"トーン1\")","v":"トーン1"},{"$f":"_xlfn.IFS(キー割付!S188=\"着信音なし\",\"トーン1\",キー割付!S188=\"トーン1\",\"トーン1\",キー割付!S188=\"トーン2\",\"トーン2\",キー割付!S188=\"トーン3\",\"トーン3\",キー割付!S188=\"トーン4\",\"トーン4\",キー割付!S188=\"トーン5\",\"トーン5\",キー割付!S188=\"トーン6\",\"トーン6\",キー割付!S188=\"トーン7\",\"トーン7\",キー割付!S188=\"トーン7\",\"トーン7\",キー割付!S188=\"無鳴動着信\",\"トーン8\",キー割付!S188=\"グリーンスリーブス\",\"メロディ1\",キー割付!S188=\"峠の我が家\",\"メロディ2\",キー割付!S188=\"カノン\",\"メロディ3\",キー割付!S188=\"春の歌\",\"メロディ4\",キー割付!S188=\"主よ人の望みの喜びよ\",\"メロディ5\",キー割付!S188=\"メヌエット\",\"メロディ6\",キー割付!S188=\"華麗なる大円舞曲\",\"メロディ7\",キー割付!S188=\"ハンガリア舞曲第5番\",\"メロディ8\",TRUE,\"トーン1\")","v":"トーン1"},{"$f":"_xlfn.IFS(キー割付!N196=\"着信音なし\",\"トーン1\",キー割付!N196=\"トーン1\",\"トーン1\",キー割付!N196=\"トーン2\",\"トーン2\",キー割付!N196=\"トーン3\",\"トーン3\",キー割付!N196=\"トーン4\",\"トーン4\",キー割付!N196=\"トーン5\",\"トーン5\",キー割付!N196=\"トーン6\",\"トーン6\",キー割付!N196=\"トーン7\",\"トーン7\",キー割付!N196=\"トーン7\",\"トーン7\",キー割付!N196=\"無鳴動着信\",\"トーン8\",キー割付!N196=\"グリーンスリーブス\",\"メロディ1\",キー割付!N196=\"峠の我が家\",\"メロディ2\",キー割付!N196=\"カノン\",\"メロディ3\",キー割付!N196=\"春の歌\",\"メロディ4\",キー割付!N196=\"主よ人の望みの喜びよ\",\"メロディ5\",キー割付!N196=\"メヌエット\",\"メロディ6\",キー割付!N196=\"華麗なる大円舞曲\",\"メロディ7\",キー割付!N196=\"ハンガリア舞曲第5番\",\"メロディ8\",TRUE,\"トーン1\")","v":"トーン1"},{"$f":"_xlfn.IFS(キー割付!O196=\"着信音なし\",\"トーン1\",キー割付!O196=\"トーン1\",\"トーン1\",キー割付!O196=\"トーン2\",\"トーン2\",キー割付!O196=\"トーン3\",\"トーン3\",キー割付!O196=\"トーン4\",\"トーン4\",キー割付!O196=\"トーン5\",\"トーン5\",キー割付!O196=\"トーン6\",\"トーン6\",キー割付!O196=\"トーン7\",\"トーン7\",キー割付!O196=\"トーン7\",\"トーン7\",キー割付!O196=\"無鳴動着信\",\"トーン8\",キー割付!O196=\"グリーンスリーブス\",\"メロディ1\",キー割付!O196=\"峠の我が家\",\"メロディ2\",キー割付!O196=\"カノン\",\"メロディ3\",キー割付!O196=\"春の歌\",\"メロディ4\",キー割付!O196=\"主よ人の望みの喜びよ\",\"メロディ5\",キー割付!O196=\"メヌエット\",\"メロディ6\",キー割付!O196=\"華麗なる大円舞曲\",\"メロディ7\",キー割付!O196=\"ハンガリア舞曲第5番\",\"メロディ8\",TRUE,\"トーン1\")","v":"トーン1"},{"$f":"IF(E40=\"ZX-DECLDIV-IPコードレス電話機\",\"トーン1\",_xlfn.IFS(キー割付!P196=\"着信音なし\",\"トーン1\",キー割付!P196=\"トーン1\",\"トーン1\",キー割付!P196=\"トーン2\",\"トーン2\",キー割付!P196=\"トーン3\",\"トーン3\",キー割付!P196=\"トーン4\",\"トーン4\",キー割付!P196=\"トーン5\",\"トーン5\",キー割付!P196=\"トーン6\",\"トーン6\",キー割付!P196=\"トーン7\",\"トーン7\",キー割付!P196=\"トーン7\",\"トーン7\",キー割付!P196=\"無鳴動着信\",\"トーン8\",キー割付!P196=\"グリーンスリーブス\",\"メロディ1\",キー割付!P196=\"峠の我が家\",\"メロディ2\",キー割付!P196=\"カノン\",\"メロディ3\",キー割付!P196=\"春の歌\",\"メロディ4\",キー割付!P196=\"主よ人の望みの喜びよ\",\"メロディ5\",キー割付!P196=\"メヌエット\",\"メロディ6\",キー割付!P196=\"華麗なる大円舞曲\",\"メロディ7\",キー割付!P196=\"ハンガリア舞曲第5番\",\"メロディ8\",TRUE,\"トーン1\"))","v":"トーン1"},{"$f":"IF(E40=\"ZX-DECLDIV-IPコードレス電話機\",\"トーン1\",_xlfn.IFS(キー割付!Q196=\"着信音なし\",\"トーン1\",キー割付!Q196=\"トーン1\",\"トーン1\",キー割付!Q196=\"トーン2\",\"トーン2\",キー割付!Q196=\"トーン3\",\"トーン3\",キー割付!Q196=\"トーン4\",\"トーン4\",キー割付!Q196=\"トーン5\",\"トーン5\",キー割付!Q196=\"トーン6\",\"トーン6\",キー割付!Q196=\"トーン7\",\"トーン7\",キー割付!Q196=\"トーン7\",\"トーン7\",キー割付!Q196=\"無鳴動着信\",\"トーン8\",キー割付!Q196=\"グリーンスリーブス\",\"メロディ1\",キー割付!Q196=\"峠の我が家\",\"メロディ2\",キー割付!Q196=\"カノン\",\"メロディ3\",キー割付!Q196=\"春の歌\",\"メロディ4\",キー割付!Q196=\"主よ人の望みの喜びよ\",\"メロディ5\",キー割付!Q196=\"メヌエット\",\"メロディ6\",キー割付!Q196=\"華麗なる大円舞曲\",\"メロディ7\",キー割付!Q196=\"ハンガリア舞曲第5番\",\"メロディ8\",TRUE,\"トーン1\"))","v":"トーン1"},{"$f":"IF(E40=\"ZX-DECLDIV-IPコードレス電話機\",\"トーン1\",_xlfn.IFS(キー割付!R196=\"着信音なし\",\"トーン1\",キー割付!R196=\"トーン1\",\"トーン1\",キー割付!R196=\"トーン2\",\"トーン2\",キー割付!R196=\"トーン3\",\"トーン3\",キー割付!R196=\"トーン4\",\"トーン4\",キー割付!R196=\"トーン5\",\"トーン5\",キー割付!R196=\"トーン6\",\"トーン6\",キー割付!R196=\"トーン7\",\"トーン7\",キー割付!R196=\"トーン7\",\"トーン7\",キー割付!R196=\"無鳴動着信\",\"トーン8\",キー割付!R196=\"グリーンスリーブス\",\"メロディ1\",キー割付!R196=\"峠の我が家\",\"メロディ2\",キー割付!R196=\"カノン\",\"メロディ3\",キー割付!R196=\"春の歌\",\"メロディ4\",キー割付!R196=\"主よ人の望みの喜びよ\",\"メロディ5\",キー割付!R196=\"メヌエット\",\"メロディ6\",キー割付!R196=\"華麗なる大円舞曲\",\"メロディ7\",キー割付!R196=\"ハンガリア舞曲第5番\",\"メロディ8\",TRUE,\"トーン1\"))","v":"トーン1"},{"$f":"IF(E40=\"ZX-DECLDIV-IPコードレス電話機\",\"トーン1\",_xlfn.IFS(キー割付!S196=\"着信音なし\",\"トーン1\",キー割付!S196=\"トーン1\",\"トーン1\",キー割付!S196=\"トーン2\",\"トーン2\",キー割付!S196=\"トーン3\",\"トーン3\",キー割付!S196=\"トーン4\",\"トーン4\",キー割付!S196=\"トーン5\",\"トーン5\",キー割付!S196=\"トーン6\",\"トーン6\",キー割付!S196=\"トーン7\",\"トーン7\",キー割付!S196=\"トーン7\",\"トーン7\",キー割付!S196=\"無鳴動着信\",\"トーン8\",キー割付!S196=\"グリーンスリーブス\",\"メロディ1\",キー割付!S196=\"峠の我が家\",\"メロディ2\",キー割付!S196=\"カノン\",\"メロディ3\",キー割付!S196=\"春の歌\",\"メロディ4\",キー割付!S196=\"主よ人の望みの喜びよ\",\"メロディ5\",キー割付!S196=\"メヌエット\",\"メロディ6\",キー割付!S196=\"華麗なる大円舞曲\",\"メロディ7\",キー割付!S196=\"ハンガリア舞曲第5番\",\"メロディ8\",TRUE,\"トーン1\"))","v":"トーン1"},{"$f":"IF(E40=\"ZX-DECLDIV-IPコードレス電話機\",\"トーン1\",_xlfn.IFS(キー割付!N204=\"着信音なし\",\"トーン1\",キー割付!N204=\"トーン1\",\"トーン1\",キー割付!N204=\"トーン2\",\"トーン2\",キー割付!N204=\"トーン3\",\"トーン3\",キー割付!N204=\"トーン4\",\"トーン4\",キー割付!N204=\"トーン5\",\"トーン5\",キー割付!N204=\"トーン6\",\"トーン6\",キー割付!N204=\"トーン7\",\"トーン7\",キー割付!N204=\"トーン7\",\"トーン7\",キー割付!N204=\"無鳴動着信\",\"トーン8\",キー割付!N204=\"グリーンスリーブス\",\"メロディ1\",キー割付!N204=\"峠の我が家\",\"メロディ2\",キー割付!N204=\"カノン\",\"メロディ3\",キー割付!N204=\"春の歌\",\"メロディ4\",キー割付!N204=\"主よ人の望みの喜びよ\",\"メロディ5\",キー割付!N204=\"メヌエット\",\"メロディ6\",キー割付!N204=\"華麗なる大円舞曲\",\"メロディ7\",キー割付!N204=\"ハンガリア舞曲第5番\",\"メロディ8\",TRUE,\"トーン1\"))","v":"トーン1"},{"$f":"IF(E40=\"ZX-DECLDIV-IPコードレス電話機\",\"トーン1\",_xlfn.IFS(キー割付!O204=\"着信音なし\",\"トーン1\",キー割付!O204=\"トーン1\",\"トーン1\",キー割付!O204=\"トーン2\",\"トーン2\",キー割付!O204=\"トーン3\",\"トーン3\",キー割付!O204=\"トーン4\",\"トーン4\",キー割付!O204=\"トーン5\",\"トーン5\",キー割付!O204=\"トーン6\",\"トーン6\",キー割付!O204=\"トーン7\",\"トーン7\",キー割付!O204=\"トーン7\",\"トーン7\",キー割付!O204=\"無鳴動着信\",\"トーン8\",キー割付!O204=\"グリーンスリーブス\",\"メロディ1\",キー割付!O204=\"峠の我が家\",\"メロディ2\",キー割付!O204=\"カノン\",\"メロディ3\",キー割付!O204=\"春の歌\",\"メロディ4\",キー割付!O204=\"主よ人の望みの喜びよ\",\"メロディ5\",キー割付!O204=\"メヌエット\",\"メロディ6\",キー割付!O204=\"華麗なる大円舞曲\",\"メロディ7\",キー割付!O204=\"ハンガリア舞曲第5番\",\"メロディ8\",TRUE,\"トーン1\"))","v":"トーン1"},{"$f":"IF(E40=\"ZX-DECLDIV-IPコードレス電話機\",\"トーン1\",_xlfn.IFS(キー割付!P204=\"着信音なし\",\"トーン1\",キー割付!P204=\"トーン1\",\"トーン1\",キー割付!P204=\"トーン2\",\"トーン2\",キー割付!P204=\"トーン3\",\"トーン3\",キー割付!P204=\"トーン4\",\"トーン4\",キー割付!P204=\"トーン5\",\"トーン5\",キー割付!P204=\"トーン6\",\"トーン6\",キー割付!P204=\"トーン7\",\"トーン7\",キー割付!P204=\"トーン7\",\"トーン7\",キー割付!P204=\"無鳴動着信\",\"トーン8\",キー割付!P204=\"グリーンスリーブス\",\"メロディ1\",キー割付!P204=\"峠の我が家\",\"メロディ2\",キー割付!P204=\"カノン\",\"メロディ3\",キー割付!P204=\"春の歌\",\"メロディ4\",キー割付!P204=\"主よ人の望みの喜びよ\",\"メロディ5\",キー割付!P204=\"メヌエット\",\"メロディ6\",キー割付!P204=\"華麗なる大円舞曲\",\"メロディ7\",キー割付!P204=\"ハンガリア舞曲第5番\",\"メロディ8\",TRUE,\"トーン1\"))","v":"トーン1"},{"$f":"IF(E40=\"ZX-DECLDIV-IPコードレス電話機\",\"トーン1\",_xlfn.IFS(キー割付!Q204=\"着信音なし\",\"トーン1\",キー割付!Q204=\"トーン1\",\"トーン1\",キー割付!Q204=\"トーン2\",\"トーン2\",キー割付!Q204=\"トーン3\",\"トーン3\",キー割付!Q204=\"トーン4\",\"トーン4\",キー割付!Q204=\"トーン5\",\"トーン5\",キー割付!Q204=\"トーン6\",\"トーン6\",キー割付!Q204=\"トーン7\",\"トーン7\",キー割付!Q204=\"トーン7\",\"トーン7\",キー割付!Q204=\"無鳴動着信\",\"トーン8\",キー割付!Q204=\"グリーンスリーブス\",\"メロディ1\",キー割付!Q204=\"峠の我が家\",\"メロディ2\",キー割付!Q204=\"カノン\",\"メロディ3\",キー割付!Q204=\"春の歌\",\"メロディ4\",キー割付!Q204=\"主よ人の望みの喜びよ\",\"メロディ5\",キー割付!Q204=\"メヌエット\",\"メロディ6\",キー割付!Q204=\"華麗なる大円舞曲\",\"メロディ7\",キー割付!Q204=\"ハンガリア舞曲第5番\",\"メロディ8\",TRUE,\"トーン1\"))","v":"トーン1"},{"$f":"IF(E40=\"ZX-DECLDIV-IPコードレス電話機\",\"トーン1\",_xlfn.IFS(キー割付!R204=\"着信音なし\",\"トーン1\",キー割付!R204=\"トーン1\",\"トーン1\",キー割付!R204=\"トーン2\",\"トーン2\",キー割付!R204=\"トーン3\",\"トーン3\",キー割付!R204=\"トーン4\",\"トーン4\",キー割付!R204=\"トーン5\",\"トーン5\",キー割付!R204=\"トーン6\",\"トーン6\",キー割付!R204=\"トーン7\",\"トーン7\",キー割付!R204=\"トーン7\",\"トーン7\",キー割付!R204=\"無鳴動着信\",\"トーン8\",キー割付!R204=\"グリーンスリーブス\",\"メロディ1\",キー割付!R204=\"峠の我が家\",\"メロディ2\",キー割付!R204=\"カノン\",\"メロディ3\",キー割付!R204=\"春の歌\",\"メロディ4\",キー割付!R204=\"主よ人の望みの喜びよ\",\"メロディ5\",キー割付!R204=\"メヌエット\",\"メロディ6\",キー割付!R204=\"華麗なる大円舞曲\",\"メロディ7\",キー割付!R204=\"ハンガリア舞曲第5番\",\"メロディ8\",TRUE,\"トーン1\"))","v":"トーン1"},{"$f":"IF(E40=\"ZX-DECLDIV-IPコードレス電話機\",\"トーン1\",_xlfn.IFS(キー割付!S204=\"着信音なし\",\"トーン1\",キー割付!S204=\"トーン1\",\"トーン1\",キー割付!S204=\"トーン2\",\"トーン2\",キー割付!S204=\"トーン3\",\"トーン3\",キー割付!S204=\"トーン4\",\"トーン4\",キー割付!S204=\"トーン5\",\"トーン5\",キー割付!S204=\"トーン6\",\"トーン6\",キー割付!S204=\"トーン7\",\"トーン7\",キー割付!S204=\"トーン7\",\"トーン7\",キー割付!S204=\"無鳴動着信\",\"トーン8\",キー割付!S204=\"グリーンスリーブス\",\"メロディ1\",キー割付!S204=\"峠の我が家\",\"メロディ2\",キー割付!S204=\"カノン\",\"メロディ3\",キー割付!S204=\"春の歌\",\"メロディ4\",キー割付!S204=\"主よ人の望みの喜びよ\",\"メロディ5\",キー割付!S204=\"メヌエット\",\"メロディ6\",キー割付!S204=\"華麗なる大円舞曲\",\"メロディ7\",キー割付!S204=\"ハンガリア舞曲第5番\",\"メロディ8\",TRUE,\"トーン1\"))","v":"トーン1"},{"$f":"IF(E40=\"ZX-DECLDIV-IPコードレス電話機\",\"トーン1\",_xlfn.IFS(キー割付!N212=\"着信音なし\",\"トーン1\",キー割付!N212=\"トーン1\",\"トーン1\",キー割付!N212=\"トーン2\",\"トーン2\",キー割付!N212=\"トーン3\",\"トーン3\",キー割付!N212=\"トーン4\",\"トーン4\",キー割付!N212=\"トーン5\",\"トーン5\",キー割付!N212=\"トーン6\",\"トーン6\",キー割付!N212=\"トーン7\",\"トーン7\",キー割付!N212=\"トーン7\",\"トーン7\",キー割付!N212=\"無鳴動着信\",\"トーン8\",キー割付!N212=\"グリーンスリーブス\",\"メロディ1\",キー割付!N212=\"峠の我が家\",\"メロディ2\",キー割付!N212=\"カノン\",\"メロディ3\",キー割付!N212=\"春の歌\",\"メロディ4\",キー割付!N212=\"主よ人の望みの喜びよ\",\"メロディ5\",キー割付!N212=\"メヌエット\",\"メロディ6\",キー割付!N212=\"華麗なる大円舞曲\",\"メロディ7\",キー割付!N212=\"ハンガリア舞曲第5番\",\"メロディ8\",TRUE,\"トーン1\"))","v":"トーン1"},{"$f":"IF(E40=\"ZX-DECLDIV-IPコードレス電話機\",\"トーン1\",_xlfn.IFS(キー割付!O212=\"着信音なし\",\"トーン1\",キー割付!O212=\"トーン1\",\"トーン1\",キー割付!O212=\"トーン2\",\"トーン2\",キー割付!O212=\"トーン3\",\"トーン3\",キー割付!O212=\"トーン4\",\"トーン4\",キー割付!O212=\"トーン5\",\"トーン5\",キー割付!O212=\"トーン6\",\"トーン6\",キー割付!O212=\"トーン7\",\"トーン7\",キー割付!O212=\"トーン7\",\"トーン7\",キー割付!O212=\"無鳴動着信\",\"トーン8\",キー割付!O212=\"グリーンスリーブス\",\"メロディ1\",キー割付!O212=\"峠の我が家\",\"メロディ2\",キー割付!O212=\"カノン\",\"メロディ3\",キー割付!O212=\"春の歌\",\"メロディ4\",キー割付!O212=\"主よ人の望みの喜びよ\",\"メロディ5\",キー割付!O212=\"メヌエット\",\"メロディ6\",キー割付!O212=\"華麗なる大円舞曲\",\"メロディ7\",キー割付!O212=\"ハンガリア舞曲第5番\",\"メロディ8\",TRUE,\"トーン1\"))","v":"トーン1"},{"$f":"IF(E40=\"ZX-DECLDIV-IPコードレス電話機\",\"トーン1\",_xlfn.IFS(キー割付!P212=\"着信音なし\",\"トーン1\",キー割付!P212=\"トーン1\",\"トーン1\",キー割付!P212=\"トーン2\",\"トーン2\",キー割付!P212=\"トーン3\",\"トーン3\",キー割付!P212=\"トーン4\",\"トーン4\",キー割付!P212=\"トーン5\",\"トーン5\",キー割付!P212=\"トーン6\",\"トーン6\",キー割付!P212=\"トーン7\",\"トーン7\",キー割付!P212=\"トーン7\",\"トーン7\",キー割付!P212=\"無鳴動着信\",\"トーン8\",キー割付!P212=\"グリーンスリーブス\",\"メロディ1\",キー割付!P212=\"峠の我が家\",\"メロディ2\",キー割付!P212=\"カノン\",\"メロディ3\",キー割付!P212=\"春の歌\",\"メロディ4\",キー割付!P212=\"主よ人の望みの喜びよ\",\"メロディ5\",キー割付!P212=\"メヌエット\",\"メロディ6\",キー割付!P212=\"華麗なる大円舞曲\",\"メロディ7\",キー割付!P212=\"ハンガリア舞曲第5番\",\"メロディ8\",TRUE,\"トーン1\"))","v":"トーン1"},{"$f":"IF(E40=\"ZX-DECLDIV-IPコードレス電話機\",\"トーン1\",_xlfn.IFS(キー割付!Q212=\"着信音なし\",\"トーン1\",キー割付!Q212=\"トーン1\",\"トーン1\",キー割付!Q212=\"トーン2\",\"トーン2\",キー割付!Q212=\"トーン3\",\"トーン3\",キー割付!Q212=\"トーン4\",\"トーン4\",キー割付!Q212=\"トーン5\",\"トーン5\",キー割付!Q212=\"トーン6\",\"トーン6\",キー割付!Q212=\"トーン7\",\"トーン7\",キー割付!Q212=\"トーン7\",\"トーン7\",キー割付!Q212=\"無鳴動着信\",\"トーン8\",キー割付!Q212=\"グリーンスリーブス\",\"メロディ1\",キー割付!Q212=\"峠の我が家\",\"メロディ2\",キー割付!Q212=\"カノン\",\"メロディ3\",キー割付!Q212=\"春の歌\",\"メロディ4\",キー割付!Q212=\"主よ人の望みの喜びよ\",\"メロディ5\",キー割付!Q212=\"メヌエット\",\"メロディ6\",キー割付!Q212=\"華麗なる大円舞曲\",\"メロディ7\",キー割付!Q212=\"ハンガリア舞曲第5番\",\"メロディ8\",TRUE,\"トーン1\"))","v":"トーン1"},{"$f":"IF(E40=\"ZX-DECLDIV-IPコードレス電話機\",\"トーン1\",_xlfn.IFS(キー割付!R212=\"着信音なし\",\"トーン1\",キー割付!R212=\"トーン1\",\"トーン1\",キー割付!R212=\"トーン2\",\"トーン2\",キー割付!R212=\"トーン3\",\"トーン3\",キー割付!R212=\"トーン4\",\"トーン4\",キー割付!R212=\"トーン5\",\"トーン5\",キー割付!R212=\"トーン6\",\"トーン6\",キー割付!R212=\"トーン7\",\"トーン7\",キー割付!R212=\"トーン7\",\"トーン7\",キー割付!R212=\"無鳴動着信\",\"トーン8\",キー割付!R212=\"グリーンスリーブス\",\"メロディ1\",キー割付!R212=\"峠の我が家\",\"メロディ2\",キー割付!R212=\"カノン\",\"メロディ3\",キー割付!R212=\"春の歌\",\"メロディ4\",キー割付!R212=\"主よ人の望みの喜びよ\",\"メロディ5\",キー割付!R212=\"メヌエット\",\"メロディ6\",キー割付!R212=\"華麗なる大円舞曲\",\"メロディ7\",キー割付!R212=\"ハンガリア舞曲第5番\",\"メロディ8\",TRUE,\"トーン1\"))","v":"トーン1"},{"$f":"IF(E40=\"ZX-DECLDIV-IPコードレス電話機\",\"トーン1\",_xlfn.IFS(キー割付!S212=\"着信音なし\",\"トーン1\",キー割付!S212=\"トーン1\",\"トーン1\",キー割付!S212=\"トーン2\",\"トーン2\",キー割付!S212=\"トーン3\",\"トーン3\",キー割付!S212=\"トーン4\",\"トーン4\",キー割付!S212=\"トーン5\",\"トーン5\",キー割付!S212=\"トーン6\",\"トーン6\",キー割付!S212=\"トーン7\",\"トーン7\",キー割付!S212=\"トーン7\",\"トーン7\",キー割付!S212=\"無鳴動着信\",\"トーン8\",キー割付!S212=\"グリーンスリーブス\",\"メロディ1\",キー割付!S212=\"峠の我が家\",\"メロディ2\",キー割付!S212=\"カノン\",\"メロディ3\",キー割付!S212=\"春の歌\",\"メロディ4\",キー割付!S212=\"主よ人の望みの喜びよ\",\"メロディ5\",キー割付!S212=\"メヌエット\",\"メロディ6\",キー割付!S212=\"華麗なる大円舞曲\",\"メロディ7\",キー割付!S212=\"ハンガリア舞曲第5番\",\"メロディ8\",TRUE,\"トーン1\"))","v":"トーン1"}]
[null,null,null,null,null,{"$f":"_xlfn.IFS(キー割付!N189=\"昼夜休憩\",\"B\",キー割付!N189=\"－－－\",\"-\",キー割付!N189=\"昼－－\",\"H\",キー割付!N189=\"－夜－\",\"N\",キー割付!N189=\"－－休憩\",\"P\",キー割付!N189=\"昼夜－\",\"N\",キー割付!N189=\"昼－休憩\",\"F\",キー割付!N189=\"－夜休憩\",\"K\",TRUE,\"-\")","v":"-"},{"$f":"_xlfn.IFS(キー割付!O189=\"昼夜休憩\",\"B\",キー割付!O189=\"－－－\",\"-\",キー割付!O189=\"昼－－\",\"H\",キー割付!O189=\"－夜－\",\"N\",キー割付!O189=\"－－休憩\",\"P\",キー割付!O189=\"昼夜－\",\"N\",キー割付!O189=\"昼－休憩\",\"F\",キー割付!O189=\"－夜休憩\",\"K\",TRUE,\"-\")","v":"-"},{"$f":"_xlfn.IFS(キー割付!P189=\"昼夜休憩\",\"B\",キー割付!P189=\"－－－\",\"-\",キー割付!P189=\"昼－－\",\"H\",キー割付!P189=\"－夜－\",\"N\",キー割付!P189=\"－－休憩\",\"P\",キー割付!P189=\"昼夜－\",\"N\",キー割付!P189=\"昼－休憩\",\"F\",キー割付!P189=\"－夜休憩\",\"K\",TRUE,\"-\")","v":"-"},{"$f":"_xlfn.IFS(キー割付!Q189=\"昼夜休憩\",\"B\",キー割付!Q189=\"－－－\",\"-\",キー割付!Q189=\"昼－－\",\"H\",キー割付!Q189=\"－夜－\",\"N\",キー割付!Q189=\"－－休憩\",\"P\",キー割付!Q189=\"昼夜－\",\"N\",キー割付!Q189=\"昼－休憩\",\"F\",キー割付!Q189=\"－夜休憩\",\"K\",TRUE,\"-\")","v":"-"},{"$f":"_xlfn.IFS(キー割付!R189=\"昼夜休憩\",\"B\",キー割付!R189=\"－－－\",\"-\",キー割付!R189=\"昼－－\",\"H\",キー割付!R189=\"－夜－\",\"N\",キー割付!R189=\"－－休憩\",\"P\",キー割付!R189=\"昼夜－\",\"N\",キー割付!R189=\"昼－休憩\",\"F\",キー割付!R189=\"－夜休憩\",\"K\",TRUE,\"-\")","v":"-"},{"$f":"_xlfn.IFS(キー割付!S189=\"昼夜休憩\",\"B\",キー割付!S189=\"－－－\",\"-\",キー割付!S189=\"昼－－\",\"H\",キー割付!S189=\"－夜－\",\"N\",キー割付!S189=\"－－休憩\",\"P\",キー割付!S189=\"昼夜－\",\"N\",キー割付!S189=\"昼－休憩\",\"F\",キー割付!S189=\"－夜休憩\",\"K\",TRUE,\"-\")","v":"-"},{"$f":"_xlfn.IFS(キー割付!N197=\"昼夜休憩\",\"B\",キー割付!N197=\"－－－\",\"-\",キー割付!N197=\"昼－－\",\"H\",キー割付!N197=\"－夜－\",\"N\",キー割付!N197=\"－－休憩\",\"P\",キー割付!N197=\"昼夜－\",\"N\",キー割付!N197=\"昼－休憩\",\"F\",キー割付!N197=\"－夜休憩\",\"K\",TRUE,\"-\")","v":"-"},{"$f":"_xlfn.IFS(キー割付!O197=\"昼夜休憩\",\"B\",キー割付!O197=\"－－－\",\"-\",キー割付!O197=\"昼－－\",\"H\",キー割付!O197=\"－夜－\",\"N\",キー割付!O197=\"－－休憩\",\"P\",キー割付!O197=\"昼夜－\",\"N\",キー割付!O197=\"昼－休憩\",\"F\",キー割付!O197=\"－夜休憩\",\"K\",TRUE,\"-\")","v":"-"},{"$f":"IF(E40=\"ZX-DECLDIV-IPコードレス電話機\",\"-\",_xlfn.IFS(キー割付!P197=\"昼夜休憩\",\"B\",キー割付!P197=\"－－－\",\"-\",キー割付!P197=\"昼－－\",\"H\",キー割付!P197=\"－夜－\",\"N\",キー割付!P197=\"－－休憩\",\"P\",キー割付!P197=\"昼夜－\",\"N\",キー割付!P197=\"昼－休憩\",\"F\",キー割付!P197=\"－夜休憩\",\"K\",TRUE,\"-\"))","v":"-"},{"$f":"IF(E40=\"ZX-DECLDIV-IPコードレス電話機\",\"-\",_xlfn.IFS(キー割付!Q197=\"昼夜休憩\",\"B\",キー割付!Q197=\"－－－\",\"-\",キー割付!Q197=\"昼－－\",\"H\",キー割付!Q197=\"－夜－\",\"N\",キー割付!Q197=\"－－休憩\",\"P\",キー割付!Q197=\"昼夜－\",\"N\",キー割付!Q197=\"昼－休憩\",\"F\",キー割付!Q197=\"－夜休憩\",\"K\",TRUE,\"-\"))","v":"-"},{"$f":"IF(E40=\"ZX-DECLDIV-IPコードレス電話機\",\"-\",_xlfn.IFS(キー割付!R197=\"昼夜休憩\",\"B\",キー割付!R197=\"－－－\",\"-\",キー割付!R197=\"昼－－\",\"H\",キー割付!R197=\"－夜－\",\"N\",キー割付!R197=\"－－休憩\",\"P\",キー割付!R197=\"昼夜－\",\"N\",キー割付!R197=\"昼－休憩\",\"F\",キー割付!R197=\"－夜休憩\",\"K\",TRUE,\"-\"))","v":"-"},{"$f":"IF(E40=\"ZX-DECLDIV-IPコードレス電話機\",\"-\",_xlfn.IFS(キー割付!S197=\"昼夜休憩\",\"B\",キー割付!S197=\"－－－\",\"-\",キー割付!S197=\"昼－－\",\"H\",キー割付!S197=\"－夜－\",\"N\",キー割付!S197=\"－－休憩\",\"P\",キー割付!S197=\"昼夜－\",\"N\",キー割付!S197=\"昼－休憩\",\"F\",キー割付!S197=\"－夜休憩\",\"K\",TRUE,\"-\"))","v":"-"},{"$f":"IF(E40=\"ZX-DECLDIV-IPコードレス電話機\",\"-\",_xlfn.IFS(キー割付!N205=\"昼夜休憩\",\"B\",キー割付!N205=\"－－－\",\"-\",キー割付!N205=\"昼－－\",\"H\",キー割付!N205=\"－夜－\",\"N\",キー割付!N205=\"－－休憩\",\"P\",キー割付!N205=\"昼夜－\",\"N\",キー割付!N205=\"昼－休憩\",\"F\",キー割付!N205=\"－夜休憩\",\"K\",TRUE,\"-\"))","v":"-"},{"$f":"IF(E40=\"ZX-DECLDIV-IPコードレス電話機\",\"-\",_xlfn.IFS(キー割付!O205=\"昼夜休憩\",\"B\",キー割付!O205=\"－－－\",\"-\",キー割付!O205=\"昼－－\",\"H\",キー割付!O205=\"－夜－\",\"N\",キー割付!O205=\"－－休憩\",\"P\",キー割付!O205=\"昼夜－\",\"N\",キー割付!O205=\"昼－休憩\",\"F\",キー割付!O205=\"－夜休憩\",\"K\",TRUE,\"-\"))","v":"-"},{"$f":"IF(E40=\"ZX-DECLDIV-IPコードレス電話機\",\"-\",_xlfn.IFS(キー割付!P205=\"昼夜休憩\",\"B\",キー割付!P205=\"－－－\",\"-\",キー割付!P205=\"昼－－\",\"H\",キー割付!P205=\"－夜－\",\"N\",キー割付!P205=\"－－休憩\",\"P\",キー割付!P205=\"昼夜－\",\"N\",キー割付!P205=\"昼－休憩\",\"F\",キー割付!P205=\"－夜休憩\",\"K\",TRUE,\"-\"))","v":"-"},{"$f":"IF(E40=\"ZX-DECLDIV-IPコードレス電話機\",\"-\",_xlfn.IFS(キー割付!Q205=\"昼夜休憩\",\"B\",キー割付!Q205=\"－－－\",\"-\",キー割付!Q205=\"昼－－\",\"H\",キー割付!Q205=\"－夜－\",\"N\",キー割付!Q205=\"－－休憩\",\"P\",キー割付!Q205=\"昼夜－\",\"N\",キー割付!Q205=\"昼－休憩\",\"F\",キー割付!Q205=\"－夜休憩\",\"K\",TRUE,\"-\"))","v":"-"},{"$f":"IF(E40=\"ZX-DECLDIV-IPコードレス電話機\",\"-\",_xlfn.IFS(キー割付!R205=\"昼夜休憩\",\"B\",キー割付!R205=\"－－－\",\"-\",キー割付!R205=\"昼－－\",\"H\",キー割付!R205=\"－夜－\",\"N\",キー割付!R205=\"－－休憩\",\"P\",キー割付!R205=\"昼夜－\",\"N\",キー割付!R205=\"昼－休憩\",\"F\",キー割付!R205=\"－夜休憩\",\"K\",TRUE,\"-\"))","v":"-"},{"$f":"IF(E40=\"ZX-DECLDIV-IPコードレス電話機\",\"-\",_xlfn.IFS(キー割付!S205=\"昼夜休憩\",\"B\",キー割付!S205=\"－－－\",\"-\",キー割付!S205=\"昼－－\",\"H\",キー割付!S205=\"－夜－\",\"N\",キー割付!S205=\"－－休憩\",\"P\",キー割付!S205=\"昼夜－\",\"N\",キー割付!S205=\"昼－休憩\",\"F\",キー割付!S205=\"－夜休憩\",\"K\",TRUE,\"-\"))","v":"-"},{"$f":"IF(E40=\"ZX-DECLDIV-IPコードレス電話機\",\"-\",_xlfn.IFS(キー割付!N213=\"昼夜休憩\",\"B\",キー割付!N213=\"－－－\",\"-\",キー割付!N213=\"昼－－\",\"H\",キー割付!N213=\"－夜－\",\"N\",キー割付!N213=\"－－休憩\",\"P\",キー割付!N213=\"昼夜－\",\"N\",キー割付!N213=\"昼－休憩\",\"F\",キー割付!N213=\"－夜休憩\",\"K\",TRUE,\"-\"))","v":"-"},{"$f":"IF(E40=\"ZX-DECLDIV-IPコードレス電話機\",\"-\",_xlfn.IFS(キー割付!O213=\"昼夜休憩\",\"B\",キー割付!O213=\"－－－\",\"-\",キー割付!O213=\"昼－－\",\"H\",キー割付!O213=\"－夜－\",\"N\",キー割付!O213=\"－－休憩\",\"P\",キー割付!O213=\"昼夜－\",\"N\",キー割付!O213=\"昼－休憩\",\"F\",キー割付!O213=\"－夜休憩\",\"K\",TRUE,\"-\"))","v":"-"},{"$f":"IF(E40=\"ZX-DECLDIV-IPコードレス電話機\",\"-\",_xlfn.IFS(キー割付!P213=\"昼夜休憩\",\"B\",キー割付!P213=\"－－－\",\"-\",キー割付!P213=\"昼－－\",\"H\",キー割付!P213=\"－夜－\",\"N\",キー割付!P213=\"－－休憩\",\"P\",キー割付!P213=\"昼夜－\",\"N\",キー割付!P213=\"昼－休憩\",\"F\",キー割付!P213=\"－夜休憩\",\"K\",TRUE,\"-\"))","v":"-"},{"$f":"IF(E40=\"ZX-DECLDIV-IPコードレス電話機\",\"-\",_xlfn.IFS(キー割付!Q213=\"昼夜休憩\",\"B\",キー割付!Q213=\"－－－\",\"-\",キー割付!Q213=\"昼－－\",\"H\",キー割付!Q213=\"－夜－\",\"N\",キー割付!Q213=\"－－休憩\",\"P\",キー割付!Q213=\"昼夜－\",\"N\",キー割付!Q213=\"昼－休憩\",\"F\",キー割付!Q213=\"－夜休憩\",\"K\",TRUE,\"-\"))","v":"-"},{"$f":"IF(E40=\"ZX-DECLDIV-IPコードレス電話機\",\"-\",_xlfn.IFS(キー割付!R213=\"昼夜休憩\",\"B\",キー割付!R213=\"－－－\",\"-\",キー割付!R213=\"昼－－\",\"H\",キー割付!R213=\"－夜－\",\"N\",キー割付!R213=\"－－休憩\",\"P\",キー割付!R213=\"昼夜－\",\"N\",キー割付!R213=\"昼－休憩\",\"F\",キー割付!R213=\"－夜休憩\",\"K\",TRUE,\"-\"))","v":"-"},{"$f":"IF(E40=\"ZX-DECLDIV-IPコードレス電話機\",\"-\",_xlfn.IFS(キー割付!S213=\"昼夜休憩\",\"B\",キー割付!S213=\"－－－\",\"-\",キー割付!S213=\"昼－－\",\"H\",キー割付!S213=\"－夜－\",\"N\",キー割付!S213=\"－－休憩\",\"P\",キー割付!S213=\"昼夜－\",\"N\",キー割付!S213=\"昼－休憩\",\"F\",キー割付!S213=\"－夜休憩\",\"K\",TRUE,\"-\"))","v":"-"}]
[null,13,{"$f":"IF(IFERROR(VALUE(VLOOKUP(B43,内線_キー割用,2,FALSE)),\"\")=0,\"\",IFERROR(VALUE(VLOOKUP(B43,内線_キー割用,2,FALSE)),\"\"))","v":""},{"$f":"IF(IFERROR(VALUE(VLOOKUP(B43,内線_キー割用,4,FALSE)),\"\")=0,\"\",IFERROR(VALUE(VLOOKUP(B43,内線_キー割用,4,FALSE)),\"\"))","v":""},{"$f":"IF(IFERROR(VLOOKUP(B43,内線_キー割用,3,FALSE),\"\")=0,\"\",IFERROR(VLOOKUP(B43,内線_キー割用,3,FALSE),\"\"))","v":""},{"$f":"IF(キー割付!D223=\"\",\"未使用\",キー割付!D223)","v":"未使用"},{"$f":"IF(キー割付!E223=\"\",\"未使用\",キー割付!E223)","v":"未使用"},{"$f":"IF(キー割付!F223=\"\",\"未使用\",キー割付!F223)","v":"未使用"},{"$f":"IF(キー割付!G223=\"\",\"未使用\",キー割付!G223)","v":"未使用"},{"$f":"IF(キー割付!H223=\"\",\"未使用\",キー割付!H223)","v":"未使用"},{"$f":"IF(キー割付!I223=\"\",\"未使用\",キー割付!I223)","v":"未使用"},{"$f":"IF(キー割付!D231=\"\",\"未使用\",キー割付!D231)","v":"未使用"},{"$f":"IF(キー割付!E231=\"\",\"未使用\",キー割付!E231)","v":"未使用"},{"$f":"IF(E43=\"ZX-DECLDIV-IPコードレス電話機\",\"未使用\",IF(キー割付!F231=\"\",\"未使用\",キー割付!F231))","v":"未使用"},{"$f":"IF(E43=\"ZX-DECLDIV-IPコードレス電話機\",\"未使用\",IF(キー割付!G231=\"\",\"未使用\",キー割付!G231))","v":"未使用"},{"$f":"IF(E43=\"ZX-DECLDIV-IPコードレス電話機\",\"未使用\",IF(キー割付!H231=\"\",\"未使用\",キー割付!H231))","v":"未使用"},{"$f":"IF(E43=\"ZX-DECLDIV-IPコードレス電話機\",\"未使用\",IF(キー割付!I231=\"\",\"未使用\",キー割付!I231))","v":"未使用"},{"$f":"IF(E43=\"ZX-DECLDIV-IPコードレス電話機\",\"未使用\",IF(キー割付!D239=\"\",\"未使用\",キー割付!D239))","v":"未使用"},{"$f":"IF(E43=\"ZX-DECLDIV-IPコードレス電話機\",\"未使用\",IF(キー割付!E239=\"\",\"未使用\",キー割付!E239))","v":"未使用"},{"$f":"IF(E43=\"ZX-DECLDIV-IPコードレス電話機\",\"未使用\",IF(キー割付!F239=\"\",\"未使用\",キー割付!F239))","v":"未使用"},{"$f":"IF(E43=\"ZX-DECLDIV-IPコードレス電話機\",\"未使用\",IF(キー割付!G239=\"\",\"未使用\",キー割付!G239))","v":"未使用"},{"$f":"IF(E43=\"ZX-DECLDIV-IPコードレス電話機\",\"未使用\",IF(キー割付!H239=\"\",\"未使用\",キー割付!H239))","v":"未使用"},{"$f":"IF(E43=\"ZX-DECLDIV-IPコードレス電話機\",\"未使用\",IF(キー割付!I239=\"\",\"未使用\",キー割付!I239))","v":"未使用"},{"$f":"IF(E43=\"ZX-DECLDIV-IPコードレス電話機\",\"未使用\",IF(キー割付!D247=\"\",\"未使用\",キー割付!D247))","v":"未使用"},{"$f":"IF(E43=\"ZX-DECLDIV-IPコードレス電話機\",\"未使用\",IF(キー割付!E247=\"\",\"未使用\",キー割付!E247))","v":"未使用"},{"$f":"IF(E43=\"ZX-DECLDIV-IPコードレス電話機\",\"未使用\",IF(キー割付!F247=\"\",\"未使用\",キー割付!F247))","v":"未使用"},{"$f":"IF(E43=\"ZX-DECLDIV-IPコードレス電話機\",\"未使用\",IF(キー割付!G247=\"\",\"未使用\",キー割付!G247))","v":"未使用"},{"$f":"IF(E43=\"ZX-DECLDIV-IPコードレス電話機\",\"未使用\",IF(キー割付!H247=\"\",\"未使用\",キー割付!H247))","v":"未使用"},{"$f":"IF(E43=\"ZX-DECLDIV-IPコードレス電話機\",\"未使用\",IF(キー割付!I247=\"\",\"未使用\",キー割付!I247))","v":"未使用"}]
[null,null,null,null,null,{"$f":"_xlfn.IFS(キー割付!D224=\"着信音なし\",\"トーン1\",キー割付!D224=\"トーン1\",\"トーン1\",キー割付!D224=\"トーン2\",\"トーン2\",キー割付!D224=\"トーン3\",\"トーン3\",キー割付!D224=\"トーン4\",\"トーン4\",キー割付!D224=\"トーン5\",\"トーン5\",キー割付!D224=\"トーン6\",\"トーン6\",キー割付!D224=\"トーン7\",\"トーン7\",キー割付!D224=\"トーン7\",\"トーン7\",キー割付!D224=\"無鳴動着信\",\"トーン8\",キー割付!D224=\"グリーンスリーブス\",\"メロディ1\",キー割付!D224=\"峠の我が家\",\"メロディ2\",キー割付!D224=\"カノン\",\"メロディ3\",キー割付!D224=\"春の歌\",\"メロディ4\",キー割付!D224=\"主よ人の望みの喜びよ\",\"メロディ5\",キー割付!D224=\"メヌエット\",\"メロディ6\",キー割付!D224=\"華麗なる大円舞曲\",\"メロディ7\",キー割付!D224=\"ハンガリア舞曲第5番\",\"メロディ8\",TRUE,\"トーン1\")","v":"トーン1"},{"$f":"_xlfn.IFS(キー割付!E224=\"着信音なし\",\"トーン1\",キー割付!E224=\"トーン1\",\"トーン1\",キー割付!E224=\"トーン2\",\"トーン2\",キー割付!E224=\"トーン3\",\"トーン3\",キー割付!E224=\"トーン4\",\"トーン4\",キー割付!E224=\"トーン5\",\"トーン5\",キー割付!E224=\"トーン6\",\"トーン6\",キー割付!E224=\"トーン7\",\"トーン7\",キー割付!E224=\"トーン7\",\"トーン7\",キー割付!E224=\"無鳴動着信\",\"トーン8\",キー割付!E224=\"グリーンスリーブス\",\"メロディ1\",キー割付!E224=\"峠の我が家\",\"メロディ2\",キー割付!E224=\"カノン\",\"メロディ3\",キー割付!E224=\"春の歌\",\"メロディ4\",キー割付!E224=\"主よ人の望みの喜びよ\",\"メロディ5\",キー割付!E224=\"メヌエット\",\"メロディ6\",キー割付!E224=\"華麗なる大円舞曲\",\"メロディ7\",キー割付!E224=\"ハンガリア舞曲第5番\",\"メロディ8\",TRUE,\"トーン1\")","v":"トーン1"},{"$f":"_xlfn.IFS(キー割付!F224=\"着信音なし\",\"トーン1\",キー割付!F224=\"トーン1\",\"トーン1\",キー割付!F224=\"トーン2\",\"トーン2\",キー割付!F224=\"トーン3\",\"トーン3\",キー割付!F224=\"トーン4\",\"トーン4\",キー割付!F224=\"トーン5\",\"トーン5\",キー割付!F224=\"トーン6\",\"トーン6\",キー割付!F224=\"トーン7\",\"トーン7\",キー割付!F224=\"トーン7\",\"トーン7\",キー割付!F224=\"無鳴動着信\",\"トーン8\",キー割付!F224=\"グリーンスリーブス\",\"メロディ1\",キー割付!F224=\"峠の我が家\",\"メロディ2\",キー割付!F224=\"カノン\",\"メロディ3\",キー割付!F224=\"春の歌\",\"メロディ4\",キー割付!F224=\"主よ人の望みの喜びよ\",\"メロディ5\",キー割付!F224=\"メヌエット\",\"メロディ6\",キー割付!F224=\"華麗なる大円舞曲\",\"メロディ7\",キー割付!F224=\"ハンガリア舞曲第5番\",\"メロディ8\",TRUE,\"トーン1\")","v":"トーン1"},{"$f":"_xlfn.IFS(キー割付!G224=\"着信音なし\",\"トーン1\",キー割付!G224=\"トーン1\",\"トーン1\",キー割付!G224=\"トーン2\",\"トーン2\",キー割付!G224=\"トーン3\",\"トーン3\",キー割付!G224=\"トーン4\",\"トーン4\",キー割付!G224=\"トーン5\",\"トーン5\",キー割付!G224=\"トーン6\",\"トーン6\",キー割付!G224=\"トーン7\",\"トーン7\",キー割付!G224=\"トーン7\",\"トーン7\",キー割付!G224=\"無鳴動着信\",\"トーン8\",キー割付!G224=\"グリーンスリーブス\",\"メロディ1\",キー割付!G224=\"峠の我が家\",\"メロディ2\",キー割付!G224=\"カノン\",\"メロディ3\",キー割付!G224=\"春の歌\",\"メロディ4\",キー割付!G224=\"主よ人の望みの喜びよ\",\"メロディ5\",キー割付!G224=\"メヌエット\",\"メロディ6\",キー割付!G224=\"華麗なる大円舞曲\",\"メロディ7\",キー割付!G224=\"ハンガリア舞曲第5番\",\"メロディ8\",TRUE,\"トーン1\")","v":"トーン1"},{"$f":"_xlfn.IFS(キー割付!H224=\"着信音なし\",\"トーン1\",キー割付!H224=\"トーン1\",\"トーン1\",キー割付!H224=\"トーン2\",\"トーン2\",キー割付!H224=\"トーン3\",\"トーン3\",キー割付!H224=\"トーン4\",\"トーン4\",キー割付!H224=\"トーン5\",\"トーン5\",キー割付!H224=\"トーン6\",\"トーン6\",キー割付!H224=\"トーン7\",\"トーン7\",キー割付!H224=\"トーン7\",\"トーン7\",キー割付!H224=\"無鳴動着信\",\"トーン8\",キー割付!H224=\"グリーンスリーブス\",\"メロディ1\",キー割付!H224=\"峠の我が家\",\"メロディ2\",キー割付!H224=\"カノン\",\"メロディ3\",キー割付!H224=\"春の歌\",\"メロディ4\",キー割付!H224=\"主よ人の望みの喜びよ\",\"メロディ5\",キー割付!H224=\"メヌエット\",\"メロディ6\",キー割付!H224=\"華麗なる大円舞曲\",\"メロディ7\",キー割付!H224=\"ハンガリア舞曲第5番\",\"メロディ8\",TRUE,\"トーン1\")","v":"トーン1"},{"$f":"_xlfn.IFS(キー割付!I224=\"着信音なし\",\"トーン1\",キー割付!I224=\"トーン1\",\"トーン1\",キー割付!I224=\"トーン2\",\"トーン2\",キー割付!I224=\"トーン3\",\"トーン3\",キー割付!I224=\"トーン4\",\"トーン4\",キー割付!I224=\"トーン5\",\"トーン5\",キー割付!I224=\"トーン6\",\"トーン6\",キー割付!I224=\"トーン7\",\"トーン7\",キー割付!I224=\"トーン7\",\"トーン7\",キー割付!I224=\"無鳴動着信\",\"トーン8\",キー割付!I224=\"グリーンスリーブス\",\"メロディ1\",キー割付!I224=\"峠の我が家\",\"メロディ2\",キー割付!I224=\"カノン\",\"メロディ3\",キー割付!I224=\"春の歌\",\"メロディ4\",キー割付!I224=\"主よ人の望みの喜びよ\",\"メロディ5\",キー割付!I224=\"メヌエット\",\"メロディ6\",キー割付!I224=\"華麗なる大円舞曲\",\"メロディ7\",キー割付!I224=\"ハンガリア舞曲第5番\",\"メロディ8\",TRUE,\"トーン1\")","v":"トーン1"},{"$f":"_xlfn.IFS(キー割付!D232=\"着信音なし\",\"トーン1\",キー割付!D232=\"トーン1\",\"トーン1\",キー割付!D232=\"トーン2\",\"トーン2\",キー割付!D232=\"トーン3\",\"トーン3\",キー割付!D232=\"トーン4\",\"トーン4\",キー割付!D232=\"トーン5\",\"トーン5\",キー割付!D232=\"トーン6\",\"トーン6\",キー割付!D232=\"トーン7\",\"トーン7\",キー割付!D232=\"トーン7\",\"トーン7\",キー割付!D232=\"無鳴動着信\",\"トーン8\",キー割付!D232=\"グリーンスリーブス\",\"メロディ1\",キー割付!D232=\"峠の我が家\",\"メロディ2\",キー割付!D232=\"カノン\",\"メロディ3\",キー割付!D232=\"春の歌\",\"メロディ4\",キー割付!D232=\"主よ人の望みの喜びよ\",\"メロディ5\",キー割付!D232=\"メヌエット\",\"メロディ6\",キー割付!D232=\"華麗なる大円舞曲\",\"メロディ7\",キー割付!D232=\"ハンガリア舞曲第5番\",\"メロディ8\",TRUE,\"トーン1\")","v":"トーン1"},{"$f":"_xlfn.IFS(キー割付!E232=\"着信音なし\",\"トーン1\",キー割付!E232=\"トーン1\",\"トーン1\",キー割付!E232=\"トーン2\",\"トーン2\",キー割付!E232=\"トーン3\",\"トーン3\",キー割付!E232=\"トーン4\",\"トーン4\",キー割付!E232=\"トーン5\",\"トーン5\",キー割付!E232=\"トーン6\",\"トーン6\",キー割付!E232=\"トーン7\",\"トーン7\",キー割付!E232=\"トーン7\",\"トーン7\",キー割付!E232=\"無鳴動着信\",\"トーン8\",キー割付!E232=\"グリーンスリーブス\",\"メロディ1\",キー割付!E232=\"峠の我が家\",\"メロディ2\",キー割付!E232=\"カノン\",\"メロディ3\",キー割付!E232=\"春の歌\",\"メロディ4\",キー割付!E232=\"主よ人の望みの喜びよ\",\"メロディ5\",キー割付!E232=\"メヌエット\",\"メロディ6\",キー割付!E232=\"華麗なる大円舞曲\",\"メロディ7\",キー割付!E232=\"ハンガリア舞曲第5番\",\"メロディ8\",TRUE,\"トーン1\")","v":"トーン1"},{"$f":"IF(E43=\"ZX-DECLDIV-IPコードレス電話機\",\"トーン1\",_xlfn.IFS(キー割付!F232=\"着信音なし\",\"トーン1\",キー割付!F232=\"トーン1\",\"トーン1\",キー割付!F232=\"トーン2\",\"トーン2\",キー割付!F232=\"トーン3\",\"トーン3\",キー割付!F232=\"トーン4\",\"トーン4\",キー割付!F232=\"トーン5\",\"トーン5\",キー割付!F232=\"トーン6\",\"トーン6\",キー割付!F232=\"トーン7\",\"トーン7\",キー割付!F232=\"トーン7\",\"トーン7\",キー割付!F232=\"無鳴動着信\",\"トーン8\",キー割付!F232=\"グリーンスリーブス\",\"メロディ1\",キー割付!F232=\"峠の我が家\",\"メロディ2\",キー割付!F232=\"カノン\",\"メロディ3\",キー割付!F232=\"春の歌\",\"メロディ4\",キー割付!F232=\"主よ人の望みの喜びよ\",\"メロディ5\",キー割付!F232=\"メヌエット\",\"メロディ6\",キー割付!F232=\"華麗なる大円舞曲\",\"メロディ7\",キー割付!F232=\"ハンガリア舞曲第5番\",\"メロディ8\",TRUE,\"トーン1\"))","v":"トーン1"},{"$f":"IF(E43=\"ZX-DECLDIV-IPコードレス電話機\",\"トーン1\",_xlfn.IFS(キー割付!G232=\"着信音なし\",\"トーン1\",キー割付!G232=\"トーン1\",\"トーン1\",キー割付!G232=\"トーン2\",\"トーン2\",キー割付!G232=\"トーン3\",\"トーン3\",キー割付!G232=\"トーン4\",\"トーン4\",キー割付!G232=\"トーン5\",\"トーン5\",キー割付!G232=\"トーン6\",\"トーン6\",キー割付!G232=\"トーン7\",\"トーン7\",キー割付!G232=\"トーン7\",\"トーン7\",キー割付!G232=\"無鳴動着信\",\"トーン8\",キー割付!G232=\"グリーンスリーブス\",\"メロディ1\",キー割付!G232=\"峠の我が家\",\"メロディ2\",キー割付!G232=\"カノン\",\"メロディ3\",キー割付!G232=\"春の歌\",\"メロディ4\",キー割付!G232=\"主よ人の望みの喜びよ\",\"メロディ5\",キー割付!G232=\"メヌエット\",\"メロディ6\",キー割付!G232=\"華麗なる大円舞曲\",\"メロディ7\",キー割付!G232=\"ハンガリア舞曲第5番\",\"メロディ8\",TRUE,\"トーン1\"))","v":"トーン1"},{"$f":"IF(E43=\"ZX-DECLDIV-IPコードレス電話機\",\"トーン1\",_xlfn.IFS(キー割付!H232=\"着信音なし\",\"トーン1\",キー割付!H232=\"トーン1\",\"トーン1\",キー割付!H232=\"トーン2\",\"トーン2\",キー割付!H232=\"トーン3\",\"トーン3\",キー割付!H232=\"トーン4\",\"トーン4\",キー割付!H232=\"トーン5\",\"トーン5\",キー割付!H232=\"トーン6\",\"トーン6\",キー割付!H232=\"トーン7\",\"トーン7\",キー割付!H232=\"トーン7\",\"トーン7\",キー割付!H232=\"無鳴動着信\",\"トーン8\",キー割付!H232=\"グリーンスリーブス\",\"メロディ1\",キー割付!H232=\"峠の我が家\",\"メロディ2\",キー割付!H232=\"カノン\",\"メロディ3\",キー割付!H232=\"春の歌\",\"メロディ4\",キー割付!H232=\"主よ人の望みの喜びよ\",\"メロディ5\",キー割付!H232=\"メヌエット\",\"メロディ6\",キー割付!H232=\"華麗なる大円舞曲\",\"メロディ7\",キー割付!H232=\"ハンガリア舞曲第5番\",\"メロディ8\",TRUE,\"トーン1\"))","v":"トーン1"},{"$f":"IF(E43=\"ZX-DECLDIV-IPコードレス電話機\",\"トーン1\",_xlfn.IFS(キー割付!I232=\"着信音なし\",\"トーン1\",キー割付!I232=\"トーン1\",\"トーン1\",キー割付!I232=\"トーン2\",\"トーン2\",キー割付!I232=\"トーン3\",\"トーン3\",キー割付!I232=\"トーン4\",\"トーン4\",キー割付!I232=\"トーン5\",\"トーン5\",キー割付!I232=\"トーン6\",\"トーン6\",キー割付!I232=\"トーン7\",\"トーン7\",キー割付!I232=\"トーン7\",\"トーン7\",キー割付!I232=\"無鳴動着信\",\"トーン8\",キー割付!I232=\"グリーンスリーブス\",\"メロディ1\",キー割付!I232=\"峠の我が家\",\"メロディ2\",キー割付!I232=\"カノン\",\"メロディ3\",キー割付!I232=\"春の歌\",\"メロディ4\",キー割付!I232=\"主よ人の望みの喜びよ\",\"メロディ5\",キー割付!I232=\"メヌエット\",\"メロディ6\",キー割付!I232=\"華麗なる大円舞曲\",\"メロディ7\",キー割付!I232=\"ハンガリア舞曲第5番\",\"メロディ8\",TRUE,\"トーン1\"))","v":"トーン1"},{"$f":"IF(E43=\"ZX-DECLDIV-IPコードレス電話機\",\"トーン1\",_xlfn.IFS(キー割付!D240=\"着信音なし\",\"トーン1\",キー割付!D240=\"トーン1\",\"トーン1\",キー割付!D240=\"トーン2\",\"トーン2\",キー割付!D240=\"トーン3\",\"トーン3\",キー割付!D240=\"トーン4\",\"トーン4\",キー割付!D240=\"トーン5\",\"トーン5\",キー割付!D240=\"トーン6\",\"トーン6\",キー割付!D240=\"トーン7\",\"トーン7\",キー割付!D240=\"トーン7\",\"トーン7\",キー割付!D240=\"無鳴動着信\",\"トーン8\",キー割付!D240=\"グリーンスリーブス\",\"メロディ1\",キー割付!D240=\"峠の我が家\",\"メロディ2\",キー割付!D240=\"カノン\",\"メロディ3\",キー割付!D240=\"春の歌\",\"メロディ4\",キー割付!D240=\"主よ人の望みの喜びよ\",\"メロディ5\",キー割付!D240=\"メヌエット\",\"メロディ6\",キー割付!D240=\"華麗なる大円舞曲\",\"メロディ7\",キー割付!D240=\"ハンガリア舞曲第5番\",\"メロディ8\",TRUE,\"トーン1\"))","v":"トーン1"},{"$f":"IF(E43=\"ZX-DECLDIV-IPコードレス電話機\",\"トーン1\",_xlfn.IFS(キー割付!E240=\"着信音なし\",\"トーン1\",キー割付!E240=\"トーン1\",\"トーン1\",キー割付!E240=\"トーン2\",\"トーン2\",キー割付!E240=\"トーン3\",\"トーン3\",キー割付!E240=\"トーン4\",\"トーン4\",キー割付!E240=\"トーン5\",\"トーン5\",キー割付!E240=\"トーン6\",\"トーン6\",キー割付!E240=\"トーン7\",\"トーン7\",キー割付!E240=\"トーン7\",\"トーン7\",キー割付!E240=\"無鳴動着信\",\"トーン8\",キー割付!E240=\"グリーンスリーブス\",\"メロディ1\",キー割付!E240=\"峠の我が家\",\"メロディ2\",キー割付!E240=\"カノン\",\"メロディ3\",キー割付!E240=\"春の歌\",\"メロディ4\",キー割付!E240=\"主よ人の望みの喜びよ\",\"メロディ5\",キー割付!E240=\"メヌエット\",\"メロディ6\",キー割付!E240=\"華麗なる大円舞曲\",\"メロディ7\",キー割付!E240=\"ハンガリア舞曲第5番\",\"メロディ8\",TRUE,\"トーン1\"))","v":"トーン1"},{"$f":"IF(E43=\"ZX-DECLDIV-IPコードレス電話機\",\"トーン1\",_xlfn.IFS(キー割付!F240=\"着信音なし\",\"トーン1\",キー割付!F240=\"トーン1\",\"トーン1\",キー割付!F240=\"トーン2\",\"トーン2\",キー割付!F240=\"トーン3\",\"トーン3\",キー割付!F240=\"トーン4\",\"トーン4\",キー割付!F240=\"トーン5\",\"トーン5\",キー割付!F240=\"トーン6\",\"トーン6\",キー割付!F240=\"トーン7\",\"トーン7\",キー割付!F240=\"トーン7\",\"トーン7\",キー割付!F240=\"無鳴動着信\",\"トーン8\",キー割付!F240=\"グリーンスリーブス\",\"メロディ1\",キー割付!F240=\"峠の我が家\",\"メロディ2\",キー割付!F240=\"カノン\",\"メロディ3\",キー割付!F240=\"春の歌\",\"メロディ4\",キー割付!F240=\"主よ人の望みの喜びよ\",\"メロディ5\",キー割付!F240=\"メヌエット\",\"メロディ6\",キー割付!F240=\"華麗なる大円舞曲\",\"メロディ7\",キー割付!F240=\"ハンガリア舞曲第5番\",\"メロディ8\",TRUE,\"トーン1\"))","v":"トーン1"},{"$f":"IF(E43=\"ZX-DECLDIV-IPコードレス電話機\",\"トーン1\",_xlfn.IFS(キー割付!G240=\"着信音なし\",\"トーン1\",キー割付!G240=\"トーン1\",\"トーン1\",キー割付!G240=\"トーン2\",\"トーン2\",キー割付!G240=\"トーン3\",\"トーン3\",キー割付!G240=\"トーン4\",\"トーン4\",キー割付!G240=\"トーン5\",\"トーン5\",キー割付!G240=\"トーン6\",\"トーン6\",キー割付!G240=\"トーン7\",\"トーン7\",キー割付!G240=\"トーン7\",\"トーン7\",キー割付!G240=\"無鳴動着信\",\"トーン8\",キー割付!G240=\"グリーンスリーブス\",\"メロディ1\",キー割付!G240=\"峠の我が家\",\"メロディ2\",キー割付!G240=\"カノン\",\"メロディ3\",キー割付!G240=\"春の歌\",\"メロディ4\",キー割付!G240=\"主よ人の望みの喜びよ\",\"メロディ5\",キー割付!G240=\"メヌエット\",\"メロディ6\",キー割付!G240=\"華麗なる大円舞曲\",\"メロディ7\",キー割付!G240=\"ハンガリア舞曲第5番\",\"メロディ8\",TRUE,\"トーン1\"))","v":"トーン1"},{"$f":"IF(E43=\"ZX-DECLDIV-IPコードレス電話機\",\"トーン1\",_xlfn.IFS(キー割付!H240=\"着信音なし\",\"トーン1\",キー割付!H240=\"トーン1\",\"トーン1\",キー割付!H240=\"トーン2\",\"トーン2\",キー割付!H240=\"トーン3\",\"トーン3\",キー割付!H240=\"トーン4\",\"トーン4\",キー割付!H240=\"トーン5\",\"トーン5\",キー割付!H240=\"トーン6\",\"トーン6\",キー割付!H240=\"トーン7\",\"トーン7\",キー割付!H240=\"トーン7\",\"トーン7\",キー割付!H240=\"無鳴動着信\",\"トーン8\",キー割付!H240=\"グリーンスリーブス\",\"メロディ1\",キー割付!H240=\"峠の我が家\",\"メロディ2\",キー割付!H240=\"カノン\",\"メロディ3\",キー割付!H240=\"春の歌\",\"メロディ4\",キー割付!H240=\"主よ人の望みの喜びよ\",\"メロディ5\",キー割付!H240=\"メヌエット\",\"メロディ6\",キー割付!H240=\"華麗なる大円舞曲\",\"メロディ7\",キー割付!H240=\"ハンガリア舞曲第5番\",\"メロディ8\",TRUE,\"トーン1\"))","v":"トーン1"},{"$f":"IF(E43=\"ZX-DECLDIV-IPコードレス電話機\",\"トーン1\",_xlfn.IFS(キー割付!I240=\"着信音なし\",\"トーン1\",キー割付!I240=\"トーン1\",\"トーン1\",キー割付!I240=\"トーン2\",\"トーン2\",キー割付!I240=\"トーン3\",\"トーン3\",キー割付!I240=\"トーン4\",\"トーン4\",キー割付!I240=\"トーン5\",\"トーン5\",キー割付!I240=\"トーン6\",\"トーン6\",キー割付!I240=\"トーン7\",\"トーン7\",キー割付!I240=\"トーン7\",\"トーン7\",キー割付!I240=\"無鳴動着信\",\"トーン8\",キー割付!I240=\"グリーンスリーブス\",\"メロディ1\",キー割付!I240=\"峠の我が家\",\"メロディ2\",キー割付!I240=\"カノン\",\"メロディ3\",キー割付!I240=\"春の歌\",\"メロディ4\",キー割付!I240=\"主よ人の望みの喜びよ\",\"メロディ5\",キー割付!I240=\"メヌエット\",\"メロディ6\",キー割付!I240=\"華麗なる大円舞曲\",\"メロディ7\",キー割付!I240=\"ハンガリア舞曲第5番\",\"メロディ8\",TRUE,\"トーン1\"))","v":"トーン1"},{"$f":"IF(E43=\"ZX-DECLDIV-IPコードレス電話機\",\"トーン1\",_xlfn.IFS(キー割付!D248=\"着信音なし\",\"トーン1\",キー割付!D248=\"トーン1\",\"トーン1\",キー割付!D248=\"トーン2\",\"トーン2\",キー割付!D248=\"トーン3\",\"トーン3\",キー割付!D248=\"トーン4\",\"トーン4\",キー割付!D248=\"トーン5\",\"トーン5\",キー割付!D248=\"トーン6\",\"トーン6\",キー割付!D248=\"トーン7\",\"トーン7\",キー割付!D248=\"トーン7\",\"トーン7\",キー割付!D248=\"無鳴動着信\",\"トーン8\",キー割付!D248=\"グリーンスリーブス\",\"メロディ1\",キー割付!D248=\"峠の我が家\",\"メロディ2\",キー割付!D248=\"カノン\",\"メロディ3\",キー割付!D248=\"春の歌\",\"メロディ4\",キー割付!D248=\"主よ人の望みの喜びよ\",\"メロディ5\",キー割付!D248=\"メヌエット\",\"メロディ6\",キー割付!D248=\"華麗なる大円舞曲\",\"メロディ7\",キー割付!D248=\"ハンガリア舞曲第5番\",\"メロディ8\",TRUE,\"トーン1\"))","v":"トーン1"},{"$f":"IF(E43=\"ZX-DECLDIV-IPコードレス電話機\",\"トーン1\",_xlfn.IFS(キー割付!E248=\"着信音なし\",\"トーン1\",キー割付!E248=\"トーン1\",\"トーン1\",キー割付!E248=\"トーン2\",\"トーン2\",キー割付!E248=\"トーン3\",\"トーン3\",キー割付!E248=\"トーン4\",\"トーン4\",キー割付!E248=\"トーン5\",\"トーン5\",キー割付!E248=\"トーン6\",\"トーン6\",キー割付!E248=\"トーン7\",\"トーン7\",キー割付!E248=\"トーン7\",\"トーン7\",キー割付!E248=\"無鳴動着信\",\"トーン8\",キー割付!E248=\"グリーンスリーブス\",\"メロディ1\",キー割付!E248=\"峠の我が家\",\"メロディ2\",キー割付!E248=\"カノン\",\"メロディ3\",キー割付!E248=\"春の歌\",\"メロディ4\",キー割付!E248=\"主よ人の望みの喜びよ\",\"メロディ5\",キー割付!E248=\"メヌエット\",\"メロディ6\",キー割付!E248=\"華麗なる大円舞曲\",\"メロディ7\",キー割付!E248=\"ハンガリア舞曲第5番\",\"メロディ8\",TRUE,\"トーン1\"))","v":"トーン1"},{"$f":"IF(E43=\"ZX-DECLDIV-IPコードレス電話機\",\"トーン1\",_xlfn.IFS(キー割付!F248=\"着信音なし\",\"トーン1\",キー割付!F248=\"トーン1\",\"トーン1\",キー割付!F248=\"トーン2\",\"トーン2\",キー割付!F248=\"トーン3\",\"トーン3\",キー割付!F248=\"トーン4\",\"トーン4\",キー割付!F248=\"トーン5\",\"トーン5\",キー割付!F248=\"トーン6\",\"トーン6\",キー割付!F248=\"トーン7\",\"トーン7\",キー割付!F248=\"トーン7\",\"トーン7\",キー割付!F248=\"無鳴動着信\",\"トーン8\",キー割付!F248=\"グリーンスリーブス\",\"メロディ1\",キー割付!F248=\"峠の我が家\",\"メロディ2\",キー割付!F248=\"カノン\",\"メロディ3\",キー割付!F248=\"春の歌\",\"メロディ4\",キー割付!F248=\"主よ人の望みの喜びよ\",\"メロディ5\",キー割付!F248=\"メヌエット\",\"メロディ6\",キー割付!F248=\"華麗なる大円舞曲\",\"メロディ7\",キー割付!F248=\"ハンガリア舞曲第5番\",\"メロディ8\",TRUE,\"トーン1\"))","v":"トーン1"},{"$f":"IF(E43=\"ZX-DECLDIV-IPコードレス電話機\",\"トーン1\",_xlfn.IFS(キー割付!G248=\"着信音なし\",\"トーン1\",キー割付!G248=\"トーン1\",\"トーン1\",キー割付!G248=\"トーン2\",\"トーン2\",キー割付!G248=\"トーン3\",\"トーン3\",キー割付!G248=\"トーン4\",\"トーン4\",キー割付!G248=\"トーン5\",\"トーン5\",キー割付!G248=\"トーン6\",\"トーン6\",キー割付!G248=\"トーン7\",\"トーン7\",キー割付!G248=\"トーン7\",\"トーン7\",キー割付!G248=\"無鳴動着信\",\"トーン8\",キー割付!G248=\"グリーンスリーブス\",\"メロディ1\",キー割付!G248=\"峠の我が家\",\"メロディ2\",キー割付!G248=\"カノン\",\"メロディ3\",キー割付!G248=\"春の歌\",\"メロディ4\",キー割付!G248=\"主よ人の望みの喜びよ\",\"メロディ5\",キー割付!G248=\"メヌエット\",\"メロディ6\",キー割付!G248=\"華麗なる大円舞曲\",\"メロディ7\",キー割付!G248=\"ハンガリア舞曲第5番\",\"メロディ8\",TRUE,\"トーン1\"))","v":"トーン1"},{"$f":"IF(E43=\"ZX-DECLDIV-IPコードレス電話機\",\"トーン1\",_xlfn.IFS(キー割付!H248=\"着信音なし\",\"トーン1\",キー割付!H248=\"トーン1\",\"トーン1\",キー割付!H248=\"トーン2\",\"トーン2\",キー割付!H248=\"トーン3\",\"トーン3\",キー割付!H248=\"トーン4\",\"トーン4\",キー割付!H248=\"トーン5\",\"トーン5\",キー割付!H248=\"トーン6\",\"トーン6\",キー割付!H248=\"トーン7\",\"トーン7\",キー割付!H248=\"トーン7\",\"トーン7\",キー割付!H248=\"無鳴動着信\",\"トーン8\",キー割付!H248=\"グリーンスリーブス\",\"メロディ1\",キー割付!H248=\"峠の我が家\",\"メロディ2\",キー割付!H248=\"カノン\",\"メロディ3\",キー割付!H248=\"春の歌\",\"メロディ4\",キー割付!H248=\"主よ人の望みの喜びよ\",\"メロディ5\",キー割付!H248=\"メヌエット\",\"メロディ6\",キー割付!H248=\"華麗なる大円舞曲\",\"メロディ7\",キー割付!H248=\"ハンガリア舞曲第5番\",\"メロディ8\",TRUE,\"トーン1\"))","v":"トーン1"},{"$f":"IF(E43=\"ZX-DECLDIV-IPコードレス電話機\",\"トーン1\",_xlfn.IFS(キー割付!I248=\"着信音なし\",\"トーン1\",キー割付!I248=\"トーン1\",\"トーン1\",キー割付!I248=\"トーン2\",\"トーン2\",キー割付!I248=\"トーン3\",\"トーン3\",キー割付!I248=\"トーン4\",\"トーン4\",キー割付!I248=\"トーン5\",\"トーン5\",キー割付!I248=\"トーン6\",\"トーン6\",キー割付!I248=\"トーン7\",\"トーン7\",キー割付!I248=\"トーン7\",\"トーン7\",キー割付!I248=\"無鳴動着信\",\"トーン8\",キー割付!I248=\"グリーンスリーブス\",\"メロディ1\",キー割付!I248=\"峠の我が家\",\"メロディ2\",キー割付!I248=\"カノン\",\"メロディ3\",キー割付!I248=\"春の歌\",\"メロディ4\",キー割付!I248=\"主よ人の望みの喜びよ\",\"メロディ5\",キー割付!I248=\"メヌエット\",\"メロディ6\",キー割付!I248=\"華麗なる大円舞曲\",\"メロディ7\",キー割付!I248=\"ハンガリア舞曲第5番\",\"メロディ8\",TRUE,\"トーン1\"))","v":"トーン1"}]
[null,null,null,null,null,{"$f":"_xlfn.IFS(キー割付!D225=\"昼夜休憩\",\"B\",キー割付!D225=\"－－－\",\"-\",キー割付!D225=\"昼－－\",\"H\",キー割付!D225=\"－夜－\",\"N\",キー割付!D225=\"－－休憩\",\"P\",キー割付!D225=\"昼夜－\",\"D\",キー割付!D225=\"昼－休憩\",\"F\",キー割付!D225=\"－夜休憩\",\"K\",TRUE,\"-\")","v":"-"},{"$f":"_xlfn.IFS(キー割付!E225=\"昼夜休憩\",\"B\",キー割付!E225=\"－－－\",\"-\",キー割付!E225=\"昼－－\",\"H\",キー割付!E225=\"－夜－\",\"N\",キー割付!E225=\"－－休憩\",\"P\",キー割付!E225=\"昼夜－\",\"D\",キー割付!E225=\"昼－休憩\",\"F\",キー割付!E225=\"－夜休憩\",\"K\",TRUE,\"-\")","v":"-"},{"$f":"_xlfn.IFS(キー割付!F225=\"昼夜休憩\",\"B\",キー割付!F225=\"－－－\",\"-\",キー割付!F225=\"昼－－\",\"H\",キー割付!F225=\"－夜－\",\"N\",キー割付!F225=\"－－休憩\",\"P\",キー割付!F225=\"昼夜－\",\"D\",キー割付!F225=\"昼－休憩\",\"F\",キー割付!F225=\"－夜休憩\",\"K\",TRUE,\"-\")","v":"-"},{"$f":"_xlfn.IFS(キー割付!G225=\"昼夜休憩\",\"B\",キー割付!G225=\"－－－\",\"-\",キー割付!G225=\"昼－－\",\"H\",キー割付!G225=\"－夜－\",\"N\",キー割付!G225=\"－－休憩\",\"P\",キー割付!G225=\"昼夜－\",\"D\",キー割付!G225=\"昼－休憩\",\"F\",キー割付!G225=\"－夜休憩\",\"K\",TRUE,\"-\")","v":"-"},{"$f":"_xlfn.IFS(キー割付!H225=\"昼夜休憩\",\"B\",キー割付!H225=\"－－－\",\"-\",キー割付!H225=\"昼－－\",\"H\",キー割付!H225=\"－夜－\",\"N\",キー割付!H225=\"－－休憩\",\"P\",キー割付!H225=\"昼夜－\",\"D\",キー割付!H225=\"昼－休憩\",\"F\",キー割付!H225=\"－夜休憩\",\"K\",TRUE,\"-\")","v":"-"},{"$f":"_xlfn.IFS(キー割付!I225=\"昼夜休憩\",\"B\",キー割付!I225=\"－－－\",\"-\",キー割付!I225=\"昼－－\",\"H\",キー割付!I225=\"－夜－\",\"N\",キー割付!I225=\"－－休憩\",\"P\",キー割付!I225=\"昼夜－\",\"D\",キー割付!I225=\"昼－休憩\",\"F\",キー割付!I225=\"－夜休憩\",\"K\",TRUE,\"-\")","v":"-"},{"$f":"_xlfn.IFS(キー割付!D233=\"昼夜休憩\",\"B\",キー割付!D233=\"－－－\",\"-\",キー割付!D233=\"昼－－\",\"H\",キー割付!D233=\"－夜－\",\"N\",キー割付!D233=\"－－休憩\",\"P\",キー割付!D233=\"昼夜－\",\"D\",キー割付!D233=\"昼－休憩\",\"F\",キー割付!D233=\"－夜休憩\",\"K\",TRUE,\"-\")","v":"-"},{"$f":"_xlfn.IFS(キー割付!E233=\"昼夜休憩\",\"B\",キー割付!E233=\"－－－\",\"-\",キー割付!E233=\"昼－－\",\"H\",キー割付!E233=\"－夜－\",\"N\",キー割付!E233=\"－－休憩\",\"P\",キー割付!E233=\"昼夜－\",\"D\",キー割付!E233=\"昼－休憩\",\"F\",キー割付!E233=\"－夜休憩\",\"K\",TRUE,\"-\")","v":"-"},{"$f":"IF(E43=\"ZX-DECLDIV-IPコードレス電話機\",\"-\",_xlfn.IFS(キー割付!F233=\"昼夜休憩\",\"B\",キー割付!F233=\"－－－\",\"-\",キー割付!F233=\"昼－－\",\"H\",キー割付!F233=\"－夜－\",\"N\",キー割付!F233=\"－－休憩\",\"P\",キー割付!F233=\"昼夜－\",\"D\",キー割付!F233=\"昼－休憩\",\"F\",キー割付!F233=\"－夜休憩\",\"K\",TRUE,\"-\"))","v":"-"},{"$f":"IF(E43=\"ZX-DECLDIV-IPコードレス電話機\",\"-\",_xlfn.IFS(キー割付!G233=\"昼夜休憩\",\"B\",キー割付!G233=\"－－－\",\"-\",キー割付!G233=\"昼－－\",\"H\",キー割付!G233=\"－夜－\",\"N\",キー割付!G233=\"－－休憩\",\"P\",キー割付!G233=\"昼夜－\",\"D\",キー割付!G233=\"昼－休憩\",\"F\",キー割付!G233=\"－夜休憩\",\"K\",TRUE,\"-\"))","v":"-"},{"$f":"IF(E43=\"ZX-DECLDIV-IPコードレス電話機\",\"-\",_xlfn.IFS(キー割付!H233=\"昼夜休憩\",\"B\",キー割付!H233=\"－－－\",\"-\",キー割付!H233=\"昼－－\",\"H\",キー割付!H233=\"－夜－\",\"N\",キー割付!H233=\"－－休憩\",\"P\",キー割付!H233=\"昼夜－\",\"D\",キー割付!H233=\"昼－休憩\",\"F\",キー割付!H233=\"－夜休憩\",\"K\",TRUE,\"-\"))","v":"-"},{"$f":"IF(E43=\"ZX-DECLDIV-IPコードレス電話機\",\"-\",_xlfn.IFS(キー割付!I233=\"昼夜休憩\",\"B\",キー割付!I233=\"－－－\",\"-\",キー割付!I233=\"昼－－\",\"H\",キー割付!I233=\"－夜－\",\"N\",キー割付!I233=\"－－休憩\",\"P\",キー割付!I233=\"昼夜－\",\"D\",キー割付!I233=\"昼－休憩\",\"F\",キー割付!I233=\"－夜休憩\",\"K\",TRUE,\"-\"))","v":"-"},{"$f":"IF(E43=\"ZX-DECLDIV-IPコードレス電話機\",\"-\",_xlfn.IFS(キー割付!D241=\"昼夜休憩\",\"B\",キー割付!D241=\"－－－\",\"-\",キー割付!D241=\"昼－－\",\"H\",キー割付!D241=\"－夜－\",\"N\",キー割付!D241=\"－－休憩\",\"P\",キー割付!D241=\"昼夜－\",\"D\",キー割付!D241=\"昼－休憩\",\"F\",キー割付!D241=\"－夜休憩\",\"K\",TRUE,\"-\"))","v":"-"},{"$f":"IF(E43=\"ZX-DECLDIV-IPコードレス電話機\",\"-\",_xlfn.IFS(キー割付!E241=\"昼夜休憩\",\"B\",キー割付!E241=\"－－－\",\"-\",キー割付!E241=\"昼－－\",\"H\",キー割付!E241=\"－夜－\",\"N\",キー割付!E241=\"－－休憩\",\"P\",キー割付!E241=\"昼夜－\",\"D\",キー割付!E241=\"昼－休憩\",\"F\",キー割付!E241=\"－夜休憩\",\"K\",TRUE,\"-\"))","v":"-"},{"$f":"IF(E43=\"ZX-DECLDIV-IPコードレス電話機\",\"-\",_xlfn.IFS(キー割付!F241=\"昼夜休憩\",\"B\",キー割付!F241=\"－－－\",\"-\",キー割付!F241=\"昼－－\",\"H\",キー割付!F241=\"－夜－\",\"N\",キー割付!F241=\"－－休憩\",\"P\",キー割付!F241=\"昼夜－\",\"D\",キー割付!F241=\"昼－休憩\",\"F\",キー割付!F241=\"－夜休憩\",\"K\",TRUE,\"-\"))","v":"-"},{"$f":"IF(E43=\"ZX-DECLDIV-IPコードレス電話機\",\"-\",_xlfn.IFS(キー割付!G241=\"昼夜休憩\",\"B\",キー割付!G241=\"－－－\",\"-\",キー割付!G241=\"昼－－\",\"H\",キー割付!G241=\"－夜－\",\"N\",キー割付!G241=\"－－休憩\",\"P\",キー割付!G241=\"昼夜－\",\"D\",キー割付!G241=\"昼－休憩\",\"F\",キー割付!G241=\"－夜休憩\",\"K\",TRUE,\"-\"))","v":"-"},{"$f":"IF(E43=\"ZX-DECLDIV-IPコードレス電話機\",\"-\",_xlfn.IFS(キー割付!H241=\"昼夜休憩\",\"B\",キー割付!H241=\"－－－\",\"-\",キー割付!H241=\"昼－－\",\"H\",キー割付!H241=\"－夜－\",\"N\",キー割付!H241=\"－－休憩\",\"P\",キー割付!H241=\"昼夜－\",\"D\",キー割付!H241=\"昼－休憩\",\"F\",キー割付!H241=\"－夜休憩\",\"K\",TRUE,\"-\"))","v":"-"},{"$f":"IF(E43=\"ZX-DECLDIV-IPコードレス電話機\",\"-\",_xlfn.IFS(キー割付!I241=\"昼夜休憩\",\"B\",キー割付!I241=\"－－－\",\"-\",キー割付!I241=\"昼－－\",\"H\",キー割付!I241=\"－夜－\",\"N\",キー割付!I241=\"－－休憩\",\"P\",キー割付!I241=\"昼夜－\",\"D\",キー割付!I241=\"昼－休憩\",\"F\",キー割付!I241=\"－夜休憩\",\"K\",TRUE,\"-\"))","v":"-"},{"$f":"IF(E43=\"ZX-DECLDIV-IPコードレス電話機\",\"-\",_xlfn.IFS(キー割付!D249=\"昼夜休憩\",\"B\",キー割付!D249=\"－－－\",\"-\",キー割付!D249=\"昼－－\",\"H\",キー割付!D249=\"－夜－\",\"N\",キー割付!D249=\"－－休憩\",\"P\",キー割付!D249=\"昼夜－\",\"D\",キー割付!D249=\"昼－休憩\",\"F\",キー割付!D249=\"－夜休憩\",\"K\",TRUE,\"-\"))","v":"-"},{"$f":"IF(E43=\"ZX-DECLDIV-IPコードレス電話機\",\"-\",_xlfn.IFS(キー割付!E249=\"昼夜休憩\",\"B\",キー割付!E249=\"－－－\",\"-\",キー割付!E249=\"昼－－\",\"H\",キー割付!E249=\"－夜－\",\"N\",キー割付!E249=\"－－休憩\",\"P\",キー割付!E249=\"昼夜－\",\"D\",キー割付!E249=\"昼－休憩\",\"F\",キー割付!E249=\"－夜休憩\",\"K\",TRUE,\"-\"))","v":"-"},{"$f":"IF(E43=\"ZX-DECLDIV-IPコードレス電話機\",\"-\",_xlfn.IFS(キー割付!F249=\"昼夜休憩\",\"B\",キー割付!F249=\"－－－\",\"-\",キー割付!F249=\"昼－－\",\"H\",キー割付!F249=\"－夜－\",\"N\",キー割付!F249=\"－－休憩\",\"P\",キー割付!F249=\"昼夜－\",\"D\",キー割付!F249=\"昼－休憩\",\"F\",キー割付!F249=\"－夜休憩\",\"K\",TRUE,\"-\"))","v":"-"},{"$f":"IF(E43=\"ZX-DECLDIV-IPコードレス電話機\",\"-\",_xlfn.IFS(キー割付!G249=\"昼夜休憩\",\"B\",キー割付!G249=\"－－－\",\"-\",キー割付!G249=\"昼－－\",\"H\",キー割付!G249=\"－夜－\",\"N\",キー割付!G249=\"－－休憩\",\"P\",キー割付!G249=\"昼夜－\",\"D\",キー割付!G249=\"昼－休憩\",\"F\",キー割付!G249=\"－夜休憩\",\"K\",TRUE,\"-\"))","v":"-"},{"$f":"IF(E43=\"ZX-DECLDIV-IPコードレス電話機\",\"-\",_xlfn.IFS(キー割付!H249=\"昼夜休憩\",\"B\",キー割付!H249=\"－－－\",\"-\",キー割付!H249=\"昼－－\",\"H\",キー割付!H249=\"－夜－\",\"N\",キー割付!H249=\"－－休憩\",\"P\",キー割付!H249=\"昼夜－\",\"D\",キー割付!H249=\"昼－休憩\",\"F\",キー割付!H249=\"－夜休憩\",\"K\",TRUE,\"-\"))","v":"-"},{"$f":"IF(E43=\"ZX-DECLDIV-IPコードレス電話機\",\"-\",_xlfn.IFS(キー割付!I249=\"昼夜休憩\",\"B\",キー割付!I249=\"－－－\",\"-\",キー割付!I249=\"昼－－\",\"H\",キー割付!I249=\"－夜－\",\"N\",キー割付!I249=\"－－休憩\",\"P\",キー割付!I249=\"昼夜－\",\"D\",キー割付!I249=\"昼－休憩\",\"F\",キー割付!I249=\"－夜休憩\",\"K\",TRUE,\"-\"))","v":"-"}]
[null,14,{"$f":"IF(IFERROR(VALUE(VLOOKUP(B46,内線_キー割用,2,FALSE)),\"\")=0,\"\",IFERROR(VALUE(VLOOKUP(B46,内線_キー割用,2,FALSE)),\"\"))","v":""},{"$f":"IF(IFERROR(VALUE(VLOOKUP(B46,内線_キー割用,4,FALSE)),\"\")=0,\"\",IFERROR(VALUE(VLOOKUP(B46,内線_キー割用,4,FALSE)),\"\"))","v":""},{"$f":"IF(IFERROR(VLOOKUP(B46,内線_キー割用,3,FALSE),\"\")=0,\"\",IFERROR(VLOOKUP(B46,内線_キー割用,3,FALSE),\"\"))","v":""},{"$f":"IF(キー割付!N223=\"\",\"未使用\",キー割付!N223)","v":"未使用"},{"$f":"IF(キー割付!O223=\"\",\"未使用\",キー割付!O223)","v":"未使用"},{"$f":"IF(キー割付!P223=\"\",\"未使用\",キー割付!P223)","v":"未使用"},{"$f":"IF(キー割付!Q223=\"\",\"未使用\",キー割付!Q223)","v":"未使用"},{"$f":"IF(キー割付!R223=\"\",\"未使用\",キー割付!R223)","v":"未使用"},{"$f":"IF(キー割付!S223=\"\",\"未使用\",キー割付!S223)","v":"未使用"},{"$f":"IF(キー割付!N231=\"\",\"未使用\",キー割付!N231)","v":"未使用"},{"$f":"IF(キー割付!O231=\"\",\"未使用\",キー割付!O231)","v":"未使用"},{"$f":"IF(E46=\"ZX-DECLDIV-IPコードレス電話機\",\"未使用\",IF(キー割付!P231=\"\",\"未使用\",キー割付!P231))","v":"未使用"},{"$f":"IF(E46=\"ZX-DECLDIV-IPコードレス電話機\",\"未使用\",IF(キー割付!Q231=\"\",\"未使用\",キー割付!Q231))","v":"未使用"},{"$f":"IF(E46=\"ZX-DECLDIV-IPコードレス電話機\",\"未使用\",IF(キー割付!R231=\"\",\"未使用\",キー割付!R231))","v":"未使用"},{"$f":"IF(E46=\"ZX-DECLDIV-IPコードレス電話機\",\"未使用\",IF(キー割付!S231=\"\",\"未使用\",キー割付!S231))","v":"未使用"},{"$f":"IF(E46=\"ZX-DECLDIV-IPコードレス電話機\",\"未使用\",IF(キー割付!N239=\"\",\"未使用\",キー割付!N239))","v":"未使用"},{"$f":"IF(E46=\"ZX-DECLDIV-IPコードレス電話機\",\"未使用\",IF(キー割付!O239=\"\",\"未使用\",キー割付!O239))","v":"未使用"},{"$f":"IF(E46=\"ZX-DECLDIV-IPコードレス電話機\",\"未使用\",IF(キー割付!P239=\"\",\"未使用\",キー割付!P239))","v":"未使用"},{"$f":"IF(E46=\"ZX-DECLDIV-IPコードレス電話機\",\"未使用\",IF(キー割付!Q239=\"\",\"未使用\",キー割付!Q239))","v":"未使用"},{"$f":"IF(E46=\"ZX-DECLDIV-IPコードレス電話機\",\"未使用\",IF(キー割付!R239=\"\",\"未使用\",キー割付!R239))","v":"未使用"},{"$f":"IF(E46=\"ZX-DECLDIV-IPコードレス電話機\",\"未使用\",IF(キー割付!S239=\"\",\"未使用\",キー割付!S239))","v":"未使用"},{"$f":"IF(E46=\"ZX-DECLDIV-IPコードレス電話機\",\"未使用\",IF(キー割付!N247=\"\",\"未使用\",キー割付!N247))","v":"未使用"},{"$f":"IF(E46=\"ZX-DECLDIV-IPコードレス電話機\",\"未使用\",IF(キー割付!O247=\"\",\"未使用\",キー割付!O247))","v":"未使用"},{"$f":"IF(E46=\"ZX-DECLDIV-IPコードレス電話機\",\"未使用\",IF(キー割付!P247=\"\",\"未使用\",キー割付!P247))","v":"未使用"},{"$f":"IF(E46=\"ZX-DECLDIV-IPコードレス電話機\",\"未使用\",IF(キー割付!Q247=\"\",\"未使用\",キー割付!Q247))","v":"未使用"},{"$f":"IF(E46=\"ZX-DECLDIV-IPコードレス電話機\",\"未使用\",IF(キー割付!R247=\"\",\"未使用\",キー割付!R247))","v":"未使用"},{"$f":"IF(E46=\"ZX-DECLDIV-IPコードレス電話機\",\"未使用\",IF(キー割付!S247=\"\",\"未使用\",キー割付!S247))","v":"未使用"}]
[null,null,null,null,null,{"$f":"_xlfn.IFS(キー割付!N224=\"着信音なし\",\"トーン1\",キー割付!N224=\"トーン1\",\"トーン1\",キー割付!N224=\"トーン2\",\"トーン2\",キー割付!N224=\"トーン3\",\"トーン3\",キー割付!N224=\"トーン4\",\"トーン4\",キー割付!N224=\"トーン5\",\"トーン5\",キー割付!N224=\"トーン6\",\"トーン6\",キー割付!N224=\"トーン7\",\"トーン7\",キー割付!N224=\"トーン7\",\"トーン7\",キー割付!N224=\"無鳴動着信\",\"トーン8\",キー割付!N224=\"グリーンスリーブス\",\"メロディ1\",キー割付!N224=\"峠の我が家\",\"メロディ2\",キー割付!N224=\"カノン\",\"メロディ3\",キー割付!N224=\"春の歌\",\"メロディ4\",キー割付!N224=\"主よ人の望みの喜びよ\",\"メロディ5\",キー割付!N224=\"メヌエット\",\"メロディ6\",キー割付!N224=\"華麗なる大円舞曲\",\"メロディ7\",キー割付!N224=\"ハンガリア舞曲第5番\",\"メロディ8\",TRUE,\"トーン1\")","v":"トーン1"},{"$f":"_xlfn.IFS(キー割付!O224=\"着信音なし\",\"トーン1\",キー割付!O224=\"トーン1\",\"トーン1\",キー割付!O224=\"トーン2\",\"トーン2\",キー割付!O224=\"トーン3\",\"トーン3\",キー割付!O224=\"トーン4\",\"トーン4\",キー割付!O224=\"トーン5\",\"トーン5\",キー割付!O224=\"トーン6\",\"トーン6\",キー割付!O224=\"トーン7\",\"トーン7\",キー割付!O224=\"トーン7\",\"トーン7\",キー割付!O224=\"無鳴動着信\",\"トーン8\",キー割付!O224=\"グリーンスリーブス\",\"メロディ1\",キー割付!O224=\"峠の我が家\",\"メロディ2\",キー割付!O224=\"カノン\",\"メロディ3\",キー割付!O224=\"春の歌\",\"メロディ4\",キー割付!O224=\"主よ人の望みの喜びよ\",\"メロディ5\",キー割付!O224=\"メヌエット\",\"メロディ6\",キー割付!O224=\"華麗なる大円舞曲\",\"メロディ7\",キー割付!O224=\"ハンガリア舞曲第5番\",\"メロディ8\",TRUE,\"トーン1\")","v":"トーン1"},{"$f":"_xlfn.IFS(キー割付!P224=\"着信音なし\",\"トーン1\",キー割付!P224=\"トーン1\",\"トーン1\",キー割付!P224=\"トーン2\",\"トーン2\",キー割付!P224=\"トーン3\",\"トーン3\",キー割付!P224=\"トーン4\",\"トーン4\",キー割付!P224=\"トーン5\",\"トーン5\",キー割付!P224=\"トーン6\",\"トーン6\",キー割付!P224=\"トーン7\",\"トーン7\",キー割付!P224=\"トーン7\",\"トーン7\",キー割付!P224=\"無鳴動着信\",\"トーン8\",キー割付!P224=\"グリーンスリーブス\",\"メロディ1\",キー割付!P224=\"峠の我が家\",\"メロディ2\",キー割付!P224=\"カノン\",\"メロディ3\",キー割付!P224=\"春の歌\",\"メロディ4\",キー割付!P224=\"主よ人の望みの喜びよ\",\"メロディ5\",キー割付!P224=\"メヌエット\",\"メロディ6\",キー割付!P224=\"華麗なる大円舞曲\",\"メロディ7\",キー割付!P224=\"ハンガリア舞曲第5番\",\"メロディ8\",TRUE,\"トーン1\")","v":"トーン1"},{"$f":"_xlfn.IFS(キー割付!Q224=\"着信音なし\",\"トーン1\",キー割付!Q224=\"トーン1\",\"トーン1\",キー割付!Q224=\"トーン2\",\"トーン2\",キー割付!Q224=\"トーン3\",\"トーン3\",キー割付!Q224=\"トーン4\",\"トーン4\",キー割付!Q224=\"トーン5\",\"トーン5\",キー割付!Q224=\"トーン6\",\"トーン6\",キー割付!Q224=\"トーン7\",\"トーン7\",キー割付!Q224=\"トーン7\",\"トーン7\",キー割付!Q224=\"無鳴動着信\",\"トーン8\",キー割付!Q224=\"グリーンスリーブス\",\"メロディ1\",キー割付!Q224=\"峠の我が家\",\"メロディ2\",キー割付!Q224=\"カノン\",\"メロディ3\",キー割付!Q224=\"春の歌\",\"メロディ4\",キー割付!Q224=\"主よ人の望みの喜びよ\",\"メロディ5\",キー割付!Q224=\"メヌエット\",\"メロディ6\",キー割付!Q224=\"華麗なる大円舞曲\",\"メロディ7\",キー割付!Q224=\"ハンガリア舞曲第5番\",\"メロディ8\",TRUE,\"トーン1\")","v":"トーン1"},{"$f":"_xlfn.IFS(キー割付!R224=\"着信音なし\",\"トーン1\",キー割付!R224=\"トーン1\",\"トーン1\",キー割付!R224=\"トーン2\",\"トーン2\",キー割付!R224=\"トーン3\",\"トーン3\",キー割付!R224=\"トーン4\",\"トーン4\",キー割付!R224=\"トーン5\",\"トーン5\",キー割付!R224=\"トーン6\",\"トーン6\",キー割付!R224=\"トーン7\",\"トーン7\",キー割付!R224=\"トーン7\",\"トーン7\",キー割付!R224=\"無鳴動着信\",\"トーン8\",キー割付!R224=\"グリーンスリーブス\",\"メロディ1\",キー割付!R224=\"峠の我が家\",\"メロディ2\",キー割付!R224=\"カノン\",\"メロディ3\",キー割付!R224=\"春の歌\",\"メロディ4\",キー割付!R224=\"主よ人の望みの喜びよ\",\"メロディ5\",キー割付!R224=\"メヌエット\",\"メロディ6\",キー割付!R224=\"華麗なる大円舞曲\",\"メロディ7\",キー割付!R224=\"ハンガリア舞曲第5番\",\"メロディ8\",TRUE,\"トーン1\")","v":"トーン1"},{"$f":"_xlfn.IFS(キー割付!S224=\"着信音なし\",\"トーン1\",キー割付!S224=\"トーン1\",\"トーン1\",キー割付!S224=\"トーン2\",\"トーン2\",キー割付!S224=\"トーン3\",\"トーン3\",キー割付!S224=\"トーン4\",\"トーン4\",キー割付!S224=\"トーン5\",\"トーン5\",キー割付!S224=\"トーン6\",\"トーン6\",キー割付!S224=\"トーン7\",\"トーン7\",キー割付!S224=\"トーン7\",\"トーン7\",キー割付!S224=\"無鳴動着信\",\"トーン8\",キー割付!S224=\"グリーンスリーブス\",\"メロディ1\",キー割付!S224=\"峠の我が家\",\"メロディ2\",キー割付!S224=\"カノン\",\"メロディ3\",キー割付!S224=\"春の歌\",\"メロディ4\",キー割付!S224=\"主よ人の望みの喜びよ\",\"メロディ5\",キー割付!S224=\"メヌエット\",\"メロディ6\",キー割付!S224=\"華麗なる大円舞曲\",\"メロディ7\",キー割付!S224=\"ハンガリア舞曲第5番\",\"メロディ8\",TRUE,\"トーン1\")","v":"トーン1"},{"$f":"_xlfn.IFS(キー割付!N232=\"着信音なし\",\"トーン1\",キー割付!N232=\"トーン1\",\"トーン1\",キー割付!N232=\"トーン2\",\"トーン2\",キー割付!N232=\"トーン3\",\"トーン3\",キー割付!N232=\"トーン4\",\"トーン4\",キー割付!N232=\"トーン5\",\"トーン5\",キー割付!N232=\"トーン6\",\"トーン6\",キー割付!N232=\"トーン7\",\"トーン7\",キー割付!N232=\"トーン7\",\"トーン7\",キー割付!N232=\"無鳴動着信\",\"トーン8\",キー割付!N232=\"グリーンスリーブス\",\"メロディ1\",キー割付!N232=\"峠の我が家\",\"メロディ2\",キー割付!N232=\"カノン\",\"メロディ3\",キー割付!N232=\"春の歌\",\"メロディ4\",キー割付!N232=\"主よ人の望みの喜びよ\",\"メロディ5\",キー割付!N232=\"メヌエット\",\"メロディ6\",キー割付!N232=\"華麗なる大円舞曲\",\"メロディ7\",キー割付!N232=\"ハンガリア舞曲第5番\",\"メロディ8\",TRUE,\"トーン1\")","v":"トーン1"},{"$f":"_xlfn.IFS(キー割付!O232=\"着信音なし\",\"トーン1\",キー割付!O232=\"トーン1\",\"トーン1\",キー割付!O232=\"トーン2\",\"トーン2\",キー割付!O232=\"トーン3\",\"トーン3\",キー割付!O232=\"トーン4\",\"トーン4\",キー割付!O232=\"トーン5\",\"トーン5\",キー割付!O232=\"トーン6\",\"トーン6\",キー割付!O232=\"トーン7\",\"トーン7\",キー割付!O232=\"トーン7\",\"トーン7\",キー割付!O232=\"無鳴動着信\",\"トーン8\",キー割付!O232=\"グリーンスリーブス\",\"メロディ1\",キー割付!O232=\"峠の我が家\",\"メロディ2\",キー割付!O232=\"カノン\",\"メロディ3\",キー割付!O232=\"春の歌\",\"メロディ4\",キー割付!O232=\"主よ人の望みの喜びよ\",\"メロディ5\",キー割付!O232=\"メヌエット\",\"メロディ6\",キー割付!O232=\"華麗なる大円舞曲\",\"メロディ7\",キー割付!O232=\"ハンガリア舞曲第5番\",\"メロディ8\",TRUE,\"トーン1\")","v":"トーン1"},{"$f":"IF(E46=\"ZX-DECLDIV-IPコードレス電話機\",\"トーン1\",_xlfn.IFS(キー割付!P232=\"着信音なし\",\"トーン1\",キー割付!P232=\"トーン1\",\"トーン1\",キー割付!P232=\"トーン2\",\"トーン2\",キー割付!P232=\"トーン3\",\"トーン3\",キー割付!P232=\"トーン4\",\"トーン4\",キー割付!P232=\"トーン5\",\"トーン5\",キー割付!P232=\"トーン6\",\"トーン6\",キー割付!P232=\"トーン7\",\"トーン7\",キー割付!P232=\"トーン7\",\"トーン7\",キー割付!P232=\"無鳴動着信\",\"トーン8\",キー割付!P232=\"グリーンスリーブス\",\"メロディ1\",キー割付!P232=\"峠の我が家\",\"メロディ2\",キー割付!P232=\"カノン\",\"メロディ3\",キー割付!P232=\"春の歌\",\"メロディ4\",キー割付!P232=\"主よ人の望みの喜びよ\",\"メロディ5\",キー割付!P232=\"メヌエット\",\"メロディ6\",キー割付!P232=\"華麗なる大円舞曲\",\"メロディ7\",キー割付!P232=\"ハンガリア舞曲第5番\",\"メロディ8\",TRUE,\"トーン1\"))","v":"トーン1"},{"$f":"IF(E46=\"ZX-DECLDIV-IPコードレス電話機\",\"トーン1\",_xlfn.IFS(キー割付!Q232=\"着信音なし\",\"トーン1\",キー割付!Q232=\"トーン1\",\"トーン1\",キー割付!Q232=\"トーン2\",\"トーン2\",キー割付!Q232=\"トーン3\",\"トーン3\",キー割付!Q232=\"トーン4\",\"トーン4\",キー割付!Q232=\"トーン5\",\"トーン5\",キー割付!Q232=\"トーン6\",\"トーン6\",キー割付!Q232=\"トーン7\",\"トーン7\",キー割付!Q232=\"トーン7\",\"トーン7\",キー割付!Q232=\"無鳴動着信\",\"トーン8\",キー割付!Q232=\"グリーンスリーブス\",\"メロディ1\",キー割付!Q232=\"峠の我が家\",\"メロディ2\",キー割付!Q232=\"カノン\",\"メロディ3\",キー割付!Q232=\"春の歌\",\"メロディ4\",キー割付!Q232=\"主よ人の望みの喜びよ\",\"メロディ5\",キー割付!Q232=\"メヌエット\",\"メロディ6\",キー割付!Q232=\"華麗なる大円舞曲\",\"メロディ7\",キー割付!Q232=\"ハンガリア舞曲第5番\",\"メロディ8\",TRUE,\"トーン1\"))","v":"トーン1"},{"$f":"IF(E46=\"ZX-DECLDIV-IPコードレス電話機\",\"トーン1\",_xlfn.IFS(キー割付!R232=\"着信音なし\",\"トーン1\",キー割付!R232=\"トーン1\",\"トーン1\",キー割付!R232=\"トーン2\",\"トーン2\",キー割付!R232=\"トーン3\",\"トーン3\",キー割付!R232=\"トーン4\",\"トーン4\",キー割付!R232=\"トーン5\",\"トーン5\",キー割付!R232=\"トーン6\",\"トーン6\",キー割付!R232=\"トーン7\",\"トーン7\",キー割付!R232=\"トーン7\",\"トーン7\",キー割付!R232=\"無鳴動着信\",\"トーン8\",キー割付!R232=\"グリーンスリーブス\",\"メロディ1\",キー割付!R232=\"峠の我が家\",\"メロディ2\",キー割付!R232=\"カノン\",\"メロディ3\",キー割付!R232=\"春の歌\",\"メロディ4\",キー割付!R232=\"主よ人の望みの喜びよ\",\"メロディ5\",キー割付!R232=\"メヌエット\",\"メロディ6\",キー割付!R232=\"華麗なる大円舞曲\",\"メロディ7\",キー割付!R232=\"ハンガリア舞曲第5番\",\"メロディ8\",TRUE,\"トーン1\"))","v":"トーン1"},{"$f":"IF(E46=\"ZX-DECLDIV-IPコードレス電話機\",\"トーン1\",_xlfn.IFS(キー割付!S232=\"着信音なし\",\"トーン1\",キー割付!S232=\"トーン1\",\"トーン1\",キー割付!S232=\"トーン2\",\"トーン2\",キー割付!S232=\"トーン3\",\"トーン3\",キー割付!S232=\"トーン4\",\"トーン4\",キー割付!S232=\"トーン5\",\"トーン5\",キー割付!S232=\"トーン6\",\"トーン6\",キー割付!S232=\"トーン7\",\"トーン7\",キー割付!S232=\"トーン7\",\"トーン7\",キー割付!S232=\"無鳴動着信\",\"トーン8\",キー割付!S232=\"グリーンスリーブス\",\"メロディ1\",キー割付!S232=\"峠の我が家\",\"メロディ2\",キー割付!S232=\"カノン\",\"メロディ3\",キー割付!S232=\"春の歌\",\"メロディ4\",キー割付!S232=\"主よ人の望みの喜びよ\",\"メロディ5\",キー割付!S232=\"メヌエット\",\"メロディ6\",キー割付!S232=\"華麗なる大円舞曲\",\"メロディ7\",キー割付!S232=\"ハンガリア舞曲第5番\",\"メロディ8\",TRUE,\"トーン1\"))","v":"トーン1"},{"$f":"IF(E46=\"ZX-DECLDIV-IPコードレス電話機\",\"トーン1\",_xlfn.IFS(キー割付!N240=\"着信音なし\",\"トーン1\",キー割付!N240=\"トーン1\",\"トーン1\",キー割付!N240=\"トーン2\",\"トーン2\",キー割付!N240=\"トーン3\",\"トーン3\",キー割付!N240=\"トーン4\",\"トーン4\",キー割付!N240=\"トーン5\",\"トーン5\",キー割付!N240=\"トーン6\",\"トーン6\",キー割付!N240=\"トーン7\",\"トーン7\",キー割付!N240=\"トーン7\",\"トーン7\",キー割付!N240=\"無鳴動着信\",\"トーン8\",キー割付!N240=\"グリーンスリーブス\",\"メロディ1\",キー割付!N240=\"峠の我が家\",\"メロディ2\",キー割付!N240=\"カノン\",\"メロディ3\",キー割付!N240=\"春の歌\",\"メロディ4\",キー割付!N240=\"主よ人の望みの喜びよ\",\"メロディ5\",キー割付!N240=\"メヌエット\",\"メロディ6\",キー割付!N240=\"華麗なる大円舞曲\",\"メロディ7\",キー割付!N240=\"ハンガリア舞曲第5番\",\"メロディ8\",TRUE,\"トーン1\"))","v":"トーン1"},{"$f":"IF(E46=\"ZX-DECLDIV-IPコードレス電話機\",\"トーン1\",_xlfn.IFS(キー割付!O240=\"着信音なし\",\"トーン1\",キー割付!O240=\"トーン1\",\"トーン1\",キー割付!O240=\"トーン2\",\"トーン2\",キー割付!O240=\"トーン3\",\"トーン3\",キー割付!O240=\"トーン4\",\"トーン4\",キー割付!O240=\"トーン5\",\"トーン5\",キー割付!O240=\"トーン6\",\"トーン6\",キー割付!O240=\"トーン7\",\"トーン7\",キー割付!O240=\"トーン7\",\"トーン7\",キー割付!O240=\"無鳴動着信\",\"トーン8\",キー割付!O240=\"グリーンスリーブス\",\"メロディ1\",キー割付!O240=\"峠の我が家\",\"メロディ2\",キー割付!O240=\"カノン\",\"メロディ3\",キー割付!O240=\"春の歌\",\"メロディ4\",キー割付!O240=\"主よ人の望みの喜びよ\",\"メロディ5\",キー割付!O240=\"メヌエット\",\"メロディ6\",キー割付!O240=\"華麗なる大円舞曲\",\"メロディ7\",キー割付!O240=\"ハンガリア舞曲第5番\",\"メロディ8\",TRUE,\"トーン1\"))","v":"トーン1"},{"$f":"IF(E46=\"ZX-DECLDIV-IPコードレス電話機\",\"トーン1\",_xlfn.IFS(キー割付!P240=\"着信音なし\",\"トーン1\",キー割付!P240=\"トーン1\",\"トーン1\",キー割付!P240=\"トーン2\",\"トーン2\",キー割付!P240=\"トーン3\",\"トーン3\",キー割付!P240=\"トーン4\",\"トーン4\",キー割付!P240=\"トーン5\",\"トーン5\",キー割付!P240=\"トーン6\",\"トーン6\",キー割付!P240=\"トーン7\",\"トーン7\",キー割付!P240=\"トーン7\",\"トーン7\",キー割付!P240=\"無鳴動着信\",\"トーン8\",キー割付!P240=\"グリーンスリーブス\",\"メロディ1\",キー割付!P240=\"峠の我が家\",\"メロディ2\",キー割付!P240=\"カノン\",\"メロディ3\",キー割付!P240=\"春の歌\",\"メロディ4\",キー割付!P240=\"主よ人の望みの喜びよ\",\"メロディ5\",キー割付!P240=\"メヌエット\",\"メロディ6\",キー割付!P240=\"華麗なる大円舞曲\",\"メロディ7\",キー割付!P240=\"ハンガリア舞曲第5番\",\"メロディ8\",TRUE,\"トーン1\"))","v":"トーン1"},{"$f":"IF(E46=\"ZX-DECLDIV-IPコードレス電話機\",\"トーン1\",_xlfn.IFS(キー割付!Q240=\"着信音なし\",\"トーン1\",キー割付!Q240=\"トーン1\",\"トーン1\",キー割付!Q240=\"トーン2\",\"トーン2\",キー割付!Q240=\"トーン3\",\"トーン3\",キー割付!Q240=\"トーン4\",\"トーン4\",キー割付!Q240=\"トーン5\",\"トーン5\",キー割付!Q240=\"トーン6\",\"トーン6\",キー割付!Q240=\"トーン7\",\"トーン7\",キー割付!Q240=\"トーン7\",\"トーン7\",キー割付!Q240=\"無鳴動着信\",\"トーン8\",キー割付!Q240=\"グリーンスリーブス\",\"メロディ1\",キー割付!Q240=\"峠の我が家\",\"メロディ2\",キー割付!Q240=\"カノン\",\"メロディ3\",キー割付!Q240=\"春の歌\",\"メロディ4\",キー割付!Q240=\"主よ人の望みの喜びよ\",\"メロディ5\",キー割付!Q240=\"メヌエット\",\"メロディ6\",キー割付!Q240=\"華麗なる大円舞曲\",\"メロディ7\",キー割付!Q240=\"ハンガリア舞曲第5番\",\"メロディ8\",TRUE,\"トーン1\"))","v":"トーン1"},{"$f":"IF(E46=\"ZX-DECLDIV-IPコードレス電話機\",\"トーン1\",_xlfn.IFS(キー割付!R240=\"着信音なし\",\"トーン1\",キー割付!R240=\"トーン1\",\"トーン1\",キー割付!R240=\"トーン2\",\"トーン2\",キー割付!R240=\"トーン3\",\"トーン3\",キー割付!R240=\"トーン4\",\"トーン4\",キー割付!R240=\"トーン5\",\"トーン5\",キー割付!R240=\"トーン6\",\"トーン6\",キー割付!R240=\"トーン7\",\"トーン7\",キー割付!R240=\"トーン7\",\"トーン7\",キー割付!R240=\"無鳴動着信\",\"トーン8\",キー割付!R240=\"グリーンスリーブス\",\"メロディ1\",キー割付!R240=\"峠の我が家\",\"メロディ2\",キー割付!R240=\"カノン\",\"メロディ3\",キー割付!R240=\"春の歌\",\"メロディ4\",キー割付!R240=\"主よ人の望みの喜びよ\",\"メロディ5\",キー割付!R240=\"メヌエット\",\"メロディ6\",キー割付!R240=\"華麗なる大円舞曲\",\"メロディ7\",キー割付!R240=\"ハンガリア舞曲第5番\",\"メロディ8\",TRUE,\"トーン1\"))","v":"トーン1"},{"$f":"IF(E46=\"ZX-DECLDIV-IPコードレス電話機\",\"トーン1\",_xlfn.IFS(キー割付!S240=\"着信音なし\",\"トーン1\",キー割付!S240=\"トーン1\",\"トーン1\",キー割付!S240=\"トーン2\",\"トーン2\",キー割付!S240=\"トーン3\",\"トーン3\",キー割付!S240=\"トーン4\",\"トーン4\",キー割付!S240=\"トーン5\",\"トーン5\",キー割付!S240=\"トーン6\",\"トーン6\",キー割付!S240=\"トーン7\",\"トーン7\",キー割付!S240=\"トーン7\",\"トーン7\",キー割付!S240=\"無鳴動着信\",\"トーン8\",キー割付!S240=\"グリーンスリーブス\",\"メロディ1\",キー割付!S240=\"峠の我が家\",\"メロディ2\",キー割付!S240=\"カノン\",\"メロディ3\",キー割付!S240=\"春の歌\",\"メロディ4\",キー割付!S240=\"主よ人の望みの喜びよ\",\"メロディ5\",キー割付!S240=\"メヌエット\",\"メロディ6\",キー割付!S240=\"華麗なる大円舞曲\",\"メロディ7\",キー割付!S240=\"ハンガリア舞曲第5番\",\"メロディ8\",TRUE,\"トーン1\"))","v":"トーン1"},{"$f":"IF(E46=\"ZX-DECLDIV-IPコードレス電話機\",\"トーン1\",_xlfn.IFS(キー割付!N248=\"着信音なし\",\"トーン1\",キー割付!N248=\"トーン1\",\"トーン1\",キー割付!N248=\"トーン2\",\"トーン2\",キー割付!N248=\"トーン3\",\"トーン3\",キー割付!N248=\"トーン4\",\"トーン4\",キー割付!N248=\"トーン5\",\"トーン5\",キー割付!N248=\"トーン6\",\"トーン6\",キー割付!N248=\"トーン7\",\"トーン7\",キー割付!N248=\"トーン7\",\"トーン7\",キー割付!N248=\"無鳴動着信\",\"トーン8\",キー割付!N248=\"グリーンスリーブス\",\"メロディ1\",キー割付!N248=\"峠の我が家\",\"メロディ2\",キー割付!N248=\"カノン\",\"メロディ3\",キー割付!N248=\"春の歌\",\"メロディ4\",キー割付!N248=\"主よ人の望みの喜びよ\",\"メロディ5\",キー割付!N248=\"メヌエット\",\"メロディ6\",キー割付!N248=\"華麗なる大円舞曲\",\"メロディ7\",キー割付!N248=\"ハンガリア舞曲第5番\",\"メロディ8\",TRUE,\"トーン1\"))","v":"トーン1"},{"$f":"IF(E46=\"ZX-DECLDIV-IPコードレス電話機\",\"トーン1\",_xlfn.IFS(キー割付!O248=\"着信音なし\",\"トーン1\",キー割付!O248=\"トーン1\",\"トーン1\",キー割付!O248=\"トーン2\",\"トーン2\",キー割付!O248=\"トーン3\",\"トーン3\",キー割付!O248=\"トーン4\",\"トーン4\",キー割付!O248=\"トーン5\",\"トーン5\",キー割付!O248=\"トーン6\",\"トーン6\",キー割付!O248=\"トーン7\",\"トーン7\",キー割付!O248=\"トーン7\",\"トーン7\",キー割付!O248=\"無鳴動着信\",\"トーン8\",キー割付!O248=\"グリーンスリーブス\",\"メロディ1\",キー割付!O248=\"峠の我が家\",\"メロディ2\",キー割付!O248=\"カノン\",\"メロディ3\",キー割付!O248=\"春の歌\",\"メロディ4\",キー割付!O248=\"主よ人の望みの喜びよ\",\"メロディ5\",キー割付!O248=\"メヌエット\",\"メロディ6\",キー割付!O248=\"華麗なる大円舞曲\",\"メロディ7\",キー割付!O248=\"ハンガリア舞曲第5番\",\"メロディ8\",TRUE,\"トーン1\"))","v":"トーン1"},{"$f":"IF(E46=\"ZX-DECLDIV-IPコードレス電話機\",\"トーン1\",_xlfn.IFS(キー割付!P248=\"着信音なし\",\"トーン1\",キー割付!P248=\"トーン1\",\"トーン1\",キー割付!P248=\"トーン2\",\"トーン2\",キー割付!P248=\"トーン3\",\"トーン3\",キー割付!P248=\"トーン4\",\"トーン4\",キー割付!P248=\"トーン5\",\"トーン5\",キー割付!P248=\"トーン6\",\"トーン6\",キー割付!P248=\"トーン7\",\"トーン7\",キー割付!P248=\"トーン7\",\"トーン7\",キー割付!P248=\"無鳴動着信\",\"トーン8\",キー割付!P248=\"グリーンスリーブス\",\"メロディ1\",キー割付!P248=\"峠の我が家\",\"メロディ2\",キー割付!P248=\"カノン\",\"メロディ3\",キー割付!P248=\"春の歌\",\"メロディ4\",キー割付!P248=\"主よ人の望みの喜びよ\",\"メロディ5\",キー割付!P248=\"メヌエット\",\"メロディ6\",キー割付!P248=\"華麗なる大円舞曲\",\"メロディ7\",キー割付!P248=\"ハンガリア舞曲第5番\",\"メロディ8\",TRUE,\"トーン1\"))","v":"トーン1"},{"$f":"IF(E46=\"ZX-DECLDIV-IPコードレス電話機\",\"トーン1\",_xlfn.IFS(キー割付!Q248=\"着信音なし\",\"トーン1\",キー割付!Q248=\"トーン1\",\"トーン1\",キー割付!Q248=\"トーン2\",\"トーン2\",キー割付!Q248=\"トーン3\",\"トーン3\",キー割付!Q248=\"トーン4\",\"トーン4\",キー割付!Q248=\"トーン5\",\"トーン5\",キー割付!Q248=\"トーン6\",\"トーン6\",キー割付!Q248=\"トーン7\",\"トーン7\",キー割付!Q248=\"トーン7\",\"トーン7\",キー割付!Q248=\"無鳴動着信\",\"トーン8\",キー割付!Q248=\"グリーンスリーブス\",\"メロディ1\",キー割付!Q248=\"峠の我が家\",\"メロディ2\",キー割付!Q248=\"カノン\",\"メロディ3\",キー割付!Q248=\"春の歌\",\"メロディ4\",キー割付!Q248=\"主よ人の望みの喜びよ\",\"メロディ5\",キー割付!Q248=\"メヌエット\",\"メロディ6\",キー割付!Q248=\"華麗なる大円舞曲\",\"メロディ7\",キー割付!Q248=\"ハンガリア舞曲第5番\",\"メロディ8\",TRUE,\"トーン1\"))","v":"トーン1"},{"$f":"IF(E46=\"ZX-DECLDIV-IPコードレス電話機\",\"トーン1\",_xlfn.IFS(キー割付!R248=\"着信音なし\",\"トーン1\",キー割付!R248=\"トーン1\",\"トーン1\",キー割付!R248=\"トーン2\",\"トーン2\",キー割付!R248=\"トーン3\",\"トーン3\",キー割付!R248=\"トーン4\",\"トーン4\",キー割付!R248=\"トーン5\",\"トーン5\",キー割付!R248=\"トーン6\",\"トーン6\",キー割付!R248=\"トーン7\",\"トーン7\",キー割付!R248=\"トーン7\",\"トーン7\",キー割付!R248=\"無鳴動着信\",\"トーン8\",キー割付!R248=\"グリーンスリーブス\",\"メロディ1\",キー割付!R248=\"峠の我が家\",\"メロディ2\",キー割付!R248=\"カノン\",\"メロディ3\",キー割付!R248=\"春の歌\",\"メロディ4\",キー割付!R248=\"主よ人の望みの喜びよ\",\"メロディ5\",キー割付!R248=\"メヌエット\",\"メロディ6\",キー割付!R248=\"華麗なる大円舞曲\",\"メロディ7\",キー割付!R248=\"ハンガリア舞曲第5番\",\"メロディ8\",TRUE,\"トーン1\"))","v":"トーン1"},{"$f":"IF(E46=\"ZX-DECLDIV-IPコードレス電話機\",\"トーン1\",_xlfn.IFS(キー割付!S248=\"着信音なし\",\"トーン1\",キー割付!S248=\"トーン1\",\"トーン1\",キー割付!S248=\"トーン2\",\"トーン2\",キー割付!S248=\"トーン3\",\"トーン3\",キー割付!S248=\"トーン4\",\"トーン4\",キー割付!S248=\"トーン5\",\"トーン5\",キー割付!S248=\"トーン6\",\"トーン6\",キー割付!S248=\"トーン7\",\"トーン7\",キー割付!S248=\"トーン7\",\"トーン7\",キー割付!S248=\"無鳴動着信\",\"トーン8\",キー割付!S248=\"グリーンスリーブス\",\"メロディ1\",キー割付!S248=\"峠の我が家\",\"メロディ2\",キー割付!S248=\"カノン\",\"メロディ3\",キー割付!S248=\"春の歌\",\"メロディ4\",キー割付!S248=\"主よ人の望みの喜びよ\",\"メロディ5\",キー割付!S248=\"メヌエット\",\"メロディ6\",キー割付!S248=\"華麗なる大円舞曲\",\"メロディ7\",キー割付!S248=\"ハンガリア舞曲第5番\",\"メロディ8\",TRUE,\"トーン1\"))","v":"トーン1"}]
[null,null,null,null,null,{"$f":"_xlfn.IFS(キー割付!N225=\"昼夜休憩\",\"B\",キー割付!N225=\"－－－\",\"-\",キー割付!N225=\"昼－－\",\"H\",キー割付!N225=\"－夜－\",\"N\",キー割付!N225=\"－－休憩\",\"P\",キー割付!N225=\"昼夜－\",\"N\",キー割付!N225=\"昼－休憩\",\"F\",キー割付!N225=\"－夜休憩\",\"K\",TRUE,\"-\")","v":"-"},{"$f":"_xlfn.IFS(キー割付!O225=\"昼夜休憩\",\"B\",キー割付!O225=\"－－－\",\"-\",キー割付!O225=\"昼－－\",\"H\",キー割付!O225=\"－夜－\",\"N\",キー割付!O225=\"－－休憩\",\"P\",キー割付!O225=\"昼夜－\",\"N\",キー割付!O225=\"昼－休憩\",\"F\",キー割付!O225=\"－夜休憩\",\"K\",TRUE,\"-\")","v":"-"},{"$f":"_xlfn.IFS(キー割付!P225=\"昼夜休憩\",\"B\",キー割付!P225=\"－－－\",\"-\",キー割付!P225=\"昼－－\",\"H\",キー割付!P225=\"－夜－\",\"N\",キー割付!P225=\"－－休憩\",\"P\",キー割付!P225=\"昼夜－\",\"N\",キー割付!P225=\"昼－休憩\",\"F\",キー割付!P225=\"－夜休憩\",\"K\",TRUE,\"-\")","v":"-"},{"$f":"_xlfn.IFS(キー割付!Q225=\"昼夜休憩\",\"B\",キー割付!Q225=\"－－－\",\"-\",キー割付!Q225=\"昼－－\",\"H\",キー割付!Q225=\"－夜－\",\"N\",キー割付!Q225=\"－－休憩\",\"P\",キー割付!Q225=\"昼夜－\",\"N\",キー割付!Q225=\"昼－休憩\",\"F\",キー割付!Q225=\"－夜休憩\",\"K\",TRUE,\"-\")","v":"-"},{"$f":"_xlfn.IFS(キー割付!R225=\"昼夜休憩\",\"B\",キー割付!R225=\"－－－\",\"-\",キー割付!R225=\"昼－－\",\"H\",キー割付!R225=\"－夜－\",\"N\",キー割付!R225=\"－－休憩\",\"P\",キー割付!R225=\"昼夜－\",\"N\",キー割付!R225=\"昼－休憩\",\"F\",キー割付!R225=\"－夜休憩\",\"K\",TRUE,\"-\")","v":"-"},{"$f":"_xlfn.IFS(キー割付!S225=\"昼夜休憩\",\"B\",キー割付!S225=\"－－－\",\"-\",キー割付!S225=\"昼－－\",\"H\",キー割付!S225=\"－夜－\",\"N\",キー割付!S225=\"－－休憩\",\"P\",キー割付!S225=\"昼夜－\",\"N\",キー割付!S225=\"昼－休憩\",\"F\",キー割付!S225=\"－夜休憩\",\"K\",TRUE,\"-\")","v":"-"},{"$f":"_xlfn.IFS(キー割付!N233=\"昼夜休憩\",\"B\",キー割付!N233=\"－－－\",\"-\",キー割付!N233=\"昼－－\",\"H\",キー割付!N233=\"－夜－\",\"N\",キー割付!N233=\"－－休憩\",\"P\",キー割付!N233=\"昼夜－\",\"N\",キー割付!N233=\"昼－休憩\",\"F\",キー割付!N233=\"－夜休憩\",\"K\",TRUE,\"-\")","v":"-"},{"$f":"_xlfn.IFS(キー割付!O233=\"昼夜休憩\",\"B\",キー割付!O233=\"－－－\",\"-\",キー割付!O233=\"昼－－\",\"H\",キー割付!O233=\"－夜－\",\"N\",キー割付!O233=\"－－休憩\",\"P\",キー割付!O233=\"昼夜－\",\"N\",キー割付!O233=\"昼－休憩\",\"F\",キー割付!O233=\"－夜休憩\",\"K\",TRUE,\"-\")","v":"-"},{"$f":"IF(E46=\"ZX-DECLDIV-IPコードレス電話機\",\"-\",_xlfn.IFS(キー割付!P233=\"昼夜休憩\",\"B\",キー割付!P233=\"－－－\",\"-\",キー割付!P233=\"昼－－\",\"H\",キー割付!P233=\"－夜－\",\"N\",キー割付!P233=\"－－休憩\",\"P\",キー割付!P233=\"昼夜－\",\"N\",キー割付!P233=\"昼－休憩\",\"F\",キー割付!P233=\"－夜休憩\",\"K\",TRUE,\"-\"))","v":"-"},{"$f":"IF(E46=\"ZX-DECLDIV-IPコードレス電話機\",\"-\",_xlfn.IFS(キー割付!Q233=\"昼夜休憩\",\"B\",キー割付!Q233=\"－－－\",\"-\",キー割付!Q233=\"昼－－\",\"H\",キー割付!Q233=\"－夜－\",\"N\",キー割付!Q233=\"－－休憩\",\"P\",キー割付!Q233=\"昼夜－\",\"N\",キー割付!Q233=\"昼－休憩\",\"F\",キー割付!Q233=\"－夜休憩\",\"K\",TRUE,\"-\"))","v":"-"},{"$f":"IF(E46=\"ZX-DECLDIV-IPコードレス電話機\",\"-\",_xlfn.IFS(キー割付!R233=\"昼夜休憩\",\"B\",キー割付!R233=\"－－－\",\"-\",キー割付!R233=\"昼－－\",\"H\",キー割付!R233=\"－夜－\",\"N\",キー割付!R233=\"－－休憩\",\"P\",キー割付!R233=\"昼夜－\",\"N\",キー割付!R233=\"昼－休憩\",\"F\",キー割付!R233=\"－夜休憩\",\"K\",TRUE,\"-\"))","v":"-"},{"$f":"IF(E46=\"ZX-DECLDIV-IPコードレス電話機\",\"-\",_xlfn.IFS(キー割付!S233=\"昼夜休憩\",\"B\",キー割付!S233=\"－－－\",\"-\",キー割付!S233=\"昼－－\",\"H\",キー割付!S233=\"－夜－\",\"N\",キー割付!S233=\"－－休憩\",\"P\",キー割付!S233=\"昼夜－\",\"N\",キー割付!S233=\"昼－休憩\",\"F\",キー割付!S233=\"－夜休憩\",\"K\",TRUE,\"-\"))","v":"-"},{"$f":"IF(E46=\"ZX-DECLDIV-IPコードレス電話機\",\"-\",_xlfn.IFS(キー割付!N241=\"昼夜休憩\",\"B\",キー割付!N241=\"－－－\",\"-\",キー割付!N241=\"昼－－\",\"H\",キー割付!N241=\"－夜－\",\"N\",キー割付!N241=\"－－休憩\",\"P\",キー割付!N241=\"昼夜－\",\"N\",キー割付!N241=\"昼－休憩\",\"F\",キー割付!N241=\"－夜休憩\",\"K\",TRUE,\"-\"))","v":"-"},{"$f":"IF(E46=\"ZX-DECLDIV-IPコードレス電話機\",\"-\",_xlfn.IFS(キー割付!O241=\"昼夜休憩\",\"B\",キー割付!O241=\"－－－\",\"-\",キー割付!O241=\"昼－－\",\"H\",キー割付!O241=\"－夜－\",\"N\",キー割付!O241=\"－－休憩\",\"P\",キー割付!O241=\"昼夜－\",\"N\",キー割付!O241=\"昼－休憩\",\"F\",キー割付!O241=\"－夜休憩\",\"K\",TRUE,\"-\"))","v":"-"},{"$f":"IF(E46=\"ZX-DECLDIV-IPコードレス電話機\",\"-\",_xlfn.IFS(キー割付!P241=\"昼夜休憩\",\"B\",キー割付!P241=\"－－－\",\"-\",キー割付!P241=\"昼－－\",\"H\",キー割付!P241=\"－夜－\",\"N\",キー割付!P241=\"－－休憩\",\"P\",キー割付!P241=\"昼夜－\",\"N\",キー割付!P241=\"昼－休憩\",\"F\",キー割付!P241=\"－夜休憩\",\"K\",TRUE,\"-\"))","v":"-"},{"$f":"IF(E46=\"ZX-DECLDIV-IPコードレス電話機\",\"-\",_xlfn.IFS(キー割付!Q241=\"昼夜休憩\",\"B\",キー割付!Q241=\"－－－\",\"-\",キー割付!Q241=\"昼－－\",\"H\",キー割付!Q241=\"－夜－\",\"N\",キー割付!Q241=\"－－休憩\",\"P\",キー割付!Q241=\"昼夜－\",\"N\",キー割付!Q241=\"昼－休憩\",\"F\",キー割付!Q241=\"－夜休憩\",\"K\",TRUE,\"-\"))","v":"-"},{"$f":"IF(E46=\"ZX-DECLDIV-IPコードレス電話機\",\"-\",_xlfn.IFS(キー割付!R241=\"昼夜休憩\",\"B\",キー割付!R241=\"－－－\",\"-\",キー割付!R241=\"昼－－\",\"H\",キー割付!R241=\"－夜－\",\"N\",キー割付!R241=\"－－休憩\",\"P\",キー割付!R241=\"昼夜－\",\"N\",キー割付!R241=\"昼－休憩\",\"F\",キー割付!R241=\"－夜休憩\",\"K\",TRUE,\"-\"))","v":"-"},{"$f":"IF(E46=\"ZX-DECLDIV-IPコードレス電話機\",\"-\",_xlfn.IFS(キー割付!S241=\"昼夜休憩\",\"B\",キー割付!S241=\"－－－\",\"-\",キー割付!S241=\"昼－－\",\"H\",キー割付!S241=\"－夜－\",\"N\",キー割付!S241=\"－－休憩\",\"P\",キー割付!S241=\"昼夜－\",\"N\",キー割付!S241=\"昼－休憩\",\"F\",キー割付!S241=\"－夜休憩\",\"K\",TRUE,\"-\"))","v":"-"},{"$f":"IF(E46=\"ZX-DECLDIV-IPコードレス電話機\",\"-\",_xlfn.IFS(キー割付!N249=\"昼夜休憩\",\"B\",キー割付!N249=\"－－－\",\"-\",キー割付!N249=\"昼－－\",\"H\",キー割付!N249=\"－夜－\",\"N\",キー割付!N249=\"－－休憩\",\"P\",キー割付!N249=\"昼夜－\",\"N\",キー割付!N249=\"昼－休憩\",\"F\",キー割付!N249=\"－夜休憩\",\"K\",TRUE,\"-\"))","v":"-"},{"$f":"IF(E46=\"ZX-DECLDIV-IPコードレス電話機\",\"-\",_xlfn.IFS(キー割付!O249=\"昼夜休憩\",\"B\",キー割付!O249=\"－－－\",\"-\",キー割付!O249=\"昼－－\",\"H\",キー割付!O249=\"－夜－\",\"N\",キー割付!O249=\"－－休憩\",\"P\",キー割付!O249=\"昼夜－\",\"N\",キー割付!O249=\"昼－休憩\",\"F\",キー割付!O249=\"－夜休憩\",\"K\",TRUE,\"-\"))","v":"-"},{"$f":"IF(E46=\"ZX-DECLDIV-IPコードレス電話機\",\"-\",_xlfn.IFS(キー割付!P249=\"昼夜休憩\",\"B\",キー割付!P249=\"－－－\",\"-\",キー割付!P249=\"昼－－\",\"H\",キー割付!P249=\"－夜－\",\"N\",キー割付!P249=\"－－休憩\",\"P\",キー割付!P249=\"昼夜－\",\"N\",キー割付!P249=\"昼－休憩\",\"F\",キー割付!P249=\"－夜休憩\",\"K\",TRUE,\"-\"))","v":"-"},{"$f":"IF(E46=\"ZX-DECLDIV-IPコードレス電話機\",\"-\",_xlfn.IFS(キー割付!Q249=\"昼夜休憩\",\"B\",キー割付!Q249=\"－－－\",\"-\",キー割付!Q249=\"昼－－\",\"H\",キー割付!Q249=\"－夜－\",\"N\",キー割付!Q249=\"－－休憩\",\"P\",キー割付!Q249=\"昼夜－\",\"N\",キー割付!Q249=\"昼－休憩\",\"F\",キー割付!Q249=\"－夜休憩\",\"K\",TRUE,\"-\"))","v":"-"},{"$f":"IF(E46=\"ZX-DECLDIV-IPコードレス電話機\",\"-\",_xlfn.IFS(キー割付!R249=\"昼夜休憩\",\"B\",キー割付!R249=\"－－－\",\"-\",キー割付!R249=\"昼－－\",\"H\",キー割付!R249=\"－夜－\",\"N\",キー割付!R249=\"－－休憩\",\"P\",キー割付!R249=\"昼夜－\",\"N\",キー割付!R249=\"昼－休憩\",\"F\",キー割付!R249=\"－夜休憩\",\"K\",TRUE,\"-\"))","v":"-"},{"$f":"IF(E46=\"ZX-DECLDIV-IPコードレス電話機\",\"-\",_xlfn.IFS(キー割付!S249=\"昼夜休憩\",\"B\",キー割付!S249=\"－－－\",\"-\",キー割付!S249=\"昼－－\",\"H\",キー割付!S249=\"－夜－\",\"N\",キー割付!S249=\"－－休憩\",\"P\",キー割付!S249=\"昼夜－\",\"N\",キー割付!S249=\"昼－休憩\",\"F\",キー割付!S249=\"－夜休憩\",\"K\",TRUE,\"-\"))","v":"-"}]
[null,15,{"$f":"IF(IFERROR(VALUE(VLOOKUP(B49,内線_キー割用,2,FALSE)),\"\")=0,\"\",IFERROR(VALUE(VLOOKUP(B49,内線_キー割用,2,FALSE)),\"\"))","v":""},{"$f":"IF(IFERROR(VALUE(VLOOKUP(B49,内線_キー割用,4,FALSE)),\"\")=0,\"\",IFERROR(VALUE(VLOOKUP(B49,内線_キー割用,4,FALSE)),\"\"))","v":""},{"$f":"IF(IFERROR(VLOOKUP(B49,内線_キー割用,3,FALSE),\"\")=0,\"\",IFERROR(VLOOKUP(B49,内線_キー割用,3,FALSE),\"\"))","v":""},{"$f":"IF(キー割付!D259=\"\",\"未使用\",キー割付!D259)","v":"未使用"},{"$f":"IF(キー割付!E259=\"\",\"未使用\",キー割付!E259)","v":"未使用"},{"$f":"IF(キー割付!F259=\"\",\"未使用\",キー割付!F259)","v":"未使用"},{"$f":"IF(キー割付!G259=\"\",\"未使用\",キー割付!G259)","v":"未使用"},{"$f":"IF(キー割付!H259=\"\",\"未使用\",キー割付!H259)","v":"未使用"},{"$f":"IF(キー割付!I259=\"\",\"未使用\",キー割付!I259)","v":"未使用"},{"$f":"IF(キー割付!D267=\"\",\"未使用\",キー割付!D267)","v":"未使用"},{"$f":"IF(キー割付!E267=\"\",\"未使用\",キー割付!E267)","v":"未使用"},{"$f":"IF(E49=\"ZX-DECLDIV-IPコードレス電話機\",\"未使用\",IF(キー割付!F267=\"\",\"未使用\",キー割付!F267))","v":"未使用"},{"$f":"IF(E49=\"ZX-DECLDIV-IPコードレス電話機\",\"未使用\",IF(キー割付!G267=\"\",\"未使用\",キー割付!G267))","v":"未使用"},{"$f":"IF(E49=\"ZX-DECLDIV-IPコードレス電話機\",\"未使用\",IF(キー割付!H267=\"\",\"未使用\",キー割付!H267))","v":"未使用"},{"$f":"IF(E49=\"ZX-DECLDIV-IPコードレス電話機\",\"未使用\",IF(キー割付!I267=\"\",\"未使用\",キー割付!I267))","v":"未使用"},{"$f":"IF(E49=\"ZX-DECLDIV-IPコードレス電話機\",\"未使用\",IF(キー割付!D275=\"\",\"未使用\",キー割付!D275))","v":"未使用"},{"$f":"IF(E49=\"ZX-DECLDIV-IPコードレス電話機\",\"未使用\",IF(キー割付!E275=\"\",\"未使用\",キー割付!E275))","v":"未使用"},{"$f":"IF(E49=\"ZX-DECLDIV-IPコードレス電話機\",\"未使用\",IF(キー割付!F275=\"\",\"未使用\",キー割付!F275))","v":"未使用"},{"$f":"IF(E49=\"ZX-DECLDIV-IPコードレス電話機\",\"未使用\",IF(キー割付!G275=\"\",\"未使用\",キー割付!G275))","v":"未使用"},{"$f":"IF(E49=\"ZX-DECLDIV-IPコードレス電話機\",\"未使用\",IF(キー割付!H275=\"\",\"未使用\",キー割付!H275))","v":"未使用"},{"$f":"IF(E49=\"ZX-DECLDIV-IPコードレス電話機\",\"未使用\",IF(キー割付!I275=\"\",\"未使用\",キー割付!I275))","v":"未使用"},{"$f":"IF(E49=\"ZX-DECLDIV-IPコードレス電話機\",\"未使用\",IF(キー割付!D283=\"\",\"未使用\",キー割付!D283))","v":"未使用"},{"$f":"IF(E49=\"ZX-DECLDIV-IPコードレス電話機\",\"未使用\",IF(キー割付!E283=\"\",\"未使用\",キー割付!E283))","v":"未使用"},{"$f":"IF(E49=\"ZX-DECLDIV-IPコードレス電話機\",\"未使用\",IF(キー割付!F283=\"\",\"未使用\",キー割付!F283))","v":"未使用"},{"$f":"IF(E49=\"ZX-DECLDIV-IPコードレス電話機\",\"未使用\",IF(キー割付!G283=\"\",\"未使用\",キー割付!G283))","v":"未使用"},{"$f":"IF(E49=\"ZX-DECLDIV-IPコードレス電話機\",\"未使用\",IF(キー割付!H283=\"\",\"未使用\",キー割付!H283))","v":"未使用"},{"$f":"IF(E49=\"ZX-DECLDIV-IPコードレス電話機\",\"未使用\",IF(キー割付!I283=\"\",\"未使用\",キー割付!I283))","v":"未使用"}]
[null,null,null,null,null,{"$f":"_xlfn.IFS(キー割付!D260=\"着信音なし\",\"トーン1\",キー割付!D260=\"トーン1\",\"トーン1\",キー割付!D260=\"トーン2\",\"トーン2\",キー割付!D260=\"トーン3\",\"トーン3\",キー割付!D260=\"トーン4\",\"トーン4\",キー割付!D260=\"トーン5\",\"トーン5\",キー割付!D260=\"トーン6\",\"トーン6\",キー割付!D260=\"トーン7\",\"トーン7\",キー割付!D260=\"トーン7\",\"トーン7\",キー割付!D260=\"無鳴動着信\",\"トーン8\",キー割付!D260=\"グリーンスリーブス\",\"メロディ1\",キー割付!D260=\"峠の我が家\",\"メロディ2\",キー割付!D260=\"カノン\",\"メロディ3\",キー割付!D260=\"春の歌\",\"メロディ4\",キー割付!D260=\"主よ人の望みの喜びよ\",\"メロディ5\",キー割付!D260=\"メヌエット\",\"メロディ6\",キー割付!D260=\"華麗なる大円舞曲\",\"メロディ7\",キー割付!D260=\"ハンガリア舞曲第5番\",\"メロディ8\",TRUE,\"トーン1\")","v":"トーン1"},{"$f":"_xlfn.IFS(キー割付!E260=\"着信音なし\",\"トーン1\",キー割付!E260=\"トーン1\",\"トーン1\",キー割付!E260=\"トーン2\",\"トーン2\",キー割付!E260=\"トーン3\",\"トーン3\",キー割付!E260=\"トーン4\",\"トーン4\",キー割付!E260=\"トーン5\",\"トーン5\",キー割付!E260=\"トーン6\",\"トーン6\",キー割付!E260=\"トーン7\",\"トーン7\",キー割付!E260=\"トーン7\",\"トーン7\",キー割付!E260=\"無鳴動着信\",\"トーン8\",キー割付!E260=\"グリーンスリーブス\",\"メロディ1\",キー割付!E260=\"峠の我が家\",\"メロディ2\",キー割付!E260=\"カノン\",\"メロディ3\",キー割付!E260=\"春の歌\",\"メロディ4\",キー割付!E260=\"主よ人の望みの喜びよ\",\"メロディ5\",キー割付!E260=\"メヌエット\",\"メロディ6\",キー割付!E260=\"華麗なる大円舞曲\",\"メロディ7\",キー割付!E260=\"ハンガリア舞曲第5番\",\"メロディ8\",TRUE,\"トーン1\")","v":"トーン1"},{"$f":"_xlfn.IFS(キー割付!F260=\"着信音なし\",\"トーン1\",キー割付!F260=\"トーン1\",\"トーン1\",キー割付!F260=\"トーン2\",\"トーン2\",キー割付!F260=\"トーン3\",\"トーン3\",キー割付!F260=\"トーン4\",\"トーン4\",キー割付!F260=\"トーン5\",\"トーン5\",キー割付!F260=\"トーン6\",\"トーン6\",キー割付!F260=\"トーン7\",\"トーン7\",キー割付!F260=\"トーン7\",\"トーン7\",キー割付!F260=\"無鳴動着信\",\"トーン8\",キー割付!F260=\"グリーンスリーブス\",\"メロディ1\",キー割付!F260=\"峠の我が家\",\"メロディ2\",キー割付!F260=\"カノン\",\"メロディ3\",キー割付!F260=\"春の歌\",\"メロディ4\",キー割付!F260=\"主よ人の望みの喜びよ\",\"メロディ5\",キー割付!F260=\"メヌエット\",\"メロディ6\",キー割付!F260=\"華麗なる大円舞曲\",\"メロディ7\",キー割付!F260=\"ハンガリア舞曲第5番\",\"メロディ8\",TRUE,\"トーン1\")","v":"トーン1"},{"$f":"_xlfn.IFS(キー割付!G260=\"着信音なし\",\"トーン1\",キー割付!G260=\"トーン1\",\"トーン1\",キー割付!G260=\"トーン2\",\"トーン2\",キー割付!G260=\"トーン3\",\"トーン3\",キー割付!G260=\"トーン4\",\"トーン4\",キー割付!G260=\"トーン5\",\"トーン5\",キー割付!G260=\"トーン6\",\"トーン6\",キー割付!G260=\"トーン7\",\"トーン7\",キー割付!G260=\"トーン7\",\"トーン7\",キー割付!G260=\"無鳴動着信\",\"トーン8\",キー割付!G260=\"グリーンスリーブス\",\"メロディ1\",キー割付!G260=\"峠の我が家\",\"メロディ2\",キー割付!G260=\"カノン\",\"メロディ3\",キー割付!G260=\"春の歌\",\"メロディ4\",キー割付!G260=\"主よ人の望みの喜びよ\",\"メロディ5\",キー割付!G260=\"メヌエット\",\"メロディ6\",キー割付!G260=\"華麗なる大円舞曲\",\"メロディ7\",キー割付!G260=\"ハンガリア舞曲第5番\",\"メロディ8\",TRUE,\"トーン1\")","v":"トーン1"},{"$f":"_xlfn.IFS(キー割付!H260=\"着信音なし\",\"トーン1\",キー割付!H260=\"トーン1\",\"トーン1\",キー割付!H260=\"トーン2\",\"トーン2\",キー割付!H260=\"トーン3\",\"トーン3\",キー割付!H260=\"トーン4\",\"トーン4\",キー割付!H260=\"トーン5\",\"トーン5\",キー割付!H260=\"トーン6\",\"トーン6\",キー割付!H260=\"トーン7\",\"トーン7\",キー割付!H260=\"トーン7\",\"トーン7\",キー割付!H260=\"無鳴動着信\",\"トーン8\",キー割付!H260=\"グリーンスリーブス\",\"メロディ1\",キー割付!H260=\"峠の我が家\",\"メロディ2\",キー割付!H260=\"カノン\",\"メロディ3\",キー割付!H260=\"春の歌\",\"メロディ4\",キー割付!H260=\"主よ人の望みの喜びよ\",\"メロディ5\",キー割付!H260=\"メヌエット\",\"メロディ6\",キー割付!H260=\"華麗なる大円舞曲\",\"メロディ7\",キー割付!H260=\"ハンガリア舞曲第5番\",\"メロディ8\",TRUE,\"トーン1\")","v":"トーン1"},{"$f":"_xlfn.IFS(キー割付!I260=\"着信音なし\",\"トーン1\",キー割付!I260=\"トーン1\",\"トーン1\",キー割付!I260=\"トーン2\",\"トーン2\",キー割付!I260=\"トーン3\",\"トーン3\",キー割付!I260=\"トーン4\",\"トーン4\",キー割付!I260=\"トーン5\",\"トーン5\",キー割付!I260=\"トーン6\",\"トーン6\",キー割付!I260=\"トーン7\",\"トーン7\",キー割付!I260=\"トーン7\",\"トーン7\",キー割付!I260=\"無鳴動着信\",\"トーン8\",キー割付!I260=\"グリーンスリーブス\",\"メロディ1\",キー割付!I260=\"峠の我が家\",\"メロディ2\",キー割付!I260=\"カノン\",\"メロディ3\",キー割付!I260=\"春の歌\",\"メロディ4\",キー割付!I260=\"主よ人の望みの喜びよ\",\"メロディ5\",キー割付!I260=\"メヌエット\",\"メロディ6\",キー割付!I260=\"華麗なる大円舞曲\",\"メロディ7\",キー割付!I260=\"ハンガリア舞曲第5番\",\"メロディ8\",TRUE,\"トーン1\")","v":"トーン1"},{"$f":"_xlfn.IFS(キー割付!D268=\"着信音なし\",\"トーン1\",キー割付!D268=\"トーン1\",\"トーン1\",キー割付!D268=\"トーン2\",\"トーン2\",キー割付!D268=\"トーン3\",\"トーン3\",キー割付!D268=\"トーン4\",\"トーン4\",キー割付!D268=\"トーン5\",\"トーン5\",キー割付!D268=\"トーン6\",\"トーン6\",キー割付!D268=\"トーン7\",\"トーン7\",キー割付!D268=\"トーン7\",\"トーン7\",キー割付!D268=\"無鳴動着信\",\"トーン8\",キー割付!D268=\"グリーンスリーブス\",\"メロディ1\",キー割付!D268=\"峠の我が家\",\"メロディ2\",キー割付!D268=\"カノン\",\"メロディ3\",キー割付!D268=\"春の歌\",\"メロディ4\",キー割付!D268=\"主よ人の望みの喜びよ\",\"メロディ5\",キー割付!D268=\"メヌエット\",\"メロディ6\",キー割付!D268=\"華麗なる大円舞曲\",\"メロディ7\",キー割付!D268=\"ハンガリア舞曲第5番\",\"メロディ8\",TRUE,\"トーン1\")","v":"トーン1"},{"$f":"_xlfn.IFS(キー割付!E268=\"着信音なし\",\"トーン1\",キー割付!E268=\"トーン1\",\"トーン1\",キー割付!E268=\"トーン2\",\"トーン2\",キー割付!E268=\"トーン3\",\"トーン3\",キー割付!E268=\"トーン4\",\"トーン4\",キー割付!E268=\"トーン5\",\"トーン5\",キー割付!E268=\"トーン6\",\"トーン6\",キー割付!E268=\"トーン7\",\"トーン7\",キー割付!E268=\"トーン7\",\"トーン7\",キー割付!E268=\"無鳴動着信\",\"トーン8\",キー割付!E268=\"グリーンスリーブス\",\"メロディ1\",キー割付!E268=\"峠の我が家\",\"メロディ2\",キー割付!E268=\"カノン\",\"メロディ3\",キー割付!E268=\"春の歌\",\"メロディ4\",キー割付!E268=\"主よ人の望みの喜びよ\",\"メロディ5\",キー割付!E268=\"メヌエット\",\"メロディ6\",キー割付!E268=\"華麗なる大円舞曲\",\"メロディ7\",キー割付!E268=\"ハンガリア舞曲第5番\",\"メロディ8\",TRUE,\"トーン1\")","v":"トーン1"},{"$f":"IF(E49=\"ZX-DECLDIV-IPコードレス電話機\",\"トーン1\",_xlfn.IFS(キー割付!F268=\"着信音なし\",\"トーン1\",キー割付!F268=\"トーン1\",\"トーン1\",キー割付!F268=\"トーン2\",\"トーン2\",キー割付!F268=\"トーン3\",\"トーン3\",キー割付!F268=\"トーン4\",\"トーン4\",キー割付!F268=\"トーン5\",\"トーン5\",キー割付!F268=\"トーン6\",\"トーン6\",キー割付!F268=\"トーン7\",\"トーン7\",キー割付!F268=\"トーン7\",\"トーン7\",キー割付!F268=\"無鳴動着信\",\"トーン8\",キー割付!F268=\"グリーンスリーブス\",\"メロディ1\",キー割付!F268=\"峠の我が家\",\"メロディ2\",キー割付!F268=\"カノン\",\"メロディ3\",キー割付!F268=\"春の歌\",\"メロディ4\",キー割付!F268=\"主よ人の望みの喜びよ\",\"メロディ5\",キー割付!F268=\"メヌエット\",\"メロディ6\",キー割付!F268=\"華麗なる大円舞曲\",\"メロディ7\",キー割付!F268=\"ハンガリア舞曲第5番\",\"メロディ8\",TRUE,\"トーン1\"))","v":"トーン1"},{"$f":"IF(E49=\"ZX-DECLDIV-IPコードレス電話機\",\"トーン1\",_xlfn.IFS(キー割付!G268=\"着信音なし\",\"トーン1\",キー割付!G268=\"トーン1\",\"トーン1\",キー割付!G268=\"トーン2\",\"トーン2\",キー割付!G268=\"トーン3\",\"トーン3\",キー割付!G268=\"トーン4\",\"トーン4\",キー割付!G268=\"トーン5\",\"トーン5\",キー割付!G268=\"トーン6\",\"トーン6\",キー割付!G268=\"トーン7\",\"トーン7\",キー割付!G268=\"トーン7\",\"トーン7\",キー割付!G268=\"無鳴動着信\",\"トーン8\",キー割付!G268=\"グリーンスリーブス\",\"メロディ1\",キー割付!G268=\"峠の我が家\",\"メロディ2\",キー割付!G268=\"カノン\",\"メロディ3\",キー割付!G268=\"春の歌\",\"メロディ4\",キー割付!G268=\"主よ人の望みの喜びよ\",\"メロディ5\",キー割付!G268=\"メヌエット\",\"メロディ6\",キー割付!G268=\"華麗なる大円舞曲\",\"メロディ7\",キー割付!G268=\"ハンガリア舞曲第5番\",\"メロディ8\",TRUE,\"トーン1\"))","v":"トーン1"},{"$f":"IF(E49=\"ZX-DECLDIV-IPコードレス電話機\",\"トーン1\",_xlfn.IFS(キー割付!H268=\"着信音なし\",\"トーン1\",キー割付!H268=\"トーン1\",\"トーン1\",キー割付!H268=\"トーン2\",\"トーン2\",キー割付!H268=\"トーン3\",\"トーン3\",キー割付!H268=\"トーン4\",\"トーン4\",キー割付!H268=\"トーン5\",\"トーン5\",キー割付!H268=\"トーン6\",\"トーン6\",キー割付!H268=\"トーン7\",\"トーン7\",キー割付!H268=\"トーン7\",\"トーン7\",キー割付!H268=\"無鳴動着信\",\"トーン8\",キー割付!H268=\"グリーンスリーブス\",\"メロディ1\",キー割付!H268=\"峠の我が家\",\"メロディ2\",キー割付!H268=\"カノン\",\"メロディ3\",キー割付!H268=\"春の歌\",\"メロディ4\",キー割付!H268=\"主よ人の望みの喜びよ\",\"メロディ5\",キー割付!H268=\"メヌエット\",\"メロディ6\",キー割付!H268=\"華麗なる大円舞曲\",\"メロディ7\",キー割付!H268=\"ハンガリア舞曲第5番\",\"メロディ8\",TRUE,\"トーン1\"))","v":"トーン1"},{"$f":"IF(E49=\"ZX-DECLDIV-IPコードレス電話機\",\"トーン1\",_xlfn.IFS(キー割付!I268=\"着信音なし\",\"トーン1\",キー割付!I268=\"トーン1\",\"トーン1\",キー割付!I268=\"トーン2\",\"トーン2\",キー割付!I268=\"トーン3\",\"トーン3\",キー割付!I268=\"トーン4\",\"トーン4\",キー割付!I268=\"トーン5\",\"トーン5\",キー割付!I268=\"トーン6\",\"トーン6\",キー割付!I268=\"トーン7\",\"トーン7\",キー割付!I268=\"トーン7\",\"トーン7\",キー割付!I268=\"無鳴動着信\",\"トーン8\",キー割付!I268=\"グリーンスリーブス\",\"メロディ1\",キー割付!I268=\"峠の我が家\",\"メロディ2\",キー割付!I268=\"カノン\",\"メロディ3\",キー割付!I268=\"春の歌\",\"メロディ4\",キー割付!I268=\"主よ人の望みの喜びよ\",\"メロディ5\",キー割付!I268=\"メヌエット\",\"メロディ6\",キー割付!I268=\"華麗なる大円舞曲\",\"メロディ7\",キー割付!I268=\"ハンガリア舞曲第5番\",\"メロディ8\",TRUE,\"トーン1\"))","v":"トーン1"},{"$f":"IF(E49=\"ZX-DECLDIV-IPコードレス電話機\",\"トーン1\",_xlfn.IFS(キー割付!D276=\"着信音なし\",\"トーン1\",キー割付!D276=\"トーン1\",\"トーン1\",キー割付!D276=\"トーン2\",\"トーン2\",キー割付!D276=\"トーン3\",\"トーン3\",キー割付!D276=\"トーン4\",\"トーン4\",キー割付!D276=\"トーン5\",\"トーン5\",キー割付!D276=\"トーン6\",\"トーン6\",キー割付!D276=\"トーン7\",\"トーン7\",キー割付!D276=\"トーン7\",\"トーン7\",キー割付!D276=\"無鳴動着信\",\"トーン8\",キー割付!D276=\"グリーンスリーブス\",\"メロディ1\",キー割付!D276=\"峠の我が家\",\"メロディ2\",キー割付!D276=\"カノン\",\"メロディ3\",キー割付!D276=\"春の歌\",\"メロディ4\",キー割付!D276=\"主よ人の望みの喜びよ\",\"メロディ5\",キー割付!D276=\"メヌエット\",\"メロディ6\",キー割付!D276=\"華麗なる大円舞曲\",\"メロディ7\",キー割付!D276=\"ハンガリア舞曲第5番\",\"メロディ8\",TRUE,\"トーン1\"))","v":"トーン1"},{"$f":"IF(E49=\"ZX-DECLDIV-IPコードレス電話機\",\"トーン1\",_xlfn.IFS(キー割付!E276=\"着信音なし\",\"トーン1\",キー割付!E276=\"トーン1\",\"トーン1\",キー割付!E276=\"トーン2\",\"トーン2\",キー割付!E276=\"トーン3\",\"トーン3\",キー割付!E276=\"トーン4\",\"トーン4\",キー割付!E276=\"トーン5\",\"トーン5\",キー割付!E276=\"トーン6\",\"トーン6\",キー割付!E276=\"トーン7\",\"トーン7\",キー割付!E276=\"トーン7\",\"トーン7\",キー割付!E276=\"無鳴動着信\",\"トーン8\",キー割付!E276=\"グリーンスリーブス\",\"メロディ1\",キー割付!E276=\"峠の我が家\",\"メロディ2\",キー割付!E276=\"カノン\",\"メロディ3\",キー割付!E276=\"春の歌\",\"メロディ4\",キー割付!E276=\"主よ人の望みの喜びよ\",\"メロディ5\",キー割付!E276=\"メヌエット\",\"メロディ6\",キー割付!E276=\"華麗なる大円舞曲\",\"メロディ7\",キー割付!E276=\"ハンガリア舞曲第5番\",\"メロディ8\",TRUE,\"トーン1\"))","v":"トーン1"},{"$f":"IF(E49=\"ZX-DECLDIV-IPコードレス電話機\",\"トーン1\",_xlfn.IFS(キー割付!F276=\"着信音なし\",\"トーン1\",キー割付!F276=\"トーン1\",\"トーン1\",キー割付!F276=\"トーン2\",\"トーン2\",キー割付!F276=\"トーン3\",\"トーン3\",キー割付!F276=\"トーン4\",\"トーン4\",キー割付!F276=\"トーン5\",\"トーン5\",キー割付!F276=\"トーン6\",\"トーン6\",キー割付!F276=\"トーン7\",\"トーン7\",キー割付!F276=\"トーン7\",\"トーン7\",キー割付!F276=\"無鳴動着信\",\"トーン8\",キー割付!F276=\"グリーンスリーブス\",\"メロディ1\",キー割付!F276=\"峠の我が家\",\"メロディ2\",キー割付!F276=\"カノン\",\"メロディ3\",キー割付!F276=\"春の歌\",\"メロディ4\",キー割付!F276=\"主よ人の望みの喜びよ\",\"メロディ5\",キー割付!F276=\"メヌエット\",\"メロディ6\",キー割付!F276=\"華麗なる大円舞曲\",\"メロディ7\",キー割付!F276=\"ハンガリア舞曲第5番\",\"メロディ8\",TRUE,\"トーン1\"))","v":"トーン1"},{"$f":"IF(E49=\"ZX-DECLDIV-IPコードレス電話機\",\"トーン1\",_xlfn.IFS(キー割付!G276=\"着信音なし\",\"トーン1\",キー割付!G276=\"トーン1\",\"トーン1\",キー割付!G276=\"トーン2\",\"トーン2\",キー割付!G276=\"トーン3\",\"トーン3\",キー割付!G276=\"トーン4\",\"トーン4\",キー割付!G276=\"トーン5\",\"トーン5\",キー割付!G276=\"トーン6\",\"トーン6\",キー割付!G276=\"トーン7\",\"トーン7\",キー割付!G276=\"トーン7\",\"トーン7\",キー割付!G276=\"無鳴動着信\",\"トーン8\",キー割付!G276=\"グリーンスリーブス\",\"メロディ1\",キー割付!G276=\"峠の我が家\",\"メロディ2\",キー割付!G276=\"カノン\",\"メロディ3\",キー割付!G276=\"春の歌\",\"メロディ4\",キー割付!G276=\"主よ人の望みの喜びよ\",\"メロディ5\",キー割付!G276=\"メヌエット\",\"メロディ6\",キー割付!G276=\"華麗なる大円舞曲\",\"メロディ7\",キー割付!G276=\"ハンガリア舞曲第5番\",\"メロディ8\",TRUE,\"トーン1\"))","v":"トーン1"},{"$f":"IF(E49=\"ZX-DECLDIV-IPコードレス電話機\",\"トーン1\",_xlfn.IFS(キー割付!H276=\"着信音なし\",\"トーン1\",キー割付!H276=\"トーン1\",\"トーン1\",キー割付!H276=\"トーン2\",\"トーン2\",キー割付!H276=\"トーン3\",\"トーン3\",キー割付!H276=\"トーン4\",\"トーン4\",キー割付!H276=\"トーン5\",\"トーン5\",キー割付!H276=\"トーン6\",\"トーン6\",キー割付!H276=\"トーン7\",\"トーン7\",キー割付!H276=\"トーン7\",\"トーン7\",キー割付!H276=\"無鳴動着信\",\"トーン8\",キー割付!H276=\"グリーンスリーブス\",\"メロディ1\",キー割付!H276=\"峠の我が家\",\"メロディ2\",キー割付!H276=\"カノン\",\"メロディ3\",キー割付!H276=\"春の歌\",\"メロディ4\",キー割付!H276=\"主よ人の望みの喜びよ\",\"メロディ5\",キー割付!H276=\"メヌエット\",\"メロディ6\",キー割付!H276=\"華麗なる大円舞曲\",\"メロディ7\",キー割付!H276=\"ハンガリア舞曲第5番\",\"メロディ8\",TRUE,\"トーン1\"))","v":"トーン1"},{"$f":"IF(E49=\"ZX-DECLDIV-IPコードレス電話機\",\"トーン1\",_xlfn.IFS(キー割付!I276=\"着信音なし\",\"トーン1\",キー割付!I276=\"トーン1\",\"トーン1\",キー割付!I276=\"トーン2\",\"トーン2\",キー割付!I276=\"トーン3\",\"トーン3\",キー割付!I276=\"トーン4\",\"トーン4\",キー割付!I276=\"トーン5\",\"トーン5\",キー割付!I276=\"トーン6\",\"トーン6\",キー割付!I276=\"トーン7\",\"トーン7\",キー割付!I276=\"トーン7\",\"トーン7\",キー割付!I276=\"無鳴動着信\",\"トーン8\",キー割付!I276=\"グリーンスリーブス\",\"メロディ1\",キー割付!I276=\"峠の我が家\",\"メロディ2\",キー割付!I276=\"カノン\",\"メロディ3\",キー割付!I276=\"春の歌\",\"メロディ4\",キー割付!I276=\"主よ人の望みの喜びよ\",\"メロディ5\",キー割付!I276=\"メヌエット\",\"メロディ6\",キー割付!I276=\"華麗なる大円舞曲\",\"メロディ7\",キー割付!I276=\"ハンガリア舞曲第5番\",\"メロディ8\",TRUE,\"トーン1\"))","v":"トーン1"},{"$f":"IF(E49=\"ZX-DECLDIV-IPコードレス電話機\",\"トーン1\",_xlfn.IFS(キー割付!D284=\"着信音なし\",\"トーン1\",キー割付!D284=\"トーン1\",\"トーン1\",キー割付!D284=\"トーン2\",\"トーン2\",キー割付!D284=\"トーン3\",\"トーン3\",キー割付!D284=\"トーン4\",\"トーン4\",キー割付!D284=\"トーン5\",\"トーン5\",キー割付!D284=\"トーン6\",\"トーン6\",キー割付!D284=\"トーン7\",\"トーン7\",キー割付!D284=\"トーン7\",\"トーン7\",キー割付!D284=\"無鳴動着信\",\"トーン8\",キー割付!D284=\"グリーンスリーブス\",\"メロディ1\",キー割付!D284=\"峠の我が家\",\"メロディ2\",キー割付!D284=\"カノン\",\"メロディ3\",キー割付!D284=\"春の歌\",\"メロディ4\",キー割付!D284=\"主よ人の望みの喜びよ\",\"メロディ5\",キー割付!D284=\"メヌエット\",\"メロディ6\",キー割付!D284=\"華麗なる大円舞曲\",\"メロディ7\",キー割付!D284=\"ハンガリア舞曲第5番\",\"メロディ8\",TRUE,\"トーン1\"))","v":"トーン1"},{"$f":"IF(E49=\"ZX-DECLDIV-IPコードレス電話機\",\"トーン1\",_xlfn.IFS(キー割付!E284=\"着信音なし\",\"トーン1\",キー割付!E284=\"トーン1\",\"トーン1\",キー割付!E284=\"トーン2\",\"トーン2\",キー割付!E284=\"トーン3\",\"トーン3\",キー割付!E284=\"トーン4\",\"トーン4\",キー割付!E284=\"トーン5\",\"トーン5\",キー割付!E284=\"トーン6\",\"トーン6\",キー割付!E284=\"トーン7\",\"トーン7\",キー割付!E284=\"トーン7\",\"トーン7\",キー割付!E284=\"無鳴動着信\",\"トーン8\",キー割付!E284=\"グリーンスリーブス\",\"メロディ1\",キー割付!E284=\"峠の我が家\",\"メロディ2\",キー割付!E284=\"カノン\",\"メロディ3\",キー割付!E284=\"春の歌\",\"メロディ4\",キー割付!E284=\"主よ人の望みの喜びよ\",\"メロディ5\",キー割付!E284=\"メヌエット\",\"メロディ6\",キー割付!E284=\"華麗なる大円舞曲\",\"メロディ7\",キー割付!E284=\"ハンガリア舞曲第5番\",\"メロディ8\",TRUE,\"トーン1\"))","v":"トーン1"},{"$f":"IF(E49=\"ZX-DECLDIV-IPコードレス電話機\",\"トーン1\",_xlfn.IFS(キー割付!F284=\"着信音なし\",\"トーン1\",キー割付!F284=\"トーン1\",\"トーン1\",キー割付!F284=\"トーン2\",\"トーン2\",キー割付!F284=\"トーン3\",\"トーン3\",キー割付!F284=\"トーン4\",\"トーン4\",キー割付!F284=\"トーン5\",\"トーン5\",キー割付!F284=\"トーン6\",\"トーン6\",キー割付!F284=\"トーン7\",\"トーン7\",キー割付!F284=\"トーン7\",\"トーン7\",キー割付!F284=\"無鳴動着信\",\"トーン8\",キー割付!F284=\"グリーンスリーブス\",\"メロディ1\",キー割付!F284=\"峠の我が家\",\"メロディ2\",キー割付!F284=\"カノン\",\"メロディ3\",キー割付!F284=\"春の歌\",\"メロディ4\",キー割付!F284=\"主よ人の望みの喜びよ\",\"メロディ5\",キー割付!F284=\"メヌエット\",\"メロディ6\",キー割付!F284=\"華麗なる大円舞曲\",\"メロディ7\",キー割付!F284=\"ハンガリア舞曲第5番\",\"メロディ8\",TRUE,\"トーン1\"))","v":"トーン1"},{"$f":"IF(E49=\"ZX-DECLDIV-IPコードレス電話機\",\"トーン1\",_xlfn.IFS(キー割付!G284=\"着信音なし\",\"トーン1\",キー割付!G284=\"トーン1\",\"トーン1\",キー割付!G284=\"トーン2\",\"トーン2\",キー割付!G284=\"トーン3\",\"トーン3\",キー割付!G284=\"トーン4\",\"トーン4\",キー割付!G284=\"トーン5\",\"トーン5\",キー割付!G284=\"トーン6\",\"トーン6\",キー割付!G284=\"トーン7\",\"トーン7\",キー割付!G284=\"トーン7\",\"トーン7\",キー割付!G284=\"無鳴動着信\",\"トーン8\",キー割付!G284=\"グリーンスリーブス\",\"メロディ1\",キー割付!G284=\"峠の我が家\",\"メロディ2\",キー割付!G284=\"カノン\",\"メロディ3\",キー割付!G284=\"春の歌\",\"メロディ4\",キー割付!G284=\"主よ人の望みの喜びよ\",\"メロディ5\",キー割付!G284=\"メヌエット\",\"メロディ6\",キー割付!G284=\"華麗なる大円舞曲\",\"メロディ7\",キー割付!G284=\"ハンガリア舞曲第5番\",\"メロディ8\",TRUE,\"トーン1\"))","v":"トーン1"},{"$f":"IF(E49=\"ZX-DECLDIV-IPコードレス電話機\",\"トーン1\",_xlfn.IFS(キー割付!H284=\"着信音なし\",\"トーン1\",キー割付!H284=\"トーン1\",\"トーン1\",キー割付!H284=\"トーン2\",\"トーン2\",キー割付!H284=\"トーン3\",\"トーン3\",キー割付!H284=\"トーン4\",\"トーン4\",キー割付!H284=\"トーン5\",\"トーン5\",キー割付!H284=\"トーン6\",\"トーン6\",キー割付!H284=\"トーン7\",\"トーン7\",キー割付!H284=\"トーン7\",\"トーン7\",キー割付!H284=\"無鳴動着信\",\"トーン8\",キー割付!H284=\"グリーンスリーブス\",\"メロディ1\",キー割付!H284=\"峠の我が家\",\"メロディ2\",キー割付!H284=\"カノン\",\"メロディ3\",キー割付!H284=\"春の歌\",\"メロディ4\",キー割付!H284=\"主よ人の望みの喜びよ\",\"メロディ5\",キー割付!H284=\"メヌエット\",\"メロディ6\",キー割付!H284=\"華麗なる大円舞曲\",\"メロディ7\",キー割付!H284=\"ハンガリア舞曲第5番\",\"メロディ8\",TRUE,\"トーン1\"))","v":"トーン1"},{"$f":"IF(E49=\"ZX-DECLDIV-IPコードレス電話機\",\"トーン1\",_xlfn.IFS(キー割付!I284=\"着信音なし\",\"トーン1\",キー割付!I284=\"トーン1\",\"トーン1\",キー割付!I284=\"トーン2\",\"トーン2\",キー割付!I284=\"トーン3\",\"トーン3\",キー割付!I284=\"トーン4\",\"トーン4\",キー割付!I284=\"トーン5\",\"トーン5\",キー割付!I284=\"トーン6\",\"トーン6\",キー割付!I284=\"トーン7\",\"トーン7\",キー割付!I284=\"トーン7\",\"トーン7\",キー割付!I284=\"無鳴動着信\",\"トーン8\",キー割付!I284=\"グリーンスリーブス\",\"メロディ1\",キー割付!I284=\"峠の我が家\",\"メロディ2\",キー割付!I284=\"カノン\",\"メロディ3\",キー割付!I284=\"春の歌\",\"メロディ4\",キー割付!I284=\"主よ人の望みの喜びよ\",\"メロディ5\",キー割付!I284=\"メヌエット\",\"メロディ6\",キー割付!I284=\"華麗なる大円舞曲\",\"メロディ7\",キー割付!I284=\"ハンガリア舞曲第5番\",\"メロディ8\",TRUE,\"トーン1\"))","v":"トーン1"}]
[null,null,null,null,null,{"$f":"_xlfn.IFS(キー割付!D261=\"昼夜休憩\",\"B\",キー割付!D261=\"－－－\",\"-\",キー割付!D261=\"昼－－\",\"H\",キー割付!D261=\"－夜－\",\"N\",キー割付!D261=\"－－休憩\",\"P\",キー割付!D261=\"昼夜－\",\"D\",キー割付!D261=\"昼－休憩\",\"F\",キー割付!D261=\"－夜休憩\",\"K\",TRUE,\"-\")","v":"-"},{"$f":"_xlfn.IFS(キー割付!E261=\"昼夜休憩\",\"B\",キー割付!E261=\"－－－\",\"-\",キー割付!E261=\"昼－－\",\"H\",キー割付!E261=\"－夜－\",\"N\",キー割付!E261=\"－－休憩\",\"P\",キー割付!E261=\"昼夜－\",\"D\",キー割付!E261=\"昼－休憩\",\"F\",キー割付!E261=\"－夜休憩\",\"K\",TRUE,\"-\")","v":"-"},{"$f":"_xlfn.IFS(キー割付!F261=\"昼夜休憩\",\"B\",キー割付!F261=\"－－－\",\"-\",キー割付!F261=\"昼－－\",\"H\",キー割付!F261=\"－夜－\",\"N\",キー割付!F261=\"－－休憩\",\"P\",キー割付!F261=\"昼夜－\",\"D\",キー割付!F261=\"昼－休憩\",\"F\",キー割付!F261=\"－夜休憩\",\"K\",TRUE,\"-\")","v":"-"},{"$f":"_xlfn.IFS(キー割付!G261=\"昼夜休憩\",\"B\",キー割付!G261=\"－－－\",\"-\",キー割付!G261=\"昼－－\",\"H\",キー割付!G261=\"－夜－\",\"N\",キー割付!G261=\"－－休憩\",\"P\",キー割付!G261=\"昼夜－\",\"D\",キー割付!G261=\"昼－休憩\",\"F\",キー割付!G261=\"－夜休憩\",\"K\",TRUE,\"-\")","v":"-"},{"$f":"_xlfn.IFS(キー割付!H261=\"昼夜休憩\",\"B\",キー割付!H261=\"－－－\",\"-\",キー割付!H261=\"昼－－\",\"H\",キー割付!H261=\"－夜－\",\"N\",キー割付!H261=\"－－休憩\",\"P\",キー割付!H261=\"昼夜－\",\"D\",キー割付!H261=\"昼－休憩\",\"F\",キー割付!H261=\"－夜休憩\",\"K\",TRUE,\"-\")","v":"-"},{"$f":"_xlfn.IFS(キー割付!I261=\"昼夜休憩\",\"B\",キー割付!I261=\"－－－\",\"-\",キー割付!I261=\"昼－－\",\"H\",キー割付!I261=\"－夜－\",\"N\",キー割付!I261=\"－－休憩\",\"P\",キー割付!I261=\"昼夜－\",\"D\",キー割付!I261=\"昼－休憩\",\"F\",キー割付!I261=\"－夜休憩\",\"K\",TRUE,\"-\")","v":"-"},{"$f":"_xlfn.IFS(キー割付!D269=\"昼夜休憩\",\"B\",キー割付!D269=\"－－－\",\"-\",キー割付!D269=\"昼－－\",\"H\",キー割付!D269=\"－夜－\",\"N\",キー割付!D269=\"－－休憩\",\"P\",キー割付!D269=\"昼夜－\",\"D\",キー割付!D269=\"昼－休憩\",\"F\",キー割付!D269=\"－夜休憩\",\"K\",TRUE,\"-\")","v":"-"},{"$f":"_xlfn.IFS(キー割付!E269=\"昼夜休憩\",\"B\",キー割付!E269=\"－－－\",\"-\",キー割付!E269=\"昼－－\",\"H\",キー割付!E269=\"－夜－\",\"N\",キー割付!E269=\"－－休憩\",\"P\",キー割付!E269=\"昼夜－\",\"D\",キー割付!E269=\"昼－休憩\",\"F\",キー割付!E269=\"－夜休憩\",\"K\",TRUE,\"-\")","v":"-"},{"$f":"IF(E49=\"ZX-DECLDIV-IPコードレス電話機\",\"-\",_xlfn.IFS(キー割付!F269=\"昼夜休憩\",\"B\",キー割付!F269=\"－－－\",\"-\",キー割付!F269=\"昼－－\",\"H\",キー割付!F269=\"－夜－\",\"N\",キー割付!F269=\"－－休憩\",\"P\",キー割付!F269=\"昼夜－\",\"D\",キー割付!F269=\"昼－休憩\",\"F\",キー割付!F269=\"－夜休憩\",\"K\",TRUE,\"-\"))","v":"-"},{"$f":"IF(E49=\"ZX-DECLDIV-IPコードレス電話機\",\"-\",_xlfn.IFS(キー割付!G269=\"昼夜休憩\",\"B\",キー割付!G269=\"－－－\",\"-\",キー割付!G269=\"昼－－\",\"H\",キー割付!G269=\"－夜－\",\"N\",キー割付!G269=\"－－休憩\",\"P\",キー割付!G269=\"昼夜－\",\"D\",キー割付!G269=\"昼－休憩\",\"F\",キー割付!G269=\"－夜休憩\",\"K\",TRUE,\"-\"))","v":"-"},{"$f":"IF(E49=\"ZX-DECLDIV-IPコードレス電話機\",\"-\",_xlfn.IFS(キー割付!H269=\"昼夜休憩\",\"B\",キー割付!H269=\"－－－\",\"-\",キー割付!H269=\"昼－－\",\"H\",キー割付!H269=\"－夜－\",\"N\",キー割付!H269=\"－－休憩\",\"P\",キー割付!H269=\"昼夜－\",\"D\",キー割付!H269=\"昼－休憩\",\"F\",キー割付!H269=\"－夜休憩\",\"K\",TRUE,\"-\"))","v":"-"},{"$f":"IF(E49=\"ZX-DECLDIV-IPコードレス電話機\",\"-\",_xlfn.IFS(キー割付!I269=\"昼夜休憩\",\"B\",キー割付!I269=\"－－－\",\"-\",キー割付!I269=\"昼－－\",\"H\",キー割付!I269=\"－夜－\",\"N\",キー割付!I269=\"－－休憩\",\"P\",キー割付!I269=\"昼夜－\",\"D\",キー割付!I269=\"昼－休憩\",\"F\",キー割付!I269=\"－夜休憩\",\"K\",TRUE,\"-\"))","v":"-"},{"$f":"IF(E49=\"ZX-DECLDIV-IPコードレス電話機\",\"-\",_xlfn.IFS(キー割付!D277=\"昼夜休憩\",\"B\",キー割付!D277=\"－－－\",\"-\",キー割付!D277=\"昼－－\",\"H\",キー割付!D277=\"－夜－\",\"N\",キー割付!D277=\"－－休憩\",\"P\",キー割付!D277=\"昼夜－\",\"D\",キー割付!D277=\"昼－休憩\",\"F\",キー割付!D277=\"－夜休憩\",\"K\",TRUE,\"-\"))","v":"-"},{"$f":"IF(E49=\"ZX-DECLDIV-IPコードレス電話機\",\"-\",_xlfn.IFS(キー割付!E277=\"昼夜休憩\",\"B\",キー割付!E277=\"－－－\",\"-\",キー割付!E277=\"昼－－\",\"H\",キー割付!E277=\"－夜－\",\"N\",キー割付!E277=\"－－休憩\",\"P\",キー割付!E277=\"昼夜－\",\"D\",キー割付!E277=\"昼－休憩\",\"F\",キー割付!E277=\"－夜休憩\",\"K\",TRUE,\"-\"))","v":"-"},{"$f":"IF(E49=\"ZX-DECLDIV-IPコードレス電話機\",\"-\",_xlfn.IFS(キー割付!F277=\"昼夜休憩\",\"B\",キー割付!F277=\"－－－\",\"-\",キー割付!F277=\"昼－－\",\"H\",キー割付!F277=\"－夜－\",\"N\",キー割付!F277=\"－－休憩\",\"P\",キー割付!F277=\"昼夜－\",\"D\",キー割付!F277=\"昼－休憩\",\"F\",キー割付!F277=\"－夜休憩\",\"K\",TRUE,\"-\"))","v":"-"},{"$f":"IF(E49=\"ZX-DECLDIV-IPコードレス電話機\",\"-\",_xlfn.IFS(キー割付!G277=\"昼夜休憩\",\"B\",キー割付!G277=\"－－－\",\"-\",キー割付!G277=\"昼－－\",\"H\",キー割付!G277=\"－夜－\",\"N\",キー割付!G277=\"－－休憩\",\"P\",キー割付!G277=\"昼夜－\",\"D\",キー割付!G277=\"昼－休憩\",\"F\",キー割付!G277=\"－夜休憩\",\"K\",TRUE,\"-\"))","v":"-"},{"$f":"IF(E49=\"ZX-DECLDIV-IPコードレス電話機\",\"-\",_xlfn.IFS(キー割付!H277=\"昼夜休憩\",\"B\",キー割付!H277=\"－－－\",\"-\",キー割付!H277=\"昼－－\",\"H\",キー割付!H277=\"－夜－\",\"N\",キー割付!H277=\"－－休憩\",\"P\",キー割付!H277=\"昼夜－\",\"D\",キー割付!H277=\"昼－休憩\",\"F\",キー割付!H277=\"－夜休憩\",\"K\",TRUE,\"-\"))","v":"-"},{"$f":"IF(E49=\"ZX-DECLDIV-IPコードレス電話機\",\"-\",_xlfn.IFS(キー割付!I277=\"昼夜休憩\",\"B\",キー割付!I277=\"－－－\",\"-\",キー割付!I277=\"昼－－\",\"H\",キー割付!I277=\"－夜－\",\"N\",キー割付!I277=\"－－休憩\",\"P\",キー割付!I277=\"昼夜－\",\"D\",キー割付!I277=\"昼－休憩\",\"F\",キー割付!I277=\"－夜休憩\",\"K\",TRUE,\"-\"))","v":"-"},{"$f":"IF(E49=\"ZX-DECLDIV-IPコードレス電話機\",\"-\",_xlfn.IFS(キー割付!D285=\"昼夜休憩\",\"B\",キー割付!D285=\"－－－\",\"-\",キー割付!D285=\"昼－－\",\"H\",キー割付!D285=\"－夜－\",\"N\",キー割付!D285=\"－－休憩\",\"P\",キー割付!D285=\"昼夜－\",\"D\",キー割付!D285=\"昼－休憩\",\"F\",キー割付!D285=\"－夜休憩\",\"K\",TRUE,\"-\"))","v":"-"},{"$f":"IF(E49=\"ZX-DECLDIV-IPコードレス電話機\",\"-\",_xlfn.IFS(キー割付!E285=\"昼夜休憩\",\"B\",キー割付!E285=\"－－－\",\"-\",キー割付!E285=\"昼－－\",\"H\",キー割付!E285=\"－夜－\",\"N\",キー割付!E285=\"－－休憩\",\"P\",キー割付!E285=\"昼夜－\",\"D\",キー割付!E285=\"昼－休憩\",\"F\",キー割付!E285=\"－夜休憩\",\"K\",TRUE,\"-\"))","v":"-"},{"$f":"IF(E49=\"ZX-DECLDIV-IPコードレス電話機\",\"-\",_xlfn.IFS(キー割付!F285=\"昼夜休憩\",\"B\",キー割付!F285=\"－－－\",\"-\",キー割付!F285=\"昼－－\",\"H\",キー割付!F285=\"－夜－\",\"N\",キー割付!F285=\"－－休憩\",\"P\",キー割付!F285=\"昼夜－\",\"D\",キー割付!F285=\"昼－休憩\",\"F\",キー割付!F285=\"－夜休憩\",\"K\",TRUE,\"-\"))","v":"-"},{"$f":"IF(E49=\"ZX-DECLDIV-IPコードレス電話機\",\"-\",_xlfn.IFS(キー割付!G285=\"昼夜休憩\",\"B\",キー割付!G285=\"－－－\",\"-\",キー割付!G285=\"昼－－\",\"H\",キー割付!G285=\"－夜－\",\"N\",キー割付!G285=\"－－休憩\",\"P\",キー割付!G285=\"昼夜－\",\"D\",キー割付!G285=\"昼－休憩\",\"F\",キー割付!G285=\"－夜休憩\",\"K\",TRUE,\"-\"))","v":"-"},{"$f":"IF(E49=\"ZX-DECLDIV-IPコードレス電話機\",\"-\",_xlfn.IFS(キー割付!H285=\"昼夜休憩\",\"B\",キー割付!H285=\"－－－\",\"-\",キー割付!H285=\"昼－－\",\"H\",キー割付!H285=\"－夜－\",\"N\",キー割付!H285=\"－－休憩\",\"P\",キー割付!H285=\"昼夜－\",\"D\",キー割付!H285=\"昼－休憩\",\"F\",キー割付!H285=\"－夜休憩\",\"K\",TRUE,\"-\"))","v":"-"},{"$f":"IF(E49=\"ZX-DECLDIV-IPコードレス電話機\",\"-\",_xlfn.IFS(キー割付!I285=\"昼夜休憩\",\"B\",キー割付!I285=\"－－－\",\"-\",キー割付!I285=\"昼－－\",\"H\",キー割付!I285=\"－夜－\",\"N\",キー割付!I285=\"－－休憩\",\"P\",キー割付!I285=\"昼夜－\",\"D\",キー割付!I285=\"昼－休憩\",\"F\",キー割付!I285=\"－夜休憩\",\"K\",TRUE,\"-\"))","v":"-"}]
[null,16,{"$f":"IF(IFERROR(VALUE(VLOOKUP(B52,内線_キー割用,2,FALSE)),\"\")=0,\"\",IFERROR(VALUE(VLOOKUP(B52,内線_キー割用,2,FALSE)),\"\"))","v":""},{"$f":"IF(IFERROR(VALUE(VLOOKUP(B52,内線_キー割用,4,FALSE)),\"\")=0,\"\",IFERROR(VALUE(VLOOKUP(B52,内線_キー割用,4,FALSE)),\"\"))","v":""},{"$f":"IF(IFERROR(VLOOKUP(B52,内線_キー割用,3,FALSE),\"\")=0,\"\",IFERROR(VLOOKUP(B52,内線_キー割用,3,FALSE),\"\"))","v":""},{"$f":"IF(キー割付!N259=\"\",\"未使用\",キー割付!N259)","v":"未使用"},{"$f":"IF(キー割付!O259=\"\",\"未使用\",キー割付!O259)","v":"未使用"},{"$f":"IF(キー割付!P259=\"\",\"未使用\",キー割付!P259)","v":"未使用"},{"$f":"IF(キー割付!Q259=\"\",\"未使用\",キー割付!Q259)","v":"未使用"},{"$f":"IF(キー割付!R259=\"\",\"未使用\",キー割付!R259)","v":"未使用"},{"$f":"IF(キー割付!S259=\"\",\"未使用\",キー割付!S259)","v":"未使用"},{"$f":"IF(キー割付!N267=\"\",\"未使用\",キー割付!N267)","v":"未使用"},{"$f":"IF(キー割付!O267=\"\",\"未使用\",キー割付!O267)","v":"未使用"},{"$f":"IF(E52=\"ZX-DECLDIV-IPコードレス電話機\",\"未使用\",IF(キー割付!P267=\"\",\"未使用\",キー割付!P267))","v":"未使用"},{"$f":"IF(E52=\"ZX-DECLDIV-IPコードレス電話機\",\"未使用\",IF(キー割付!Q267=\"\",\"未使用\",キー割付!Q267))","v":"未使用"},{"$f":"IF(E52=\"ZX-DECLDIV-IPコードレス電話機\",\"未使用\",IF(キー割付!R267=\"\",\"未使用\",キー割付!R267))","v":"未使用"},{"$f":"IF(E52=\"ZX-DECLDIV-IPコードレス電話機\",\"未使用\",IF(キー割付!S267=\"\",\"未使用\",キー割付!S267))","v":"未使用"},{"$f":"IF(E52=\"ZX-DECLDIV-IPコードレス電話機\",\"未使用\",IF(キー割付!N275=\"\",\"未使用\",キー割付!N275))","v":"未使用"},{"$f":"IF(E52=\"ZX-DECLDIV-IPコードレス電話機\",\"未使用\",IF(キー割付!O275=\"\",\"未使用\",キー割付!O275))","v":"未使用"},{"$f":"IF(E52=\"ZX-DECLDIV-IPコードレス電話機\",\"未使用\",IF(キー割付!P275=\"\",\"未使用\",キー割付!P275))","v":"未使用"},{"$f":"IF(E52=\"ZX-DECLDIV-IPコードレス電話機\",\"未使用\",IF(キー割付!Q275=\"\",\"未使用\",キー割付!Q275))","v":"未使用"},{"$f":"IF(E52=\"ZX-DECLDIV-IPコードレス電話機\",\"未使用\",IF(キー割付!R275=\"\",\"未使用\",キー割付!R275))","v":"未使用"},{"$f":"IF(E52=\"ZX-DECLDIV-IPコードレス電話機\",\"未使用\",IF(キー割付!S275=\"\",\"未使用\",キー割付!S275))","v":"未使用"},{"$f":"IF(E52=\"ZX-DECLDIV-IPコードレス電話機\",\"未使用\",IF(キー割付!N283=\"\",\"未使用\",キー割付!N283))","v":"未使用"},{"$f":"IF(E52=\"ZX-DECLDIV-IPコードレス電話機\",\"未使用\",IF(キー割付!O283=\"\",\"未使用\",キー割付!O283))","v":"未使用"},{"$f":"IF(E52=\"ZX-DECLDIV-IPコードレス電話機\",\"未使用\",IF(キー割付!P283=\"\",\"未使用\",キー割付!P283))","v":"未使用"},{"$f":"IF(E52=\"ZX-DECLDIV-IPコードレス電話機\",\"未使用\",IF(キー割付!Q283=\"\",\"未使用\",キー割付!Q283))","v":"未使用"},{"$f":"IF(E52=\"ZX-DECLDIV-IPコードレス電話機\",\"未使用\",IF(キー割付!R283=\"\",\"未使用\",キー割付!R283))","v":"未使用"},{"$f":"IF(E52=\"ZX-DECLDIV-IPコードレス電話機\",\"未使用\",IF(キー割付!S283=\"\",\"未使用\",キー割付!S283))","v":"未使用"}]
[null,null,null,null,null,{"$f":"_xlfn.IFS(キー割付!N260=\"着信音なし\",\"トーン1\",キー割付!N260=\"トーン1\",\"トーン1\",キー割付!N260=\"トーン2\",\"トーン2\",キー割付!N260=\"トーン3\",\"トーン3\",キー割付!N260=\"トーン4\",\"トーン4\",キー割付!N260=\"トーン5\",\"トーン5\",キー割付!N260=\"トーン6\",\"トーン6\",キー割付!N260=\"トーン7\",\"トーン7\",キー割付!N260=\"トーン7\",\"トーン7\",キー割付!N260=\"無鳴動着信\",\"トーン8\",キー割付!N260=\"グリーンスリーブス\",\"メロディ1\",キー割付!N260=\"峠の我が家\",\"メロディ2\",キー割付!N260=\"カノン\",\"メロディ3\",キー割付!N260=\"春の歌\",\"メロディ4\",キー割付!N260=\"主よ人の望みの喜びよ\",\"メロディ5\",キー割付!N260=\"メヌエット\",\"メロディ6\",キー割付!N260=\"華麗なる大円舞曲\",\"メロディ7\",キー割付!N260=\"ハンガリア舞曲第5番\",\"メロディ8\",TRUE,\"トーン1\")","v":"トーン1"},{"$f":"_xlfn.IFS(キー割付!O260=\"着信音なし\",\"トーン1\",キー割付!O260=\"トーン1\",\"トーン1\",キー割付!O260=\"トーン2\",\"トーン2\",キー割付!O260=\"トーン3\",\"トーン3\",キー割付!O260=\"トーン4\",\"トーン4\",キー割付!O260=\"トーン5\",\"トーン5\",キー割付!O260=\"トーン6\",\"トーン6\",キー割付!O260=\"トーン7\",\"トーン7\",キー割付!O260=\"トーン7\",\"トーン7\",キー割付!O260=\"無鳴動着信\",\"トーン8\",キー割付!O260=\"グリーンスリーブス\",\"メロディ1\",キー割付!O260=\"峠の我が家\",\"メロディ2\",キー割付!O260=\"カノン\",\"メロディ3\",キー割付!O260=\"春の歌\",\"メロディ4\",キー割付!O260=\"主よ人の望みの喜びよ\",\"メロディ5\",キー割付!O260=\"メヌエット\",\"メロディ6\",キー割付!O260=\"華麗なる大円舞曲\",\"メロディ7\",キー割付!O260=\"ハンガリア舞曲第5番\",\"メロディ8\",TRUE,\"トーン1\")","v":"トーン1"},{"$f":"_xlfn.IFS(キー割付!P260=\"着信音なし\",\"トーン1\",キー割付!P260=\"トーン1\",\"トーン1\",キー割付!P260=\"トーン2\",\"トーン2\",キー割付!P260=\"トーン3\",\"トーン3\",キー割付!P260=\"トーン4\",\"トーン4\",キー割付!P260=\"トーン5\",\"トーン5\",キー割付!P260=\"トーン6\",\"トーン6\",キー割付!P260=\"トーン7\",\"トーン7\",キー割付!P260=\"トーン7\",\"トーン7\",キー割付!P260=\"無鳴動着信\",\"トーン8\",キー割付!P260=\"グリーンスリーブス\",\"メロディ1\",キー割付!P260=\"峠の我が家\",\"メロディ2\",キー割付!P260=\"カノン\",\"メロディ3\",キー割付!P260=\"春の歌\",\"メロディ4\",キー割付!P260=\"主よ人の望みの喜びよ\",\"メロディ5\",キー割付!P260=\"メヌエット\",\"メロディ6\",キー割付!P260=\"華麗なる大円舞曲\",\"メロディ7\",キー割付!P260=\"ハンガリア舞曲第5番\",\"メロディ8\",TRUE,\"トーン1\")","v":"トーン1"},{"$f":"_xlfn.IFS(キー割付!Q260=\"着信音なし\",\"トーン1\",キー割付!Q260=\"トーン1\",\"トーン1\",キー割付!Q260=\"トーン2\",\"トーン2\",キー割付!Q260=\"トーン3\",\"トーン3\",キー割付!Q260=\"トーン4\",\"トーン4\",キー割付!Q260=\"トーン5\",\"トーン5\",キー割付!Q260=\"トーン6\",\"トーン6\",キー割付!Q260=\"トーン7\",\"トーン7\",キー割付!Q260=\"トーン7\",\"トーン7\",キー割付!Q260=\"無鳴動着信\",\"トーン8\",キー割付!Q260=\"グリーンスリーブス\",\"メロディ1\",キー割付!Q260=\"峠の我が家\",\"メロディ2\",キー割付!Q260=\"カノン\",\"メロディ3\",キー割付!Q260=\"春の歌\",\"メロディ4\",キー割付!Q260=\"主よ人の望みの喜びよ\",\"メロディ5\",キー割付!Q260=\"メヌエット\",\"メロディ6\",キー割付!Q260=\"華麗なる大円舞曲\",\"メロディ7\",キー割付!Q260=\"ハンガリア舞曲第5番\",\"メロディ8\",TRUE,\"トーン1\")","v":"トーン1"},{"$f":"_xlfn.IFS(キー割付!R260=\"着信音なし\",\"トーン1\",キー割付!R260=\"トーン1\",\"トーン1\",キー割付!R260=\"トーン2\",\"トーン2\",キー割付!R260=\"トーン3\",\"トーン3\",キー割付!R260=\"トーン4\",\"トーン4\",キー割付!R260=\"トーン5\",\"トーン5\",キー割付!R260=\"トーン6\",\"トーン6\",キー割付!R260=\"トーン7\",\"トーン7\",キー割付!R260=\"トーン7\",\"トーン7\",キー割付!R260=\"無鳴動着信\",\"トーン8\",キー割付!R260=\"グリーンスリーブス\",\"メロディ1\",キー割付!R260=\"峠の我が家\",\"メロディ2\",キー割付!R260=\"カノン\",\"メロディ3\",キー割付!R260=\"春の歌\",\"メロディ4\",キー割付!R260=\"主よ人の望みの喜びよ\",\"メロディ5\",キー割付!R260=\"メヌエット\",\"メロディ6\",キー割付!R260=\"華麗なる大円舞曲\",\"メロディ7\",キー割付!R260=\"ハンガリア舞曲第5番\",\"メロディ8\",TRUE,\"トーン1\")","v":"トーン1"},{"$f":"_xlfn.IFS(キー割付!S260=\"着信音なし\",\"トーン1\",キー割付!S260=\"トーン1\",\"トーン1\",キー割付!S260=\"トーン2\",\"トーン2\",キー割付!S260=\"トーン3\",\"トーン3\",キー割付!S260=\"トーン4\",\"トーン4\",キー割付!S260=\"トーン5\",\"トーン5\",キー割付!S260=\"トーン6\",\"トーン6\",キー割付!S260=\"トーン7\",\"トーン7\",キー割付!S260=\"トーン7\",\"トーン7\",キー割付!S260=\"無鳴動着信\",\"トーン8\",キー割付!S260=\"グリーンスリーブス\",\"メロディ1\",キー割付!S260=\"峠の我が家\",\"メロディ2\",キー割付!S260=\"カノン\",\"メロディ3\",キー割付!S260=\"春の歌\",\"メロディ4\",キー割付!S260=\"主よ人の望みの喜びよ\",\"メロディ5\",キー割付!S260=\"メヌエット\",\"メロディ6\",キー割付!S260=\"華麗なる大円舞曲\",\"メロディ7\",キー割付!S260=\"ハンガリア舞曲第5番\",\"メロディ8\",TRUE,\"トーン1\")","v":"トーン1"},{"$f":"_xlfn.IFS(キー割付!N268=\"着信音なし\",\"トーン1\",キー割付!N268=\"トーン1\",\"トーン1\",キー割付!N268=\"トーン2\",\"トーン2\",キー割付!N268=\"トーン3\",\"トーン3\",キー割付!N268=\"トーン4\",\"トーン4\",キー割付!N268=\"トーン5\",\"トーン5\",キー割付!N268=\"トーン6\",\"トーン6\",キー割付!N268=\"トーン7\",\"トーン7\",キー割付!N268=\"トーン7\",\"トーン7\",キー割付!N268=\"無鳴動着信\",\"トーン8\",キー割付!N268=\"グリーンスリーブス\",\"メロディ1\",キー割付!N268=\"峠の我が家\",\"メロディ2\",キー割付!N268=\"カノン\",\"メロディ3\",キー割付!N268=\"春の歌\",\"メロディ4\",キー割付!N268=\"主よ人の望みの喜びよ\",\"メロディ5\",キー割付!N268=\"メヌエット\",\"メロディ6\",キー割付!N268=\"華麗なる大円舞曲\",\"メロディ7\",キー割付!N268=\"ハンガリア舞曲第5番\",\"メロディ8\",TRUE,\"トーン1\")","v":"トーン1"},{"$f":"_xlfn.IFS(キー割付!O268=\"着信音なし\",\"トーン1\",キー割付!O268=\"トーン1\",\"トーン1\",キー割付!O268=\"トーン2\",\"トーン2\",キー割付!O268=\"トーン3\",\"トーン3\",キー割付!O268=\"トーン4\",\"トーン4\",キー割付!O268=\"トーン5\",\"トーン5\",キー割付!O268=\"トーン6\",\"トーン6\",キー割付!O268=\"トーン7\",\"トーン7\",キー割付!O268=\"トーン7\",\"トーン7\",キー割付!O268=\"無鳴動着信\",\"トーン8\",キー割付!O268=\"グリーンスリーブス\",\"メロディ1\",キー割付!O268=\"峠の我が家\",\"メロディ2\",キー割付!O268=\"カノン\",\"メロディ3\",キー割付!O268=\"春の歌\",\"メロディ4\",キー割付!O268=\"主よ人の望みの喜びよ\",\"メロディ5\",キー割付!O268=\"メヌエット\",\"メロディ6\",キー割付!O268=\"華麗なる大円舞曲\",\"メロディ7\",キー割付!O268=\"ハンガリア舞曲第5番\",\"メロディ8\",TRUE,\"トーン1\")","v":"トーン1"},{"$f":"IF(E52=\"ZX-DECLDIV-IPコードレス電話機\",\"トーン1\",_xlfn.IFS(キー割付!P268=\"着信音なし\",\"トーン1\",キー割付!P268=\"トーン1\",\"トーン1\",キー割付!P268=\"トーン2\",\"トーン2\",キー割付!P268=\"トーン3\",\"トーン3\",キー割付!P268=\"トーン4\",\"トーン4\",キー割付!P268=\"トーン5\",\"トーン5\",キー割付!P268=\"トーン6\",\"トーン6\",キー割付!P268=\"トーン7\",\"トーン7\",キー割付!P268=\"トーン7\",\"トーン7\",キー割付!P268=\"無鳴動着信\",\"トーン8\",キー割付!P268=\"グリーンスリーブス\",\"メロディ1\",キー割付!P268=\"峠の我が家\",\"メロディ2\",キー割付!P268=\"カノン\",\"メロディ3\",キー割付!P268=\"春の歌\",\"メロディ4\",キー割付!P268=\"主よ人の望みの喜びよ\",\"メロディ5\",キー割付!P268=\"メヌエット\",\"メロディ6\",キー割付!P268=\"華麗なる大円舞曲\",\"メロディ7\",キー割付!P268=\"ハンガリア舞曲第5番\",\"メロディ8\",TRUE,\"トーン1\"))","v":"トーン1"},{"$f":"IF(E52=\"ZX-DECLDIV-IPコードレス電話機\",\"トーン1\",_xlfn.IFS(キー割付!Q268=\"着信音なし\",\"トーン1\",キー割付!Q268=\"トーン1\",\"トーン1\",キー割付!Q268=\"トーン2\",\"トーン2\",キー割付!Q268=\"トーン3\",\"トーン3\",キー割付!Q268=\"トーン4\",\"トーン4\",キー割付!Q268=\"トーン5\",\"トーン5\",キー割付!Q268=\"トーン6\",\"トーン6\",キー割付!Q268=\"トーン7\",\"トーン7\",キー割付!Q268=\"トーン7\",\"トーン7\",キー割付!Q268=\"無鳴動着信\",\"トーン8\",キー割付!Q268=\"グリーンスリーブス\",\"メロディ1\",キー割付!Q268=\"峠の我が家\",\"メロディ2\",キー割付!Q268=\"カノン\",\"メロディ3\",キー割付!Q268=\"春の歌\",\"メロディ4\",キー割付!Q268=\"主よ人の望みの喜びよ\",\"メロディ5\",キー割付!Q268=\"メヌエット\",\"メロディ6\",キー割付!Q268=\"華麗なる大円舞曲\",\"メロディ7\",キー割付!Q268=\"ハンガリア舞曲第5番\",\"メロディ8\",TRUE,\"トーン1\"))","v":"トーン1"},{"$f":"IF(E52=\"ZX-DECLDIV-IPコードレス電話機\",\"トーン1\",_xlfn.IFS(キー割付!R268=\"着信音なし\",\"トーン1\",キー割付!R268=\"トーン1\",\"トーン1\",キー割付!R268=\"トーン2\",\"トーン2\",キー割付!R268=\"トーン3\",\"トーン3\",キー割付!R268=\"トーン4\",\"トーン4\",キー割付!R268=\"トーン5\",\"トーン5\",キー割付!R268=\"トーン6\",\"トーン6\",キー割付!R268=\"トーン7\",\"トーン7\",キー割付!R268=\"トーン7\",\"トーン7\",キー割付!R268=\"無鳴動着信\",\"トーン8\",キー割付!R268=\"グリーンスリーブス\",\"メロディ1\",キー割付!R268=\"峠の我が家\",\"メロディ2\",キー割付!R268=\"カノン\",\"メロディ3\",キー割付!R268=\"春の歌\",\"メロディ4\",キー割付!R268=\"主よ人の望みの喜びよ\",\"メロディ5\",キー割付!R268=\"メヌエット\",\"メロディ6\",キー割付!R268=\"華麗なる大円舞曲\",\"メロディ7\",キー割付!R268=\"ハンガリア舞曲第5番\",\"メロディ8\",TRUE,\"トーン1\"))","v":"トーン1"},{"$f":"IF(E52=\"ZX-DECLDIV-IPコードレス電話機\",\"トーン1\",_xlfn.IFS(キー割付!S268=\"着信音なし\",\"トーン1\",キー割付!S268=\"トーン1\",\"トーン1\",キー割付!S268=\"トーン2\",\"トーン2\",キー割付!S268=\"トーン3\",\"トーン3\",キー割付!S268=\"トーン4\",\"トーン4\",キー割付!S268=\"トーン5\",\"トーン5\",キー割付!S268=\"トーン6\",\"トーン6\",キー割付!S268=\"トーン7\",\"トーン7\",キー割付!S268=\"トーン7\",\"トーン7\",キー割付!S268=\"無鳴動着信\",\"トーン8\",キー割付!S268=\"グリーンスリーブス\",\"メロディ1\",キー割付!S268=\"峠の我が家\",\"メロディ2\",キー割付!S268=\"カノン\",\"メロディ3\",キー割付!S268=\"春の歌\",\"メロディ4\",キー割付!S268=\"主よ人の望みの喜びよ\",\"メロディ5\",キー割付!S268=\"メヌエット\",\"メロディ6\",キー割付!S268=\"華麗なる大円舞曲\",\"メロディ7\",キー割付!S268=\"ハンガリア舞曲第5番\",\"メロディ8\",TRUE,\"トーン1\"))","v":"トーン1"},{"$f":"IF(E52=\"ZX-DECLDIV-IPコードレス電話機\",\"トーン1\",_xlfn.IFS(キー割付!N276=\"着信音なし\",\"トーン1\",キー割付!N276=\"トーン1\",\"トーン1\",キー割付!N276=\"トーン2\",\"トーン2\",キー割付!N276=\"トーン3\",\"トーン3\",キー割付!N276=\"トーン4\",\"トーン4\",キー割付!N276=\"トーン5\",\"トーン5\",キー割付!N276=\"トーン6\",\"トーン6\",キー割付!N276=\"トーン7\",\"トーン7\",キー割付!N276=\"トーン7\",\"トーン7\",キー割付!N276=\"無鳴動着信\",\"トーン8\",キー割付!N276=\"グリーンスリーブス\",\"メロディ1\",キー割付!N276=\"峠の我が家\",\"メロディ2\",キー割付!N276=\"カノン\",\"メロディ3\",キー割付!N276=\"春の歌\",\"メロディ4\",キー割付!N276=\"主よ人の望みの喜びよ\",\"メロディ5\",キー割付!N276=\"メヌエット\",\"メロディ6\",キー割付!N276=\"華麗なる大円舞曲\",\"メロディ7\",キー割付!N276=\"ハンガリア舞曲第5番\",\"メロディ8\",TRUE,\"トーン1\"))","v":"トーン1"},{"$f":"IF(E52=\"ZX-DECLDIV-IPコードレス電話機\",\"トーン1\",_xlfn.IFS(キー割付!O276=\"着信音なし\",\"トーン1\",キー割付!O276=\"トーン1\",\"トーン1\",キー割付!O276=\"トーン2\",\"トーン2\",キー割付!O276=\"トーン3\",\"トーン3\",キー割付!O276=\"トーン4\",\"トーン4\",キー割付!O276=\"トーン5\",\"トーン5\",キー割付!O276=\"トーン6\",\"トーン6\",キー割付!O276=\"トーン7\",\"トーン7\",キー割付!O276=\"トーン7\",\"トーン7\",キー割付!O276=\"無鳴動着信\",\"トーン8\",キー割付!O276=\"グリーンスリーブス\",\"メロディ1\",キー割付!O276=\"峠の我が家\",\"メロディ2\",キー割付!O276=\"カノン\",\"メロディ3\",キー割付!O276=\"春の歌\",\"メロディ4\",キー割付!O276=\"主よ人の望みの喜びよ\",\"メロディ5\",キー割付!O276=\"メヌエット\",\"メロディ6\",キー割付!O276=\"華麗なる大円舞曲\",\"メロディ7\",キー割付!O276=\"ハンガリア舞曲第5番\",\"メロディ8\",TRUE,\"トーン1\"))","v":"トーン1"},{"$f":"IF(E52=\"ZX-DECLDIV-IPコードレス電話機\",\"トーン1\",_xlfn.IFS(キー割付!P276=\"着信音なし\",\"トーン1\",キー割付!P276=\"トーン1\",\"トーン1\",キー割付!P276=\"トーン2\",\"トーン2\",キー割付!P276=\"トーン3\",\"トーン3\",キー割付!P276=\"トーン4\",\"トーン4\",キー割付!P276=\"トーン5\",\"トーン5\",キー割付!P276=\"トーン6\",\"トーン6\",キー割付!P276=\"トーン7\",\"トーン7\",キー割付!P276=\"トーン7\",\"トーン7\",キー割付!P276=\"無鳴動着信\",\"トーン8\",キー割付!P276=\"グリーンスリーブス\",\"メロディ1\",キー割付!P276=\"峠の我が家\",\"メロディ2\",キー割付!P276=\"カノン\",\"メロディ3\",キー割付!P276=\"春の歌\",\"メロディ4\",キー割付!P276=\"主よ人の望みの喜びよ\",\"メロディ5\",キー割付!P276=\"メヌエット\",\"メロディ6\",キー割付!P276=\"華麗なる大円舞曲\",\"メロディ7\",キー割付!P276=\"ハンガリア舞曲第5番\",\"メロディ8\",TRUE,\"トーン1\"))","v":"トーン1"},{"$f":"IF(E52=\"ZX-DECLDIV-IPコードレス電話機\",\"トーン1\",_xlfn.IFS(キー割付!Q276=\"着信音なし\",\"トーン1\",キー割付!Q276=\"トーン1\",\"トーン1\",キー割付!Q276=\"トーン2\",\"トーン2\",キー割付!Q276=\"トーン3\",\"トーン3\",キー割付!Q276=\"トーン4\",\"トーン4\",キー割付!Q276=\"トーン5\",\"トーン5\",キー割付!Q276=\"トーン6\",\"トーン6\",キー割付!Q276=\"トーン7\",\"トーン7\",キー割付!Q276=\"トーン7\",\"トーン7\",キー割付!Q276=\"無鳴動着信\",\"トーン8\",キー割付!Q276=\"グリーンスリーブス\",\"メロディ1\",キー割付!Q276=\"峠の我が家\",\"メロディ2\",キー割付!Q276=\"カノン\",\"メロディ3\",キー割付!Q276=\"春の歌\",\"メロディ4\",キー割付!Q276=\"主よ人の望みの喜びよ\",\"メロディ5\",キー割付!Q276=\"メヌエット\",\"メロディ6\",キー割付!Q276=\"華麗なる大円舞曲\",\"メロディ7\",キー割付!Q276=\"ハンガリア舞曲第5番\",\"メロディ8\",TRUE,\"トーン1\"))","v":"トーン1"},{"$f":"IF(E52=\"ZX-DECLDIV-IPコードレス電話機\",\"トーン1\",_xlfn.IFS(キー割付!R276=\"着信音なし\",\"トーン1\",キー割付!R276=\"トーン1\",\"トーン1\",キー割付!R276=\"トーン2\",\"トーン2\",キー割付!R276=\"トーン3\",\"トーン3\",キー割付!R276=\"トーン4\",\"トーン4\",キー割付!R276=\"トーン5\",\"トーン5\",キー割付!R276=\"トーン6\",\"トーン6\",キー割付!R276=\"トーン7\",\"トーン7\",キー割付!R276=\"トーン7\",\"トーン7\",キー割付!R276=\"無鳴動着信\",\"トーン8\",キー割付!R276=\"グリーンスリーブス\",\"メロディ1\",キー割付!R276=\"峠の我が家\",\"メロディ2\",キー割付!R276=\"カノン\",\"メロディ3\",キー割付!R276=\"春の歌\",\"メロディ4\",キー割付!R276=\"主よ人の望みの喜びよ\",\"メロディ5\",キー割付!R276=\"メヌエット\",\"メロディ6\",キー割付!R276=\"華麗なる大円舞曲\",\"メロディ7\",キー割付!R276=\"ハンガリア舞曲第5番\",\"メロディ8\",TRUE,\"トーン1\"))","v":"トーン1"},{"$f":"IF(E52=\"ZX-DECLDIV-IPコードレス電話機\",\"トーン1\",_xlfn.IFS(キー割付!S276=\"着信音なし\",\"トーン1\",キー割付!S276=\"トーン1\",\"トーン1\",キー割付!S276=\"トーン2\",\"トーン2\",キー割付!S276=\"トーン3\",\"トーン3\",キー割付!S276=\"トーン4\",\"トーン4\",キー割付!S276=\"トーン5\",\"トーン5\",キー割付!S276=\"トーン6\",\"トーン6\",キー割付!S276=\"トーン7\",\"トーン7\",キー割付!S276=\"トーン7\",\"トーン7\",キー割付!S276=\"無鳴動着信\",\"トーン8\",キー割付!S276=\"グリーンスリーブス\",\"メロディ1\",キー割付!S276=\"峠の我が家\",\"メロディ2\",キー割付!S276=\"カノン\",\"メロディ3\",キー割付!S276=\"春の歌\",\"メロディ4\",キー割付!S276=\"主よ人の望みの喜びよ\",\"メロディ5\",キー割付!S276=\"メヌエット\",\"メロディ6\",キー割付!S276=\"華麗なる大円舞曲\",\"メロディ7\",キー割付!S276=\"ハンガリア舞曲第5番\",\"メロディ8\",TRUE,\"トーン1\"))","v":"トーン1"},{"$f":"IF(E52=\"ZX-DECLDIV-IPコードレス電話機\",\"トーン1\",_xlfn.IFS(キー割付!N284=\"着信音なし\",\"トーン1\",キー割付!N284=\"トーン1\",\"トーン1\",キー割付!N284=\"トーン2\",\"トーン2\",キー割付!N284=\"トーン3\",\"トーン3\",キー割付!N284=\"トーン4\",\"トーン4\",キー割付!N284=\"トーン5\",\"トーン5\",キー割付!N284=\"トーン6\",\"トーン6\",キー割付!N284=\"トーン7\",\"トーン7\",キー割付!N284=\"トーン7\",\"トーン7\",キー割付!N284=\"無鳴動着信\",\"トーン8\",キー割付!N284=\"グリーンスリーブス\",\"メロディ1\",キー割付!N284=\"峠の我が家\",\"メロディ2\",キー割付!N284=\"カノン\",\"メロディ3\",キー割付!N284=\"春の歌\",\"メロディ4\",キー割付!N284=\"主よ人の望みの喜びよ\",\"メロディ5\",キー割付!N284=\"メヌエット\",\"メロディ6\",キー割付!N284=\"華麗なる大円舞曲\",\"メロディ7\",キー割付!N284=\"ハンガリア舞曲第5番\",\"メロディ8\",TRUE,\"トーン1\"))","v":"トーン1"},{"$f":"IF(E52=\"ZX-DECLDIV-IPコードレス電話機\",\"トーン1\",_xlfn.IFS(キー割付!O284=\"着信音なし\",\"トーン1\",キー割付!O284=\"トーン1\",\"トーン1\",キー割付!O284=\"トーン2\",\"トーン2\",キー割付!O284=\"トーン3\",\"トーン3\",キー割付!O284=\"トーン4\",\"トーン4\",キー割付!O284=\"トーン5\",\"トーン5\",キー割付!O284=\"トーン6\",\"トーン6\",キー割付!O284=\"トーン7\",\"トーン7\",キー割付!O284=\"トーン7\",\"トーン7\",キー割付!O284=\"無鳴動着信\",\"トーン8\",キー割付!O284=\"グリーンスリーブス\",\"メロディ1\",キー割付!O284=\"峠の我が家\",\"メロディ2\",キー割付!O284=\"カノン\",\"メロディ3\",キー割付!O284=\"春の歌\",\"メロディ4\",キー割付!O284=\"主よ人の望みの喜びよ\",\"メロディ5\",キー割付!O284=\"メヌエット\",\"メロディ6\",キー割付!O284=\"華麗なる大円舞曲\",\"メロディ7\",キー割付!O284=\"ハンガリア舞曲第5番\",\"メロディ8\",TRUE,\"トーン1\"))","v":"トーン1"},{"$f":"IF(E52=\"ZX-DECLDIV-IPコードレス電話機\",\"トーン1\",_xlfn.IFS(キー割付!P284=\"着信音なし\",\"トーン1\",キー割付!P284=\"トーン1\",\"トーン1\",キー割付!P284=\"トーン2\",\"トーン2\",キー割付!P284=\"トーン3\",\"トーン3\",キー割付!P284=\"トーン4\",\"トーン4\",キー割付!P284=\"トーン5\",\"トーン5\",キー割付!P284=\"トーン6\",\"トーン6\",キー割付!P284=\"トーン7\",\"トーン7\",キー割付!P284=\"トーン7\",\"トーン7\",キー割付!P284=\"無鳴動着信\",\"トーン8\",キー割付!P284=\"グリーンスリーブス\",\"メロディ1\",キー割付!P284=\"峠の我が家\",\"メロディ2\",キー割付!P284=\"カノン\",\"メロディ3\",キー割付!P284=\"春の歌\",\"メロディ4\",キー割付!P284=\"主よ人の望みの喜びよ\",\"メロディ5\",キー割付!P284=\"メヌエット\",\"メロディ6\",キー割付!P284=\"華麗なる大円舞曲\",\"メロディ7\",キー割付!P284=\"ハンガリア舞曲第5番\",\"メロディ8\",TRUE,\"トーン1\"))","v":"トーン1"},{"$f":"IF(E52=\"ZX-DECLDIV-IPコードレス電話機\",\"トーン1\",_xlfn.IFS(キー割付!Q284=\"着信音なし\",\"トーン1\",キー割付!Q284=\"トーン1\",\"トーン1\",キー割付!Q284=\"トーン2\",\"トーン2\",キー割付!Q284=\"トーン3\",\"トーン3\",キー割付!Q284=\"トーン4\",\"トーン4\",キー割付!Q284=\"トーン5\",\"トーン5\",キー割付!Q284=\"トーン6\",\"トーン6\",キー割付!Q284=\"トーン7\",\"トーン7\",キー割付!Q284=\"トーン7\",\"トーン7\",キー割付!Q284=\"無鳴動着信\",\"トーン8\",キー割付!Q284=\"グリーンスリーブス\",\"メロディ1\",キー割付!Q284=\"峠の我が家\",\"メロディ2\",キー割付!Q284=\"カノン\",\"メロディ3\",キー割付!Q284=\"春の歌\",\"メロディ4\",キー割付!Q284=\"主よ人の望みの喜びよ\",\"メロディ5\",キー割付!Q284=\"メヌエット\",\"メロディ6\",キー割付!Q284=\"華麗なる大円舞曲\",\"メロディ7\",キー割付!Q284=\"ハンガリア舞曲第5番\",\"メロディ8\",TRUE,\"トーン1\"))","v":"トーン1"},{"$f":"IF(E52=\"ZX-DECLDIV-IPコードレス電話機\",\"トーン1\",_xlfn.IFS(キー割付!R284=\"着信音なし\",\"トーン1\",キー割付!R284=\"トーン1\",\"トーン1\",キー割付!R284=\"トーン2\",\"トーン2\",キー割付!R284=\"トーン3\",\"トーン3\",キー割付!R284=\"トーン4\",\"トーン4\",キー割付!R284=\"トーン5\",\"トーン5\",キー割付!R284=\"トーン6\",\"トーン6\",キー割付!R284=\"トーン7\",\"トーン7\",キー割付!R284=\"トーン7\",\"トーン7\",キー割付!R284=\"無鳴動着信\",\"トーン8\",キー割付!R284=\"グリーンスリーブス\",\"メロディ1\",キー割付!R284=\"峠の我が家\",\"メロディ2\",キー割付!R284=\"カノン\",\"メロディ3\",キー割付!R284=\"春の歌\",\"メロディ4\",キー割付!R284=\"主よ人の望みの喜びよ\",\"メロディ5\",キー割付!R284=\"メヌエット\",\"メロディ6\",キー割付!R284=\"華麗なる大円舞曲\",\"メロディ7\",キー割付!R284=\"ハンガリア舞曲第5番\",\"メロディ8\",TRUE,\"トーン1\"))","v":"トーン1"},{"$f":"IF(E52=\"ZX-DECLDIV-IPコードレス電話機\",\"トーン1\",_xlfn.IFS(キー割付!S284=\"着信音なし\",\"トーン1\",キー割付!S284=\"トーン1\",\"トーン1\",キー割付!S284=\"トーン2\",\"トーン2\",キー割付!S284=\"トーン3\",\"トーン3\",キー割付!S284=\"トーン4\",\"トーン4\",キー割付!S284=\"トーン5\",\"トーン5\",キー割付!S284=\"トーン6\",\"トーン6\",キー割付!S284=\"トーン7\",\"トーン7\",キー割付!S284=\"トーン7\",\"トーン7\",キー割付!S284=\"無鳴動着信\",\"トーン8\",キー割付!S284=\"グリーンスリーブス\",\"メロディ1\",キー割付!S284=\"峠の我が家\",\"メロディ2\",キー割付!S284=\"カノン\",\"メロディ3\",キー割付!S284=\"春の歌\",\"メロディ4\",キー割付!S284=\"主よ人の望みの喜びよ\",\"メロディ5\",キー割付!S284=\"メヌエット\",\"メロディ6\",キー割付!S284=\"華麗なる大円舞曲\",\"メロディ7\",キー割付!S284=\"ハンガリア舞曲第5番\",\"メロディ8\",TRUE,\"トーン1\"))","v":"トーン1"}]
[null,null,null,null,null,{"$f":"_xlfn.IFS(キー割付!N261=\"昼夜休憩\",\"B\",キー割付!N261=\"－－－\",\"-\",キー割付!N261=\"昼－－\",\"H\",キー割付!N261=\"－夜－\",\"N\",キー割付!N261=\"－－休憩\",\"P\",キー割付!N261=\"昼夜－\",\"N\",キー割付!N261=\"昼－休憩\",\"F\",キー割付!N261=\"－夜休憩\",\"K\",TRUE,\"-\")","v":"-"},{"$f":"_xlfn.IFS(キー割付!O261=\"昼夜休憩\",\"B\",キー割付!O261=\"－－－\",\"-\",キー割付!O261=\"昼－－\",\"H\",キー割付!O261=\"－夜－\",\"N\",キー割付!O261=\"－－休憩\",\"P\",キー割付!O261=\"昼夜－\",\"N\",キー割付!O261=\"昼－休憩\",\"F\",キー割付!O261=\"－夜休憩\",\"K\",TRUE,\"-\")","v":"-"},{"$f":"_xlfn.IFS(キー割付!P261=\"昼夜休憩\",\"B\",キー割付!P261=\"－－－\",\"-\",キー割付!P261=\"昼－－\",\"H\",キー割付!P261=\"－夜－\",\"N\",キー割付!P261=\"－－休憩\",\"P\",キー割付!P261=\"昼夜－\",\"N\",キー割付!P261=\"昼－休憩\",\"F\",キー割付!P261=\"－夜休憩\",\"K\",TRUE,\"-\")","v":"-"},{"$f":"_xlfn.IFS(キー割付!Q261=\"昼夜休憩\",\"B\",キー割付!Q261=\"－－－\",\"-\",キー割付!Q261=\"昼－－\",\"H\",キー割付!Q261=\"－夜－\",\"N\",キー割付!Q261=\"－－休憩\",\"P\",キー割付!Q261=\"昼夜－\",\"N\",キー割付!Q261=\"昼－休憩\",\"F\",キー割付!Q261=\"－夜休憩\",\"K\",TRUE,\"-\")","v":"-"},{"$f":"_xlfn.IFS(キー割付!R261=\"昼夜休憩\",\"B\",キー割付!R261=\"－－－\",\"-\",キー割付!R261=\"昼－－\",\"H\",キー割付!R261=\"－夜－\",\"N\",キー割付!R261=\"－－休憩\",\"P\",キー割付!R261=\"昼夜－\",\"N\",キー割付!R261=\"昼－休憩\",\"F\",キー割付!R261=\"－夜休憩\",\"K\",TRUE,\"-\")","v":"-"},{"$f":"_xlfn.IFS(キー割付!S261=\"昼夜休憩\",\"B\",キー割付!S261=\"－－－\",\"-\",キー割付!S261=\"昼－－\",\"H\",キー割付!S261=\"－夜－\",\"N\",キー割付!S261=\"－－休憩\",\"P\",キー割付!S261=\"昼夜－\",\"N\",キー割付!S261=\"昼－休憩\",\"F\",キー割付!S261=\"－夜休憩\",\"K\",TRUE,\"-\")","v":"-"},{"$f":"_xlfn.IFS(キー割付!N269=\"昼夜休憩\",\"B\",キー割付!N269=\"－－－\",\"-\",キー割付!N269=\"昼－－\",\"H\",キー割付!N269=\"－夜－\",\"N\",キー割付!N269=\"－－休憩\",\"P\",キー割付!N269=\"昼夜－\",\"N\",キー割付!N269=\"昼－休憩\",\"F\",キー割付!N269=\"－夜休憩\",\"K\",TRUE,\"-\")","v":"-"},{"$f":"_xlfn.IFS(キー割付!O269=\"昼夜休憩\",\"B\",キー割付!O269=\"－－－\",\"-\",キー割付!O269=\"昼－－\",\"H\",キー割付!O269=\"－夜－\",\"N\",キー割付!O269=\"－－休憩\",\"P\",キー割付!O269=\"昼夜－\",\"N\",キー割付!O269=\"昼－休憩\",\"F\",キー割付!O269=\"－夜休憩\",\"K\",TRUE,\"-\")","v":"-"},{"$f":"IF(E52=\"ZX-DECLDIV-IPコードレス電話機\",\"-\",_xlfn.IFS(キー割付!P269=\"昼夜休憩\",\"B\",キー割付!P269=\"－－－\",\"-\",キー割付!P269=\"昼－－\",\"H\",キー割付!P269=\"－夜－\",\"N\",キー割付!P269=\"－－休憩\",\"P\",キー割付!P269=\"昼夜－\",\"N\",キー割付!P269=\"昼－休憩\",\"F\",キー割付!P269=\"－夜休憩\",\"K\",TRUE,\"-\"))","v":"-"},{"$f":"IF(E52=\"ZX-DECLDIV-IPコードレス電話機\",\"-\",_xlfn.IFS(キー割付!Q269=\"昼夜休憩\",\"B\",キー割付!Q269=\"－－－\",\"-\",キー割付!Q269=\"昼－－\",\"H\",キー割付!Q269=\"－夜－\",\"N\",キー割付!Q269=\"－－休憩\",\"P\",キー割付!Q269=\"昼夜－\",\"N\",キー割付!Q269=\"昼－休憩\",\"F\",キー割付!Q269=\"－夜休憩\",\"K\",TRUE,\"-\"))","v":"-"},{"$f":"IF(E52=\"ZX-DECLDIV-IPコードレス電話機\",\"-\",_xlfn.IFS(キー割付!R269=\"昼夜休憩\",\"B\",キー割付!R269=\"－－－\",\"-\",キー割付!R269=\"昼－－\",\"H\",キー割付!R269=\"－夜－\",\"N\",キー割付!R269=\"－－休憩\",\"P\",キー割付!R269=\"昼夜－\",\"N\",キー割付!R269=\"昼－休憩\",\"F\",キー割付!R269=\"－夜休憩\",\"K\",TRUE,\"-\"))","v":"-"},{"$f":"IF(E52=\"ZX-DECLDIV-IPコードレス電話機\",\"-\",_xlfn.IFS(キー割付!S269=\"昼夜休憩\",\"B\",キー割付!S269=\"－－－\",\"-\",キー割付!S269=\"昼－－\",\"H\",キー割付!S269=\"－夜－\",\"N\",キー割付!S269=\"－－休憩\",\"P\",キー割付!S269=\"昼夜－\",\"N\",キー割付!S269=\"昼－休憩\",\"F\",キー割付!S269=\"－夜休憩\",\"K\",TRUE,\"-\"))","v":"-"},{"$f":"IF(E52=\"ZX-DECLDIV-IPコードレス電話機\",\"-\",_xlfn.IFS(キー割付!N277=\"昼夜休憩\",\"B\",キー割付!N277=\"－－－\",\"-\",キー割付!N277=\"昼－－\",\"H\",キー割付!N277=\"－夜－\",\"N\",キー割付!N277=\"－－休憩\",\"P\",キー割付!N277=\"昼夜－\",\"N\",キー割付!N277=\"昼－休憩\",\"F\",キー割付!N277=\"－夜休憩\",\"K\",TRUE,\"-\"))","v":"-"},{"$f":"IF(E52=\"ZX-DECLDIV-IPコードレス電話機\",\"-\",_xlfn.IFS(キー割付!O277=\"昼夜休憩\",\"B\",キー割付!O277=\"－－－\",\"-\",キー割付!O277=\"昼－－\",\"H\",キー割付!O277=\"－夜－\",\"N\",キー割付!O277=\"－－休憩\",\"P\",キー割付!O277=\"昼夜－\",\"N\",キー割付!O277=\"昼－休憩\",\"F\",キー割付!O277=\"－夜休憩\",\"K\",TRUE,\"-\"))","v":"-"},{"$f":"IF(E52=\"ZX-DECLDIV-IPコードレス電話機\",\"-\",_xlfn.IFS(キー割付!P277=\"昼夜休憩\",\"B\",キー割付!P277=\"－－－\",\"-\",キー割付!P277=\"昼－－\",\"H\",キー割付!P277=\"－夜－\",\"N\",キー割付!P277=\"－－休憩\",\"P\",キー割付!P277=\"昼夜－\",\"N\",キー割付!P277=\"昼－休憩\",\"F\",キー割付!P277=\"－夜休憩\",\"K\",TRUE,\"-\"))","v":"-"},{"$f":"IF(E52=\"ZX-DECLDIV-IPコードレス電話機\",\"-\",_xlfn.IFS(キー割付!Q277=\"昼夜休憩\",\"B\",キー割付!Q277=\"－－－\",\"-\",キー割付!Q277=\"昼－－\",\"H\",キー割付!Q277=\"－夜－\",\"N\",キー割付!Q277=\"－－休憩\",\"P\",キー割付!Q277=\"昼夜－\",\"N\",キー割付!Q277=\"昼－休憩\",\"F\",キー割付!Q277=\"－夜休憩\",\"K\",TRUE,\"-\"))","v":"-"},{"$f":"IF(E52=\"ZX-DECLDIV-IPコードレス電話機\",\"-\",_xlfn.IFS(キー割付!R277=\"昼夜休憩\",\"B\",キー割付!R277=\"－－－\",\"-\",キー割付!R277=\"昼－－\",\"H\",キー割付!R277=\"－夜－\",\"N\",キー割付!R277=\"－－休憩\",\"P\",キー割付!R277=\"昼夜－\",\"N\",キー割付!R277=\"昼－休憩\",\"F\",キー割付!R277=\"－夜休憩\",\"K\",TRUE,\"-\"))","v":"-"},{"$f":"IF(E52=\"ZX-DECLDIV-IPコードレス電話機\",\"-\",_xlfn.IFS(キー割付!S277=\"昼夜休憩\",\"B\",キー割付!S277=\"－－－\",\"-\",キー割付!S277=\"昼－－\",\"H\",キー割付!S277=\"－夜－\",\"N\",キー割付!S277=\"－－休憩\",\"P\",キー割付!S277=\"昼夜－\",\"N\",キー割付!S277=\"昼－休憩\",\"F\",キー割付!S277=\"－夜休憩\",\"K\",TRUE,\"-\"))","v":"-"},{"$f":"IF(E52=\"ZX-DECLDIV-IPコードレス電話機\",\"-\",_xlfn.IFS(キー割付!N285=\"昼夜休憩\",\"B\",キー割付!N285=\"－－－\",\"-\",キー割付!N285=\"昼－－\",\"H\",キー割付!N285=\"－夜－\",\"N\",キー割付!N285=\"－－休憩\",\"P\",キー割付!N285=\"昼夜－\",\"N\",キー割付!N285=\"昼－休憩\",\"F\",キー割付!N285=\"－夜休憩\",\"K\",TRUE,\"-\"))","v":"-"},{"$f":"IF(E52=\"ZX-DECLDIV-IPコードレス電話機\",\"-\",_xlfn.IFS(キー割付!O285=\"昼夜休憩\",\"B\",キー割付!O285=\"－－－\",\"-\",キー割付!O285=\"昼－－\",\"H\",キー割付!O285=\"－夜－\",\"N\",キー割付!O285=\"－－休憩\",\"P\",キー割付!O285=\"昼夜－\",\"N\",キー割付!O285=\"昼－休憩\",\"F\",キー割付!O285=\"－夜休憩\",\"K\",TRUE,\"-\"))","v":"-"},{"$f":"IF(E52=\"ZX-DECLDIV-IPコードレス電話機\",\"-\",_xlfn.IFS(キー割付!P285=\"昼夜休憩\",\"B\",キー割付!P285=\"－－－\",\"-\",キー割付!P285=\"昼－－\",\"H\",キー割付!P285=\"－夜－\",\"N\",キー割付!P285=\"－－休憩\",\"P\",キー割付!P285=\"昼夜－\",\"N\",キー割付!P285=\"昼－休憩\",\"F\",キー割付!P285=\"－夜休憩\",\"K\",TRUE,\"-\"))","v":"-"},{"$f":"IF(E52=\"ZX-DECLDIV-IPコードレス電話機\",\"-\",_xlfn.IFS(キー割付!Q285=\"昼夜休憩\",\"B\",キー割付!Q285=\"－－－\",\"-\",キー割付!Q285=\"昼－－\",\"H\",キー割付!Q285=\"－夜－\",\"N\",キー割付!Q285=\"－－休憩\",\"P\",キー割付!Q285=\"昼夜－\",\"N\",キー割付!Q285=\"昼－休憩\",\"F\",キー割付!Q285=\"－夜休憩\",\"K\",TRUE,\"-\"))","v":"-"},{"$f":"IF(E52=\"ZX-DECLDIV-IPコードレス電話機\",\"-\",_xlfn.IFS(キー割付!R285=\"昼夜休憩\",\"B\",キー割付!R285=\"－－－\",\"-\",キー割付!R285=\"昼－－\",\"H\",キー割付!R285=\"－夜－\",\"N\",キー割付!R285=\"－－休憩\",\"P\",キー割付!R285=\"昼夜－\",\"N\",キー割付!R285=\"昼－休憩\",\"F\",キー割付!R285=\"－夜休憩\",\"K\",TRUE,\"-\"))","v":"-"},{"$f":"IF(E52=\"ZX-DECLDIV-IPコードレス電話機\",\"-\",_xlfn.IFS(キー割付!S285=\"昼夜休憩\",\"B\",キー割付!S285=\"－－－\",\"-\",キー割付!S285=\"昼－－\",\"H\",キー割付!S285=\"－夜－\",\"N\",キー割付!S285=\"－－休憩\",\"P\",キー割付!S285=\"昼夜－\",\"N\",キー割付!S285=\"昼－休憩\",\"F\",キー割付!S285=\"－夜休憩\",\"K\",TRUE,\"-\"))","v":"-"}]
[null,17,{"$f":"IF(IFERROR(VALUE(VLOOKUP(B55,内線_キー割用,2,FALSE)),\"\")=0,\"\",IFERROR(VALUE(VLOOKUP(B55,内線_キー割用,2,FALSE)),\"\"))","v":""},{"$f":"IF(IFERROR(VALUE(VLOOKUP(B55,内線_キー割用,4,FALSE)),\"\")=0,\"\",IFERROR(VALUE(VLOOKUP(B55,内線_キー割用,4,FALSE)),\"\"))","v":""},{"$f":"IF(IFERROR(VLOOKUP(B55,内線_キー割用,3,FALSE),\"\")=0,\"\",IFERROR(VLOOKUP(B55,内線_キー割用,3,FALSE),\"\"))","v":""},{"$f":"IF(キー割付!D295=\"\",\"未使用\",キー割付!D295)","v":"未使用"},{"$f":"IF(キー割付!E295=\"\",\"未使用\",キー割付!E295)","v":"未使用"},{"$f":"IF(キー割付!F295=\"\",\"未使用\",キー割付!F295)","v":"未使用"},{"$f":"IF(キー割付!G295=\"\",\"未使用\",キー割付!G295)","v":"未使用"},{"$f":"IF(キー割付!H295=\"\",\"未使用\",キー割付!H295)","v":"未使用"},{"$f":"IF(キー割付!I295=\"\",\"未使用\",キー割付!I295)","v":"未使用"},{"$f":"IF(キー割付!D303=\"\",\"未使用\",キー割付!D303)","v":"未使用"},{"$f":"IF(キー割付!E303=\"\",\"未使用\",キー割付!E303)","v":"未使用"},{"$f":"IF(E55=\"ZX-DECLDIV-IPコードレス電話機\",\"未使用\",IF(キー割付!F303=\"\",\"未使用\",キー割付!F303))","v":"未使用"},{"$f":"IF(E55=\"ZX-DECLDIV-IPコードレス電話機\",\"未使用\",IF(キー割付!G303=\"\",\"未使用\",キー割付!G303))","v":"未使用"},{"$f":"IF(E55=\"ZX-DECLDIV-IPコードレス電話機\",\"未使用\",IF(キー割付!H303=\"\",\"未使用\",キー割付!H303))","v":"未使用"},{"$f":"IF(E55=\"ZX-DECLDIV-IPコードレス電話機\",\"未使用\",IF(キー割付!I303=\"\",\"未使用\",キー割付!I303))","v":"未使用"},{"$f":"IF(E55=\"ZX-DECLDIV-IPコードレス電話機\",\"未使用\",IF(キー割付!D311=\"\",\"未使用\",キー割付!D311))","v":"未使用"},{"$f":"IF(E55=\"ZX-DECLDIV-IPコードレス電話機\",\"未使用\",IF(キー割付!E311=\"\",\"未使用\",キー割付!E311))","v":"未使用"},{"$f":"IF(E55=\"ZX-DECLDIV-IPコードレス電話機\",\"未使用\",IF(キー割付!F311=\"\",\"未使用\",キー割付!F311))","v":"未使用"},{"$f":"IF(E55=\"ZX-DECLDIV-IPコードレス電話機\",\"未使用\",IF(キー割付!G311=\"\",\"未使用\",キー割付!G311))","v":"未使用"},{"$f":"IF(E55=\"ZX-DECLDIV-IPコードレス電話機\",\"未使用\",IF(キー割付!H311=\"\",\"未使用\",キー割付!H311))","v":"未使用"},{"$f":"IF(E55=\"ZX-DECLDIV-IPコードレス電話機\",\"未使用\",IF(キー割付!I311=\"\",\"未使用\",キー割付!I311))","v":"未使用"},{"$f":"IF(E55=\"ZX-DECLDIV-IPコードレス電話機\",\"未使用\",IF(キー割付!D319=\"\",\"未使用\",キー割付!D319))","v":"未使用"},{"$f":"IF(E55=\"ZX-DECLDIV-IPコードレス電話機\",\"未使用\",IF(キー割付!E319=\"\",\"未使用\",キー割付!E319))","v":"未使用"},{"$f":"IF(E55=\"ZX-DECLDIV-IPコードレス電話機\",\"未使用\",IF(キー割付!F319=\"\",\"未使用\",キー割付!F319))","v":"未使用"},{"$f":"IF(E55=\"ZX-DECLDIV-IPコードレス電話機\",\"未使用\",IF(キー割付!G319=\"\",\"未使用\",キー割付!G319))","v":"未使用"},{"$f":"IF(E55=\"ZX-DECLDIV-IPコードレス電話機\",\"未使用\",IF(キー割付!H319=\"\",\"未使用\",キー割付!H319))","v":"未使用"},{"$f":"IF(E55=\"ZX-DECLDIV-IPコードレス電話機\",\"未使用\",IF(キー割付!I319=\"\",\"未使用\",キー割付!I319))","v":"未使用"}]
[null,null,null,null,null,{"$f":"_xlfn.IFS(キー割付!D296=\"着信音なし\",\"トーン1\",キー割付!D296=\"トーン1\",\"トーン1\",キー割付!D296=\"トーン2\",\"トーン2\",キー割付!D296=\"トーン3\",\"トーン3\",キー割付!D296=\"トーン4\",\"トーン4\",キー割付!D296=\"トーン5\",\"トーン5\",キー割付!D296=\"トーン6\",\"トーン6\",キー割付!D296=\"トーン7\",\"トーン7\",キー割付!D296=\"トーン7\",\"トーン7\",キー割付!D296=\"無鳴動着信\",\"トーン8\",キー割付!D296=\"グリーンスリーブス\",\"メロディ1\",キー割付!D296=\"峠の我が家\",\"メロディ2\",キー割付!D296=\"カノン\",\"メロディ3\",キー割付!D296=\"春の歌\",\"メロディ4\",キー割付!D296=\"主よ人の望みの喜びよ\",\"メロディ5\",キー割付!D296=\"メヌエット\",\"メロディ6\",キー割付!D296=\"華麗なる大円舞曲\",\"メロディ7\",キー割付!D296=\"ハンガリア舞曲第5番\",\"メロディ8\",TRUE,\"トーン1\")","v":"トーン1"},{"$f":"_xlfn.IFS(キー割付!E296=\"着信音なし\",\"トーン1\",キー割付!E296=\"トーン1\",\"トーン1\",キー割付!E296=\"トーン2\",\"トーン2\",キー割付!E296=\"トーン3\",\"トーン3\",キー割付!E296=\"トーン4\",\"トーン4\",キー割付!E296=\"トーン5\",\"トーン5\",キー割付!E296=\"トーン6\",\"トーン6\",キー割付!E296=\"トーン7\",\"トーン7\",キー割付!E296=\"トーン7\",\"トーン7\",キー割付!E296=\"無鳴動着信\",\"トーン8\",キー割付!E296=\"グリーンスリーブス\",\"メロディ1\",キー割付!E296=\"峠の我が家\",\"メロディ2\",キー割付!E296=\"カノン\",\"メロディ3\",キー割付!E296=\"春の歌\",\"メロディ4\",キー割付!E296=\"主よ人の望みの喜びよ\",\"メロディ5\",キー割付!E296=\"メヌエット\",\"メロディ6\",キー割付!E296=\"華麗なる大円舞曲\",\"メロディ7\",キー割付!E296=\"ハンガリア舞曲第5番\",\"メロディ8\",TRUE,\"トーン1\")","v":"トーン1"},{"$f":"_xlfn.IFS(キー割付!F296=\"着信音なし\",\"トーン1\",キー割付!F296=\"トーン1\",\"トーン1\",キー割付!F296=\"トーン2\",\"トーン2\",キー割付!F296=\"トーン3\",\"トーン3\",キー割付!F296=\"トーン4\",\"トーン4\",キー割付!F296=\"トーン5\",\"トーン5\",キー割付!F296=\"トーン6\",\"トーン6\",キー割付!F296=\"トーン7\",\"トーン7\",キー割付!F296=\"トーン7\",\"トーン7\",キー割付!F296=\"無鳴動着信\",\"トーン8\",キー割付!F296=\"グリーンスリーブス\",\"メロディ1\",キー割付!F296=\"峠の我が家\",\"メロディ2\",キー割付!F296=\"カノン\",\"メロディ3\",キー割付!F296=\"春の歌\",\"メロディ4\",キー割付!F296=\"主よ人の望みの喜びよ\",\"メロディ5\",キー割付!F296=\"メヌエット\",\"メロディ6\",キー割付!F296=\"華麗なる大円舞曲\",\"メロディ7\",キー割付!F296=\"ハンガリア舞曲第5番\",\"メロディ8\",TRUE,\"トーン1\")","v":"トーン1"},{"$f":"_xlfn.IFS(キー割付!G296=\"着信音なし\",\"トーン1\",キー割付!G296=\"トーン1\",\"トーン1\",キー割付!G296=\"トーン2\",\"トーン2\",キー割付!G296=\"トーン3\",\"トーン3\",キー割付!G296=\"トーン4\",\"トーン4\",キー割付!G296=\"トーン5\",\"トーン5\",キー割付!G296=\"トーン6\",\"トーン6\",キー割付!G296=\"トーン7\",\"トーン7\",キー割付!G296=\"トーン7\",\"トーン7\",キー割付!G296=\"無鳴動着信\",\"トーン8\",キー割付!G296=\"グリーンスリーブス\",\"メロディ1\",キー割付!G296=\"峠の我が家\",\"メロディ2\",キー割付!G296=\"カノン\",\"メロディ3\",キー割付!G296=\"春の歌\",\"メロディ4\",キー割付!G296=\"主よ人の望みの喜びよ\",\"メロディ5\",キー割付!G296=\"メヌエット\",\"メロディ6\",キー割付!G296=\"華麗なる大円舞曲\",\"メロディ7\",キー割付!G296=\"ハンガリア舞曲第5番\",\"メロディ8\",TRUE,\"トーン1\")","v":"トーン1"},{"$f":"_xlfn.IFS(キー割付!H296=\"着信音なし\",\"トーン1\",キー割付!H296=\"トーン1\",\"トーン1\",キー割付!H296=\"トーン2\",\"トーン2\",キー割付!H296=\"トーン3\",\"トーン3\",キー割付!H296=\"トーン4\",\"トーン4\",キー割付!H296=\"トーン5\",\"トーン5\",キー割付!H296=\"トーン6\",\"トーン6\",キー割付!H296=\"トーン7\",\"トーン7\",キー割付!H296=\"トーン7\",\"トーン7\",キー割付!H296=\"無鳴動着信\",\"トーン8\",キー割付!H296=\"グリーンスリーブス\",\"メロディ1\",キー割付!H296=\"峠の我が家\",\"メロディ2\",キー割付!H296=\"カノン\",\"メロディ3\",キー割付!H296=\"春の歌\",\"メロディ4\",キー割付!H296=\"主よ人の望みの喜びよ\",\"メロディ5\",キー割付!H296=\"メヌエット\",\"メロディ6\",キー割付!H296=\"華麗なる大円舞曲\",\"メロディ7\",キー割付!H296=\"ハンガリア舞曲第5番\",\"メロディ8\",TRUE,\"トーン1\")","v":"トーン1"},{"$f":"_xlfn.IFS(キー割付!I296=\"着信音なし\",\"トーン1\",キー割付!I296=\"トーン1\",\"トーン1\",キー割付!I296=\"トーン2\",\"トーン2\",キー割付!I296=\"トーン3\",\"トーン3\",キー割付!I296=\"トーン4\",\"トーン4\",キー割付!I296=\"トーン5\",\"トーン5\",キー割付!I296=\"トーン6\",\"トーン6\",キー割付!I296=\"トーン7\",\"トーン7\",キー割付!I296=\"トーン7\",\"トーン7\",キー割付!I296=\"無鳴動着信\",\"トーン8\",キー割付!I296=\"グリーンスリーブス\",\"メロディ1\",キー割付!I296=\"峠の我が家\",\"メロディ2\",キー割付!I296=\"カノン\",\"メロディ3\",キー割付!I296=\"春の歌\",\"メロディ4\",キー割付!I296=\"主よ人の望みの喜びよ\",\"メロディ5\",キー割付!I296=\"メヌエット\",\"メロディ6\",キー割付!I296=\"華麗なる大円舞曲\",\"メロディ7\",キー割付!I296=\"ハンガリア舞曲第5番\",\"メロディ8\",TRUE,\"トーン1\")","v":"トーン1"},{"$f":"_xlfn.IFS(キー割付!D304=\"着信音なし\",\"トーン1\",キー割付!D304=\"トーン1\",\"トーン1\",キー割付!D304=\"トーン2\",\"トーン2\",キー割付!D304=\"トーン3\",\"トーン3\",キー割付!D304=\"トーン4\",\"トーン4\",キー割付!D304=\"トーン5\",\"トーン5\",キー割付!D304=\"トーン6\",\"トーン6\",キー割付!D304=\"トーン7\",\"トーン7\",キー割付!D304=\"トーン7\",\"トーン7\",キー割付!D304=\"無鳴動着信\",\"トーン8\",キー割付!D304=\"グリーンスリーブス\",\"メロディ1\",キー割付!D304=\"峠の我が家\",\"メロディ2\",キー割付!D304=\"カノン\",\"メロディ3\",キー割付!D304=\"春の歌\",\"メロディ4\",キー割付!D304=\"主よ人の望みの喜びよ\",\"メロディ5\",キー割付!D304=\"メヌエット\",\"メロディ6\",キー割付!D304=\"華麗なる大円舞曲\",\"メロディ7\",キー割付!D304=\"ハンガリア舞曲第5番\",\"メロディ8\",TRUE,\"トーン1\")","v":"トーン1"},{"$f":"_xlfn.IFS(キー割付!E304=\"着信音なし\",\"トーン1\",キー割付!E304=\"トーン1\",\"トーン1\",キー割付!E304=\"トーン2\",\"トーン2\",キー割付!E304=\"トーン3\",\"トーン3\",キー割付!E304=\"トーン4\",\"トーン4\",キー割付!E304=\"トーン5\",\"トーン5\",キー割付!E304=\"トーン6\",\"トーン6\",キー割付!E304=\"トーン7\",\"トーン7\",キー割付!E304=\"トーン7\",\"トーン7\",キー割付!E304=\"無鳴動着信\",\"トーン8\",キー割付!E304=\"グリーンスリーブス\",\"メロディ1\",キー割付!E304=\"峠の我が家\",\"メロディ2\",キー割付!E304=\"カノン\",\"メロディ3\",キー割付!E304=\"春の歌\",\"メロディ4\",キー割付!E304=\"主よ人の望みの喜びよ\",\"メロディ5\",キー割付!E304=\"メヌエット\",\"メロディ6\",キー割付!E304=\"華麗なる大円舞曲\",\"メロディ7\",キー割付!E304=\"ハンガリア舞曲第5番\",\"メロディ8\",TRUE,\"トーン1\")","v":"トーン1"},{"$f":"IF(E55=\"ZX-DECLDIV-IPコードレス電話機\",\"トーン1\",_xlfn.IFS(キー割付!F304=\"着信音なし\",\"トーン1\",キー割付!F304=\"トーン1\",\"トーン1\",キー割付!F304=\"トーン2\",\"トーン2\",キー割付!F304=\"トーン3\",\"トーン3\",キー割付!F304=\"トーン4\",\"トーン4\",キー割付!F304=\"トーン5\",\"トーン5\",キー割付!F304=\"トーン6\",\"トーン6\",キー割付!F304=\"トーン7\",\"トーン7\",キー割付!F304=\"トーン7\",\"トーン7\",キー割付!F304=\"無鳴動着信\",\"トーン8\",キー割付!F304=\"グリーンスリーブス\",\"メロディ1\",キー割付!F304=\"峠の我が家\",\"メロディ2\",キー割付!F304=\"カノン\",\"メロディ3\",キー割付!F304=\"春の歌\",\"メロディ4\",キー割付!F304=\"主よ人の望みの喜びよ\",\"メロディ5\",キー割付!F304=\"メヌエット\",\"メロディ6\",キー割付!F304=\"華麗なる大円舞曲\",\"メロディ7\",キー割付!F304=\"ハンガリア舞曲第5番\",\"メロディ8\",TRUE,\"トーン1\"))","v":"トーン1"},{"$f":"IF(E55=\"ZX-DECLDIV-IPコードレス電話機\",\"トーン1\",_xlfn.IFS(キー割付!G304=\"着信音なし\",\"トーン1\",キー割付!G304=\"トーン1\",\"トーン1\",キー割付!G304=\"トーン2\",\"トーン2\",キー割付!G304=\"トーン3\",\"トーン3\",キー割付!G304=\"トーン4\",\"トーン4\",キー割付!G304=\"トーン5\",\"トーン5\",キー割付!G304=\"トーン6\",\"トーン6\",キー割付!G304=\"トーン7\",\"トーン7\",キー割付!G304=\"トーン7\",\"トーン7\",キー割付!G304=\"無鳴動着信\",\"トーン8\",キー割付!G304=\"グリーンスリーブス\",\"メロディ1\",キー割付!G304=\"峠の我が家\",\"メロディ2\",キー割付!G304=\"カノン\",\"メロディ3\",キー割付!G304=\"春の歌\",\"メロディ4\",キー割付!G304=\"主よ人の望みの喜びよ\",\"メロディ5\",キー割付!G304=\"メヌエット\",\"メロディ6\",キー割付!G304=\"華麗なる大円舞曲\",\"メロディ7\",キー割付!G304=\"ハンガリア舞曲第5番\",\"メロディ8\",TRUE,\"トーン1\"))","v":"トーン1"},{"$f":"IF(E55=\"ZX-DECLDIV-IPコードレス電話機\",\"トーン1\",_xlfn.IFS(キー割付!H304=\"着信音なし\",\"トーン1\",キー割付!H304=\"トーン1\",\"トーン1\",キー割付!H304=\"トーン2\",\"トーン2\",キー割付!H304=\"トーン3\",\"トーン3\",キー割付!H304=\"トーン4\",\"トーン4\",キー割付!H304=\"トーン5\",\"トーン5\",キー割付!H304=\"トーン6\",\"トーン6\",キー割付!H304=\"トーン7\",\"トーン7\",キー割付!H304=\"トーン7\",\"トーン7\",キー割付!H304=\"無鳴動着信\",\"トーン8\",キー割付!H304=\"グリーンスリーブス\",\"メロディ1\",キー割付!H304=\"峠の我が家\",\"メロディ2\",キー割付!H304=\"カノン\",\"メロディ3\",キー割付!H304=\"春の歌\",\"メロディ4\",キー割付!H304=\"主よ人の望みの喜びよ\",\"メロディ5\",キー割付!H304=\"メヌエット\",\"メロディ6\",キー割付!H304=\"華麗なる大円舞曲\",\"メロディ7\",キー割付!H304=\"ハンガリア舞曲第5番\",\"メロディ8\",TRUE,\"トーン1\"))","v":"トーン1"},{"$f":"IF(E55=\"ZX-DECLDIV-IPコードレス電話機\",\"トーン1\",_xlfn.IFS(キー割付!I304=\"着信音なし\",\"トーン1\",キー割付!I304=\"トーン1\",\"トーン1\",キー割付!I304=\"トーン2\",\"トーン2\",キー割付!I304=\"トーン3\",\"トーン3\",キー割付!I304=\"トーン4\",\"トーン4\",キー割付!I304=\"トーン5\",\"トーン5\",キー割付!I304=\"トーン6\",\"トーン6\",キー割付!I304=\"トーン7\",\"トーン7\",キー割付!I304=\"トーン7\",\"トーン7\",キー割付!I304=\"無鳴動着信\",\"トーン8\",キー割付!I304=\"グリーンスリーブス\",\"メロディ1\",キー割付!I304=\"峠の我が家\",\"メロディ2\",キー割付!I304=\"カノン\",\"メロディ3\",キー割付!I304=\"春の歌\",\"メロディ4\",キー割付!I304=\"主よ人の望みの喜びよ\",\"メロディ5\",キー割付!I304=\"メヌエット\",\"メロディ6\",キー割付!I304=\"華麗なる大円舞曲\",\"メロディ7\",キー割付!I304=\"ハンガリア舞曲第5番\",\"メロディ8\",TRUE,\"トーン1\"))","v":"トーン1"},{"$f":"IF(E55=\"ZX-DECLDIV-IPコードレス電話機\",\"トーン1\",_xlfn.IFS(キー割付!D312=\"着信音なし\",\"トーン1\",キー割付!D312=\"トーン1\",\"トーン1\",キー割付!D312=\"トーン2\",\"トーン2\",キー割付!D312=\"トーン3\",\"トーン3\",キー割付!D312=\"トーン4\",\"トーン4\",キー割付!D312=\"トーン5\",\"トーン5\",キー割付!D312=\"トーン6\",\"トーン6\",キー割付!D312=\"トーン7\",\"トーン7\",キー割付!D312=\"トーン7\",\"トーン7\",キー割付!D312=\"無鳴動着信\",\"トーン8\",キー割付!D312=\"グリーンスリーブス\",\"メロディ1\",キー割付!D312=\"峠の我が家\",\"メロディ2\",キー割付!D312=\"カノン\",\"メロディ3\",キー割付!D312=\"春の歌\",\"メロディ4\",キー割付!D312=\"主よ人の望みの喜びよ\",\"メロディ5\",キー割付!D312=\"メヌエット\",\"メロディ6\",キー割付!D312=\"華麗なる大円舞曲\",\"メロディ7\",キー割付!D312=\"ハンガリア舞曲第5番\",\"メロディ8\",TRUE,\"トーン1\"))","v":"トーン1"},{"$f":"IF(E55=\"ZX-DECLDIV-IPコードレス電話機\",\"トーン1\",_xlfn.IFS(キー割付!E312=\"着信音なし\",\"トーン1\",キー割付!E312=\"トーン1\",\"トーン1\",キー割付!E312=\"トーン2\",\"トーン2\",キー割付!E312=\"トーン3\",\"トーン3\",キー割付!E312=\"トーン4\",\"トーン4\",キー割付!E312=\"トーン5\",\"トーン5\",キー割付!E312=\"トーン6\",\"トーン6\",キー割付!E312=\"トーン7\",\"トーン7\",キー割付!E312=\"トーン7\",\"トーン7\",キー割付!E312=\"無鳴動着信\",\"トーン8\",キー割付!E312=\"グリーンスリーブス\",\"メロディ1\",キー割付!E312=\"峠の我が家\",\"メロディ2\",キー割付!E312=\"カノン\",\"メロディ3\",キー割付!E312=\"春の歌\",\"メロディ4\",キー割付!E312=\"主よ人の望みの喜びよ\",\"メロディ5\",キー割付!E312=\"メヌエット\",\"メロディ6\",キー割付!E312=\"華麗なる大円舞曲\",\"メロディ7\",キー割付!E312=\"ハンガリア舞曲第5番\",\"メロディ8\",TRUE,\"トーン1\"))","v":"トーン1"},{"$f":"IF(E55=\"ZX-DECLDIV-IPコードレス電話機\",\"トーン1\",_xlfn.IFS(キー割付!F312=\"着信音なし\",\"トーン1\",キー割付!F312=\"トーン1\",\"トーン1\",キー割付!F312=\"トーン2\",\"トーン2\",キー割付!F312=\"トーン3\",\"トーン3\",キー割付!F312=\"トーン4\",\"トーン4\",キー割付!F312=\"トーン5\",\"トーン5\",キー割付!F312=\"トーン6\",\"トーン6\",キー割付!F312=\"トーン7\",\"トーン7\",キー割付!F312=\"トーン7\",\"トーン7\",キー割付!F312=\"無鳴動着信\",\"トーン8\",キー割付!F312=\"グリーンスリーブス\",\"メロディ1\",キー割付!F312=\"峠の我が家\",\"メロディ2\",キー割付!F312=\"カノン\",\"メロディ3\",キー割付!F312=\"春の歌\",\"メロディ4\",キー割付!F312=\"主よ人の望みの喜びよ\",\"メロディ5\",キー割付!F312=\"メヌエット\",\"メロディ6\",キー割付!F312=\"華麗なる大円舞曲\",\"メロディ7\",キー割付!F312=\"ハンガリア舞曲第5番\",\"メロディ8\",TRUE,\"トーン1\"))","v":"トーン1"},{"$f":"IF(E55=\"ZX-DECLDIV-IPコードレス電話機\",\"トーン1\",_xlfn.IFS(キー割付!G312=\"着信音なし\",\"トーン1\",キー割付!G312=\"トーン1\",\"トーン1\",キー割付!G312=\"トーン2\",\"トーン2\",キー割付!G312=\"トーン3\",\"トーン3\",キー割付!G312=\"トーン4\",\"トーン4\",キー割付!G312=\"トーン5\",\"トーン5\",キー割付!G312=\"トーン6\",\"トーン6\",キー割付!G312=\"トーン7\",\"トーン7\",キー割付!G312=\"トーン7\",\"トーン7\",キー割付!G312=\"無鳴動着信\",\"トーン8\",キー割付!G312=\"グリーンスリーブス\",\"メロディ1\",キー割付!G312=\"峠の我が家\",\"メロディ2\",キー割付!G312=\"カノン\",\"メロディ3\",キー割付!G312=\"春の歌\",\"メロディ4\",キー割付!G312=\"主よ人の望みの喜びよ\",\"メロディ5\",キー割付!G312=\"メヌエット\",\"メロディ6\",キー割付!G312=\"華麗なる大円舞曲\",\"メロディ7\",キー割付!G312=\"ハンガリア舞曲第5番\",\"メロディ8\",TRUE,\"トーン1\"))","v":"トーン1"},{"$f":"IF(E55=\"ZX-DECLDIV-IPコードレス電話機\",\"トーン1\",_xlfn.IFS(キー割付!H312=\"着信音なし\",\"トーン1\",キー割付!H312=\"トーン1\",\"トーン1\",キー割付!H312=\"トーン2\",\"トーン2\",キー割付!H312=\"トーン3\",\"トーン3\",キー割付!H312=\"トーン4\",\"トーン4\",キー割付!H312=\"トーン5\",\"トーン5\",キー割付!H312=\"トーン6\",\"トーン6\",キー割付!H312=\"トーン7\",\"トーン7\",キー割付!H312=\"トーン7\",\"トーン7\",キー割付!H312=\"無鳴動着信\",\"トーン8\",キー割付!H312=\"グリーンスリーブス\",\"メロディ1\",キー割付!H312=\"峠の我が家\",\"メロディ2\",キー割付!H312=\"カノン\",\"メロディ3\",キー割付!H312=\"春の歌\",\"メロディ4\",キー割付!H312=\"主よ人の望みの喜びよ\",\"メロディ5\",キー割付!H312=\"メヌエット\",\"メロディ6\",キー割付!H312=\"華麗なる大円舞曲\",\"メロディ7\",キー割付!H312=\"ハンガリア舞曲第5番\",\"メロディ8\",TRUE,\"トーン1\"))","v":"トーン1"},{"$f":"IF(E55=\"ZX-DECLDIV-IPコードレス電話機\",\"トーン1\",_xlfn.IFS(キー割付!I312=\"着信音なし\",\"トーン1\",キー割付!I312=\"トーン1\",\"トーン1\",キー割付!I312=\"トーン2\",\"トーン2\",キー割付!I312=\"トーン3\",\"トーン3\",キー割付!I312=\"トーン4\",\"トーン4\",キー割付!I312=\"トーン5\",\"トーン5\",キー割付!I312=\"トーン6\",\"トーン6\",キー割付!I312=\"トーン7\",\"トーン7\",キー割付!I312=\"トーン7\",\"トーン7\",キー割付!I312=\"無鳴動着信\",\"トーン8\",キー割付!I312=\"グリーンスリーブス\",\"メロディ1\",キー割付!I312=\"峠の我が家\",\"メロディ2\",キー割付!I312=\"カノン\",\"メロディ3\",キー割付!I312=\"春の歌\",\"メロディ4\",キー割付!I312=\"主よ人の望みの喜びよ\",\"メロディ5\",キー割付!I312=\"メヌエット\",\"メロディ6\",キー割付!I312=\"華麗なる大円舞曲\",\"メロディ7\",キー割付!I312=\"ハンガリア舞曲第5番\",\"メロディ8\",TRUE,\"トーン1\"))","v":"トーン1"},{"$f":"IF(E55=\"ZX-DECLDIV-IPコードレス電話機\",\"トーン1\",_xlfn.IFS(キー割付!D320=\"着信音なし\",\"トーン1\",キー割付!D320=\"トーン1\",\"トーン1\",キー割付!D320=\"トーン2\",\"トーン2\",キー割付!D320=\"トーン3\",\"トーン3\",キー割付!D320=\"トーン4\",\"トーン4\",キー割付!D320=\"トーン5\",\"トーン5\",キー割付!D320=\"トーン6\",\"トーン6\",キー割付!D320=\"トーン7\",\"トーン7\",キー割付!D320=\"トーン7\",\"トーン7\",キー割付!D320=\"無鳴動着信\",\"トーン8\",キー割付!D320=\"グリーンスリーブス\",\"メロディ1\",キー割付!D320=\"峠の我が家\",\"メロディ2\",キー割付!D320=\"カノン\",\"メロディ3\",キー割付!D320=\"春の歌\",\"メロディ4\",キー割付!D320=\"主よ人の望みの喜びよ\",\"メロディ5\",キー割付!D320=\"メヌエット\",\"メロディ6\",キー割付!D320=\"華麗なる大円舞曲\",\"メロディ7\",キー割付!D320=\"ハンガリア舞曲第5番\",\"メロディ8\",TRUE,\"トーン1\"))","v":"トーン1"},{"$f":"IF(E55=\"ZX-DECLDIV-IPコードレス電話機\",\"トーン1\",_xlfn.IFS(キー割付!E320=\"着信音なし\",\"トーン1\",キー割付!E320=\"トーン1\",\"トーン1\",キー割付!E320=\"トーン2\",\"トーン2\",キー割付!E320=\"トーン3\",\"トーン3\",キー割付!E320=\"トーン4\",\"トーン4\",キー割付!E320=\"トーン5\",\"トーン5\",キー割付!E320=\"トーン6\",\"トーン6\",キー割付!E320=\"トーン7\",\"トーン7\",キー割付!E320=\"トーン7\",\"トーン7\",キー割付!E320=\"無鳴動着信\",\"トーン8\",キー割付!E320=\"グリーンスリーブス\",\"メロディ1\",キー割付!E320=\"峠の我が家\",\"メロディ2\",キー割付!E320=\"カノン\",\"メロディ3\",キー割付!E320=\"春の歌\",\"メロディ4\",キー割付!E320=\"主よ人の望みの喜びよ\",\"メロディ5\",キー割付!E320=\"メヌエット\",\"メロディ6\",キー割付!E320=\"華麗なる大円舞曲\",\"メロディ7\",キー割付!E320=\"ハンガリア舞曲第5番\",\"メロディ8\",TRUE,\"トーン1\"))","v":"トーン1"},{"$f":"IF(E55=\"ZX-DECLDIV-IPコードレス電話機\",\"トーン1\",_xlfn.IFS(キー割付!F320=\"着信音なし\",\"トーン1\",キー割付!F320=\"トーン1\",\"トーン1\",キー割付!F320=\"トーン2\",\"トーン2\",キー割付!F320=\"トーン3\",\"トーン3\",キー割付!F320=\"トーン4\",\"トーン4\",キー割付!F320=\"トーン5\",\"トーン5\",キー割付!F320=\"トーン6\",\"トーン6\",キー割付!F320=\"トーン7\",\"トーン7\",キー割付!F320=\"トーン7\",\"トーン7\",キー割付!F320=\"無鳴動着信\",\"トーン8\",キー割付!F320=\"グリーンスリーブス\",\"メロディ1\",キー割付!F320=\"峠の我が家\",\"メロディ2\",キー割付!F320=\"カノン\",\"メロディ3\",キー割付!F320=\"春の歌\",\"メロディ4\",キー割付!F320=\"主よ人の望みの喜びよ\",\"メロディ5\",キー割付!F320=\"メヌエット\",\"メロディ6\",キー割付!F320=\"華麗なる大円舞曲\",\"メロディ7\",キー割付!F320=\"ハンガリア舞曲第5番\",\"メロディ8\",TRUE,\"トーン1\"))","v":"トーン1"},{"$f":"IF(E55=\"ZX-DECLDIV-IPコードレス電話機\",\"トーン1\",_xlfn.IFS(キー割付!G320=\"着信音なし\",\"トーン1\",キー割付!G320=\"トーン1\",\"トーン1\",キー割付!G320=\"トーン2\",\"トーン2\",キー割付!G320=\"トーン3\",\"トーン3\",キー割付!G320=\"トーン4\",\"トーン4\",キー割付!G320=\"トーン5\",\"トーン5\",キー割付!G320=\"トーン6\",\"トーン6\",キー割付!G320=\"トーン7\",\"トーン7\",キー割付!G320=\"トーン7\",\"トーン7\",キー割付!G320=\"無鳴動着信\",\"トーン8\",キー割付!G320=\"グリーンスリーブス\",\"メロディ1\",キー割付!G320=\"峠の我が家\",\"メロディ2\",キー割付!G320=\"カノン\",\"メロディ3\",キー割付!G320=\"春の歌\",\"メロディ4\",キー割付!G320=\"主よ人の望みの喜びよ\",\"メロディ5\",キー割付!G320=\"メヌエット\",\"メロディ6\",キー割付!G320=\"華麗なる大円舞曲\",\"メロディ7\",キー割付!G320=\"ハンガリア舞曲第5番\",\"メロディ8\",TRUE,\"トーン1\"))","v":"トーン1"},{"$f":"IF(E55=\"ZX-DECLDIV-IPコードレス電話機\",\"トーン1\",_xlfn.IFS(キー割付!H320=\"着信音なし\",\"トーン1\",キー割付!H320=\"トーン1\",\"トーン1\",キー割付!H320=\"トーン2\",\"トーン2\",キー割付!H320=\"トーン3\",\"トーン3\",キー割付!H320=\"トーン4\",\"トーン4\",キー割付!H320=\"トーン5\",\"トーン5\",キー割付!H320=\"トーン6\",\"トーン6\",キー割付!H320=\"トーン7\",\"トーン7\",キー割付!H320=\"トーン7\",\"トーン7\",キー割付!H320=\"無鳴動着信\",\"トーン8\",キー割付!H320=\"グリーンスリーブス\",\"メロディ1\",キー割付!H320=\"峠の我が家\",\"メロディ2\",キー割付!H320=\"カノン\",\"メロディ3\",キー割付!H320=\"春の歌\",\"メロディ4\",キー割付!H320=\"主よ人の望みの喜びよ\",\"メロディ5\",キー割付!H320=\"メヌエット\",\"メロディ6\",キー割付!H320=\"華麗なる大円舞曲\",\"メロディ7\",キー割付!H320=\"ハンガリア舞曲第5番\",\"メロディ8\",TRUE,\"トーン1\"))","v":"トーン1"},{"$f":"IF(E55=\"ZX-DECLDIV-IPコードレス電話機\",\"トーン1\",_xlfn.IFS(キー割付!I320=\"着信音なし\",\"トーン1\",キー割付!I320=\"トーン1\",\"トーン1\",キー割付!I320=\"トーン2\",\"トーン2\",キー割付!I320=\"トーン3\",\"トーン3\",キー割付!I320=\"トーン4\",\"トーン4\",キー割付!I320=\"トーン5\",\"トーン5\",キー割付!I320=\"トーン6\",\"トーン6\",キー割付!I320=\"トーン7\",\"トーン7\",キー割付!I320=\"トーン7\",\"トーン7\",キー割付!I320=\"無鳴動着信\",\"トーン8\",キー割付!I320=\"グリーンスリーブス\",\"メロディ1\",キー割付!I320=\"峠の我が家\",\"メロディ2\",キー割付!I320=\"カノン\",\"メロディ3\",キー割付!I320=\"春の歌\",\"メロディ4\",キー割付!I320=\"主よ人の望みの喜びよ\",\"メロディ5\",キー割付!I320=\"メヌエット\",\"メロディ6\",キー割付!I320=\"華麗なる大円舞曲\",\"メロディ7\",キー割付!I320=\"ハンガリア舞曲第5番\",\"メロディ8\",TRUE,\"トーン1\"))","v":"トーン1"}]
[null,null,null,null,null,{"$f":"_xlfn.IFS(キー割付!D297=\"昼夜休憩\",\"B\",キー割付!D297=\"－－－\",\"-\",キー割付!D297=\"昼－－\",\"H\",キー割付!D297=\"－夜－\",\"N\",キー割付!D297=\"－－休憩\",\"P\",キー割付!D297=\"昼夜－\",\"D\",キー割付!D297=\"昼－休憩\",\"F\",キー割付!D297=\"－夜休憩\",\"K\",TRUE,\"-\")","v":"-"},{"$f":"_xlfn.IFS(キー割付!E297=\"昼夜休憩\",\"B\",キー割付!E297=\"－－－\",\"-\",キー割付!E297=\"昼－－\",\"H\",キー割付!E297=\"－夜－\",\"N\",キー割付!E297=\"－－休憩\",\"P\",キー割付!E297=\"昼夜－\",\"D\",キー割付!E297=\"昼－休憩\",\"F\",キー割付!E297=\"－夜休憩\",\"K\",TRUE,\"-\")","v":"-"},{"$f":"_xlfn.IFS(キー割付!F297=\"昼夜休憩\",\"B\",キー割付!F297=\"－－－\",\"-\",キー割付!F297=\"昼－－\",\"H\",キー割付!F297=\"－夜－\",\"N\",キー割付!F297=\"－－休憩\",\"P\",キー割付!F297=\"昼夜－\",\"D\",キー割付!F297=\"昼－休憩\",\"F\",キー割付!F297=\"－夜休憩\",\"K\",TRUE,\"-\")","v":"-"},{"$f":"_xlfn.IFS(キー割付!G297=\"昼夜休憩\",\"B\",キー割付!G297=\"－－－\",\"-\",キー割付!G297=\"昼－－\",\"H\",キー割付!G297=\"－夜－\",\"N\",キー割付!G297=\"－－休憩\",\"P\",キー割付!G297=\"昼夜－\",\"D\",キー割付!G297=\"昼－休憩\",\"F\",キー割付!G297=\"－夜休憩\",\"K\",TRUE,\"-\")","v":"-"},{"$f":"_xlfn.IFS(キー割付!H297=\"昼夜休憩\",\"B\",キー割付!H297=\"－－－\",\"-\",キー割付!H297=\"昼－－\",\"H\",キー割付!H297=\"－夜－\",\"N\",キー割付!H297=\"－－休憩\",\"P\",キー割付!H297=\"昼夜－\",\"D\",キー割付!H297=\"昼－休憩\",\"F\",キー割付!H297=\"－夜休憩\",\"K\",TRUE,\"-\")","v":"-"},{"$f":"_xlfn.IFS(キー割付!I297=\"昼夜休憩\",\"B\",キー割付!I297=\"－－－\",\"-\",キー割付!I297=\"昼－－\",\"H\",キー割付!I297=\"－夜－\",\"N\",キー割付!I297=\"－－休憩\",\"P\",キー割付!I297=\"昼夜－\",\"D\",キー割付!I297=\"昼－休憩\",\"F\",キー割付!I297=\"－夜休憩\",\"K\",TRUE,\"-\")","v":"-"},{"$f":"_xlfn.IFS(キー割付!D305=\"昼夜休憩\",\"B\",キー割付!D305=\"－－－\",\"-\",キー割付!D305=\"昼－－\",\"H\",キー割付!D305=\"－夜－\",\"N\",キー割付!D305=\"－－休憩\",\"P\",キー割付!D305=\"昼夜－\",\"D\",キー割付!D305=\"昼－休憩\",\"F\",キー割付!D305=\"－夜休憩\",\"K\",TRUE,\"-\")","v":"-"},{"$f":"_xlfn.IFS(キー割付!E305=\"昼夜休憩\",\"B\",キー割付!E305=\"－－－\",\"-\",キー割付!E305=\"昼－－\",\"H\",キー割付!E305=\"－夜－\",\"N\",キー割付!E305=\"－－休憩\",\"P\",キー割付!E305=\"昼夜－\",\"D\",キー割付!E305=\"昼－休憩\",\"F\",キー割付!E305=\"－夜休憩\",\"K\",TRUE,\"-\")","v":"-"},{"$f":"IF(E55=\"ZX-DECLDIV-IPコードレス電話機\",\"-\",_xlfn.IFS(キー割付!F305=\"昼夜休憩\",\"B\",キー割付!F305=\"－－－\",\"-\",キー割付!F305=\"昼－－\",\"H\",キー割付!F305=\"－夜－\",\"N\",キー割付!F305=\"－－休憩\",\"P\",キー割付!F305=\"昼夜－\",\"D\",キー割付!F305=\"昼－休憩\",\"F\",キー割付!F305=\"－夜休憩\",\"K\",TRUE,\"-\"))","v":"-"},{"$f":"IF(E55=\"ZX-DECLDIV-IPコードレス電話機\",\"-\",_xlfn.IFS(キー割付!G305=\"昼夜休憩\",\"B\",キー割付!G305=\"－－－\",\"-\",キー割付!G305=\"昼－－\",\"H\",キー割付!G305=\"－夜－\",\"N\",キー割付!G305=\"－－休憩\",\"P\",キー割付!G305=\"昼夜－\",\"D\",キー割付!G305=\"昼－休憩\",\"F\",キー割付!G305=\"－夜休憩\",\"K\",TRUE,\"-\"))","v":"-"},{"$f":"IF(E55=\"ZX-DECLDIV-IPコードレス電話機\",\"-\",_xlfn.IFS(キー割付!H305=\"昼夜休憩\",\"B\",キー割付!H305=\"－－－\",\"-\",キー割付!H305=\"昼－－\",\"H\",キー割付!H305=\"－夜－\",\"N\",キー割付!H305=\"－－休憩\",\"P\",キー割付!H305=\"昼夜－\",\"D\",キー割付!H305=\"昼－休憩\",\"F\",キー割付!H305=\"－夜休憩\",\"K\",TRUE,\"-\"))","v":"-"},{"$f":"IF(E55=\"ZX-DECLDIV-IPコードレス電話機\",\"-\",_xlfn.IFS(キー割付!I305=\"昼夜休憩\",\"B\",キー割付!I305=\"－－－\",\"-\",キー割付!I305=\"昼－－\",\"H\",キー割付!I305=\"－夜－\",\"N\",キー割付!I305=\"－－休憩\",\"P\",キー割付!I305=\"昼夜－\",\"D\",キー割付!I305=\"昼－休憩\",\"F\",キー割付!I305=\"－夜休憩\",\"K\",TRUE,\"-\"))","v":"-"},{"$f":"IF(E55=\"ZX-DECLDIV-IPコードレス電話機\",\"-\",_xlfn.IFS(キー割付!D313=\"昼夜休憩\",\"B\",キー割付!D313=\"－－－\",\"-\",キー割付!D313=\"昼－－\",\"H\",キー割付!D313=\"－夜－\",\"N\",キー割付!D313=\"－－休憩\",\"P\",キー割付!D313=\"昼夜－\",\"D\",キー割付!D313=\"昼－休憩\",\"F\",キー割付!D313=\"－夜休憩\",\"K\",TRUE,\"-\"))","v":"-"},{"$f":"IF(E55=\"ZX-DECLDIV-IPコードレス電話機\",\"-\",_xlfn.IFS(キー割付!E313=\"昼夜休憩\",\"B\",キー割付!E313=\"－－－\",\"-\",キー割付!E313=\"昼－－\",\"H\",キー割付!E313=\"－夜－\",\"N\",キー割付!E313=\"－－休憩\",\"P\",キー割付!E313=\"昼夜－\",\"D\",キー割付!E313=\"昼－休憩\",\"F\",キー割付!E313=\"－夜休憩\",\"K\",TRUE,\"-\"))","v":"-"},{"$f":"IF(E55=\"ZX-DECLDIV-IPコードレス電話機\",\"-\",_xlfn.IFS(キー割付!F313=\"昼夜休憩\",\"B\",キー割付!F313=\"－－－\",\"-\",キー割付!F313=\"昼－－\",\"H\",キー割付!F313=\"－夜－\",\"N\",キー割付!F313=\"－－休憩\",\"P\",キー割付!F313=\"昼夜－\",\"D\",キー割付!F313=\"昼－休憩\",\"F\",キー割付!F313=\"－夜休憩\",\"K\",TRUE,\"-\"))","v":"-"},{"$f":"IF(E55=\"ZX-DECLDIV-IPコードレス電話機\",\"-\",_xlfn.IFS(キー割付!G313=\"昼夜休憩\",\"B\",キー割付!G313=\"－－－\",\"-\",キー割付!G313=\"昼－－\",\"H\",キー割付!G313=\"－夜－\",\"N\",キー割付!G313=\"－－休憩\",\"P\",キー割付!G313=\"昼夜－\",\"D\",キー割付!G313=\"昼－休憩\",\"F\",キー割付!G313=\"－夜休憩\",\"K\",TRUE,\"-\"))","v":"-"},{"$f":"IF(E55=\"ZX-DECLDIV-IPコードレス電話機\",\"-\",_xlfn.IFS(キー割付!H313=\"昼夜休憩\",\"B\",キー割付!H313=\"－－－\",\"-\",キー割付!H313=\"昼－－\",\"H\",キー割付!H313=\"－夜－\",\"N\",キー割付!H313=\"－－休憩\",\"P\",キー割付!H313=\"昼夜－\",\"D\",キー割付!H313=\"昼－休憩\",\"F\",キー割付!H313=\"－夜休憩\",\"K\",TRUE,\"-\"))","v":"-"},{"$f":"IF(E55=\"ZX-DECLDIV-IPコードレス電話機\",\"-\",_xlfn.IFS(キー割付!I313=\"昼夜休憩\",\"B\",キー割付!I313=\"－－－\",\"-\",キー割付!I313=\"昼－－\",\"H\",キー割付!I313=\"－夜－\",\"N\",キー割付!I313=\"－－休憩\",\"P\",キー割付!I313=\"昼夜－\",\"D\",キー割付!I313=\"昼－休憩\",\"F\",キー割付!I313=\"－夜休憩\",\"K\",TRUE,\"-\"))","v":"-"},{"$f":"IF(E55=\"ZX-DECLDIV-IPコードレス電話機\",\"-\",_xlfn.IFS(キー割付!D321=\"昼夜休憩\",\"B\",キー割付!D321=\"－－－\",\"-\",キー割付!D321=\"昼－－\",\"H\",キー割付!D321=\"－夜－\",\"N\",キー割付!D321=\"－－休憩\",\"P\",キー割付!D321=\"昼夜－\",\"D\",キー割付!D321=\"昼－休憩\",\"F\",キー割付!D321=\"－夜休憩\",\"K\",TRUE,\"-\"))","v":"-"},{"$f":"IF(E55=\"ZX-DECLDIV-IPコードレス電話機\",\"-\",_xlfn.IFS(キー割付!E321=\"昼夜休憩\",\"B\",キー割付!E321=\"－－－\",\"-\",キー割付!E321=\"昼－－\",\"H\",キー割付!E321=\"－夜－\",\"N\",キー割付!E321=\"－－休憩\",\"P\",キー割付!E321=\"昼夜－\",\"D\",キー割付!E321=\"昼－休憩\",\"F\",キー割付!E321=\"－夜休憩\",\"K\",TRUE,\"-\"))","v":"-"},{"$f":"IF(E55=\"ZX-DECLDIV-IPコードレス電話機\",\"-\",_xlfn.IFS(キー割付!F321=\"昼夜休憩\",\"B\",キー割付!F321=\"－－－\",\"-\",キー割付!F321=\"昼－－\",\"H\",キー割付!F321=\"－夜－\",\"N\",キー割付!F321=\"－－休憩\",\"P\",キー割付!F321=\"昼夜－\",\"D\",キー割付!F321=\"昼－休憩\",\"F\",キー割付!F321=\"－夜休憩\",\"K\",TRUE,\"-\"))","v":"-"},{"$f":"IF(E55=\"ZX-DECLDIV-IPコードレス電話機\",\"-\",_xlfn.IFS(キー割付!G321=\"昼夜休憩\",\"B\",キー割付!G321=\"－－－\",\"-\",キー割付!G321=\"昼－－\",\"H\",キー割付!G321=\"－夜－\",\"N\",キー割付!G321=\"－－休憩\",\"P\",キー割付!G321=\"昼夜－\",\"D\",キー割付!G321=\"昼－休憩\",\"F\",キー割付!G321=\"－夜休憩\",\"K\",TRUE,\"-\"))","v":"-"},{"$f":"IF(E55=\"ZX-DECLDIV-IPコードレス電話機\",\"-\",_xlfn.IFS(キー割付!H321=\"昼夜休憩\",\"B\",キー割付!H321=\"－－－\",\"-\",キー割付!H321=\"昼－－\",\"H\",キー割付!H321=\"－夜－\",\"N\",キー割付!H321=\"－－休憩\",\"P\",キー割付!H321=\"昼夜－\",\"D\",キー割付!H321=\"昼－休憩\",\"F\",キー割付!H321=\"－夜休憩\",\"K\",TRUE,\"-\"))","v":"-"},{"$f":"IF(E55=\"ZX-DECLDIV-IPコードレス電話機\",\"-\",_xlfn.IFS(キー割付!I321=\"昼夜休憩\",\"B\",キー割付!I321=\"－－－\",\"-\",キー割付!I321=\"昼－－\",\"H\",キー割付!I321=\"－夜－\",\"N\",キー割付!I321=\"－－休憩\",\"P\",キー割付!I321=\"昼夜－\",\"D\",キー割付!I321=\"昼－休憩\",\"F\",キー割付!I321=\"－夜休憩\",\"K\",TRUE,\"-\"))","v":"-"}]
[null,18,{"$f":"IF(IFERROR(VALUE(VLOOKUP(B58,内線_キー割用,2,FALSE)),\"\")=0,\"\",IFERROR(VALUE(VLOOKUP(B58,内線_キー割用,2,FALSE)),\"\"))","v":""},{"$f":"IF(IFERROR(VALUE(VLOOKUP(B58,内線_キー割用,4,FALSE)),\"\")=0,\"\",IFERROR(VALUE(VLOOKUP(B58,内線_キー割用,4,FALSE)),\"\"))","v":""},{"$f":"IF(IFERROR(VLOOKUP(B58,内線_キー割用,3,FALSE),\"\")=0,\"\",IFERROR(VLOOKUP(B58,内線_キー割用,3,FALSE),\"\"))","v":""},{"$f":"IF(キー割付!N295=\"\",\"未使用\",キー割付!N295)","v":"未使用"},{"$f":"IF(キー割付!O295=\"\",\"未使用\",キー割付!O295)","v":"未使用"},{"$f":"IF(キー割付!P295=\"\",\"未使用\",キー割付!P295)","v":"未使用"},{"$f":"IF(キー割付!Q295=\"\",\"未使用\",キー割付!Q295)","v":"未使用"},{"$f":"IF(キー割付!R295=\"\",\"未使用\",キー割付!R295)","v":"未使用"},{"$f":"IF(キー割付!S295=\"\",\"未使用\",キー割付!S295)","v":"未使用"},{"$f":"IF(キー割付!N303=\"\",\"未使用\",キー割付!N303)","v":"未使用"},{"$f":"IF(キー割付!O303=\"\",\"未使用\",キー割付!O303)","v":"未使用"},{"$f":"IF(E58=\"ZX-DECLDIV-IPコードレス電話機\",\"未使用\",IF(キー割付!P303=\"\",\"未使用\",キー割付!P303))","v":"未使用"},{"$f":"IF(E58=\"ZX-DECLDIV-IPコードレス電話機\",\"未使用\",IF(キー割付!Q303=\"\",\"未使用\",キー割付!Q303))","v":"未使用"},{"$f":"IF(E58=\"ZX-DECLDIV-IPコードレス電話機\",\"未使用\",IF(キー割付!R303=\"\",\"未使用\",キー割付!R303))","v":"未使用"},{"$f":"IF(E58=\"ZX-DECLDIV-IPコードレス電話機\",\"未使用\",IF(キー割付!S303=\"\",\"未使用\",キー割付!S303))","v":"未使用"},{"$f":"IF(E58=\"ZX-DECLDIV-IPコードレス電話機\",\"未使用\",IF(キー割付!N311=\"\",\"未使用\",キー割付!N311))","v":"未使用"},{"$f":"IF(E58=\"ZX-DECLDIV-IPコードレス電話機\",\"未使用\",IF(キー割付!O311=\"\",\"未使用\",キー割付!O311))","v":"未使用"},{"$f":"IF(E58=\"ZX-DECLDIV-IPコードレス電話機\",\"未使用\",IF(キー割付!P311=\"\",\"未使用\",キー割付!P311))","v":"未使用"},{"$f":"IF(E58=\"ZX-DECLDIV-IPコードレス電話機\",\"未使用\",IF(キー割付!Q311=\"\",\"未使用\",キー割付!Q311))","v":"未使用"},{"$f":"IF(E58=\"ZX-DECLDIV-IPコードレス電話機\",\"未使用\",IF(キー割付!R311=\"\",\"未使用\",キー割付!R311))","v":"未使用"},{"$f":"IF(E58=\"ZX-DECLDIV-IPコードレス電話機\",\"未使用\",IF(キー割付!S311=\"\",\"未使用\",キー割付!S311))","v":"未使用"},{"$f":"IF(E58=\"ZX-DECLDIV-IPコードレス電話機\",\"未使用\",IF(キー割付!N319=\"\",\"未使用\",キー割付!N319))","v":"未使用"},{"$f":"IF(E58=\"ZX-DECLDIV-IPコードレス電話機\",\"未使用\",IF(キー割付!O319=\"\",\"未使用\",キー割付!O319))","v":"未使用"},{"$f":"IF(E58=\"ZX-DECLDIV-IPコードレス電話機\",\"未使用\",IF(キー割付!P319=\"\",\"未使用\",キー割付!P319))","v":"未使用"},{"$f":"IF(E58=\"ZX-DECLDIV-IPコードレス電話機\",\"未使用\",IF(キー割付!Q319=\"\",\"未使用\",キー割付!Q319))","v":"未使用"},{"$f":"IF(E58=\"ZX-DECLDIV-IPコードレス電話機\",\"未使用\",IF(キー割付!R319=\"\",\"未使用\",キー割付!R319))","v":"未使用"},{"$f":"IF(E58=\"ZX-DECLDIV-IPコードレス電話機\",\"未使用\",IF(キー割付!S319=\"\",\"未使用\",キー割付!S319))","v":"未使用"}]
[null,null,null,null,null,{"$f":"_xlfn.IFS(キー割付!N296=\"着信音なし\",\"トーン1\",キー割付!N296=\"トーン1\",\"トーン1\",キー割付!N296=\"トーン2\",\"トーン2\",キー割付!N296=\"トーン3\",\"トーン3\",キー割付!N296=\"トーン4\",\"トーン4\",キー割付!N296=\"トーン5\",\"トーン5\",キー割付!N296=\"トーン6\",\"トーン6\",キー割付!N296=\"トーン7\",\"トーン7\",キー割付!N296=\"トーン7\",\"トーン7\",キー割付!N296=\"無鳴動着信\",\"トーン8\",キー割付!N296=\"グリーンスリーブス\",\"メロディ1\",キー割付!N296=\"峠の我が家\",\"メロディ2\",キー割付!N296=\"カノン\",\"メロディ3\",キー割付!N296=\"春の歌\",\"メロディ4\",キー割付!N296=\"主よ人の望みの喜びよ\",\"メロディ5\",キー割付!N296=\"メヌエット\",\"メロディ6\",キー割付!N296=\"華麗なる大円舞曲\",\"メロディ7\",キー割付!N296=\"ハンガリア舞曲第5番\",\"メロディ8\",TRUE,\"トーン1\")","v":"トーン1"},{"$f":"_xlfn.IFS(キー割付!O296=\"着信音なし\",\"トーン1\",キー割付!O296=\"トーン1\",\"トーン1\",キー割付!O296=\"トーン2\",\"トーン2\",キー割付!O296=\"トーン3\",\"トーン3\",キー割付!O296=\"トーン4\",\"トーン4\",キー割付!O296=\"トーン5\",\"トーン5\",キー割付!O296=\"トーン6\",\"トーン6\",キー割付!O296=\"トーン7\",\"トーン7\",キー割付!O296=\"トーン7\",\"トーン7\",キー割付!O296=\"無鳴動着信\",\"トーン8\",キー割付!O296=\"グリーンスリーブス\",\"メロディ1\",キー割付!O296=\"峠の我が家\",\"メロディ2\",キー割付!O296=\"カノン\",\"メロディ3\",キー割付!O296=\"春の歌\",\"メロディ4\",キー割付!O296=\"主よ人の望みの喜びよ\",\"メロディ5\",キー割付!O296=\"メヌエット\",\"メロディ6\",キー割付!O296=\"華麗なる大円舞曲\",\"メロディ7\",キー割付!O296=\"ハンガリア舞曲第5番\",\"メロディ8\",TRUE,\"トーン1\")","v":"トーン1"},{"$f":"_xlfn.IFS(キー割付!P296=\"着信音なし\",\"トーン1\",キー割付!P296=\"トーン1\",\"トーン1\",キー割付!P296=\"トーン2\",\"トーン2\",キー割付!P296=\"トーン3\",\"トーン3\",キー割付!P296=\"トーン4\",\"トーン4\",キー割付!P296=\"トーン5\",\"トーン5\",キー割付!P296=\"トーン6\",\"トーン6\",キー割付!P296=\"トーン7\",\"トーン7\",キー割付!P296=\"トーン7\",\"トーン7\",キー割付!P296=\"無鳴動着信\",\"トーン8\",キー割付!P296=\"グリーンスリーブス\",\"メロディ1\",キー割付!P296=\"峠の我が家\",\"メロディ2\",キー割付!P296=\"カノン\",\"メロディ3\",キー割付!P296=\"春の歌\",\"メロディ4\",キー割付!P296=\"主よ人の望みの喜びよ\",\"メロディ5\",キー割付!P296=\"メヌエット\",\"メロディ6\",キー割付!P296=\"華麗なる大円舞曲\",\"メロディ7\",キー割付!P296=\"ハンガリア舞曲第5番\",\"メロディ8\",TRUE,\"トーン1\")","v":"トーン1"},{"$f":"_xlfn.IFS(キー割付!Q296=\"着信音なし\",\"トーン1\",キー割付!Q296=\"トーン1\",\"トーン1\",キー割付!Q296=\"トーン2\",\"トーン2\",キー割付!Q296=\"トーン3\",\"トーン3\",キー割付!Q296=\"トーン4\",\"トーン4\",キー割付!Q296=\"トーン5\",\"トーン5\",キー割付!Q296=\"トーン6\",\"トーン6\",キー割付!Q296=\"トーン7\",\"トーン7\",キー割付!Q296=\"トーン7\",\"トーン7\",キー割付!Q296=\"無鳴動着信\",\"トーン8\",キー割付!Q296=\"グリーンスリーブス\",\"メロディ1\",キー割付!Q296=\"峠の我が家\",\"メロディ2\",キー割付!Q296=\"カノン\",\"メロディ3\",キー割付!Q296=\"春の歌\",\"メロディ4\",キー割付!Q296=\"主よ人の望みの喜びよ\",\"メロディ5\",キー割付!Q296=\"メヌエット\",\"メロディ6\",キー割付!Q296=\"華麗なる大円舞曲\",\"メロディ7\",キー割付!Q296=\"ハンガリア舞曲第5番\",\"メロディ8\",TRUE,\"トーン1\")","v":"トーン1"},{"$f":"_xlfn.IFS(キー割付!R296=\"着信音なし\",\"トーン1\",キー割付!R296=\"トーン1\",\"トーン1\",キー割付!R296=\"トーン2\",\"トーン2\",キー割付!R296=\"トーン3\",\"トーン3\",キー割付!R296=\"トーン4\",\"トーン4\",キー割付!R296=\"トーン5\",\"トーン5\",キー割付!R296=\"トーン6\",\"トーン6\",キー割付!R296=\"トーン7\",\"トーン7\",キー割付!R296=\"トーン7\",\"トーン7\",キー割付!R296=\"無鳴動着信\",\"トーン8\",キー割付!R296=\"グリーンスリーブス\",\"メロディ1\",キー割付!R296=\"峠の我が家\",\"メロディ2\",キー割付!R296=\"カノン\",\"メロディ3\",キー割付!R296=\"春の歌\",\"メロディ4\",キー割付!R296=\"主よ人の望みの喜びよ\",\"メロディ5\",キー割付!R296=\"メヌエット\",\"メロディ6\",キー割付!R296=\"華麗なる大円舞曲\",\"メロディ7\",キー割付!R296=\"ハンガリア舞曲第5番\",\"メロディ8\",TRUE,\"トーン1\")","v":"トーン1"},{"$f":"_xlfn.IFS(キー割付!S296=\"着信音なし\",\"トーン1\",キー割付!S296=\"トーン1\",\"トーン1\",キー割付!S296=\"トーン2\",\"トーン2\",キー割付!S296=\"トーン3\",\"トーン3\",キー割付!S296=\"トーン4\",\"トーン4\",キー割付!S296=\"トーン5\",\"トーン5\",キー割付!S296=\"トーン6\",\"トーン6\",キー割付!S296=\"トーン7\",\"トーン7\",キー割付!S296=\"トーン7\",\"トーン7\",キー割付!S296=\"無鳴動着信\",\"トーン8\",キー割付!S296=\"グリーンスリーブス\",\"メロディ1\",キー割付!S296=\"峠の我が家\",\"メロディ2\",キー割付!S296=\"カノン\",\"メロディ3\",キー割付!S296=\"春の歌\",\"メロディ4\",キー割付!S296=\"主よ人の望みの喜びよ\",\"メロディ5\",キー割付!S296=\"メヌエット\",\"メロディ6\",キー割付!S296=\"華麗なる大円舞曲\",\"メロディ7\",キー割付!S296=\"ハンガリア舞曲第5番\",\"メロディ8\",TRUE,\"トーン1\")","v":"トーン1"},{"$f":"_xlfn.IFS(キー割付!N304=\"着信音なし\",\"トーン1\",キー割付!N304=\"トーン1\",\"トーン1\",キー割付!N304=\"トーン2\",\"トーン2\",キー割付!N304=\"トーン3\",\"トーン3\",キー割付!N304=\"トーン4\",\"トーン4\",キー割付!N304=\"トーン5\",\"トーン5\",キー割付!N304=\"トーン6\",\"トーン6\",キー割付!N304=\"トーン7\",\"トーン7\",キー割付!N304=\"トーン7\",\"トーン7\",キー割付!N304=\"無鳴動着信\",\"トーン8\",キー割付!N304=\"グリーンスリーブス\",\"メロディ1\",キー割付!N304=\"峠の我が家\",\"メロディ2\",キー割付!N304=\"カノン\",\"メロディ3\",キー割付!N304=\"春の歌\",\"メロディ4\",キー割付!N304=\"主よ人の望みの喜びよ\",\"メロディ5\",キー割付!N304=\"メヌエット\",\"メロディ6\",キー割付!N304=\"華麗なる大円舞曲\",\"メロディ7\",キー割付!N304=\"ハンガリア舞曲第5番\",\"メロディ8\",TRUE,\"トーン1\")","v":"トーン1"},{"$f":"_xlfn.IFS(キー割付!O304=\"着信音なし\",\"トーン1\",キー割付!O304=\"トーン1\",\"トーン1\",キー割付!O304=\"トーン2\",\"トーン2\",キー割付!O304=\"トーン3\",\"トーン3\",キー割付!O304=\"トーン4\",\"トーン4\",キー割付!O304=\"トーン5\",\"トーン5\",キー割付!O304=\"トーン6\",\"トーン6\",キー割付!O304=\"トーン7\",\"トーン7\",キー割付!O304=\"トーン7\",\"トーン7\",キー割付!O304=\"無鳴動着信\",\"トーン8\",キー割付!O304=\"グリーンスリーブス\",\"メロディ1\",キー割付!O304=\"峠の我が家\",\"メロディ2\",キー割付!O304=\"カノン\",\"メロディ3\",キー割付!O304=\"春の歌\",\"メロディ4\",キー割付!O304=\"主よ人の望みの喜びよ\",\"メロディ5\",キー割付!O304=\"メヌエット\",\"メロディ6\",キー割付!O304=\"華麗なる大円舞曲\",\"メロディ7\",キー割付!O304=\"ハンガリア舞曲第5番\",\"メロディ8\",TRUE,\"トーン1\")","v":"トーン1"},{"$f":"IF(E58=\"ZX-DECLDIV-IPコードレス電話機\",\"トーン1\",_xlfn.IFS(キー割付!P304=\"着信音なし\",\"トーン1\",キー割付!P304=\"トーン1\",\"トーン1\",キー割付!P304=\"トーン2\",\"トーン2\",キー割付!P304=\"トーン3\",\"トーン3\",キー割付!P304=\"トーン4\",\"トーン4\",キー割付!P304=\"トーン5\",\"トーン5\",キー割付!P304=\"トーン6\",\"トーン6\",キー割付!P304=\"トーン7\",\"トーン7\",キー割付!P304=\"トーン7\",\"トーン7\",キー割付!P304=\"無鳴動着信\",\"トーン8\",キー割付!P304=\"グリーンスリーブス\",\"メロディ1\",キー割付!P304=\"峠の我が家\",\"メロディ2\",キー割付!P304=\"カノン\",\"メロディ3\",キー割付!P304=\"春の歌\",\"メロディ4\",キー割付!P304=\"主よ人の望みの喜びよ\",\"メロディ5\",キー割付!P304=\"メヌエット\",\"メロディ6\",キー割付!P304=\"華麗なる大円舞曲\",\"メロディ7\",キー割付!P304=\"ハンガリア舞曲第5番\",\"メロディ8\",TRUE,\"トーン1\"))","v":"トーン1"},{"$f":"IF(E58=\"ZX-DECLDIV-IPコードレス電話機\",\"トーン1\",_xlfn.IFS(キー割付!Q304=\"着信音なし\",\"トーン1\",キー割付!Q304=\"トーン1\",\"トーン1\",キー割付!Q304=\"トーン2\",\"トーン2\",キー割付!Q304=\"トーン3\",\"トーン3\",キー割付!Q304=\"トーン4\",\"トーン4\",キー割付!Q304=\"トーン5\",\"トーン5\",キー割付!Q304=\"トーン6\",\"トーン6\",キー割付!Q304=\"トーン7\",\"トーン7\",キー割付!Q304=\"トーン7\",\"トーン7\",キー割付!Q304=\"無鳴動着信\",\"トーン8\",キー割付!Q304=\"グリーンスリーブス\",\"メロディ1\",キー割付!Q304=\"峠の我が家\",\"メロディ2\",キー割付!Q304=\"カノン\",\"メロディ3\",キー割付!Q304=\"春の歌\",\"メロディ4\",キー割付!Q304=\"主よ人の望みの喜びよ\",\"メロディ5\",キー割付!Q304=\"メヌエット\",\"メロディ6\",キー割付!Q304=\"華麗なる大円舞曲\",\"メロディ7\",キー割付!Q304=\"ハンガリア舞曲第5番\",\"メロディ8\",TRUE,\"トーン1\"))","v":"トーン1"},{"$f":"IF(E58=\"ZX-DECLDIV-IPコードレス電話機\",\"トーン1\",_xlfn.IFS(キー割付!R304=\"着信音なし\",\"トーン1\",キー割付!R304=\"トーン1\",\"トーン1\",キー割付!R304=\"トーン2\",\"トーン2\",キー割付!R304=\"トーン3\",\"トーン3\",キー割付!R304=\"トーン4\",\"トーン4\",キー割付!R304=\"トーン5\",\"トーン5\",キー割付!R304=\"トーン6\",\"トーン6\",キー割付!R304=\"トーン7\",\"トーン7\",キー割付!R304=\"トーン7\",\"トーン7\",キー割付!R304=\"無鳴動着信\",\"トーン8\",キー割付!R304=\"グリーンスリーブス\",\"メロディ1\",キー割付!R304=\"峠の我が家\",\"メロディ2\",キー割付!R304=\"カノン\",\"メロディ3\",キー割付!R304=\"春の歌\",\"メロディ4\",キー割付!R304=\"主よ人の望みの喜びよ\",\"メロディ5\",キー割付!R304=\"メヌエット\",\"メロディ6\",キー割付!R304=\"華麗なる大円舞曲\",\"メロディ7\",キー割付!R304=\"ハンガリア舞曲第5番\",\"メロディ8\",TRUE,\"トーン1\"))","v":"トーン1"},{"$f":"IF(E58=\"ZX-DECLDIV-IPコードレス電話機\",\"トーン1\",_xlfn.IFS(キー割付!S304=\"着信音なし\",\"トーン1\",キー割付!S304=\"トーン1\",\"トーン1\",キー割付!S304=\"トーン2\",\"トーン2\",キー割付!S304=\"トーン3\",\"トーン3\",キー割付!S304=\"トーン4\",\"トーン4\",キー割付!S304=\"トーン5\",\"トーン5\",キー割付!S304=\"トーン6\",\"トーン6\",キー割付!S304=\"トーン7\",\"トーン7\",キー割付!S304=\"トーン7\",\"トーン7\",キー割付!S304=\"無鳴動着信\",\"トーン8\",キー割付!S304=\"グリーンスリーブス\",\"メロディ1\",キー割付!S304=\"峠の我が家\",\"メロディ2\",キー割付!S304=\"カノン\",\"メロディ3\",キー割付!S304=\"春の歌\",\"メロディ4\",キー割付!S304=\"主よ人の望みの喜びよ\",\"メロディ5\",キー割付!S304=\"メヌエット\",\"メロディ6\",キー割付!S304=\"華麗なる大円舞曲\",\"メロディ7\",キー割付!S304=\"ハンガリア舞曲第5番\",\"メロディ8\",TRUE,\"トーン1\"))","v":"トーン1"},{"$f":"IF(E58=\"ZX-DECLDIV-IPコードレス電話機\",\"トーン1\",_xlfn.IFS(キー割付!N312=\"着信音なし\",\"トーン1\",キー割付!N312=\"トーン1\",\"トーン1\",キー割付!N312=\"トーン2\",\"トーン2\",キー割付!N312=\"トーン3\",\"トーン3\",キー割付!N312=\"トーン4\",\"トーン4\",キー割付!N312=\"トーン5\",\"トーン5\",キー割付!N312=\"トーン6\",\"トーン6\",キー割付!N312=\"トーン7\",\"トーン7\",キー割付!N312=\"トーン7\",\"トーン7\",キー割付!N312=\"無鳴動着信\",\"トーン8\",キー割付!N312=\"グリーンスリーブス\",\"メロディ1\",キー割付!N312=\"峠の我が家\",\"メロディ2\",キー割付!N312=\"カノン\",\"メロディ3\",キー割付!N312=\"春の歌\",\"メロディ4\",キー割付!N312=\"主よ人の望みの喜びよ\",\"メロディ5\",キー割付!N312=\"メヌエット\",\"メロディ6\",キー割付!N312=\"華麗なる大円舞曲\",\"メロディ7\",キー割付!N312=\"ハンガリア舞曲第5番\",\"メロディ8\",TRUE,\"トーン1\"))","v":"トーン1"},{"$f":"IF(E58=\"ZX-DECLDIV-IPコードレス電話機\",\"トーン1\",_xlfn.IFS(キー割付!O312=\"着信音なし\",\"トーン1\",キー割付!O312=\"トーン1\",\"トーン1\",キー割付!O312=\"トーン2\",\"トーン2\",キー割付!O312=\"トーン3\",\"トーン3\",キー割付!O312=\"トーン4\",\"トーン4\",キー割付!O312=\"トーン5\",\"トーン5\",キー割付!O312=\"トーン6\",\"トーン6\",キー割付!O312=\"トーン7\",\"トーン7\",キー割付!O312=\"トーン7\",\"トーン7\",キー割付!O312=\"無鳴動着信\",\"トーン8\",キー割付!O312=\"グリーンスリーブス\",\"メロディ1\",キー割付!O312=\"峠の我が家\",\"メロディ2\",キー割付!O312=\"カノン\",\"メロディ3\",キー割付!O312=\"春の歌\",\"メロディ4\",キー割付!O312=\"主よ人の望みの喜びよ\",\"メロディ5\",キー割付!O312=\"メヌエット\",\"メロディ6\",キー割付!O312=\"華麗なる大円舞曲\",\"メロディ7\",キー割付!O312=\"ハンガリア舞曲第5番\",\"メロディ8\",TRUE,\"トーン1\"))","v":"トーン1"},{"$f":"IF(E58=\"ZX-DECLDIV-IPコードレス電話機\",\"トーン1\",_xlfn.IFS(キー割付!P312=\"着信音なし\",\"トーン1\",キー割付!P312=\"トーン1\",\"トーン1\",キー割付!P312=\"トーン2\",\"トーン2\",キー割付!P312=\"トーン3\",\"トーン3\",キー割付!P312=\"トーン4\",\"トーン4\",キー割付!P312=\"トーン5\",\"トーン5\",キー割付!P312=\"トーン6\",\"トーン6\",キー割付!P312=\"トーン7\",\"トーン7\",キー割付!P312=\"トーン7\",\"トーン7\",キー割付!P312=\"無鳴動着信\",\"トーン8\",キー割付!P312=\"グリーンスリーブス\",\"メロディ1\",キー割付!P312=\"峠の我が家\",\"メロディ2\",キー割付!P312=\"カノン\",\"メロディ3\",キー割付!P312=\"春の歌\",\"メロディ4\",キー割付!P312=\"主よ人の望みの喜びよ\",\"メロディ5\",キー割付!P312=\"メヌエット\",\"メロディ6\",キー割付!P312=\"華麗なる大円舞曲\",\"メロディ7\",キー割付!P312=\"ハンガリア舞曲第5番\",\"メロディ8\",TRUE,\"トーン1\"))","v":"トーン1"},{"$f":"IF(E58=\"ZX-DECLDIV-IPコードレス電話機\",\"トーン1\",_xlfn.IFS(キー割付!Q312=\"着信音なし\",\"トーン1\",キー割付!Q312=\"トーン1\",\"トーン1\",キー割付!Q312=\"トーン2\",\"トーン2\",キー割付!Q312=\"トーン3\",\"トーン3\",キー割付!Q312=\"トーン4\",\"トーン4\",キー割付!Q312=\"トーン5\",\"トーン5\",キー割付!Q312=\"トーン6\",\"トーン6\",キー割付!Q312=\"トーン7\",\"トーン7\",キー割付!Q312=\"トーン7\",\"トーン7\",キー割付!Q312=\"無鳴動着信\",\"トーン8\",キー割付!Q312=\"グリーンスリーブス\",\"メロディ1\",キー割付!Q312=\"峠の我が家\",\"メロディ2\",キー割付!Q312=\"カノン\",\"メロディ3\",キー割付!Q312=\"春の歌\",\"メロディ4\",キー割付!Q312=\"主よ人の望みの喜びよ\",\"メロディ5\",キー割付!Q312=\"メヌエット\",\"メロディ6\",キー割付!Q312=\"華麗なる大円舞曲\",\"メロディ7\",キー割付!Q312=\"ハンガリア舞曲第5番\",\"メロディ8\",TRUE,\"トーン1\"))","v":"トーン1"},{"$f":"IF(E58=\"ZX-DECLDIV-IPコードレス電話機\",\"トーン1\",_xlfn.IFS(キー割付!R312=\"着信音なし\",\"トーン1\",キー割付!R312=\"トーン1\",\"トーン1\",キー割付!R312=\"トーン2\",\"トーン2\",キー割付!R312=\"トーン3\",\"トーン3\",キー割付!R312=\"トーン4\",\"トーン4\",キー割付!R312=\"トーン5\",\"トーン5\",キー割付!R312=\"トーン6\",\"トーン6\",キー割付!R312=\"トーン7\",\"トーン7\",キー割付!R312=\"トーン7\",\"トーン7\",キー割付!R312=\"無鳴動着信\",\"トーン8\",キー割付!R312=\"グリーンスリーブス\",\"メロディ1\",キー割付!R312=\"峠の我が家\",\"メロディ2\",キー割付!R312=\"カノン\",\"メロディ3\",キー割付!R312=\"春の歌\",\"メロディ4\",キー割付!R312=\"主よ人の望みの喜びよ\",\"メロディ5\",キー割付!R312=\"メヌエット\",\"メロディ6\",キー割付!R312=\"華麗なる大円舞曲\",\"メロディ7\",キー割付!R312=\"ハンガリア舞曲第5番\",\"メロディ8\",TRUE,\"トーン1\"))","v":"トーン1"},{"$f":"IF(E58=\"ZX-DECLDIV-IPコードレス電話機\",\"トーン1\",_xlfn.IFS(キー割付!S312=\"着信音なし\",\"トーン1\",キー割付!S312=\"トーン1\",\"トーン1\",キー割付!S312=\"トーン2\",\"トーン2\",キー割付!S312=\"トーン3\",\"トーン3\",キー割付!S312=\"トーン4\",\"トーン4\",キー割付!S312=\"トーン5\",\"トーン5\",キー割付!S312=\"トーン6\",\"トーン6\",キー割付!S312=\"トーン7\",\"トーン7\",キー割付!S312=\"トーン7\",\"トーン7\",キー割付!S312=\"無鳴動着信\",\"トーン8\",キー割付!S312=\"グリーンスリーブス\",\"メロディ1\",キー割付!S312=\"峠の我が家\",\"メロディ2\",キー割付!S312=\"カノン\",\"メロディ3\",キー割付!S312=\"春の歌\",\"メロディ4\",キー割付!S312=\"主よ人の望みの喜びよ\",\"メロディ5\",キー割付!S312=\"メヌエット\",\"メロディ6\",キー割付!S312=\"華麗なる大円舞曲\",\"メロディ7\",キー割付!S312=\"ハンガリア舞曲第5番\",\"メロディ8\",TRUE,\"トーン1\"))","v":"トーン1"},{"$f":"IF(E58=\"ZX-DECLDIV-IPコードレス電話機\",\"トーン1\",_xlfn.IFS(キー割付!N320=\"着信音なし\",\"トーン1\",キー割付!N320=\"トーン1\",\"トーン1\",キー割付!N320=\"トーン2\",\"トーン2\",キー割付!N320=\"トーン3\",\"トーン3\",キー割付!N320=\"トーン4\",\"トーン4\",キー割付!N320=\"トーン5\",\"トーン5\",キー割付!N320=\"トーン6\",\"トーン6\",キー割付!N320=\"トーン7\",\"トーン7\",キー割付!N320=\"トーン7\",\"トーン7\",キー割付!N320=\"無鳴動着信\",\"トーン8\",キー割付!N320=\"グリーンスリーブス\",\"メロディ1\",キー割付!N320=\"峠の我が家\",\"メロディ2\",キー割付!N320=\"カノン\",\"メロディ3\",キー割付!N320=\"春の歌\",\"メロディ4\",キー割付!N320=\"主よ人の望みの喜びよ\",\"メロディ5\",キー割付!N320=\"メヌエット\",\"メロディ6\",キー割付!N320=\"華麗なる大円舞曲\",\"メロディ7\",キー割付!N320=\"ハンガリア舞曲第5番\",\"メロディ8\",TRUE,\"トーン1\"))","v":"トーン1"},{"$f":"IF(E58=\"ZX-DECLDIV-IPコードレス電話機\",\"トーン1\",_xlfn.IFS(キー割付!O320=\"着信音なし\",\"トーン1\",キー割付!O320=\"トーン1\",\"トーン1\",キー割付!O320=\"トーン2\",\"トーン2\",キー割付!O320=\"トーン3\",\"トーン3\",キー割付!O320=\"トーン4\",\"トーン4\",キー割付!O320=\"トーン5\",\"トーン5\",キー割付!O320=\"トーン6\",\"トーン6\",キー割付!O320=\"トーン7\",\"トーン7\",キー割付!O320=\"トーン7\",\"トーン7\",キー割付!O320=\"無鳴動着信\",\"トーン8\",キー割付!O320=\"グリーンスリーブス\",\"メロディ1\",キー割付!O320=\"峠の我が家\",\"メロディ2\",キー割付!O320=\"カノン\",\"メロディ3\",キー割付!O320=\"春の歌\",\"メロディ4\",キー割付!O320=\"主よ人の望みの喜びよ\",\"メロディ5\",キー割付!O320=\"メヌエット\",\"メロディ6\",キー割付!O320=\"華麗なる大円舞曲\",\"メロディ7\",キー割付!O320=\"ハンガリア舞曲第5番\",\"メロディ8\",TRUE,\"トーン1\"))","v":"トーン1"},{"$f":"IF(E58=\"ZX-DECLDIV-IPコードレス電話機\",\"トーン1\",_xlfn.IFS(キー割付!P320=\"着信音なし\",\"トーン1\",キー割付!P320=\"トーン1\",\"トーン1\",キー割付!P320=\"トーン2\",\"トーン2\",キー割付!P320=\"トーン3\",\"トーン3\",キー割付!P320=\"トーン4\",\"トーン4\",キー割付!P320=\"トーン5\",\"トーン5\",キー割付!P320=\"トーン6\",\"トーン6\",キー割付!P320=\"トーン7\",\"トーン7\",キー割付!P320=\"トーン7\",\"トーン7\",キー割付!P320=\"無鳴動着信\",\"トーン8\",キー割付!P320=\"グリーンスリーブス\",\"メロディ1\",キー割付!P320=\"峠の我が家\",\"メロディ2\",キー割付!P320=\"カノン\",\"メロディ3\",キー割付!P320=\"春の歌\",\"メロディ4\",キー割付!P320=\"主よ人の望みの喜びよ\",\"メロディ5\",キー割付!P320=\"メヌエット\",\"メロディ6\",キー割付!P320=\"華麗なる大円舞曲\",\"メロディ7\",キー割付!P320=\"ハンガリア舞曲第5番\",\"メロディ8\",TRUE,\"トーン1\"))","v":"トーン1"},{"$f":"IF(E58=\"ZX-DECLDIV-IPコードレス電話機\",\"トーン1\",_xlfn.IFS(キー割付!Q320=\"着信音なし\",\"トーン1\",キー割付!Q320=\"トーン1\",\"トーン1\",キー割付!Q320=\"トーン2\",\"トーン2\",キー割付!Q320=\"トーン3\",\"トーン3\",キー割付!Q320=\"トーン4\",\"トーン4\",キー割付!Q320=\"トーン5\",\"トーン5\",キー割付!Q320=\"トーン6\",\"トーン6\",キー割付!Q320=\"トーン7\",\"トーン7\",キー割付!Q320=\"トーン7\",\"トーン7\",キー割付!Q320=\"無鳴動着信\",\"トーン8\",キー割付!Q320=\"グリーンスリーブス\",\"メロディ1\",キー割付!Q320=\"峠の我が家\",\"メロディ2\",キー割付!Q320=\"カノン\",\"メロディ3\",キー割付!Q320=\"春の歌\",\"メロディ4\",キー割付!Q320=\"主よ人の望みの喜びよ\",\"メロディ5\",キー割付!Q320=\"メヌエット\",\"メロディ6\",キー割付!Q320=\"華麗なる大円舞曲\",\"メロディ7\",キー割付!Q320=\"ハンガリア舞曲第5番\",\"メロディ8\",TRUE,\"トーン1\"))","v":"トーン1"},{"$f":"IF(E58=\"ZX-DECLDIV-IPコードレス電話機\",\"トーン1\",_xlfn.IFS(キー割付!R320=\"着信音なし\",\"トーン1\",キー割付!R320=\"トーン1\",\"トーン1\",キー割付!R320=\"トーン2\",\"トーン2\",キー割付!R320=\"トーン3\",\"トーン3\",キー割付!R320=\"トーン4\",\"トーン4\",キー割付!R320=\"トーン5\",\"トーン5\",キー割付!R320=\"トーン6\",\"トーン6\",キー割付!R320=\"トーン7\",\"トーン7\",キー割付!R320=\"トーン7\",\"トーン7\",キー割付!R320=\"無鳴動着信\",\"トーン8\",キー割付!R320=\"グリーンスリーブス\",\"メロディ1\",キー割付!R320=\"峠の我が家\",\"メロディ2\",キー割付!R320=\"カノン\",\"メロディ3\",キー割付!R320=\"春の歌\",\"メロディ4\",キー割付!R320=\"主よ人の望みの喜びよ\",\"メロディ5\",キー割付!R320=\"メヌエット\",\"メロディ6\",キー割付!R320=\"華麗なる大円舞曲\",\"メロディ7\",キー割付!R320=\"ハンガリア舞曲第5番\",\"メロディ8\",TRUE,\"トーン1\"))","v":"トーン1"},{"$f":"IF(E58=\"ZX-DECLDIV-IPコードレス電話機\",\"トーン1\",_xlfn.IFS(キー割付!S320=\"着信音なし\",\"トーン1\",キー割付!S320=\"トーン1\",\"トーン1\",キー割付!S320=\"トーン2\",\"トーン2\",キー割付!S320=\"トーン3\",\"トーン3\",キー割付!S320=\"トーン4\",\"トーン4\",キー割付!S320=\"トーン5\",\"トーン5\",キー割付!S320=\"トーン6\",\"トーン6\",キー割付!S320=\"トーン7\",\"トーン7\",キー割付!S320=\"トーン7\",\"トーン7\",キー割付!S320=\"無鳴動着信\",\"トーン8\",キー割付!S320=\"グリーンスリーブス\",\"メロディ1\",キー割付!S320=\"峠の我が家\",\"メロディ2\",キー割付!S320=\"カノン\",\"メロディ3\",キー割付!S320=\"春の歌\",\"メロディ4\",キー割付!S320=\"主よ人の望みの喜びよ\",\"メロディ5\",キー割付!S320=\"メヌエット\",\"メロディ6\",キー割付!S320=\"華麗なる大円舞曲\",\"メロディ7\",キー割付!S320=\"ハンガリア舞曲第5番\",\"メロディ8\",TRUE,\"トーン1\"))","v":"トーン1"}]
[null,null,null,null,null,{"$f":"_xlfn.IFS(キー割付!N297=\"昼夜休憩\",\"B\",キー割付!N297=\"－－－\",\"-\",キー割付!N297=\"昼－－\",\"H\",キー割付!N297=\"－夜－\",\"N\",キー割付!N297=\"－－休憩\",\"P\",キー割付!N297=\"昼夜－\",\"N\",キー割付!N297=\"昼－休憩\",\"F\",キー割付!N297=\"－夜休憩\",\"K\",TRUE,\"-\")","v":"-"},{"$f":"_xlfn.IFS(キー割付!O297=\"昼夜休憩\",\"B\",キー割付!O297=\"－－－\",\"-\",キー割付!O297=\"昼－－\",\"H\",キー割付!O297=\"－夜－\",\"N\",キー割付!O297=\"－－休憩\",\"P\",キー割付!O297=\"昼夜－\",\"N\",キー割付!O297=\"昼－休憩\",\"F\",キー割付!O297=\"－夜休憩\",\"K\",TRUE,\"-\")","v":"-"},{"$f":"_xlfn.IFS(キー割付!P297=\"昼夜休憩\",\"B\",キー割付!P297=\"－－－\",\"-\",キー割付!P297=\"昼－－\",\"H\",キー割付!P297=\"－夜－\",\"N\",キー割付!P297=\"－－休憩\",\"P\",キー割付!P297=\"昼夜－\",\"N\",キー割付!P297=\"昼－休憩\",\"F\",キー割付!P297=\"－夜休憩\",\"K\",TRUE,\"-\")","v":"-"},{"$f":"_xlfn.IFS(キー割付!Q297=\"昼夜休憩\",\"B\",キー割付!Q297=\"－－－\",\"-\",キー割付!Q297=\"昼－－\",\"H\",キー割付!Q297=\"－夜－\",\"N\",キー割付!Q297=\"－－休憩\",\"P\",キー割付!Q297=\"昼夜－\",\"N\",キー割付!Q297=\"昼－休憩\",\"F\",キー割付!Q297=\"－夜休憩\",\"K\",TRUE,\"-\")","v":"-"},{"$f":"_xlfn.IFS(キー割付!R297=\"昼夜休憩\",\"B\",キー割付!R297=\"－－－\",\"-\",キー割付!R297=\"昼－－\",\"H\",キー割付!R297=\"－夜－\",\"N\",キー割付!R297=\"－－休憩\",\"P\",キー割付!R297=\"昼夜－\",\"N\",キー割付!R297=\"昼－休憩\",\"F\",キー割付!R297=\"－夜休憩\",\"K\",TRUE,\"-\")","v":"-"},{"$f":"_xlfn.IFS(キー割付!S297=\"昼夜休憩\",\"B\",キー割付!S297=\"－－－\",\"-\",キー割付!S297=\"昼－－\",\"H\",キー割付!S297=\"－夜－\",\"N\",キー割付!S297=\"－－休憩\",\"P\",キー割付!S297=\"昼夜－\",\"N\",キー割付!S297=\"昼－休憩\",\"F\",キー割付!S297=\"－夜休憩\",\"K\",TRUE,\"-\")","v":"-"},{"$f":"_xlfn.IFS(キー割付!N305=\"昼夜休憩\",\"B\",キー割付!N305=\"－－－\",\"-\",キー割付!N305=\"昼－－\",\"H\",キー割付!N305=\"－夜－\",\"N\",キー割付!N305=\"－－休憩\",\"P\",キー割付!N305=\"昼夜－\",\"N\",キー割付!N305=\"昼－休憩\",\"F\",キー割付!N305=\"－夜休憩\",\"K\",TRUE,\"-\")","v":"-"},{"$f":"_xlfn.IFS(キー割付!O305=\"昼夜休憩\",\"B\",キー割付!O305=\"－－－\",\"-\",キー割付!O305=\"昼－－\",\"H\",キー割付!O305=\"－夜－\",\"N\",キー割付!O305=\"－－休憩\",\"P\",キー割付!O305=\"昼夜－\",\"N\",キー割付!O305=\"昼－休憩\",\"F\",キー割付!O305=\"－夜休憩\",\"K\",TRUE,\"-\")","v":"-"},{"$f":"IF(E58=\"ZX-DECLDIV-IPコードレス電話機\",\"-\",_xlfn.IFS(キー割付!P305=\"昼夜休憩\",\"B\",キー割付!P305=\"－－－\",\"-\",キー割付!P305=\"昼－－\",\"H\",キー割付!P305=\"－夜－\",\"N\",キー割付!P305=\"－－休憩\",\"P\",キー割付!P305=\"昼夜－\",\"N\",キー割付!P305=\"昼－休憩\",\"F\",キー割付!P305=\"－夜休憩\",\"K\",TRUE,\"-\"))","v":"-"},{"$f":"IF(E58=\"ZX-DECLDIV-IPコードレス電話機\",\"-\",_xlfn.IFS(キー割付!Q305=\"昼夜休憩\",\"B\",キー割付!Q305=\"－－－\",\"-\",キー割付!Q305=\"昼－－\",\"H\",キー割付!Q305=\"－夜－\",\"N\",キー割付!Q305=\"－－休憩\",\"P\",キー割付!Q305=\"昼夜－\",\"N\",キー割付!Q305=\"昼－休憩\",\"F\",キー割付!Q305=\"－夜休憩\",\"K\",TRUE,\"-\"))","v":"-"},{"$f":"IF(E58=\"ZX-DECLDIV-IPコードレス電話機\",\"-\",_xlfn.IFS(キー割付!R305=\"昼夜休憩\",\"B\",キー割付!R305=\"－－－\",\"-\",キー割付!R305=\"昼－－\",\"H\",キー割付!R305=\"－夜－\",\"N\",キー割付!R305=\"－－休憩\",\"P\",キー割付!R305=\"昼夜－\",\"N\",キー割付!R305=\"昼－休憩\",\"F\",キー割付!R305=\"－夜休憩\",\"K\",TRUE,\"-\"))","v":"-"},{"$f":"IF(E58=\"ZX-DECLDIV-IPコードレス電話機\",\"-\",_xlfn.IFS(キー割付!S305=\"昼夜休憩\",\"B\",キー割付!S305=\"－－－\",\"-\",キー割付!S305=\"昼－－\",\"H\",キー割付!S305=\"－夜－\",\"N\",キー割付!S305=\"－－休憩\",\"P\",キー割付!S305=\"昼夜－\",\"N\",キー割付!S305=\"昼－休憩\",\"F\",キー割付!S305=\"－夜休憩\",\"K\",TRUE,\"-\"))","v":"-"},{"$f":"IF(E58=\"ZX-DECLDIV-IPコードレス電話機\",\"-\",_xlfn.IFS(キー割付!N313=\"昼夜休憩\",\"B\",キー割付!N313=\"－－－\",\"-\",キー割付!N313=\"昼－－\",\"H\",キー割付!N313=\"－夜－\",\"N\",キー割付!N313=\"－－休憩\",\"P\",キー割付!N313=\"昼夜－\",\"N\",キー割付!N313=\"昼－休憩\",\"F\",キー割付!N313=\"－夜休憩\",\"K\",TRUE,\"-\"))","v":"-"},{"$f":"IF(E58=\"ZX-DECLDIV-IPコードレス電話機\",\"-\",_xlfn.IFS(キー割付!O313=\"昼夜休憩\",\"B\",キー割付!O313=\"－－－\",\"-\",キー割付!O313=\"昼－－\",\"H\",キー割付!O313=\"－夜－\",\"N\",キー割付!O313=\"－－休憩\",\"P\",キー割付!O313=\"昼夜－\",\"N\",キー割付!O313=\"昼－休憩\",\"F\",キー割付!O313=\"－夜休憩\",\"K\",TRUE,\"-\"))","v":"-"},{"$f":"IF(E58=\"ZX-DECLDIV-IPコードレス電話機\",\"-\",_xlfn.IFS(キー割付!P313=\"昼夜休憩\",\"B\",キー割付!P313=\"－－－\",\"-\",キー割付!P313=\"昼－－\",\"H\",キー割付!P313=\"－夜－\",\"N\",キー割付!P313=\"－－休憩\",\"P\",キー割付!P313=\"昼夜－\",\"N\",キー割付!P313=\"昼－休憩\",\"F\",キー割付!P313=\"－夜休憩\",\"K\",TRUE,\"-\"))","v":"-"},{"$f":"IF(E58=\"ZX-DECLDIV-IPコードレス電話機\",\"-\",_xlfn.IFS(キー割付!Q313=\"昼夜休憩\",\"B\",キー割付!Q313=\"－－－\",\"-\",キー割付!Q313=\"昼－－\",\"H\",キー割付!Q313=\"－夜－\",\"N\",キー割付!Q313=\"－－休憩\",\"P\",キー割付!Q313=\"昼夜－\",\"N\",キー割付!Q313=\"昼－休憩\",\"F\",キー割付!Q313=\"－夜休憩\",\"K\",TRUE,\"-\"))","v":"-"},{"$f":"IF(E58=\"ZX-DECLDIV-IPコードレス電話機\",\"-\",_xlfn.IFS(キー割付!R313=\"昼夜休憩\",\"B\",キー割付!R313=\"－－－\",\"-\",キー割付!R313=\"昼－－\",\"H\",キー割付!R313=\"－夜－\",\"N\",キー割付!R313=\"－－休憩\",\"P\",キー割付!R313=\"昼夜－\",\"N\",キー割付!R313=\"昼－休憩\",\"F\",キー割付!R313=\"－夜休憩\",\"K\",TRUE,\"-\"))","v":"-"},{"$f":"IF(E58=\"ZX-DECLDIV-IPコードレス電話機\",\"-\",_xlfn.IFS(キー割付!S313=\"昼夜休憩\",\"B\",キー割付!S313=\"－－－\",\"-\",キー割付!S313=\"昼－－\",\"H\",キー割付!S313=\"－夜－\",\"N\",キー割付!S313=\"－－休憩\",\"P\",キー割付!S313=\"昼夜－\",\"N\",キー割付!S313=\"昼－休憩\",\"F\",キー割付!S313=\"－夜休憩\",\"K\",TRUE,\"-\"))","v":"-"},{"$f":"IF(E58=\"ZX-DECLDIV-IPコードレス電話機\",\"-\",_xlfn.IFS(キー割付!N321=\"昼夜休憩\",\"B\",キー割付!N321=\"－－－\",\"-\",キー割付!N321=\"昼－－\",\"H\",キー割付!N321=\"－夜－\",\"N\",キー割付!N321=\"－－休憩\",\"P\",キー割付!N321=\"昼夜－\",\"N\",キー割付!N321=\"昼－休憩\",\"F\",キー割付!N321=\"－夜休憩\",\"K\",TRUE,\"-\"))","v":"-"},{"$f":"IF(E58=\"ZX-DECLDIV-IPコードレス電話機\",\"-\",_xlfn.IFS(キー割付!O321=\"昼夜休憩\",\"B\",キー割付!O321=\"－－－\",\"-\",キー割付!O321=\"昼－－\",\"H\",キー割付!O321=\"－夜－\",\"N\",キー割付!O321=\"－－休憩\",\"P\",キー割付!O321=\"昼夜－\",\"N\",キー割付!O321=\"昼－休憩\",\"F\",キー割付!O321=\"－夜休憩\",\"K\",TRUE,\"-\"))","v":"-"},{"$f":"IF(E58=\"ZX-DECLDIV-IPコードレス電話機\",\"-\",_xlfn.IFS(キー割付!P321=\"昼夜休憩\",\"B\",キー割付!P321=\"－－－\",\"-\",キー割付!P321=\"昼－－\",\"H\",キー割付!P321=\"－夜－\",\"N\",キー割付!P321=\"－－休憩\",\"P\",キー割付!P321=\"昼夜－\",\"N\",キー割付!P321=\"昼－休憩\",\"F\",キー割付!P321=\"－夜休憩\",\"K\",TRUE,\"-\"))","v":"-"},{"$f":"IF(E58=\"ZX-DECLDIV-IPコードレス電話機\",\"-\",_xlfn.IFS(キー割付!Q321=\"昼夜休憩\",\"B\",キー割付!Q321=\"－－－\",\"-\",キー割付!Q321=\"昼－－\",\"H\",キー割付!Q321=\"－夜－\",\"N\",キー割付!Q321=\"－－休憩\",\"P\",キー割付!Q321=\"昼夜－\",\"N\",キー割付!Q321=\"昼－休憩\",\"F\",キー割付!Q321=\"－夜休憩\",\"K\",TRUE,\"-\"))","v":"-"},{"$f":"IF(E58=\"ZX-DECLDIV-IPコードレス電話機\",\"-\",_xlfn.IFS(キー割付!R321=\"昼夜休憩\",\"B\",キー割付!R321=\"－－－\",\"-\",キー割付!R321=\"昼－－\",\"H\",キー割付!R321=\"－夜－\",\"N\",キー割付!R321=\"－－休憩\",\"P\",キー割付!R321=\"昼夜－\",\"N\",キー割付!R321=\"昼－休憩\",\"F\",キー割付!R321=\"－夜休憩\",\"K\",TRUE,\"-\"))","v":"-"},{"$f":"IF(E58=\"ZX-DECLDIV-IPコードレス電話機\",\"-\",_xlfn.IFS(キー割付!S321=\"昼夜休憩\",\"B\",キー割付!S321=\"－－－\",\"-\",キー割付!S321=\"昼－－\",\"H\",キー割付!S321=\"－夜－\",\"N\",キー割付!S321=\"－－休憩\",\"P\",キー割付!S321=\"昼夜－\",\"N\",キー割付!S321=\"昼－休憩\",\"F\",キー割付!S321=\"－夜休憩\",\"K\",TRUE,\"-\"))","v":"-"}]
[null,19,{"$f":"IF(IFERROR(VALUE(VLOOKUP(B61,内線_キー割用,2,FALSE)),\"\")=0,\"\",IFERROR(VALUE(VLOOKUP(B61,内線_キー割用,2,FALSE)),\"\"))","v":""},{"$f":"IF(IFERROR(VALUE(VLOOKUP(B61,内線_キー割用,4,FALSE)),\"\")=0,\"\",IFERROR(VALUE(VLOOKUP(B61,内線_キー割用,4,FALSE)),\"\"))","v":""},{"$f":"IF(IFERROR(VLOOKUP(B61,内線_キー割用,3,FALSE),\"\")=0,\"\",IFERROR(VLOOKUP(B61,内線_キー割用,3,FALSE),\"\"))","v":""},{"$f":"IF(キー割付!D331=\"\",\"未使用\",キー割付!D331)","v":"未使用"},{"$f":"IF(キー割付!E331=\"\",\"未使用\",キー割付!E331)","v":"未使用"},{"$f":"IF(キー割付!F331=\"\",\"未使用\",キー割付!F331)","v":"未使用"},{"$f":"IF(キー割付!G331=\"\",\"未使用\",キー割付!G331)","v":"未使用"},{"$f":"IF(キー割付!H331=\"\",\"未使用\",キー割付!H331)","v":"未使用"},{"$f":"IF(キー割付!I331=\"\",\"未使用\",キー割付!I331)","v":"未使用"},{"$f":"IF(キー割付!D339=\"\",\"未使用\",キー割付!D339)","v":"未使用"},{"$f":"IF(キー割付!E339=\"\",\"未使用\",キー割付!E339)","v":"未使用"},{"$f":"IF(E61=\"ZX-DECLDIV-IPコードレス電話機\",\"未使用\",IF(キー割付!F339=\"\",\"未使用\",キー割付!F339))","v":"未使用"},{"$f":"IF(E61=\"ZX-DECLDIV-IPコードレス電話機\",\"未使用\",IF(キー割付!G339=\"\",\"未使用\",キー割付!G339))","v":"未使用"},{"$f":"IF(E61=\"ZX-DECLDIV-IPコードレス電話機\",\"未使用\",IF(キー割付!H339=\"\",\"未使用\",キー割付!H339))","v":"未使用"},{"$f":"IF(E61=\"ZX-DECLDIV-IPコードレス電話機\",\"未使用\",IF(キー割付!I339=\"\",\"未使用\",キー割付!I339))","v":"未使用"},{"$f":"IF(E61=\"ZX-DECLDIV-IPコードレス電話機\",\"未使用\",IF(キー割付!D347=\"\",\"未使用\",キー割付!D347))","v":"未使用"},{"$f":"IF(E61=\"ZX-DECLDIV-IPコードレス電話機\",\"未使用\",IF(キー割付!E347=\"\",\"未使用\",キー割付!E347))","v":"未使用"},{"$f":"IF(E61=\"ZX-DECLDIV-IPコードレス電話機\",\"未使用\",IF(キー割付!F347=\"\",\"未使用\",キー割付!F347))","v":"未使用"},{"$f":"IF(E61=\"ZX-DECLDIV-IPコードレス電話機\",\"未使用\",IF(キー割付!G347=\"\",\"未使用\",キー割付!G347))","v":"未使用"},{"$f":"IF(E61=\"ZX-DECLDIV-IPコードレス電話機\",\"未使用\",IF(キー割付!H347=\"\",\"未使用\",キー割付!H347))","v":"未使用"},{"$f":"IF(E61=\"ZX-DECLDIV-IPコードレス電話機\",\"未使用\",IF(キー割付!I347=\"\",\"未使用\",キー割付!I347))","v":"未使用"},{"$f":"IF(E61=\"ZX-DECLDIV-IPコードレス電話機\",\"未使用\",IF(キー割付!D355=\"\",\"未使用\",キー割付!D355))","v":"未使用"},{"$f":"IF(E61=\"ZX-DECLDIV-IPコードレス電話機\",\"未使用\",IF(キー割付!E355=\"\",\"未使用\",キー割付!E355))","v":"未使用"},{"$f":"IF(E61=\"ZX-DECLDIV-IPコードレス電話機\",\"未使用\",IF(キー割付!F355=\"\",\"未使用\",キー割付!F355))","v":"未使用"},{"$f":"IF(E61=\"ZX-DECLDIV-IPコードレス電話機\",\"未使用\",IF(キー割付!G355=\"\",\"未使用\",キー割付!G355))","v":"未使用"},{"$f":"IF(E61=\"ZX-DECLDIV-IPコードレス電話機\",\"未使用\",IF(キー割付!H355=\"\",\"未使用\",キー割付!H355))","v":"未使用"},{"$f":"IF(E61=\"ZX-DECLDIV-IPコードレス電話機\",\"未使用\",IF(キー割付!I355=\"\",\"未使用\",キー割付!I355))","v":"未使用"}]
[null,null,null,null,null,{"$f":"_xlfn.IFS(キー割付!D332=\"着信音なし\",\"トーン1\",キー割付!D332=\"トーン1\",\"トーン1\",キー割付!D332=\"トーン2\",\"トーン2\",キー割付!D332=\"トーン3\",\"トーン3\",キー割付!D332=\"トーン4\",\"トーン4\",キー割付!D332=\"トーン5\",\"トーン5\",キー割付!D332=\"トーン6\",\"トーン6\",キー割付!D332=\"トーン7\",\"トーン7\",キー割付!D332=\"トーン7\",\"トーン7\",キー割付!D332=\"無鳴動着信\",\"トーン8\",キー割付!D332=\"グリーンスリーブス\",\"メロディ1\",キー割付!D332=\"峠の我が家\",\"メロディ2\",キー割付!D332=\"カノン\",\"メロディ3\",キー割付!D332=\"春の歌\",\"メロディ4\",キー割付!D332=\"主よ人の望みの喜びよ\",\"メロディ5\",キー割付!D332=\"メヌエット\",\"メロディ6\",キー割付!D332=\"華麗なる大円舞曲\",\"メロディ7\",キー割付!D332=\"ハンガリア舞曲第5番\",\"メロディ8\",TRUE,\"トーン1\")","v":"トーン1"},{"$f":"_xlfn.IFS(キー割付!E332=\"着信音なし\",\"トーン1\",キー割付!E332=\"トーン1\",\"トーン1\",キー割付!E332=\"トーン2\",\"トーン2\",キー割付!E332=\"トーン3\",\"トーン3\",キー割付!E332=\"トーン4\",\"トーン4\",キー割付!E332=\"トーン5\",\"トーン5\",キー割付!E332=\"トーン6\",\"トーン6\",キー割付!E332=\"トーン7\",\"トーン7\",キー割付!E332=\"トーン7\",\"トーン7\",キー割付!E332=\"無鳴動着信\",\"トーン8\",キー割付!E332=\"グリーンスリーブス\",\"メロディ1\",キー割付!E332=\"峠の我が家\",\"メロディ2\",キー割付!E332=\"カノン\",\"メロディ3\",キー割付!E332=\"春の歌\",\"メロディ4\",キー割付!E332=\"主よ人の望みの喜びよ\",\"メロディ5\",キー割付!E332=\"メヌエット\",\"メロディ6\",キー割付!E332=\"華麗なる大円舞曲\",\"メロディ7\",キー割付!E332=\"ハンガリア舞曲第5番\",\"メロディ8\",TRUE,\"トーン1\")","v":"トーン1"},{"$f":"_xlfn.IFS(キー割付!F332=\"着信音なし\",\"トーン1\",キー割付!F332=\"トーン1\",\"トーン1\",キー割付!F332=\"トーン2\",\"トーン2\",キー割付!F332=\"トーン3\",\"トーン3\",キー割付!F332=\"トーン4\",\"トーン4\",キー割付!F332=\"トーン5\",\"トーン5\",キー割付!F332=\"トーン6\",\"トーン6\",キー割付!F332=\"トーン7\",\"トーン7\",キー割付!F332=\"トーン7\",\"トーン7\",キー割付!F332=\"無鳴動着信\",\"トーン8\",キー割付!F332=\"グリーンスリーブス\",\"メロディ1\",キー割付!F332=\"峠の我が家\",\"メロディ2\",キー割付!F332=\"カノン\",\"メロディ3\",キー割付!F332=\"春の歌\",\"メロディ4\",キー割付!F332=\"主よ人の望みの喜びよ\",\"メロディ5\",キー割付!F332=\"メヌエット\",\"メロディ6\",キー割付!F332=\"華麗なる大円舞曲\",\"メロディ7\",キー割付!F332=\"ハンガリア舞曲第5番\",\"メロディ8\",TRUE,\"トーン1\")","v":"トーン1"},{"$f":"_xlfn.IFS(キー割付!G332=\"着信音なし\",\"トーン1\",キー割付!G332=\"トーン1\",\"トーン1\",キー割付!G332=\"トーン2\",\"トーン2\",キー割付!G332=\"トーン3\",\"トーン3\",キー割付!G332=\"トーン4\",\"トーン4\",キー割付!G332=\"トーン5\",\"トーン5\",キー割付!G332=\"トーン6\",\"トーン6\",キー割付!G332=\"トーン7\",\"トーン7\",キー割付!G332=\"トーン7\",\"トーン7\",キー割付!G332=\"無鳴動着信\",\"トーン8\",キー割付!G332=\"グリーンスリーブス\",\"メロディ1\",キー割付!G332=\"峠の我が家\",\"メロディ2\",キー割付!G332=\"カノン\",\"メロディ3\",キー割付!G332=\"春の歌\",\"メロディ4\",キー割付!G332=\"主よ人の望みの喜びよ\",\"メロディ5\",キー割付!G332=\"メヌエット\",\"メロディ6\",キー割付!G332=\"華麗なる大円舞曲\",\"メロディ7\",キー割付!G332=\"ハンガリア舞曲第5番\",\"メロディ8\",TRUE,\"トーン1\")","v":"トーン1"},{"$f":"_xlfn.IFS(キー割付!H332=\"着信音なし\",\"トーン1\",キー割付!H332=\"トーン1\",\"トーン1\",キー割付!H332=\"トーン2\",\"トーン2\",キー割付!H332=\"トーン3\",\"トーン3\",キー割付!H332=\"トーン4\",\"トーン4\",キー割付!H332=\"トーン5\",\"トーン5\",キー割付!H332=\"トーン6\",\"トーン6\",キー割付!H332=\"トーン7\",\"トーン7\",キー割付!H332=\"トーン7\",\"トーン7\",キー割付!H332=\"無鳴動着信\",\"トーン8\",キー割付!H332=\"グリーンスリーブス\",\"メロディ1\",キー割付!H332=\"峠の我が家\",\"メロディ2\",キー割付!H332=\"カノン\",\"メロディ3\",キー割付!H332=\"春の歌\",\"メロディ4\",キー割付!H332=\"主よ人の望みの喜びよ\",\"メロディ5\",キー割付!H332=\"メヌエット\",\"メロディ6\",キー割付!H332=\"華麗なる大円舞曲\",\"メロディ7\",キー割付!H332=\"ハンガリア舞曲第5番\",\"メロディ8\",TRUE,\"トーン1\")","v":"トーン1"},{"$f":"_xlfn.IFS(キー割付!I332=\"着信音なし\",\"トーン1\",キー割付!I332=\"トーン1\",\"トーン1\",キー割付!I332=\"トーン2\",\"トーン2\",キー割付!I332=\"トーン3\",\"トーン3\",キー割付!I332=\"トーン4\",\"トーン4\",キー割付!I332=\"トーン5\",\"トーン5\",キー割付!I332=\"トーン6\",\"トーン6\",キー割付!I332=\"トーン7\",\"トーン7\",キー割付!I332=\"トーン7\",\"トーン7\",キー割付!I332=\"無鳴動着信\",\"トーン8\",キー割付!I332=\"グリーンスリーブス\",\"メロディ1\",キー割付!I332=\"峠の我が家\",\"メロディ2\",キー割付!I332=\"カノン\",\"メロディ3\",キー割付!I332=\"春の歌\",\"メロディ4\",キー割付!I332=\"主よ人の望みの喜びよ\",\"メロディ5\",キー割付!I332=\"メヌエット\",\"メロディ6\",キー割付!I332=\"華麗なる大円舞曲\",\"メロディ7\",キー割付!I332=\"ハンガリア舞曲第5番\",\"メロディ8\",TRUE,\"トーン1\")","v":"トーン1"},{"$f":"_xlfn.IFS(キー割付!D340=\"着信音なし\",\"トーン1\",キー割付!D340=\"トーン1\",\"トーン1\",キー割付!D340=\"トーン2\",\"トーン2\",キー割付!D340=\"トーン3\",\"トーン3\",キー割付!D340=\"トーン4\",\"トーン4\",キー割付!D340=\"トーン5\",\"トーン5\",キー割付!D340=\"トーン6\",\"トーン6\",キー割付!D340=\"トーン7\",\"トーン7\",キー割付!D340=\"トーン7\",\"トーン7\",キー割付!D340=\"無鳴動着信\",\"トーン8\",キー割付!D340=\"グリーンスリーブス\",\"メロディ1\",キー割付!D340=\"峠の我が家\",\"メロディ2\",キー割付!D340=\"カノン\",\"メロディ3\",キー割付!D340=\"春の歌\",\"メロディ4\",キー割付!D340=\"主よ人の望みの喜びよ\",\"メロディ5\",キー割付!D340=\"メヌエット\",\"メロディ6\",キー割付!D340=\"華麗なる大円舞曲\",\"メロディ7\",キー割付!D340=\"ハンガリア舞曲第5番\",\"メロディ8\",TRUE,\"トーン1\")","v":"トーン1"},{"$f":"_xlfn.IFS(キー割付!E340=\"着信音なし\",\"トーン1\",キー割付!E340=\"トーン1\",\"トーン1\",キー割付!E340=\"トーン2\",\"トーン2\",キー割付!E340=\"トーン3\",\"トーン3\",キー割付!E340=\"トーン4\",\"トーン4\",キー割付!E340=\"トーン5\",\"トーン5\",キー割付!E340=\"トーン6\",\"トーン6\",キー割付!E340=\"トーン7\",\"トーン7\",キー割付!E340=\"トーン7\",\"トーン7\",キー割付!E340=\"無鳴動着信\",\"トーン8\",キー割付!E340=\"グリーンスリーブス\",\"メロディ1\",キー割付!E340=\"峠の我が家\",\"メロディ2\",キー割付!E340=\"カノン\",\"メロディ3\",キー割付!E340=\"春の歌\",\"メロディ4\",キー割付!E340=\"主よ人の望みの喜びよ\",\"メロディ5\",キー割付!E340=\"メヌエット\",\"メロディ6\",キー割付!E340=\"華麗なる大円舞曲\",\"メロディ7\",キー割付!E340=\"ハンガリア舞曲第5番\",\"メロディ8\",TRUE,\"トーン1\")","v":"トーン1"},{"$f":"IF(E61=\"ZX-DECLDIV-IPコードレス電話機\",\"トーン1\",_xlfn.IFS(キー割付!F340=\"着信音なし\",\"トーン1\",キー割付!F340=\"トーン1\",\"トーン1\",キー割付!F340=\"トーン2\",\"トーン2\",キー割付!F340=\"トーン3\",\"トーン3\",キー割付!F340=\"トーン4\",\"トーン4\",キー割付!F340=\"トーン5\",\"トーン5\",キー割付!F340=\"トーン6\",\"トーン6\",キー割付!F340=\"トーン7\",\"トーン7\",キー割付!F340=\"トーン7\",\"トーン7\",キー割付!F340=\"無鳴動着信\",\"トーン8\",キー割付!F340=\"グリーンスリーブス\",\"メロディ1\",キー割付!F340=\"峠の我が家\",\"メロディ2\",キー割付!F340=\"カノン\",\"メロディ3\",キー割付!F340=\"春の歌\",\"メロディ4\",キー割付!F340=\"主よ人の望みの喜びよ\",\"メロディ5\",キー割付!F340=\"メヌエット\",\"メロディ6\",キー割付!F340=\"華麗なる大円舞曲\",\"メロディ7\",キー割付!F340=\"ハンガリア舞曲第5番\",\"メロディ8\",TRUE,\"トーン1\"))","v":"トーン1"},{"$f":"IF(E61=\"ZX-DECLDIV-IPコードレス電話機\",\"トーン1\",_xlfn.IFS(キー割付!G340=\"着信音なし\",\"トーン1\",キー割付!G340=\"トーン1\",\"トーン1\",キー割付!G340=\"トーン2\",\"トーン2\",キー割付!G340=\"トーン3\",\"トーン3\",キー割付!G340=\"トーン4\",\"トーン4\",キー割付!G340=\"トーン5\",\"トーン5\",キー割付!G340=\"トーン6\",\"トーン6\",キー割付!G340=\"トーン7\",\"トーン7\",キー割付!G340=\"トーン7\",\"トーン7\",キー割付!G340=\"無鳴動着信\",\"トーン8\",キー割付!G340=\"グリーンスリーブス\",\"メロディ1\",キー割付!G340=\"峠の我が家\",\"メロディ2\",キー割付!G340=\"カノン\",\"メロディ3\",キー割付!G340=\"春の歌\",\"メロディ4\",キー割付!G340=\"主よ人の望みの喜びよ\",\"メロディ5\",キー割付!G340=\"メヌエット\",\"メロディ6\",キー割付!G340=\"華麗なる大円舞曲\",\"メロディ7\",キー割付!G340=\"ハンガリア舞曲第5番\",\"メロディ8\",TRUE,\"トーン1\"))","v":"トーン1"},{"$f":"IF(E61=\"ZX-DECLDIV-IPコードレス電話機\",\"トーン1\",_xlfn.IFS(キー割付!H340=\"着信音なし\",\"トーン1\",キー割付!H340=\"トーン1\",\"トーン1\",キー割付!H340=\"トーン2\",\"トーン2\",キー割付!H340=\"トーン3\",\"トーン3\",キー割付!H340=\"トーン4\",\"トーン4\",キー割付!H340=\"トーン5\",\"トーン5\",キー割付!H340=\"トーン6\",\"トーン6\",キー割付!H340=\"トーン7\",\"トーン7\",キー割付!H340=\"トーン7\",\"トーン7\",キー割付!H340=\"無鳴動着信\",\"トーン8\",キー割付!H340=\"グリーンスリーブス\",\"メロディ1\",キー割付!H340=\"峠の我が家\",\"メロディ2\",キー割付!H340=\"カノン\",\"メロディ3\",キー割付!H340=\"春の歌\",\"メロディ4\",キー割付!H340=\"主よ人の望みの喜びよ\",\"メロディ5\",キー割付!H340=\"メヌエット\",\"メロディ6\",キー割付!H340=\"華麗なる大円舞曲\",\"メロディ7\",キー割付!H340=\"ハンガリア舞曲第5番\",\"メロディ8\",TRUE,\"トーン1\"))","v":"トーン1"},{"$f":"IF(E61=\"ZX-DECLDIV-IPコードレス電話機\",\"トーン1\",_xlfn.IFS(キー割付!I340=\"着信音なし\",\"トーン1\",キー割付!I340=\"トーン1\",\"トーン1\",キー割付!I340=\"トーン2\",\"トーン2\",キー割付!I340=\"トーン3\",\"トーン3\",キー割付!I340=\"トーン4\",\"トーン4\",キー割付!I340=\"トーン5\",\"トーン5\",キー割付!I340=\"トーン6\",\"トーン6\",キー割付!I340=\"トーン7\",\"トーン7\",キー割付!I340=\"トーン7\",\"トーン7\",キー割付!I340=\"無鳴動着信\",\"トーン8\",キー割付!I340=\"グリーンスリーブス\",\"メロディ1\",キー割付!I340=\"峠の我が家\",\"メロディ2\",キー割付!I340=\"カノン\",\"メロディ3\",キー割付!I340=\"春の歌\",\"メロディ4\",キー割付!I340=\"主よ人の望みの喜びよ\",\"メロディ5\",キー割付!I340=\"メヌエット\",\"メロディ6\",キー割付!I340=\"華麗なる大円舞曲\",\"メロディ7\",キー割付!I340=\"ハンガリア舞曲第5番\",\"メロディ8\",TRUE,\"トーン1\"))","v":"トーン1"},{"$f":"IF(E61=\"ZX-DECLDIV-IPコードレス電話機\",\"トーン1\",_xlfn.IFS(キー割付!D348=\"着信音なし\",\"トーン1\",キー割付!D348=\"トーン1\",\"トーン1\",キー割付!D348=\"トーン2\",\"トーン2\",キー割付!D348=\"トーン3\",\"トーン3\",キー割付!D348=\"トーン4\",\"トーン4\",キー割付!D348=\"トーン5\",\"トーン5\",キー割付!D348=\"トーン6\",\"トーン6\",キー割付!D348=\"トーン7\",\"トーン7\",キー割付!D348=\"トーン7\",\"トーン7\",キー割付!D348=\"無鳴動着信\",\"トーン8\",キー割付!D348=\"グリーンスリーブス\",\"メロディ1\",キー割付!D348=\"峠の我が家\",\"メロディ2\",キー割付!D348=\"カノン\",\"メロディ3\",キー割付!D348=\"春の歌\",\"メロディ4\",キー割付!D348=\"主よ人の望みの喜びよ\",\"メロディ5\",キー割付!D348=\"メヌエット\",\"メロディ6\",キー割付!D348=\"華麗なる大円舞曲\",\"メロディ7\",キー割付!D348=\"ハンガリア舞曲第5番\",\"メロディ8\",TRUE,\"トーン1\"))","v":"トーン1"},{"$f":"IF(E61=\"ZX-DECLDIV-IPコードレス電話機\",\"トーン1\",_xlfn.IFS(キー割付!E348=\"着信音なし\",\"トーン1\",キー割付!E348=\"トーン1\",\"トーン1\",キー割付!E348=\"トーン2\",\"トーン2\",キー割付!E348=\"トーン3\",\"トーン3\",キー割付!E348=\"トーン4\",\"トーン4\",キー割付!E348=\"トーン5\",\"トーン5\",キー割付!E348=\"トーン6\",\"トーン6\",キー割付!E348=\"トーン7\",\"トーン7\",キー割付!E348=\"トーン7\",\"トーン7\",キー割付!E348=\"無鳴動着信\",\"トーン8\",キー割付!E348=\"グリーンスリーブス\",\"メロディ1\",キー割付!E348=\"峠の我が家\",\"メロディ2\",キー割付!E348=\"カノン\",\"メロディ3\",キー割付!E348=\"春の歌\",\"メロディ4\",キー割付!E348=\"主よ人の望みの喜びよ\",\"メロディ5\",キー割付!E348=\"メヌエット\",\"メロディ6\",キー割付!E348=\"華麗なる大円舞曲\",\"メロディ7\",キー割付!E348=\"ハンガリア舞曲第5番\",\"メロディ8\",TRUE,\"トーン1\"))","v":"トーン1"},{"$f":"IF(E61=\"ZX-DECLDIV-IPコードレス電話機\",\"トーン1\",_xlfn.IFS(キー割付!F348=\"着信音なし\",\"トーン1\",キー割付!F348=\"トーン1\",\"トーン1\",キー割付!F348=\"トーン2\",\"トーン2\",キー割付!F348=\"トーン3\",\"トーン3\",キー割付!F348=\"トーン4\",\"トーン4\",キー割付!F348=\"トーン5\",\"トーン5\",キー割付!F348=\"トーン6\",\"トーン6\",キー割付!F348=\"トーン7\",\"トーン7\",キー割付!F348=\"トーン7\",\"トーン7\",キー割付!F348=\"無鳴動着信\",\"トーン8\",キー割付!F348=\"グリーンスリーブス\",\"メロディ1\",キー割付!F348=\"峠の我が家\",\"メロディ2\",キー割付!F348=\"カノン\",\"メロディ3\",キー割付!F348=\"春の歌\",\"メロディ4\",キー割付!F348=\"主よ人の望みの喜びよ\",\"メロディ5\",キー割付!F348=\"メヌエット\",\"メロディ6\",キー割付!F348=\"華麗なる大円舞曲\",\"メロディ7\",キー割付!F348=\"ハンガリア舞曲第5番\",\"メロディ8\",TRUE,\"トーン1\"))","v":"トーン1"},{"$f":"IF(E61=\"ZX-DECLDIV-IPコードレス電話機\",\"トーン1\",_xlfn.IFS(キー割付!G348=\"着信音なし\",\"トーン1\",キー割付!G348=\"トーン1\",\"トーン1\",キー割付!G348=\"トーン2\",\"トーン2\",キー割付!G348=\"トーン3\",\"トーン3\",キー割付!G348=\"トーン4\",\"トーン4\",キー割付!G348=\"トーン5\",\"トーン5\",キー割付!G348=\"トーン6\",\"トーン6\",キー割付!G348=\"トーン7\",\"トーン7\",キー割付!G348=\"トーン7\",\"トーン7\",キー割付!G348=\"無鳴動着信\",\"トーン8\",キー割付!G348=\"グリーンスリーブス\",\"メロディ1\",キー割付!G348=\"峠の我が家\",\"メロディ2\",キー割付!G348=\"カノン\",\"メロディ3\",キー割付!G348=\"春の歌\",\"メロディ4\",キー割付!G348=\"主よ人の望みの喜びよ\",\"メロディ5\",キー割付!G348=\"メヌエット\",\"メロディ6\",キー割付!G348=\"華麗なる大円舞曲\",\"メロディ7\",キー割付!G348=\"ハンガリア舞曲第5番\",\"メロディ8\",TRUE,\"トーン1\"))","v":"トーン1"},{"$f":"IF(E61=\"ZX-DECLDIV-IPコードレス電話機\",\"トーン1\",_xlfn.IFS(キー割付!H348=\"着信音なし\",\"トーン1\",キー割付!H348=\"トーン1\",\"トーン1\",キー割付!H348=\"トーン2\",\"トーン2\",キー割付!H348=\"トーン3\",\"トーン3\",キー割付!H348=\"トーン4\",\"トーン4\",キー割付!H348=\"トーン5\",\"トーン5\",キー割付!H348=\"トーン6\",\"トーン6\",キー割付!H348=\"トーン7\",\"トーン7\",キー割付!H348=\"トーン7\",\"トーン7\",キー割付!H348=\"無鳴動着信\",\"トーン8\",キー割付!H348=\"グリーンスリーブス\",\"メロディ1\",キー割付!H348=\"峠の我が家\",\"メロディ2\",キー割付!H348=\"カノン\",\"メロディ3\",キー割付!H348=\"春の歌\",\"メロディ4\",キー割付!H348=\"主よ人の望みの喜びよ\",\"メロディ5\",キー割付!H348=\"メヌエット\",\"メロディ6\",キー割付!H348=\"華麗なる大円舞曲\",\"メロディ7\",キー割付!H348=\"ハンガリア舞曲第5番\",\"メロディ8\",TRUE,\"トーン1\"))","v":"トーン1"},{"$f":"IF(E61=\"ZX-DECLDIV-IPコードレス電話機\",\"トーン1\",_xlfn.IFS(キー割付!I348=\"着信音なし\",\"トーン1\",キー割付!I348=\"トーン1\",\"トーン1\",キー割付!I348=\"トーン2\",\"トーン2\",キー割付!I348=\"トーン3\",\"トーン3\",キー割付!I348=\"トーン4\",\"トーン4\",キー割付!I348=\"トーン5\",\"トーン5\",キー割付!I348=\"トーン6\",\"トーン6\",キー割付!I348=\"トーン7\",\"トーン7\",キー割付!I348=\"トーン7\",\"トーン7\",キー割付!I348=\"無鳴動着信\",\"トーン8\",キー割付!I348=\"グリーンスリーブス\",\"メロディ1\",キー割付!I348=\"峠の我が家\",\"メロディ2\",キー割付!I348=\"カノン\",\"メロディ3\",キー割付!I348=\"春の歌\",\"メロディ4\",キー割付!I348=\"主よ人の望みの喜びよ\",\"メロディ5\",キー割付!I348=\"メヌエット\",\"メロディ6\",キー割付!I348=\"華麗なる大円舞曲\",\"メロディ7\",キー割付!I348=\"ハンガリア舞曲第5番\",\"メロディ8\",TRUE,\"トーン1\"))","v":"トーン1"},{"$f":"IF(E61=\"ZX-DECLDIV-IPコードレス電話機\",\"トーン1\",_xlfn.IFS(キー割付!D356=\"着信音なし\",\"トーン1\",キー割付!D356=\"トーン1\",\"トーン1\",キー割付!D356=\"トーン2\",\"トーン2\",キー割付!D356=\"トーン3\",\"トーン3\",キー割付!D356=\"トーン4\",\"トーン4\",キー割付!D356=\"トーン5\",\"トーン5\",キー割付!D356=\"トーン6\",\"トーン6\",キー割付!D356=\"トーン7\",\"トーン7\",キー割付!D356=\"トーン7\",\"トーン7\",キー割付!D356=\"無鳴動着信\",\"トーン8\",キー割付!D356=\"グリーンスリーブス\",\"メロディ1\",キー割付!D356=\"峠の我が家\",\"メロディ2\",キー割付!D356=\"カノン\",\"メロディ3\",キー割付!D356=\"春の歌\",\"メロディ4\",キー割付!D356=\"主よ人の望みの喜びよ\",\"メロディ5\",キー割付!D356=\"メヌエット\",\"メロディ6\",キー割付!D356=\"華麗なる大円舞曲\",\"メロディ7\",キー割付!D356=\"ハンガリア舞曲第5番\",\"メロディ8\",TRUE,\"トーン1\"))","v":"トーン1"},{"$f":"IF(E61=\"ZX-DECLDIV-IPコードレス電話機\",\"トーン1\",_xlfn.IFS(キー割付!E356=\"着信音なし\",\"トーン1\",キー割付!E356=\"トーン1\",\"トーン1\",キー割付!E356=\"トーン2\",\"トーン2\",キー割付!E356=\"トーン3\",\"トーン3\",キー割付!E356=\"トーン4\",\"トーン4\",キー割付!E356=\"トーン5\",\"トーン5\",キー割付!E356=\"トーン6\",\"トーン6\",キー割付!E356=\"トーン7\",\"トーン7\",キー割付!E356=\"トーン7\",\"トーン7\",キー割付!E356=\"無鳴動着信\",\"トーン8\",キー割付!E356=\"グリーンスリーブス\",\"メロディ1\",キー割付!E356=\"峠の我が家\",\"メロディ2\",キー割付!E356=\"カノン\",\"メロディ3\",キー割付!E356=\"春の歌\",\"メロディ4\",キー割付!E356=\"主よ人の望みの喜びよ\",\"メロディ5\",キー割付!E356=\"メヌエット\",\"メロディ6\",キー割付!E356=\"華麗なる大円舞曲\",\"メロディ7\",キー割付!E356=\"ハンガリア舞曲第5番\",\"メロディ8\",TRUE,\"トーン1\"))","v":"トーン1"},{"$f":"IF(E61=\"ZX-DECLDIV-IPコードレス電話機\",\"トーン1\",_xlfn.IFS(キー割付!F356=\"着信音なし\",\"トーン1\",キー割付!F356=\"トーン1\",\"トーン1\",キー割付!F356=\"トーン2\",\"トーン2\",キー割付!F356=\"トーン3\",\"トーン3\",キー割付!F356=\"トーン4\",\"トーン4\",キー割付!F356=\"トーン5\",\"トーン5\",キー割付!F356=\"トーン6\",\"トーン6\",キー割付!F356=\"トーン7\",\"トーン7\",キー割付!F356=\"トーン7\",\"トーン7\",キー割付!F356=\"無鳴動着信\",\"トーン8\",キー割付!F356=\"グリーンスリーブス\",\"メロディ1\",キー割付!F356=\"峠の我が家\",\"メロディ2\",キー割付!F356=\"カノン\",\"メロディ3\",キー割付!F356=\"春の歌\",\"メロディ4\",キー割付!F356=\"主よ人の望みの喜びよ\",\"メロディ5\",キー割付!F356=\"メヌエット\",\"メロディ6\",キー割付!F356=\"華麗なる大円舞曲\",\"メロディ7\",キー割付!F356=\"ハンガリア舞曲第5番\",\"メロディ8\",TRUE,\"トーン1\"))","v":"トーン1"},{"$f":"IF(E61=\"ZX-DECLDIV-IPコードレス電話機\",\"トーン1\",_xlfn.IFS(キー割付!G356=\"着信音なし\",\"トーン1\",キー割付!G356=\"トーン1\",\"トーン1\",キー割付!G356=\"トーン2\",\"トーン2\",キー割付!G356=\"トーン3\",\"トーン3\",キー割付!G356=\"トーン4\",\"トーン4\",キー割付!G356=\"トーン5\",\"トーン5\",キー割付!G356=\"トーン6\",\"トーン6\",キー割付!G356=\"トーン7\",\"トーン7\",キー割付!G356=\"トーン7\",\"トーン7\",キー割付!G356=\"無鳴動着信\",\"トーン8\",キー割付!G356=\"グリーンスリーブス\",\"メロディ1\",キー割付!G356=\"峠の我が家\",\"メロディ2\",キー割付!G356=\"カノン\",\"メロディ3\",キー割付!G356=\"春の歌\",\"メロディ4\",キー割付!G356=\"主よ人の望みの喜びよ\",\"メロディ5\",キー割付!G356=\"メヌエット\",\"メロディ6\",キー割付!G356=\"華麗なる大円舞曲\",\"メロディ7\",キー割付!G356=\"ハンガリア舞曲第5番\",\"メロディ8\",TRUE,\"トーン1\"))","v":"トーン1"},{"$f":"IF(E61=\"ZX-DECLDIV-IPコードレス電話機\",\"トーン1\",_xlfn.IFS(キー割付!H356=\"着信音なし\",\"トーン1\",キー割付!H356=\"トーン1\",\"トーン1\",キー割付!H356=\"トーン2\",\"トーン2\",キー割付!H356=\"トーン3\",\"トーン3\",キー割付!H356=\"トーン4\",\"トーン4\",キー割付!H356=\"トーン5\",\"トーン5\",キー割付!H356=\"トーン6\",\"トーン6\",キー割付!H356=\"トーン7\",\"トーン7\",キー割付!H356=\"トーン7\",\"トーン7\",キー割付!H356=\"無鳴動着信\",\"トーン8\",キー割付!H356=\"グリーンスリーブス\",\"メロディ1\",キー割付!H356=\"峠の我が家\",\"メロディ2\",キー割付!H356=\"カノン\",\"メロディ3\",キー割付!H356=\"春の歌\",\"メロディ4\",キー割付!H356=\"主よ人の望みの喜びよ\",\"メロディ5\",キー割付!H356=\"メヌエット\",\"メロディ6\",キー割付!H356=\"華麗なる大円舞曲\",\"メロディ7\",キー割付!H356=\"ハンガリア舞曲第5番\",\"メロディ8\",TRUE,\"トーン1\"))","v":"トーン1"},{"$f":"IF(E61=\"ZX-DECLDIV-IPコードレス電話機\",\"トーン1\",_xlfn.IFS(キー割付!I356=\"着信音なし\",\"トーン1\",キー割付!I356=\"トーン1\",\"トーン1\",キー割付!I356=\"トーン2\",\"トーン2\",キー割付!I356=\"トーン3\",\"トーン3\",キー割付!I356=\"トーン4\",\"トーン4\",キー割付!I356=\"トーン5\",\"トーン5\",キー割付!I356=\"トーン6\",\"トーン6\",キー割付!I356=\"トーン7\",\"トーン7\",キー割付!I356=\"トーン7\",\"トーン7\",キー割付!I356=\"無鳴動着信\",\"トーン8\",キー割付!I356=\"グリーンスリーブス\",\"メロディ1\",キー割付!I356=\"峠の我が家\",\"メロディ2\",キー割付!I356=\"カノン\",\"メロディ3\",キー割付!I356=\"春の歌\",\"メロディ4\",キー割付!I356=\"主よ人の望みの喜びよ\",\"メロディ5\",キー割付!I356=\"メヌエット\",\"メロディ6\",キー割付!I356=\"華麗なる大円舞曲\",\"メロディ7\",キー割付!I356=\"ハンガリア舞曲第5番\",\"メロディ8\",TRUE,\"トーン1\"))","v":"トーン1"}]
[null,null,null,null,null,{"$f":"_xlfn.IFS(キー割付!D333=\"昼夜休憩\",\"B\",キー割付!D333=\"－－－\",\"-\",キー割付!D333=\"昼－－\",\"H\",キー割付!D333=\"－夜－\",\"N\",キー割付!D333=\"－－休憩\",\"P\",キー割付!D333=\"昼夜－\",\"D\",キー割付!D333=\"昼－休憩\",\"F\",キー割付!D333=\"－夜休憩\",\"K\",TRUE,\"-\")","v":"-"},{"$f":"_xlfn.IFS(キー割付!E333=\"昼夜休憩\",\"B\",キー割付!E333=\"－－－\",\"-\",キー割付!E333=\"昼－－\",\"H\",キー割付!E333=\"－夜－\",\"N\",キー割付!E333=\"－－休憩\",\"P\",キー割付!E333=\"昼夜－\",\"D\",キー割付!E333=\"昼－休憩\",\"F\",キー割付!E333=\"－夜休憩\",\"K\",TRUE,\"-\")","v":"-"},{"$f":"_xlfn.IFS(キー割付!F333=\"昼夜休憩\",\"B\",キー割付!F333=\"－－－\",\"-\",キー割付!F333=\"昼－－\",\"H\",キー割付!F333=\"－夜－\",\"N\",キー割付!F333=\"－－休憩\",\"P\",キー割付!F333=\"昼夜－\",\"D\",キー割付!F333=\"昼－休憩\",\"F\",キー割付!F333=\"－夜休憩\",\"K\",TRUE,\"-\")","v":"-"},{"$f":"_xlfn.IFS(キー割付!G333=\"昼夜休憩\",\"B\",キー割付!G333=\"－－－\",\"-\",キー割付!G333=\"昼－－\",\"H\",キー割付!G333=\"－夜－\",\"N\",キー割付!G333=\"－－休憩\",\"P\",キー割付!G333=\"昼夜－\",\"D\",キー割付!G333=\"昼－休憩\",\"F\",キー割付!G333=\"－夜休憩\",\"K\",TRUE,\"-\")","v":"-"},{"$f":"_xlfn.IFS(キー割付!H333=\"昼夜休憩\",\"B\",キー割付!H333=\"－－－\",\"-\",キー割付!H333=\"昼－－\",\"H\",キー割付!H333=\"－夜－\",\"N\",キー割付!H333=\"－－休憩\",\"P\",キー割付!H333=\"昼夜－\",\"D\",キー割付!H333=\"昼－休憩\",\"F\",キー割付!H333=\"－夜休憩\",\"K\",TRUE,\"-\")","v":"-"},{"$f":"_xlfn.IFS(キー割付!I333=\"昼夜休憩\",\"B\",キー割付!I333=\"－－－\",\"-\",キー割付!I333=\"昼－－\",\"H\",キー割付!I333=\"－夜－\",\"N\",キー割付!I333=\"－－休憩\",\"P\",キー割付!I333=\"昼夜－\",\"D\",キー割付!I333=\"昼－休憩\",\"F\",キー割付!I333=\"－夜休憩\",\"K\",TRUE,\"-\")","v":"-"},{"$f":"_xlfn.IFS(キー割付!D341=\"昼夜休憩\",\"B\",キー割付!D341=\"－－－\",\"-\",キー割付!D341=\"昼－－\",\"H\",キー割付!D341=\"－夜－\",\"N\",キー割付!D341=\"－－休憩\",\"P\",キー割付!D341=\"昼夜－\",\"D\",キー割付!D341=\"昼－休憩\",\"F\",キー割付!D341=\"－夜休憩\",\"K\",TRUE,\"-\")","v":"-"},{"$f":"_xlfn.IFS(キー割付!E341=\"昼夜休憩\",\"B\",キー割付!E341=\"－－－\",\"-\",キー割付!E341=\"昼－－\",\"H\",キー割付!E341=\"－夜－\",\"N\",キー割付!E341=\"－－休憩\",\"P\",キー割付!E341=\"昼夜－\",\"D\",キー割付!E341=\"昼－休憩\",\"F\",キー割付!E341=\"－夜休憩\",\"K\",TRUE,\"-\")","v":"-"},{"$f":"IF(E61=\"ZX-DECLDIV-IPコードレス電話機\",\"-\",_xlfn.IFS(キー割付!F341=\"昼夜休憩\",\"B\",キー割付!F341=\"－－－\",\"-\",キー割付!F341=\"昼－－\",\"H\",キー割付!F341=\"－夜－\",\"N\",キー割付!F341=\"－－休憩\",\"P\",キー割付!F341=\"昼夜－\",\"D\",キー割付!F341=\"昼－休憩\",\"F\",キー割付!F341=\"－夜休憩\",\"K\",TRUE,\"-\"))","v":"-"},{"$f":"IF(E61=\"ZX-DECLDIV-IPコードレス電話機\",\"-\",_xlfn.IFS(キー割付!G341=\"昼夜休憩\",\"B\",キー割付!G341=\"－－－\",\"-\",キー割付!G341=\"昼－－\",\"H\",キー割付!G341=\"－夜－\",\"N\",キー割付!G341=\"－－休憩\",\"P\",キー割付!G341=\"昼夜－\",\"D\",キー割付!G341=\"昼－休憩\",\"F\",キー割付!G341=\"－夜休憩\",\"K\",TRUE,\"-\"))","v":"-"},{"$f":"IF(E61=\"ZX-DECLDIV-IPコードレス電話機\",\"-\",_xlfn.IFS(キー割付!H341=\"昼夜休憩\",\"B\",キー割付!H341=\"－－－\",\"-\",キー割付!H341=\"昼－－\",\"H\",キー割付!H341=\"－夜－\",\"N\",キー割付!H341=\"－－休憩\",\"P\",キー割付!H341=\"昼夜－\",\"D\",キー割付!H341=\"昼－休憩\",\"F\",キー割付!H341=\"－夜休憩\",\"K\",TRUE,\"-\"))","v":"-"},{"$f":"IF(E61=\"ZX-DECLDIV-IPコードレス電話機\",\"-\",_xlfn.IFS(キー割付!I341=\"昼夜休憩\",\"B\",キー割付!I341=\"－－－\",\"-\",キー割付!I341=\"昼－－\",\"H\",キー割付!I341=\"－夜－\",\"N\",キー割付!I341=\"－－休憩\",\"P\",キー割付!I341=\"昼夜－\",\"D\",キー割付!I341=\"昼－休憩\",\"F\",キー割付!I341=\"－夜休憩\",\"K\",TRUE,\"-\"))","v":"-"},{"$f":"IF(E61=\"ZX-DECLDIV-IPコードレス電話機\",\"-\",_xlfn.IFS(キー割付!D349=\"昼夜休憩\",\"B\",キー割付!D349=\"－－－\",\"-\",キー割付!D349=\"昼－－\",\"H\",キー割付!D349=\"－夜－\",\"N\",キー割付!D349=\"－－休憩\",\"P\",キー割付!D349=\"昼夜－\",\"D\",キー割付!D349=\"昼－休憩\",\"F\",キー割付!D349=\"－夜休憩\",\"K\",TRUE,\"-\"))","v":"-"},{"$f":"IF(E61=\"ZX-DECLDIV-IPコードレス電話機\",\"-\",_xlfn.IFS(キー割付!E349=\"昼夜休憩\",\"B\",キー割付!E349=\"－－－\",\"-\",キー割付!E349=\"昼－－\",\"H\",キー割付!E349=\"－夜－\",\"N\",キー割付!E349=\"－－休憩\",\"P\",キー割付!E349=\"昼夜－\",\"D\",キー割付!E349=\"昼－休憩\",\"F\",キー割付!E349=\"－夜休憩\",\"K\",TRUE,\"-\"))","v":"-"},{"$f":"IF(E61=\"ZX-DECLDIV-IPコードレス電話機\",\"-\",_xlfn.IFS(キー割付!F349=\"昼夜休憩\",\"B\",キー割付!F349=\"－－－\",\"-\",キー割付!F349=\"昼－－\",\"H\",キー割付!F349=\"－夜－\",\"N\",キー割付!F349=\"－－休憩\",\"P\",キー割付!F349=\"昼夜－\",\"D\",キー割付!F349=\"昼－休憩\",\"F\",キー割付!F349=\"－夜休憩\",\"K\",TRUE,\"-\"))","v":"-"},{"$f":"IF(E61=\"ZX-DECLDIV-IPコードレス電話機\",\"-\",_xlfn.IFS(キー割付!G349=\"昼夜休憩\",\"B\",キー割付!G349=\"－－－\",\"-\",キー割付!G349=\"昼－－\",\"H\",キー割付!G349=\"－夜－\",\"N\",キー割付!G349=\"－－休憩\",\"P\",キー割付!G349=\"昼夜－\",\"D\",キー割付!G349=\"昼－休憩\",\"F\",キー割付!G349=\"－夜休憩\",\"K\",TRUE,\"-\"))","v":"-"},{"$f":"IF(E61=\"ZX-DECLDIV-IPコードレス電話機\",\"-\",_xlfn.IFS(キー割付!H349=\"昼夜休憩\",\"B\",キー割付!H349=\"－－－\",\"-\",キー割付!H349=\"昼－－\",\"H\",キー割付!H349=\"－夜－\",\"N\",キー割付!H349=\"－－休憩\",\"P\",キー割付!H349=\"昼夜－\",\"D\",キー割付!H349=\"昼－休憩\",\"F\",キー割付!H349=\"－夜休憩\",\"K\",TRUE,\"-\"))","v":"-"},{"$f":"IF(E61=\"ZX-DECLDIV-IPコードレス電話機\",\"-\",_xlfn.IFS(キー割付!I349=\"昼夜休憩\",\"B\",キー割付!I349=\"－－－\",\"-\",キー割付!I349=\"昼－－\",\"H\",キー割付!I349=\"－夜－\",\"N\",キー割付!I349=\"－－休憩\",\"P\",キー割付!I349=\"昼夜－\",\"D\",キー割付!I349=\"昼－休憩\",\"F\",キー割付!I349=\"－夜休憩\",\"K\",TRUE,\"-\"))","v":"-"},{"$f":"IF(E61=\"ZX-DECLDIV-IPコードレス電話機\",\"-\",_xlfn.IFS(キー割付!D357=\"昼夜休憩\",\"B\",キー割付!D357=\"－－－\",\"-\",キー割付!D357=\"昼－－\",\"H\",キー割付!D357=\"－夜－\",\"N\",キー割付!D357=\"－－休憩\",\"P\",キー割付!D357=\"昼夜－\",\"D\",キー割付!D357=\"昼－休憩\",\"F\",キー割付!D357=\"－夜休憩\",\"K\",TRUE,\"-\"))","v":"-"},{"$f":"IF(E61=\"ZX-DECLDIV-IPコードレス電話機\",\"-\",_xlfn.IFS(キー割付!E357=\"昼夜休憩\",\"B\",キー割付!E357=\"－－－\",\"-\",キー割付!E357=\"昼－－\",\"H\",キー割付!E357=\"－夜－\",\"N\",キー割付!E357=\"－－休憩\",\"P\",キー割付!E357=\"昼夜－\",\"D\",キー割付!E357=\"昼－休憩\",\"F\",キー割付!E357=\"－夜休憩\",\"K\",TRUE,\"-\"))","v":"-"},{"$f":"IF(E61=\"ZX-DECLDIV-IPコードレス電話機\",\"-\",_xlfn.IFS(キー割付!F357=\"昼夜休憩\",\"B\",キー割付!F357=\"－－－\",\"-\",キー割付!F357=\"昼－－\",\"H\",キー割付!F357=\"－夜－\",\"N\",キー割付!F357=\"－－休憩\",\"P\",キー割付!F357=\"昼夜－\",\"D\",キー割付!F357=\"昼－休憩\",\"F\",キー割付!F357=\"－夜休憩\",\"K\",TRUE,\"-\"))","v":"-"},{"$f":"IF(E61=\"ZX-DECLDIV-IPコードレス電話機\",\"-\",_xlfn.IFS(キー割付!G357=\"昼夜休憩\",\"B\",キー割付!G357=\"－－－\",\"-\",キー割付!G357=\"昼－－\",\"H\",キー割付!G357=\"－夜－\",\"N\",キー割付!G357=\"－－休憩\",\"P\",キー割付!G357=\"昼夜－\",\"D\",キー割付!G357=\"昼－休憩\",\"F\",キー割付!G357=\"－夜休憩\",\"K\",TRUE,\"-\"))","v":"-"},{"$f":"IF(E61=\"ZX-DECLDIV-IPコードレス電話機\",\"-\",_xlfn.IFS(キー割付!H357=\"昼夜休憩\",\"B\",キー割付!H357=\"－－－\",\"-\",キー割付!H357=\"昼－－\",\"H\",キー割付!H357=\"－夜－\",\"N\",キー割付!H357=\"－－休憩\",\"P\",キー割付!H357=\"昼夜－\",\"D\",キー割付!H357=\"昼－休憩\",\"F\",キー割付!H357=\"－夜休憩\",\"K\",TRUE,\"-\"))","v":"-"},{"$f":"IF(E61=\"ZX-DECLDIV-IPコードレス電話機\",\"-\",_xlfn.IFS(キー割付!I357=\"昼夜休憩\",\"B\",キー割付!I357=\"－－－\",\"-\",キー割付!I357=\"昼－－\",\"H\",キー割付!I357=\"－夜－\",\"N\",キー割付!I357=\"－－休憩\",\"P\",キー割付!I357=\"昼夜－\",\"D\",キー割付!I357=\"昼－休憩\",\"F\",キー割付!I357=\"－夜休憩\",\"K\",TRUE,\"-\"))","v":"-"}]
[null,20,{"$f":"IF(IFERROR(VALUE(VLOOKUP(B64,内線_キー割用,2,FALSE)),\"\")=0,\"\",IFERROR(VALUE(VLOOKUP(B64,内線_キー割用,2,FALSE)),\"\"))","v":""},{"$f":"IF(IFERROR(VALUE(VLOOKUP(B64,内線_キー割用,4,FALSE)),\"\")=0,\"\",IFERROR(VALUE(VLOOKUP(B64,内線_キー割用,4,FALSE)),\"\"))","v":""},{"$f":"IF(IFERROR(VLOOKUP(B64,内線_キー割用,3,FALSE),\"\")=0,\"\",IFERROR(VLOOKUP(B64,内線_キー割用,3,FALSE),\"\"))","v":""},{"$f":"IF(キー割付!N331=\"\",\"未使用\",キー割付!N331)","v":"未使用"},{"$f":"IF(キー割付!O331=\"\",\"未使用\",キー割付!O331)","v":"未使用"},{"$f":"IF(キー割付!P331=\"\",\"未使用\",キー割付!P331)","v":"未使用"},{"$f":"IF(キー割付!Q331=\"\",\"未使用\",キー割付!Q331)","v":"未使用"},{"$f":"IF(キー割付!R331=\"\",\"未使用\",キー割付!R331)","v":"未使用"},{"$f":"IF(キー割付!S331=\"\",\"未使用\",キー割付!S331)","v":"未使用"},{"$f":"IF(キー割付!N339=\"\",\"未使用\",キー割付!N339)","v":"未使用"},{"$f":"IF(キー割付!O339=\"\",\"未使用\",キー割付!O339)","v":"未使用"},{"$f":"IF(E64=\"ZX-DECLDIV-IPコードレス電話機\",\"未使用\",IF(キー割付!P339=\"\",\"未使用\",キー割付!P339))","v":"未使用"},{"$f":"IF(E64=\"ZX-DECLDIV-IPコードレス電話機\",\"未使用\",IF(キー割付!Q339=\"\",\"未使用\",キー割付!Q339))","v":"未使用"},{"$f":"IF(E64=\"ZX-DECLDIV-IPコードレス電話機\",\"未使用\",IF(キー割付!R339=\"\",\"未使用\",キー割付!R339))","v":"未使用"},{"$f":"IF(E64=\"ZX-DECLDIV-IPコードレス電話機\",\"未使用\",IF(キー割付!S339=\"\",\"未使用\",キー割付!S339))","v":"未使用"},{"$f":"IF(E64=\"ZX-DECLDIV-IPコードレス電話機\",\"未使用\",IF(キー割付!N347=\"\",\"未使用\",キー割付!N347))","v":"未使用"},{"$f":"IF(E64=\"ZX-DECLDIV-IPコードレス電話機\",\"未使用\",IF(キー割付!O347=\"\",\"未使用\",キー割付!O347))","v":"未使用"},{"$f":"IF(E64=\"ZX-DECLDIV-IPコードレス電話機\",\"未使用\",IF(キー割付!P347=\"\",\"未使用\",キー割付!P347))","v":"未使用"},{"$f":"IF(E64=\"ZX-DECLDIV-IPコードレス電話機\",\"未使用\",IF(キー割付!Q347=\"\",\"未使用\",キー割付!Q347))","v":"未使用"},{"$f":"IF(E64=\"ZX-DECLDIV-IPコードレス電話機\",\"未使用\",IF(キー割付!R347=\"\",\"未使用\",キー割付!R347))","v":"未使用"},{"$f":"IF(E64=\"ZX-DECLDIV-IPコードレス電話機\",\"未使用\",IF(キー割付!S347=\"\",\"未使用\",キー割付!S347))","v":"未使用"},{"$f":"IF(E64=\"ZX-DECLDIV-IPコードレス電話機\",\"未使用\",IF(キー割付!N355=\"\",\"未使用\",キー割付!N355))","v":"未使用"},{"$f":"IF(E64=\"ZX-DECLDIV-IPコードレス電話機\",\"未使用\",IF(キー割付!O355=\"\",\"未使用\",キー割付!O355))","v":"未使用"},{"$f":"IF(E64=\"ZX-DECLDIV-IPコードレス電話機\",\"未使用\",IF(キー割付!P355=\"\",\"未使用\",キー割付!P355))","v":"未使用"},{"$f":"IF(E64=\"ZX-DECLDIV-IPコードレス電話機\",\"未使用\",IF(キー割付!Q355=\"\",\"未使用\",キー割付!Q355))","v":"未使用"},{"$f":"IF(E64=\"ZX-DECLDIV-IPコードレス電話機\",\"未使用\",IF(キー割付!R355=\"\",\"未使用\",キー割付!R355))","v":"未使用"},{"$f":"IF(E64=\"ZX-DECLDIV-IPコードレス電話機\",\"未使用\",IF(キー割付!S355=\"\",\"未使用\",キー割付!S355))","v":"未使用"}]
[null,null,null,null,null,{"$f":"_xlfn.IFS(キー割付!N332=\"着信音なし\",\"トーン1\",キー割付!N332=\"トーン1\",\"トーン1\",キー割付!N332=\"トーン2\",\"トーン2\",キー割付!N332=\"トーン3\",\"トーン3\",キー割付!N332=\"トーン4\",\"トーン4\",キー割付!N332=\"トーン5\",\"トーン5\",キー割付!N332=\"トーン6\",\"トーン6\",キー割付!N332=\"トーン7\",\"トーン7\",キー割付!N332=\"トーン7\",\"トーン7\",キー割付!N332=\"無鳴動着信\",\"トーン8\",キー割付!N332=\"グリーンスリーブス\",\"メロディ1\",キー割付!N332=\"峠の我が家\",\"メロディ2\",キー割付!N332=\"カノン\",\"メロディ3\",キー割付!N332=\"春の歌\",\"メロディ4\",キー割付!N332=\"主よ人の望みの喜びよ\",\"メロディ5\",キー割付!N332=\"メヌエット\",\"メロディ6\",キー割付!N332=\"華麗なる大円舞曲\",\"メロディ7\",キー割付!N332=\"ハンガリア舞曲第5番\",\"メロディ8\",TRUE,\"トーン1\")","v":"トーン1"},{"$f":"_xlfn.IFS(キー割付!O332=\"着信音なし\",\"トーン1\",キー割付!O332=\"トーン1\",\"トーン1\",キー割付!O332=\"トーン2\",\"トーン2\",キー割付!O332=\"トーン3\",\"トーン3\",キー割付!O332=\"トーン4\",\"トーン4\",キー割付!O332=\"トーン5\",\"トーン5\",キー割付!O332=\"トーン6\",\"トーン6\",キー割付!O332=\"トーン7\",\"トーン7\",キー割付!O332=\"トーン7\",\"トーン7\",キー割付!O332=\"無鳴動着信\",\"トーン8\",キー割付!O332=\"グリーンスリーブス\",\"メロディ1\",キー割付!O332=\"峠の我が家\",\"メロディ2\",キー割付!O332=\"カノン\",\"メロディ3\",キー割付!O332=\"春の歌\",\"メロディ4\",キー割付!O332=\"主よ人の望みの喜びよ\",\"メロディ5\",キー割付!O332=\"メヌエット\",\"メロディ6\",キー割付!O332=\"華麗なる大円舞曲\",\"メロディ7\",キー割付!O332=\"ハンガリア舞曲第5番\",\"メロディ8\",TRUE,\"トーン1\")","v":"トーン1"},{"$f":"_xlfn.IFS(キー割付!P332=\"着信音なし\",\"トーン1\",キー割付!P332=\"トーン1\",\"トーン1\",キー割付!P332=\"トーン2\",\"トーン2\",キー割付!P332=\"トーン3\",\"トーン3\",キー割付!P332=\"トーン4\",\"トーン4\",キー割付!P332=\"トーン5\",\"トーン5\",キー割付!P332=\"トーン6\",\"トーン6\",キー割付!P332=\"トーン7\",\"トーン7\",キー割付!P332=\"トーン7\",\"トーン7\",キー割付!P332=\"無鳴動着信\",\"トーン8\",キー割付!P332=\"グリーンスリーブス\",\"メロディ1\",キー割付!P332=\"峠の我が家\",\"メロディ2\",キー割付!P332=\"カノン\",\"メロディ3\",キー割付!P332=\"春の歌\",\"メロディ4\",キー割付!P332=\"主よ人の望みの喜びよ\",\"メロディ5\",キー割付!P332=\"メヌエット\",\"メロディ6\",キー割付!P332=\"華麗なる大円舞曲\",\"メロディ7\",キー割付!P332=\"ハンガリア舞曲第5番\",\"メロディ8\",TRUE,\"トーン1\")","v":"トーン1"},{"$f":"_xlfn.IFS(キー割付!Q332=\"着信音なし\",\"トーン1\",キー割付!Q332=\"トーン1\",\"トーン1\",キー割付!Q332=\"トーン2\",\"トーン2\",キー割付!Q332=\"トーン3\",\"トーン3\",キー割付!Q332=\"トーン4\",\"トーン4\",キー割付!Q332=\"トーン5\",\"トーン5\",キー割付!Q332=\"トーン6\",\"トーン6\",キー割付!Q332=\"トーン7\",\"トーン7\",キー割付!Q332=\"トーン7\",\"トーン7\",キー割付!Q332=\"無鳴動着信\",\"トーン8\",キー割付!Q332=\"グリーンスリーブス\",\"メロディ1\",キー割付!Q332=\"峠の我が家\",\"メロディ2\",キー割付!Q332=\"カノン\",\"メロディ3\",キー割付!Q332=\"春の歌\",\"メロディ4\",キー割付!Q332=\"主よ人の望みの喜びよ\",\"メロディ5\",キー割付!Q332=\"メヌエット\",\"メロディ6\",キー割付!Q332=\"華麗なる大円舞曲\",\"メロディ7\",キー割付!Q332=\"ハンガリア舞曲第5番\",\"メロディ8\",TRUE,\"トーン1\")","v":"トーン1"},{"$f":"_xlfn.IFS(キー割付!R332=\"着信音なし\",\"トーン1\",キー割付!R332=\"トーン1\",\"トーン1\",キー割付!R332=\"トーン2\",\"トーン2\",キー割付!R332=\"トーン3\",\"トーン3\",キー割付!R332=\"トーン4\",\"トーン4\",キー割付!R332=\"トーン5\",\"トーン5\",キー割付!R332=\"トーン6\",\"トーン6\",キー割付!R332=\"トーン7\",\"トーン7\",キー割付!R332=\"トーン7\",\"トーン7\",キー割付!R332=\"無鳴動着信\",\"トーン8\",キー割付!R332=\"グリーンスリーブス\",\"メロディ1\",キー割付!R332=\"峠の我が家\",\"メロディ2\",キー割付!R332=\"カノン\",\"メロディ3\",キー割付!R332=\"春の歌\",\"メロディ4\",キー割付!R332=\"主よ人の望みの喜びよ\",\"メロディ5\",キー割付!R332=\"メヌエット\",\"メロディ6\",キー割付!R332=\"華麗なる大円舞曲\",\"メロディ7\",キー割付!R332=\"ハンガリア舞曲第5番\",\"メロディ8\",TRUE,\"トーン1\")","v":"トーン1"},{"$f":"_xlfn.IFS(キー割付!S332=\"着信音なし\",\"トーン1\",キー割付!S332=\"トーン1\",\"トーン1\",キー割付!S332=\"トーン2\",\"トーン2\",キー割付!S332=\"トーン3\",\"トーン3\",キー割付!S332=\"トーン4\",\"トーン4\",キー割付!S332=\"トーン5\",\"トーン5\",キー割付!S332=\"トーン6\",\"トーン6\",キー割付!S332=\"トーン7\",\"トーン7\",キー割付!S332=\"トーン7\",\"トーン7\",キー割付!S332=\"無鳴動着信\",\"トーン8\",キー割付!S332=\"グリーンスリーブス\",\"メロディ1\",キー割付!S332=\"峠の我が家\",\"メロディ2\",キー割付!S332=\"カノン\",\"メロディ3\",キー割付!S332=\"春の歌\",\"メロディ4\",キー割付!S332=\"主よ人の望みの喜びよ\",\"メロディ5\",キー割付!S332=\"メヌエット\",\"メロディ6\",キー割付!S332=\"華麗なる大円舞曲\",\"メロディ7\",キー割付!S332=\"ハンガリア舞曲第5番\",\"メロディ8\",TRUE,\"トーン1\")","v":"トーン1"},{"$f":"_xlfn.IFS(キー割付!N340=\"着信音なし\",\"トーン1\",キー割付!N340=\"トーン1\",\"トーン1\",キー割付!N340=\"トーン2\",\"トーン2\",キー割付!N340=\"トーン3\",\"トーン3\",キー割付!N340=\"トーン4\",\"トーン4\",キー割付!N340=\"トーン5\",\"トーン5\",キー割付!N340=\"トーン6\",\"トーン6\",キー割付!N340=\"トーン7\",\"トーン7\",キー割付!N340=\"トーン7\",\"トーン7\",キー割付!N340=\"無鳴動着信\",\"トーン8\",キー割付!N340=\"グリーンスリーブス\",\"メロディ1\",キー割付!N340=\"峠の我が家\",\"メロディ2\",キー割付!N340=\"カノン\",\"メロディ3\",キー割付!N340=\"春の歌\",\"メロディ4\",キー割付!N340=\"主よ人の望みの喜びよ\",\"メロディ5\",キー割付!N340=\"メヌエット\",\"メロディ6\",キー割付!N340=\"華麗なる大円舞曲\",\"メロディ7\",キー割付!N340=\"ハンガリア舞曲第5番\",\"メロディ8\",TRUE,\"トーン1\")","v":"トーン1"},{"$f":"_xlfn.IFS(キー割付!O340=\"着信音なし\",\"トーン1\",キー割付!O340=\"トーン1\",\"トーン1\",キー割付!O340=\"トーン2\",\"トーン2\",キー割付!O340=\"トーン3\",\"トーン3\",キー割付!O340=\"トーン4\",\"トーン4\",キー割付!O340=\"トーン5\",\"トーン5\",キー割付!O340=\"トーン6\",\"トーン6\",キー割付!O340=\"トーン7\",\"トーン7\",キー割付!O340=\"トーン7\",\"トーン7\",キー割付!O340=\"無鳴動着信\",\"トーン8\",キー割付!O340=\"グリーンスリーブス\",\"メロディ1\",キー割付!O340=\"峠の我が家\",\"メロディ2\",キー割付!O340=\"カノン\",\"メロディ3\",キー割付!O340=\"春の歌\",\"メロディ4\",キー割付!O340=\"主よ人の望みの喜びよ\",\"メロディ5\",キー割付!O340=\"メヌエット\",\"メロディ6\",キー割付!O340=\"華麗なる大円舞曲\",\"メロディ7\",キー割付!O340=\"ハンガリア舞曲第5番\",\"メロディ8\",TRUE,\"トーン1\")","v":"トーン1"},{"$f":"IF(E64=\"ZX-DECLDIV-IPコードレス電話機\",\"トーン1\",_xlfn.IFS(キー割付!P340=\"着信音なし\",\"トーン1\",キー割付!P340=\"トーン1\",\"トーン1\",キー割付!P340=\"トーン2\",\"トーン2\",キー割付!P340=\"トーン3\",\"トーン3\",キー割付!P340=\"トーン4\",\"トーン4\",キー割付!P340=\"トーン5\",\"トーン5\",キー割付!P340=\"トーン6\",\"トーン6\",キー割付!P340=\"トーン7\",\"トーン7\",キー割付!P340=\"トーン7\",\"トーン7\",キー割付!P340=\"無鳴動着信\",\"トーン8\",キー割付!P340=\"グリーンスリーブス\",\"メロディ1\",キー割付!P340=\"峠の我が家\",\"メロディ2\",キー割付!P340=\"カノン\",\"メロディ3\",キー割付!P340=\"春の歌\",\"メロディ4\",キー割付!P340=\"主よ人の望みの喜びよ\",\"メロディ5\",キー割付!P340=\"メヌエット\",\"メロディ6\",キー割付!P340=\"華麗なる大円舞曲\",\"メロディ7\",キー割付!P340=\"ハンガリア舞曲第5番\",\"メロディ8\",TRUE,\"トーン1\"))","v":"トーン1"},{"$f":"IF(E64=\"ZX-DECLDIV-IPコードレス電話機\",\"トーン1\",_xlfn.IFS(キー割付!Q340=\"着信音なし\",\"トーン1\",キー割付!Q340=\"トーン1\",\"トーン1\",キー割付!Q340=\"トーン2\",\"トーン2\",キー割付!Q340=\"トーン3\",\"トーン3\",キー割付!Q340=\"トーン4\",\"トーン4\",キー割付!Q340=\"トーン5\",\"トーン5\",キー割付!Q340=\"トーン6\",\"トーン6\",キー割付!Q340=\"トーン7\",\"トーン7\",キー割付!Q340=\"トーン7\",\"トーン7\",キー割付!Q340=\"無鳴動着信\",\"トーン8\",キー割付!Q340=\"グリーンスリーブス\",\"メロディ1\",キー割付!Q340=\"峠の我が家\",\"メロディ2\",キー割付!Q340=\"カノン\",\"メロディ3\",キー割付!Q340=\"春の歌\",\"メロディ4\",キー割付!Q340=\"主よ人の望みの喜びよ\",\"メロディ5\",キー割付!Q340=\"メヌエット\",\"メロディ6\",キー割付!Q340=\"華麗なる大円舞曲\",\"メロディ7\",キー割付!Q340=\"ハンガリア舞曲第5番\",\"メロディ8\",TRUE,\"トーン1\"))","v":"トーン1"},{"$f":"IF(E64=\"ZX-DECLDIV-IPコードレス電話機\",\"トーン1\",_xlfn.IFS(キー割付!R340=\"着信音なし\",\"トーン1\",キー割付!R340=\"トーン1\",\"トーン1\",キー割付!R340=\"トーン2\",\"トーン2\",キー割付!R340=\"トーン3\",\"トーン3\",キー割付!R340=\"トーン4\",\"トーン4\",キー割付!R340=\"トーン5\",\"トーン5\",キー割付!R340=\"トーン6\",\"トーン6\",キー割付!R340=\"トーン7\",\"トーン7\",キー割付!R340=\"トーン7\",\"トーン7\",キー割付!R340=\"無鳴動着信\",\"トーン8\",キー割付!R340=\"グリーンスリーブス\",\"メロディ1\",キー割付!R340=\"峠の我が家\",\"メロディ2\",キー割付!R340=\"カノン\",\"メロディ3\",キー割付!R340=\"春の歌\",\"メロディ4\",キー割付!R340=\"主よ人の望みの喜びよ\",\"メロディ5\",キー割付!R340=\"メヌエット\",\"メロディ6\",キー割付!R340=\"華麗なる大円舞曲\",\"メロディ7\",キー割付!R340=\"ハンガリア舞曲第5番\",\"メロディ8\",TRUE,\"トーン1\"))","v":"トーン1"},{"$f":"IF(E64=\"ZX-DECLDIV-IPコードレス電話機\",\"トーン1\",_xlfn.IFS(キー割付!S340=\"着信音なし\",\"トーン1\",キー割付!S340=\"トーン1\",\"トーン1\",キー割付!S340=\"トーン2\",\"トーン2\",キー割付!S340=\"トーン3\",\"トーン3\",キー割付!S340=\"トーン4\",\"トーン4\",キー割付!S340=\"トーン5\",\"トーン5\",キー割付!S340=\"トーン6\",\"トーン6\",キー割付!S340=\"トーン7\",\"トーン7\",キー割付!S340=\"トーン7\",\"トーン7\",キー割付!S340=\"無鳴動着信\",\"トーン8\",キー割付!S340=\"グリーンスリーブス\",\"メロディ1\",キー割付!S340=\"峠の我が家\",\"メロディ2\",キー割付!S340=\"カノン\",\"メロディ3\",キー割付!S340=\"春の歌\",\"メロディ4\",キー割付!S340=\"主よ人の望みの喜びよ\",\"メロディ5\",キー割付!S340=\"メヌエット\",\"メロディ6\",キー割付!S340=\"華麗なる大円舞曲\",\"メロディ7\",キー割付!S340=\"ハンガリア舞曲第5番\",\"メロディ8\",TRUE,\"トーン1\"))","v":"トーン1"},{"$f":"IF(E64=\"ZX-DECLDIV-IPコードレス電話機\",\"トーン1\",_xlfn.IFS(キー割付!N348=\"着信音なし\",\"トーン1\",キー割付!N348=\"トーン1\",\"トーン1\",キー割付!N348=\"トーン2\",\"トーン2\",キー割付!N348=\"トーン3\",\"トーン3\",キー割付!N348=\"トーン4\",\"トーン4\",キー割付!N348=\"トーン5\",\"トーン5\",キー割付!N348=\"トーン6\",\"トーン6\",キー割付!N348=\"トーン7\",\"トーン7\",キー割付!N348=\"トーン7\",\"トーン7\",キー割付!N348=\"無鳴動着信\",\"トーン8\",キー割付!N348=\"グリーンスリーブス\",\"メロディ1\",キー割付!N348=\"峠の我が家\",\"メロディ2\",キー割付!N348=\"カノン\",\"メロディ3\",キー割付!N348=\"春の歌\",\"メロディ4\",キー割付!N348=\"主よ人の望みの喜びよ\",\"メロディ5\",キー割付!N348=\"メヌエット\",\"メロディ6\",キー割付!N348=\"華麗なる大円舞曲\",\"メロディ7\",キー割付!N348=\"ハンガリア舞曲第5番\",\"メロディ8\",TRUE,\"トーン1\"))","v":"トーン1"},{"$f":"IF(E64=\"ZX-DECLDIV-IPコードレス電話機\",\"トーン1\",_xlfn.IFS(キー割付!O348=\"着信音なし\",\"トーン1\",キー割付!O348=\"トーン1\",\"トーン1\",キー割付!O348=\"トーン2\",\"トーン2\",キー割付!O348=\"トーン3\",\"トーン3\",キー割付!O348=\"トーン4\",\"トーン4\",キー割付!O348=\"トーン5\",\"トーン5\",キー割付!O348=\"トーン6\",\"トーン6\",キー割付!O348=\"トーン7\",\"トーン7\",キー割付!O348=\"トーン7\",\"トーン7\",キー割付!O348=\"無鳴動着信\",\"トーン8\",キー割付!O348=\"グリーンスリーブス\",\"メロディ1\",キー割付!O348=\"峠の我が家\",\"メロディ2\",キー割付!O348=\"カノン\",\"メロディ3\",キー割付!O348=\"春の歌\",\"メロディ4\",キー割付!O348=\"主よ人の望みの喜びよ\",\"メロディ5\",キー割付!O348=\"メヌエット\",\"メロディ6\",キー割付!O348=\"華麗なる大円舞曲\",\"メロディ7\",キー割付!O348=\"ハンガリア舞曲第5番\",\"メロディ8\",TRUE,\"トーン1\"))","v":"トーン1"},{"$f":"IF(E64=\"ZX-DECLDIV-IPコードレス電話機\",\"トーン1\",_xlfn.IFS(キー割付!P348=\"着信音なし\",\"トーン1\",キー割付!P348=\"トーン1\",\"トーン1\",キー割付!P348=\"トーン2\",\"トーン2\",キー割付!P348=\"トーン3\",\"トーン3\",キー割付!P348=\"トーン4\",\"トーン4\",キー割付!P348=\"トーン5\",\"トーン5\",キー割付!P348=\"トーン6\",\"トーン6\",キー割付!P348=\"トーン7\",\"トーン7\",キー割付!P348=\"トーン7\",\"トーン7\",キー割付!P348=\"無鳴動着信\",\"トーン8\",キー割付!P348=\"グリーンスリーブス\",\"メロディ1\",キー割付!P348=\"峠の我が家\",\"メロディ2\",キー割付!P348=\"カノン\",\"メロディ3\",キー割付!P348=\"春の歌\",\"メロディ4\",キー割付!P348=\"主よ人の望みの喜びよ\",\"メロディ5\",キー割付!P348=\"メヌエット\",\"メロディ6\",キー割付!P348=\"華麗なる大円舞曲\",\"メロディ7\",キー割付!P348=\"ハンガリア舞曲第5番\",\"メロディ8\",TRUE,\"トーン1\"))","v":"トーン1"},{"$f":"IF(E64=\"ZX-DECLDIV-IPコードレス電話機\",\"トーン1\",_xlfn.IFS(キー割付!Q348=\"着信音なし\",\"トーン1\",キー割付!Q348=\"トーン1\",\"トーン1\",キー割付!Q348=\"トーン2\",\"トーン2\",キー割付!Q348=\"トーン3\",\"トーン3\",キー割付!Q348=\"トーン4\",\"トーン4\",キー割付!Q348=\"トーン5\",\"トーン5\",キー割付!Q348=\"トーン6\",\"トーン6\",キー割付!Q348=\"トーン7\",\"トーン7\",キー割付!Q348=\"トーン7\",\"トーン7\",キー割付!Q348=\"無鳴動着信\",\"トーン8\",キー割付!Q348=\"グリーンスリーブス\",\"メロディ1\",キー割付!Q348=\"峠の我が家\",\"メロディ2\",キー割付!Q348=\"カノン\",\"メロディ3\",キー割付!Q348=\"春の歌\",\"メロディ4\",キー割付!Q348=\"主よ人の望みの喜びよ\",\"メロディ5\",キー割付!Q348=\"メヌエット\",\"メロディ6\",キー割付!Q348=\"華麗なる大円舞曲\",\"メロディ7\",キー割付!Q348=\"ハンガリア舞曲第5番\",\"メロディ8\",TRUE,\"トーン1\"))","v":"トーン1"},{"$f":"IF(E64=\"ZX-DECLDIV-IPコードレス電話機\",\"トーン1\",_xlfn.IFS(キー割付!R348=\"着信音なし\",\"トーン1\",キー割付!R348=\"トーン1\",\"トーン1\",キー割付!R348=\"トーン2\",\"トーン2\",キー割付!R348=\"トーン3\",\"トーン3\",キー割付!R348=\"トーン4\",\"トーン4\",キー割付!R348=\"トーン5\",\"トーン5\",キー割付!R348=\"トーン6\",\"トーン6\",キー割付!R348=\"トーン7\",\"トーン7\",キー割付!R348=\"トーン7\",\"トーン7\",キー割付!R348=\"無鳴動着信\",\"トーン8\",キー割付!R348=\"グリーンスリーブス\",\"メロディ1\",キー割付!R348=\"峠の我が家\",\"メロディ2\",キー割付!R348=\"カノン\",\"メロディ3\",キー割付!R348=\"春の歌\",\"メロディ4\",キー割付!R348=\"主よ人の望みの喜びよ\",\"メロディ5\",キー割付!R348=\"メヌエット\",\"メロディ6\",キー割付!R348=\"華麗なる大円舞曲\",\"メロディ7\",キー割付!R348=\"ハンガリア舞曲第5番\",\"メロディ8\",TRUE,\"トーン1\"))","v":"トーン1"},{"$f":"IF(E64=\"ZX-DECLDIV-IPコードレス電話機\",\"トーン1\",_xlfn.IFS(キー割付!S348=\"着信音なし\",\"トーン1\",キー割付!S348=\"トーン1\",\"トーン1\",キー割付!S348=\"トーン2\",\"トーン2\",キー割付!S348=\"トーン3\",\"トーン3\",キー割付!S348=\"トーン4\",\"トーン4\",キー割付!S348=\"トーン5\",\"トーン5\",キー割付!S348=\"トーン6\",\"トーン6\",キー割付!S348=\"トーン7\",\"トーン7\",キー割付!S348=\"トーン7\",\"トーン7\",キー割付!S348=\"無鳴動着信\",\"トーン8\",キー割付!S348=\"グリーンスリーブス\",\"メロディ1\",キー割付!S348=\"峠の我が家\",\"メロディ2\",キー割付!S348=\"カノン\",\"メロディ3\",キー割付!S348=\"春の歌\",\"メロディ4\",キー割付!S348=\"主よ人の望みの喜びよ\",\"メロディ5\",キー割付!S348=\"メヌエット\",\"メロディ6\",キー割付!S348=\"華麗なる大円舞曲\",\"メロディ7\",キー割付!S348=\"ハンガリア舞曲第5番\",\"メロディ8\",TRUE,\"トーン1\"))","v":"トーン1"},{"$f":"IF(E64=\"ZX-DECLDIV-IPコードレス電話機\",\"トーン1\",_xlfn.IFS(キー割付!N356=\"着信音なし\",\"トーン1\",キー割付!N356=\"トーン1\",\"トーン1\",キー割付!N356=\"トーン2\",\"トーン2\",キー割付!N356=\"トーン3\",\"トーン3\",キー割付!N356=\"トーン4\",\"トーン4\",キー割付!N356=\"トーン5\",\"トーン5\",キー割付!N356=\"トーン6\",\"トーン6\",キー割付!N356=\"トーン7\",\"トーン7\",キー割付!N356=\"トーン7\",\"トーン7\",キー割付!N356=\"無鳴動着信\",\"トーン8\",キー割付!N356=\"グリーンスリーブス\",\"メロディ1\",キー割付!N356=\"峠の我が家\",\"メロディ2\",キー割付!N356=\"カノン\",\"メロディ3\",キー割付!N356=\"春の歌\",\"メロディ4\",キー割付!N356=\"主よ人の望みの喜びよ\",\"メロディ5\",キー割付!N356=\"メヌエット\",\"メロディ6\",キー割付!N356=\"華麗なる大円舞曲\",\"メロディ7\",キー割付!N356=\"ハンガリア舞曲第5番\",\"メロディ8\",TRUE,\"トーン1\"))","v":"トーン1"},{"$f":"IF(E64=\"ZX-DECLDIV-IPコードレス電話機\",\"トーン1\",_xlfn.IFS(キー割付!O356=\"着信音なし\",\"トーン1\",キー割付!O356=\"トーン1\",\"トーン1\",キー割付!O356=\"トーン2\",\"トーン2\",キー割付!O356=\"トーン3\",\"トーン3\",キー割付!O356=\"トーン4\",\"トーン4\",キー割付!O356=\"トーン5\",\"トーン5\",キー割付!O356=\"トーン6\",\"トーン6\",キー割付!O356=\"トーン7\",\"トーン7\",キー割付!O356=\"トーン7\",\"トーン7\",キー割付!O356=\"無鳴動着信\",\"トーン8\",キー割付!O356=\"グリーンスリーブス\",\"メロディ1\",キー割付!O356=\"峠の我が家\",\"メロディ2\",キー割付!O356=\"カノン\",\"メロディ3\",キー割付!O356=\"春の歌\",\"メロディ4\",キー割付!O356=\"主よ人の望みの喜びよ\",\"メロディ5\",キー割付!O356=\"メヌエット\",\"メロディ6\",キー割付!O356=\"華麗なる大円舞曲\",\"メロディ7\",キー割付!O356=\"ハンガリア舞曲第5番\",\"メロディ8\",TRUE,\"トーン1\"))","v":"トーン1"},{"$f":"IF(E64=\"ZX-DECLDIV-IPコードレス電話機\",\"トーン1\",_xlfn.IFS(キー割付!P356=\"着信音なし\",\"トーン1\",キー割付!P356=\"トーン1\",\"トーン1\",キー割付!P356=\"トーン2\",\"トーン2\",キー割付!P356=\"トーン3\",\"トーン3\",キー割付!P356=\"トーン4\",\"トーン4\",キー割付!P356=\"トーン5\",\"トーン5\",キー割付!P356=\"トーン6\",\"トーン6\",キー割付!P356=\"トーン7\",\"トーン7\",キー割付!P356=\"トーン7\",\"トーン7\",キー割付!P356=\"無鳴動着信\",\"トーン8\",キー割付!P356=\"グリーンスリーブス\",\"メロディ1\",キー割付!P356=\"峠の我が家\",\"メロディ2\",キー割付!P356=\"カノン\",\"メロディ3\",キー割付!P356=\"春の歌\",\"メロディ4\",キー割付!P356=\"主よ人の望みの喜びよ\",\"メロディ5\",キー割付!P356=\"メヌエット\",\"メロディ6\",キー割付!P356=\"華麗なる大円舞曲\",\"メロディ7\",キー割付!P356=\"ハンガリア舞曲第5番\",\"メロディ8\",TRUE,\"トーン1\"))","v":"トーン1"},{"$f":"IF(E64=\"ZX-DECLDIV-IPコードレス電話機\",\"トーン1\",_xlfn.IFS(キー割付!Q356=\"着信音なし\",\"トーン1\",キー割付!Q356=\"トーン1\",\"トーン1\",キー割付!Q356=\"トーン2\",\"トーン2\",キー割付!Q356=\"トーン3\",\"トーン3\",キー割付!Q356=\"トーン4\",\"トーン4\",キー割付!Q356=\"トーン5\",\"トーン5\",キー割付!Q356=\"トーン6\",\"トーン6\",キー割付!Q356=\"トーン7\",\"トーン7\",キー割付!Q356=\"トーン7\",\"トーン7\",キー割付!Q356=\"無鳴動着信\",\"トーン8\",キー割付!Q356=\"グリーンスリーブス\",\"メロディ1\",キー割付!Q356=\"峠の我が家\",\"メロディ2\",キー割付!Q356=\"カノン\",\"メロディ3\",キー割付!Q356=\"春の歌\",\"メロディ4\",キー割付!Q356=\"主よ人の望みの喜びよ\",\"メロディ5\",キー割付!Q356=\"メヌエット\",\"メロディ6\",キー割付!Q356=\"華麗なる大円舞曲\",\"メロディ7\",キー割付!Q356=\"ハンガリア舞曲第5番\",\"メロディ8\",TRUE,\"トーン1\"))","v":"トーン1"},{"$f":"IF(E64=\"ZX-DECLDIV-IPコードレス電話機\",\"トーン1\",_xlfn.IFS(キー割付!R356=\"着信音なし\",\"トーン1\",キー割付!R356=\"トーン1\",\"トーン1\",キー割付!R356=\"トーン2\",\"トーン2\",キー割付!R356=\"トーン3\",\"トーン3\",キー割付!R356=\"トーン4\",\"トーン4\",キー割付!R356=\"トーン5\",\"トーン5\",キー割付!R356=\"トーン6\",\"トーン6\",キー割付!R356=\"トーン7\",\"トーン7\",キー割付!R356=\"トーン7\",\"トーン7\",キー割付!R356=\"無鳴動着信\",\"トーン8\",キー割付!R356=\"グリーンスリーブス\",\"メロディ1\",キー割付!R356=\"峠の我が家\",\"メロディ2\",キー割付!R356=\"カノン\",\"メロディ3\",キー割付!R356=\"春の歌\",\"メロディ4\",キー割付!R356=\"主よ人の望みの喜びよ\",\"メロディ5\",キー割付!R356=\"メヌエット\",\"メロディ6\",キー割付!R356=\"華麗なる大円舞曲\",\"メロディ7\",キー割付!R356=\"ハンガリア舞曲第5番\",\"メロディ8\",TRUE,\"トーン1\"))","v":"トーン1"},{"$f":"IF(E64=\"ZX-DECLDIV-IPコードレス電話機\",\"トーン1\",_xlfn.IFS(キー割付!S356=\"着信音なし\",\"トーン1\",キー割付!S356=\"トーン1\",\"トーン1\",キー割付!S356=\"トーン2\",\"トーン2\",キー割付!S356=\"トーン3\",\"トーン3\",キー割付!S356=\"トーン4\",\"トーン4\",キー割付!S356=\"トーン5\",\"トーン5\",キー割付!S356=\"トーン6\",\"トーン6\",キー割付!S356=\"トーン7\",\"トーン7\",キー割付!S356=\"トーン7\",\"トーン7\",キー割付!S356=\"無鳴動着信\",\"トーン8\",キー割付!S356=\"グリーンスリーブス\",\"メロディ1\",キー割付!S356=\"峠の我が家\",\"メロディ2\",キー割付!S356=\"カノン\",\"メロディ3\",キー割付!S356=\"春の歌\",\"メロディ4\",キー割付!S356=\"主よ人の望みの喜びよ\",\"メロディ5\",キー割付!S356=\"メヌエット\",\"メロディ6\",キー割付!S356=\"華麗なる大円舞曲\",\"メロディ7\",キー割付!S356=\"ハンガリア舞曲第5番\",\"メロディ8\",TRUE,\"トーン1\"))","v":"トーン1"}]
[null,null,null,null,null,{"$f":"_xlfn.IFS(キー割付!N333=\"昼夜休憩\",\"B\",キー割付!N333=\"－－－\",\"-\",キー割付!N333=\"昼－－\",\"H\",キー割付!N333=\"－夜－\",\"N\",キー割付!N333=\"－－休憩\",\"P\",キー割付!N333=\"昼夜－\",\"N\",キー割付!N333=\"昼－休憩\",\"F\",キー割付!N333=\"－夜休憩\",\"K\",TRUE,\"-\")","v":"-"},{"$f":"_xlfn.IFS(キー割付!O333=\"昼夜休憩\",\"B\",キー割付!O333=\"－－－\",\"-\",キー割付!O333=\"昼－－\",\"H\",キー割付!O333=\"－夜－\",\"N\",キー割付!O333=\"－－休憩\",\"P\",キー割付!O333=\"昼夜－\",\"N\",キー割付!O333=\"昼－休憩\",\"F\",キー割付!O333=\"－夜休憩\",\"K\",TRUE,\"-\")","v":"-"},{"$f":"_xlfn.IFS(キー割付!P333=\"昼夜休憩\",\"B\",キー割付!P333=\"－－－\",\"-\",キー割付!P333=\"昼－－\",\"H\",キー割付!P333=\"－夜－\",\"N\",キー割付!P333=\"－－休憩\",\"P\",キー割付!P333=\"昼夜－\",\"N\",キー割付!P333=\"昼－休憩\",\"F\",キー割付!P333=\"－夜休憩\",\"K\",TRUE,\"-\")","v":"-"},{"$f":"_xlfn.IFS(キー割付!Q333=\"昼夜休憩\",\"B\",キー割付!Q333=\"－－－\",\"-\",キー割付!Q333=\"昼－－\",\"H\",キー割付!Q333=\"－夜－\",\"N\",キー割付!Q333=\"－－休憩\",\"P\",キー割付!Q333=\"昼夜－\",\"N\",キー割付!Q333=\"昼－休憩\",\"F\",キー割付!Q333=\"－夜休憩\",\"K\",TRUE,\"-\")","v":"-"},{"$f":"_xlfn.IFS(キー割付!R333=\"昼夜休憩\",\"B\",キー割付!R333=\"－－－\",\"-\",キー割付!R333=\"昼－－\",\"H\",キー割付!R333=\"－夜－\",\"N\",キー割付!R333=\"－－休憩\",\"P\",キー割付!R333=\"昼夜－\",\"N\",キー割付!R333=\"昼－休憩\",\"F\",キー割付!R333=\"－夜休憩\",\"K\",TRUE,\"-\")","v":"-"},{"$f":"_xlfn.IFS(キー割付!S333=\"昼夜休憩\",\"B\",キー割付!S333=\"－－－\",\"-\",キー割付!S333=\"昼－－\",\"H\",キー割付!S333=\"－夜－\",\"N\",キー割付!S333=\"－－休憩\",\"P\",キー割付!S333=\"昼夜－\",\"N\",キー割付!S333=\"昼－休憩\",\"F\",キー割付!S333=\"－夜休憩\",\"K\",TRUE,\"-\")","v":"-"},{"$f":"_xlfn.IFS(キー割付!N341=\"昼夜休憩\",\"B\",キー割付!N341=\"－－－\",\"-\",キー割付!N341=\"昼－－\",\"H\",キー割付!N341=\"－夜－\",\"N\",キー割付!N341=\"－－休憩\",\"P\",キー割付!N341=\"昼夜－\",\"N\",キー割付!N341=\"昼－休憩\",\"F\",キー割付!N341=\"－夜休憩\",\"K\",TRUE,\"-\")","v":"-"},{"$f":"_xlfn.IFS(キー割付!O341=\"昼夜休憩\",\"B\",キー割付!O341=\"－－－\",\"-\",キー割付!O341=\"昼－－\",\"H\",キー割付!O341=\"－夜－\",\"N\",キー割付!O341=\"－－休憩\",\"P\",キー割付!O341=\"昼夜－\",\"N\",キー割付!O341=\"昼－休憩\",\"F\",キー割付!O341=\"－夜休憩\",\"K\",TRUE,\"-\")","v":"-"},{"$f":"IF(E64=\"ZX-DECLDIV-IPコードレス電話機\",\"-\",_xlfn.IFS(キー割付!P341=\"昼夜休憩\",\"B\",キー割付!P341=\"－－－\",\"-\",キー割付!P341=\"昼－－\",\"H\",キー割付!P341=\"－夜－\",\"N\",キー割付!P341=\"－－休憩\",\"P\",キー割付!P341=\"昼夜－\",\"N\",キー割付!P341=\"昼－休憩\",\"F\",キー割付!P341=\"－夜休憩\",\"K\",TRUE,\"-\"))","v":"-"},{"$f":"IF(E64=\"ZX-DECLDIV-IPコードレス電話機\",\"-\",_xlfn.IFS(キー割付!Q341=\"昼夜休憩\",\"B\",キー割付!Q341=\"－－－\",\"-\",キー割付!Q341=\"昼－－\",\"H\",キー割付!Q341=\"－夜－\",\"N\",キー割付!Q341=\"－－休憩\",\"P\",キー割付!Q341=\"昼夜－\",\"N\",キー割付!Q341=\"昼－休憩\",\"F\",キー割付!Q341=\"－夜休憩\",\"K\",TRUE,\"-\"))","v":"-"},{"$f":"IF(E64=\"ZX-DECLDIV-IPコードレス電話機\",\"-\",_xlfn.IFS(キー割付!R341=\"昼夜休憩\",\"B\",キー割付!R341=\"－－－\",\"-\",キー割付!R341=\"昼－－\",\"H\",キー割付!R341=\"－夜－\",\"N\",キー割付!R341=\"－－休憩\",\"P\",キー割付!R341=\"昼夜－\",\"N\",キー割付!R341=\"昼－休憩\",\"F\",キー割付!R341=\"－夜休憩\",\"K\",TRUE,\"-\"))","v":"-"},{"$f":"IF(E64=\"ZX-DECLDIV-IPコードレス電話機\",\"-\",_xlfn.IFS(キー割付!S341=\"昼夜休憩\",\"B\",キー割付!S341=\"－－－\",\"-\",キー割付!S341=\"昼－－\",\"H\",キー割付!S341=\"－夜－\",\"N\",キー割付!S341=\"－－休憩\",\"P\",キー割付!S341=\"昼夜－\",\"N\",キー割付!S341=\"昼－休憩\",\"F\",キー割付!S341=\"－夜休憩\",\"K\",TRUE,\"-\"))","v":"-"},{"$f":"IF(E64=\"ZX-DECLDIV-IPコードレス電話機\",\"-\",_xlfn.IFS(キー割付!N349=\"昼夜休憩\",\"B\",キー割付!N349=\"－－－\",\"-\",キー割付!N349=\"昼－－\",\"H\",キー割付!N349=\"－夜－\",\"N\",キー割付!N349=\"－－休憩\",\"P\",キー割付!N349=\"昼夜－\",\"N\",キー割付!N349=\"昼－休憩\",\"F\",キー割付!N349=\"－夜休憩\",\"K\",TRUE,\"-\"))","v":"-"},{"$f":"IF(E64=\"ZX-DECLDIV-IPコードレス電話機\",\"-\",_xlfn.IFS(キー割付!O349=\"昼夜休憩\",\"B\",キー割付!O349=\"－－－\",\"-\",キー割付!O349=\"昼－－\",\"H\",キー割付!O349=\"－夜－\",\"N\",キー割付!O349=\"－－休憩\",\"P\",キー割付!O349=\"昼夜－\",\"N\",キー割付!O349=\"昼－休憩\",\"F\",キー割付!O349=\"－夜休憩\",\"K\",TRUE,\"-\"))","v":"-"},{"$f":"IF(E64=\"ZX-DECLDIV-IPコードレス電話機\",\"-\",_xlfn.IFS(キー割付!P349=\"昼夜休憩\",\"B\",キー割付!P349=\"－－－\",\"-\",キー割付!P349=\"昼－－\",\"H\",キー割付!P349=\"－夜－\",\"N\",キー割付!P349=\"－－休憩\",\"P\",キー割付!P349=\"昼夜－\",\"N\",キー割付!P349=\"昼－休憩\",\"F\",キー割付!P349=\"－夜休憩\",\"K\",TRUE,\"-\"))","v":"-"},{"$f":"IF(E64=\"ZX-DECLDIV-IPコードレス電話機\",\"-\",_xlfn.IFS(キー割付!Q349=\"昼夜休憩\",\"B\",キー割付!Q349=\"－－－\",\"-\",キー割付!Q349=\"昼－－\",\"H\",キー割付!Q349=\"－夜－\",\"N\",キー割付!Q349=\"－－休憩\",\"P\",キー割付!Q349=\"昼夜－\",\"N\",キー割付!Q349=\"昼－休憩\",\"F\",キー割付!Q349=\"－夜休憩\",\"K\",TRUE,\"-\"))","v":"-"},{"$f":"IF(E64=\"ZX-DECLDIV-IPコードレス電話機\",\"-\",_xlfn.IFS(キー割付!R349=\"昼夜休憩\",\"B\",キー割付!R349=\"－－－\",\"-\",キー割付!R349=\"昼－－\",\"H\",キー割付!R349=\"－夜－\",\"N\",キー割付!R349=\"－－休憩\",\"P\",キー割付!R349=\"昼夜－\",\"N\",キー割付!R349=\"昼－休憩\",\"F\",キー割付!R349=\"－夜休憩\",\"K\",TRUE,\"-\"))","v":"-"},{"$f":"IF(E64=\"ZX-DECLDIV-IPコードレス電話機\",\"-\",_xlfn.IFS(キー割付!S349=\"昼夜休憩\",\"B\",キー割付!S349=\"－－－\",\"-\",キー割付!S349=\"昼－－\",\"H\",キー割付!S349=\"－夜－\",\"N\",キー割付!S349=\"－－休憩\",\"P\",キー割付!S349=\"昼夜－\",\"N\",キー割付!S349=\"昼－休憩\",\"F\",キー割付!S349=\"－夜休憩\",\"K\",TRUE,\"-\"))","v":"-"},{"$f":"IF(E64=\"ZX-DECLDIV-IPコードレス電話機\",\"-\",_xlfn.IFS(キー割付!N357=\"昼夜休憩\",\"B\",キー割付!N357=\"－－－\",\"-\",キー割付!N357=\"昼－－\",\"H\",キー割付!N357=\"－夜－\",\"N\",キー割付!N357=\"－－休憩\",\"P\",キー割付!N357=\"昼夜－\",\"N\",キー割付!N357=\"昼－休憩\",\"F\",キー割付!N357=\"－夜休憩\",\"K\",TRUE,\"-\"))","v":"-"},{"$f":"IF(E64=\"ZX-DECLDIV-IPコードレス電話機\",\"-\",_xlfn.IFS(キー割付!O357=\"昼夜休憩\",\"B\",キー割付!O357=\"－－－\",\"-\",キー割付!O357=\"昼－－\",\"H\",キー割付!O357=\"－夜－\",\"N\",キー割付!O357=\"－－休憩\",\"P\",キー割付!O357=\"昼夜－\",\"N\",キー割付!O357=\"昼－休憩\",\"F\",キー割付!O357=\"－夜休憩\",\"K\",TRUE,\"-\"))","v":"-"},{"$f":"IF(E64=\"ZX-DECLDIV-IPコードレス電話機\",\"-\",_xlfn.IFS(キー割付!P357=\"昼夜休憩\",\"B\",キー割付!P357=\"－－－\",\"-\",キー割付!P357=\"昼－－\",\"H\",キー割付!P357=\"－夜－\",\"N\",キー割付!P357=\"－－休憩\",\"P\",キー割付!P357=\"昼夜－\",\"N\",キー割付!P357=\"昼－休憩\",\"F\",キー割付!P357=\"－夜休憩\",\"K\",TRUE,\"-\"))","v":"-"},{"$f":"IF(E64=\"ZX-DECLDIV-IPコードレス電話機\",\"-\",_xlfn.IFS(キー割付!Q357=\"昼夜休憩\",\"B\",キー割付!Q357=\"－－－\",\"-\",キー割付!Q357=\"昼－－\",\"H\",キー割付!Q357=\"－夜－\",\"N\",キー割付!Q357=\"－－休憩\",\"P\",キー割付!Q357=\"昼夜－\",\"N\",キー割付!Q357=\"昼－休憩\",\"F\",キー割付!Q357=\"－夜休憩\",\"K\",TRUE,\"-\"))","v":"-"},{"$f":"IF(E64=\"ZX-DECLDIV-IPコードレス電話機\",\"-\",_xlfn.IFS(キー割付!R357=\"昼夜休憩\",\"B\",キー割付!R357=\"－－－\",\"-\",キー割付!R357=\"昼－－\",\"H\",キー割付!R357=\"－夜－\",\"N\",キー割付!R357=\"－－休憩\",\"P\",キー割付!R357=\"昼夜－\",\"N\",キー割付!R357=\"昼－休憩\",\"F\",キー割付!R357=\"－夜休憩\",\"K\",TRUE,\"-\"))","v":"-"},{"$f":"IF(E64=\"ZX-DECLDIV-IPコードレス電話機\",\"-\",_xlfn.IFS(キー割付!S357=\"昼夜休憩\",\"B\",キー割付!S357=\"－－－\",\"-\",キー割付!S357=\"昼－－\",\"H\",キー割付!S357=\"－夜－\",\"N\",キー割付!S357=\"－－休憩\",\"P\",キー割付!S357=\"昼夜－\",\"N\",キー割付!S357=\"昼－休憩\",\"F\",キー割付!S357=\"－夜休憩\",\"K\",TRUE,\"-\"))","v":"-"}]
[null,21,{"$f":"IF(IFERROR(VALUE(VLOOKUP(B67,内線_キー割用,2,FALSE)),\"\")=0,\"\",IFERROR(VALUE(VLOOKUP(B67,内線_キー割用,2,FALSE)),\"\"))","v":""},{"$f":"IF(IFERROR(VALUE(VLOOKUP(B67,内線_キー割用,4,FALSE)),\"\")=0,\"\",IFERROR(VALUE(VLOOKUP(B67,内線_キー割用,4,FALSE)),\"\"))","v":""},{"$f":"IF(IFERROR(VLOOKUP(B67,内線_キー割用,3,FALSE),\"\")=0,\"\",IFERROR(VLOOKUP(B67,内線_キー割用,3,FALSE),\"\"))","v":""},{"$f":"IF(キー割付!D367=\"\",\"未使用\",キー割付!D367)","v":"未使用"},{"$f":"IF(キー割付!E367=\"\",\"未使用\",キー割付!E367)","v":"未使用"},{"$f":"IF(キー割付!F367=\"\",\"未使用\",キー割付!F367)","v":"未使用"},{"$f":"IF(キー割付!G367=\"\",\"未使用\",キー割付!G367)","v":"未使用"},{"$f":"IF(キー割付!H367=\"\",\"未使用\",キー割付!H367)","v":"未使用"},{"$f":"IF(キー割付!I367=\"\",\"未使用\",キー割付!I367)","v":"未使用"},{"$f":"IF(キー割付!D375=\"\",\"未使用\",キー割付!D375)","v":"未使用"},{"$f":"IF(キー割付!E375=\"\",\"未使用\",キー割付!E375)","v":"未使用"},{"$f":"IF(E67=\"ZX-DECLDIV-IPコードレス電話機\",\"未使用\",IF(キー割付!F375=\"\",\"未使用\",キー割付!F375))","v":"未使用"},{"$f":"IF(E67=\"ZX-DECLDIV-IPコードレス電話機\",\"未使用\",IF(キー割付!G375=\"\",\"未使用\",キー割付!G375))","v":"未使用"},{"$f":"IF(E67=\"ZX-DECLDIV-IPコードレス電話機\",\"未使用\",IF(キー割付!H375=\"\",\"未使用\",キー割付!H375))","v":"未使用"},{"$f":"IF(E67=\"ZX-DECLDIV-IPコードレス電話機\",\"未使用\",IF(キー割付!I375=\"\",\"未使用\",キー割付!I375))","v":"未使用"},{"$f":"IF(E67=\"ZX-DECLDIV-IPコードレス電話機\",\"未使用\",IF(キー割付!D383=\"\",\"未使用\",キー割付!D383))","v":"未使用"},{"$f":"IF(E67=\"ZX-DECLDIV-IPコードレス電話機\",\"未使用\",IF(キー割付!E383=\"\",\"未使用\",キー割付!E383))","v":"未使用"},{"$f":"IF(E67=\"ZX-DECLDIV-IPコードレス電話機\",\"未使用\",IF(キー割付!F383=\"\",\"未使用\",キー割付!F383))","v":"未使用"},{"$f":"IF(E67=\"ZX-DECLDIV-IPコードレス電話機\",\"未使用\",IF(キー割付!G383=\"\",\"未使用\",キー割付!G383))","v":"未使用"},{"$f":"IF(E67=\"ZX-DECLDIV-IPコードレス電話機\",\"未使用\",IF(キー割付!H383=\"\",\"未使用\",キー割付!H383))","v":"未使用"},{"$f":"IF(E67=\"ZX-DECLDIV-IPコードレス電話機\",\"未使用\",IF(キー割付!I383=\"\",\"未使用\",キー割付!I383))","v":"未使用"},{"$f":"IF(E67=\"ZX-DECLDIV-IPコードレス電話機\",\"未使用\",IF(キー割付!D391=\"\",\"未使用\",キー割付!D391))","v":"未使用"},{"$f":"IF(E67=\"ZX-DECLDIV-IPコードレス電話機\",\"未使用\",IF(キー割付!E391=\"\",\"未使用\",キー割付!E391))","v":"未使用"},{"$f":"IF(E67=\"ZX-DECLDIV-IPコードレス電話機\",\"未使用\",IF(キー割付!F391=\"\",\"未使用\",キー割付!F391))","v":"未使用"},{"$f":"IF(E67=\"ZX-DECLDIV-IPコードレス電話機\",\"未使用\",IF(キー割付!G391=\"\",\"未使用\",キー割付!G391))","v":"未使用"},{"$f":"IF(E67=\"ZX-DECLDIV-IPコードレス電話機\",\"未使用\",IF(キー割付!H391=\"\",\"未使用\",キー割付!H391))","v":"未使用"},{"$f":"IF(E67=\"ZX-DECLDIV-IPコードレス電話機\",\"未使用\",IF(キー割付!I391=\"\",\"未使用\",キー割付!I391))","v":"未使用"}]
[null,null,null,null,null,{"$f":"_xlfn.IFS(キー割付!D368=\"着信音なし\",\"トーン1\",キー割付!D368=\"トーン1\",\"トーン1\",キー割付!D368=\"トーン2\",\"トーン2\",キー割付!D368=\"トーン3\",\"トーン3\",キー割付!D368=\"トーン4\",\"トーン4\",キー割付!D368=\"トーン5\",\"トーン5\",キー割付!D368=\"トーン6\",\"トーン6\",キー割付!D368=\"トーン7\",\"トーン7\",キー割付!D368=\"トーン7\",\"トーン7\",キー割付!D368=\"無鳴動着信\",\"トーン8\",キー割付!D368=\"グリーンスリーブス\",\"メロディ1\",キー割付!D368=\"峠の我が家\",\"メロディ2\",キー割付!D368=\"カノン\",\"メロディ3\",キー割付!D368=\"春の歌\",\"メロディ4\",キー割付!D368=\"主よ人の望みの喜びよ\",\"メロディ5\",キー割付!D368=\"メヌエット\",\"メロディ6\",キー割付!D368=\"華麗なる大円舞曲\",\"メロディ7\",キー割付!D368=\"ハンガリア舞曲第5番\",\"メロディ8\",TRUE,\"トーン1\")","v":"トーン1"},{"$f":"_xlfn.IFS(キー割付!E368=\"着信音なし\",\"トーン1\",キー割付!E368=\"トーン1\",\"トーン1\",キー割付!E368=\"トーン2\",\"トーン2\",キー割付!E368=\"トーン3\",\"トーン3\",キー割付!E368=\"トーン4\",\"トーン4\",キー割付!E368=\"トーン5\",\"トーン5\",キー割付!E368=\"トーン6\",\"トーン6\",キー割付!E368=\"トーン7\",\"トーン7\",キー割付!E368=\"トーン7\",\"トーン7\",キー割付!E368=\"無鳴動着信\",\"トーン8\",キー割付!E368=\"グリーンスリーブス\",\"メロディ1\",キー割付!E368=\"峠の我が家\",\"メロディ2\",キー割付!E368=\"カノン\",\"メロディ3\",キー割付!E368=\"春の歌\",\"メロディ4\",キー割付!E368=\"主よ人の望みの喜びよ\",\"メロディ5\",キー割付!E368=\"メヌエット\",\"メロディ6\",キー割付!E368=\"華麗なる大円舞曲\",\"メロディ7\",キー割付!E368=\"ハンガリア舞曲第5番\",\"メロディ8\",TRUE,\"トーン1\")","v":"トーン1"},{"$f":"_xlfn.IFS(キー割付!F368=\"着信音なし\",\"トーン1\",キー割付!F368=\"トーン1\",\"トーン1\",キー割付!F368=\"トーン2\",\"トーン2\",キー割付!F368=\"トーン3\",\"トーン3\",キー割付!F368=\"トーン4\",\"トーン4\",キー割付!F368=\"トーン5\",\"トーン5\",キー割付!F368=\"トーン6\",\"トーン6\",キー割付!F368=\"トーン7\",\"トーン7\",キー割付!F368=\"トーン7\",\"トーン7\",キー割付!F368=\"無鳴動着信\",\"トーン8\",キー割付!F368=\"グリーンスリーブス\",\"メロディ1\",キー割付!F368=\"峠の我が家\",\"メロディ2\",キー割付!F368=\"カノン\",\"メロディ3\",キー割付!F368=\"春の歌\",\"メロディ4\",キー割付!F368=\"主よ人の望みの喜びよ\",\"メロディ5\",キー割付!F368=\"メヌエット\",\"メロディ6\",キー割付!F368=\"華麗なる大円舞曲\",\"メロディ7\",キー割付!F368=\"ハンガリア舞曲第5番\",\"メロディ8\",TRUE,\"トーン1\")","v":"トーン1"},{"$f":"_xlfn.IFS(キー割付!G368=\"着信音なし\",\"トーン1\",キー割付!G368=\"トーン1\",\"トーン1\",キー割付!G368=\"トーン2\",\"トーン2\",キー割付!G368=\"トーン3\",\"トーン3\",キー割付!G368=\"トーン4\",\"トーン4\",キー割付!G368=\"トーン5\",\"トーン5\",キー割付!G368=\"トーン6\",\"トーン6\",キー割付!G368=\"トーン7\",\"トーン7\",キー割付!G368=\"トーン7\",\"トーン7\",キー割付!G368=\"無鳴動着信\",\"トーン8\",キー割付!G368=\"グリーンスリーブス\",\"メロディ1\",キー割付!G368=\"峠の我が家\",\"メロディ2\",キー割付!G368=\"カノン\",\"メロディ3\",キー割付!G368=\"春の歌\",\"メロディ4\",キー割付!G368=\"主よ人の望みの喜びよ\",\"メロディ5\",キー割付!G368=\"メヌエット\",\"メロディ6\",キー割付!G368=\"華麗なる大円舞曲\",\"メロディ7\",キー割付!G368=\"ハンガリア舞曲第5番\",\"メロディ8\",TRUE,\"トーン1\")","v":"トーン1"},{"$f":"_xlfn.IFS(キー割付!H368=\"着信音なし\",\"トーン1\",キー割付!H368=\"トーン1\",\"トーン1\",キー割付!H368=\"トーン2\",\"トーン2\",キー割付!H368=\"トーン3\",\"トーン3\",キー割付!H368=\"トーン4\",\"トーン4\",キー割付!H368=\"トーン5\",\"トーン5\",キー割付!H368=\"トーン6\",\"トーン6\",キー割付!H368=\"トーン7\",\"トーン7\",キー割付!H368=\"トーン7\",\"トーン7\",キー割付!H368=\"無鳴動着信\",\"トーン8\",キー割付!H368=\"グリーンスリーブス\",\"メロディ1\",キー割付!H368=\"峠の我が家\",\"メロディ2\",キー割付!H368=\"カノン\",\"メロディ3\",キー割付!H368=\"春の歌\",\"メロディ4\",キー割付!H368=\"主よ人の望みの喜びよ\",\"メロディ5\",キー割付!H368=\"メヌエット\",\"メロディ6\",キー割付!H368=\"華麗なる大円舞曲\",\"メロディ7\",キー割付!H368=\"ハンガリア舞曲第5番\",\"メロディ8\",TRUE,\"トーン1\")","v":"トーン1"},{"$f":"_xlfn.IFS(キー割付!I368=\"着信音なし\",\"トーン1\",キー割付!I368=\"トーン1\",\"トーン1\",キー割付!I368=\"トーン2\",\"トーン2\",キー割付!I368=\"トーン3\",\"トーン3\",キー割付!I368=\"トーン4\",\"トーン4\",キー割付!I368=\"トーン5\",\"トーン5\",キー割付!I368=\"トーン6\",\"トーン6\",キー割付!I368=\"トーン7\",\"トーン7\",キー割付!I368=\"トーン7\",\"トーン7\",キー割付!I368=\"無鳴動着信\",\"トーン8\",キー割付!I368=\"グリーンスリーブス\",\"メロディ1\",キー割付!I368=\"峠の我が家\",\"メロディ2\",キー割付!I368=\"カノン\",\"メロディ3\",キー割付!I368=\"春の歌\",\"メロディ4\",キー割付!I368=\"主よ人の望みの喜びよ\",\"メロディ5\",キー割付!I368=\"メヌエット\",\"メロディ6\",キー割付!I368=\"華麗なる大円舞曲\",\"メロディ7\",キー割付!I368=\"ハンガリア舞曲第5番\",\"メロディ8\",TRUE,\"トーン1\")","v":"トーン1"},{"$f":"_xlfn.IFS(キー割付!D376=\"着信音なし\",\"トーン1\",キー割付!D376=\"トーン1\",\"トーン1\",キー割付!D376=\"トーン2\",\"トーン2\",キー割付!D376=\"トーン3\",\"トーン3\",キー割付!D376=\"トーン4\",\"トーン4\",キー割付!D376=\"トーン5\",\"トーン5\",キー割付!D376=\"トーン6\",\"トーン6\",キー割付!D376=\"トーン7\",\"トーン7\",キー割付!D376=\"トーン7\",\"トーン7\",キー割付!D376=\"無鳴動着信\",\"トーン8\",キー割付!D376=\"グリーンスリーブス\",\"メロディ1\",キー割付!D376=\"峠の我が家\",\"メロディ2\",キー割付!D376=\"カノン\",\"メロディ3\",キー割付!D376=\"春の歌\",\"メロディ4\",キー割付!D376=\"主よ人の望みの喜びよ\",\"メロディ5\",キー割付!D376=\"メヌエット\",\"メロディ6\",キー割付!D376=\"華麗なる大円舞曲\",\"メロディ7\",キー割付!D376=\"ハンガリア舞曲第5番\",\"メロディ8\",TRUE,\"トーン1\")","v":"トーン1"},{"$f":"_xlfn.IFS(キー割付!E376=\"着信音なし\",\"トーン1\",キー割付!E376=\"トーン1\",\"トーン1\",キー割付!E376=\"トーン2\",\"トーン2\",キー割付!E376=\"トーン3\",\"トーン3\",キー割付!E376=\"トーン4\",\"トーン4\",キー割付!E376=\"トーン5\",\"トーン5\",キー割付!E376=\"トーン6\",\"トーン6\",キー割付!E376=\"トーン7\",\"トーン7\",キー割付!E376=\"トーン7\",\"トーン7\",キー割付!E376=\"無鳴動着信\",\"トーン8\",キー割付!E376=\"グリーンスリーブス\",\"メロディ1\",キー割付!E376=\"峠の我が家\",\"メロディ2\",キー割付!E376=\"カノン\",\"メロディ3\",キー割付!E376=\"春の歌\",\"メロディ4\",キー割付!E376=\"主よ人の望みの喜びよ\",\"メロディ5\",キー割付!E376=\"メヌエット\",\"メロディ6\",キー割付!E376=\"華麗なる大円舞曲\",\"メロディ7\",キー割付!E376=\"ハンガリア舞曲第5番\",\"メロディ8\",TRUE,\"トーン1\")","v":"トーン1"},{"$f":"IF(E67=\"ZX-DECLDIV-IPコードレス電話機\",\"トーン1\",_xlfn.IFS(キー割付!F376=\"着信音なし\",\"トーン1\",キー割付!F376=\"トーン1\",\"トーン1\",キー割付!F376=\"トーン2\",\"トーン2\",キー割付!F376=\"トーン3\",\"トーン3\",キー割付!F376=\"トーン4\",\"トーン4\",キー割付!F376=\"トーン5\",\"トーン5\",キー割付!F376=\"トーン6\",\"トーン6\",キー割付!F376=\"トーン7\",\"トーン7\",キー割付!F376=\"トーン7\",\"トーン7\",キー割付!F376=\"無鳴動着信\",\"トーン8\",キー割付!F376=\"グリーンスリーブス\",\"メロディ1\",キー割付!F376=\"峠の我が家\",\"メロディ2\",キー割付!F376=\"カノン\",\"メロディ3\",キー割付!F376=\"春の歌\",\"メロディ4\",キー割付!F376=\"主よ人の望みの喜びよ\",\"メロディ5\",キー割付!F376=\"メヌエット\",\"メロディ6\",キー割付!F376=\"華麗なる大円舞曲\",\"メロディ7\",キー割付!F376=\"ハンガリア舞曲第5番\",\"メロディ8\",TRUE,\"トーン1\"))","v":"トーン1"},{"$f":"IF(E67=\"ZX-DECLDIV-IPコードレス電話機\",\"トーン1\",_xlfn.IFS(キー割付!G376=\"着信音なし\",\"トーン1\",キー割付!G376=\"トーン1\",\"トーン1\",キー割付!G376=\"トーン2\",\"トーン2\",キー割付!G376=\"トーン3\",\"トーン3\",キー割付!G376=\"トーン4\",\"トーン4\",キー割付!G376=\"トーン5\",\"トーン5\",キー割付!G376=\"トーン6\",\"トーン6\",キー割付!G376=\"トーン7\",\"トーン7\",キー割付!G376=\"トーン7\",\"トーン7\",キー割付!G376=\"無鳴動着信\",\"トーン8\",キー割付!G376=\"グリーンスリーブス\",\"メロディ1\",キー割付!G376=\"峠の我が家\",\"メロディ2\",キー割付!G376=\"カノン\",\"メロディ3\",キー割付!G376=\"春の歌\",\"メロディ4\",キー割付!G376=\"主よ人の望みの喜びよ\",\"メロディ5\",キー割付!G376=\"メヌエット\",\"メロディ6\",キー割付!G376=\"華麗なる大円舞曲\",\"メロディ7\",キー割付!G376=\"ハンガリア舞曲第5番\",\"メロディ8\",TRUE,\"トーン1\"))","v":"トーン1"},{"$f":"IF(E67=\"ZX-DECLDIV-IPコードレス電話機\",\"トーン1\",_xlfn.IFS(キー割付!H376=\"着信音なし\",\"トーン1\",キー割付!H376=\"トーン1\",\"トーン1\",キー割付!H376=\"トーン2\",\"トーン2\",キー割付!H376=\"トーン3\",\"トーン3\",キー割付!H376=\"トーン4\",\"トーン4\",キー割付!H376=\"トーン5\",\"トーン5\",キー割付!H376=\"トーン6\",\"トーン6\",キー割付!H376=\"トーン7\",\"トーン7\",キー割付!H376=\"トーン7\",\"トーン7\",キー割付!H376=\"無鳴動着信\",\"トーン8\",キー割付!H376=\"グリーンスリーブス\",\"メロディ1\",キー割付!H376=\"峠の我が家\",\"メロディ2\",キー割付!H376=\"カノン\",\"メロディ3\",キー割付!H376=\"春の歌\",\"メロディ4\",キー割付!H376=\"主よ人の望みの喜びよ\",\"メロディ5\",キー割付!H376=\"メヌエット\",\"メロディ6\",キー割付!H376=\"華麗なる大円舞曲\",\"メロディ7\",キー割付!H376=\"ハンガリア舞曲第5番\",\"メロディ8\",TRUE,\"トーン1\"))","v":"トーン1"},{"$f":"IF(E67=\"ZX-DECLDIV-IPコードレス電話機\",\"トーン1\",_xlfn.IFS(キー割付!I376=\"着信音なし\",\"トーン1\",キー割付!I376=\"トーン1\",\"トーン1\",キー割付!I376=\"トーン2\",\"トーン2\",キー割付!I376=\"トーン3\",\"トーン3\",キー割付!I376=\"トーン4\",\"トーン4\",キー割付!I376=\"トーン5\",\"トーン5\",キー割付!I376=\"トーン6\",\"トーン6\",キー割付!I376=\"トーン7\",\"トーン7\",キー割付!I376=\"トーン7\",\"トーン7\",キー割付!I376=\"無鳴動着信\",\"トーン8\",キー割付!I376=\"グリーンスリーブス\",\"メロディ1\",キー割付!I376=\"峠の我が家\",\"メロディ2\",キー割付!I376=\"カノン\",\"メロディ3\",キー割付!I376=\"春の歌\",\"メロディ4\",キー割付!I376=\"主よ人の望みの喜びよ\",\"メロディ5\",キー割付!I376=\"メヌエット\",\"メロディ6\",キー割付!I376=\"華麗なる大円舞曲\",\"メロディ7\",キー割付!I376=\"ハンガリア舞曲第5番\",\"メロディ8\",TRUE,\"トーン1\"))","v":"トーン1"},{"$f":"IF(E67=\"ZX-DECLDIV-IPコードレス電話機\",\"トーン1\",_xlfn.IFS(キー割付!D384=\"着信音なし\",\"トーン1\",キー割付!D384=\"トーン1\",\"トーン1\",キー割付!D384=\"トーン2\",\"トーン2\",キー割付!D384=\"トーン3\",\"トーン3\",キー割付!D384=\"トーン4\",\"トーン4\",キー割付!D384=\"トーン5\",\"トーン5\",キー割付!D384=\"トーン6\",\"トーン6\",キー割付!D384=\"トーン7\",\"トーン7\",キー割付!D384=\"トーン7\",\"トーン7\",キー割付!D384=\"無鳴動着信\",\"トーン8\",キー割付!D384=\"グリーンスリーブス\",\"メロディ1\",キー割付!D384=\"峠の我が家\",\"メロディ2\",キー割付!D384=\"カノン\",\"メロディ3\",キー割付!D384=\"春の歌\",\"メロディ4\",キー割付!D384=\"主よ人の望みの喜びよ\",\"メロディ5\",キー割付!D384=\"メヌエット\",\"メロディ6\",キー割付!D384=\"華麗なる大円舞曲\",\"メロディ7\",キー割付!D384=\"ハンガリア舞曲第5番\",\"メロディ8\",TRUE,\"トーン1\"))","v":"トーン1"},{"$f":"IF(E67=\"ZX-DECLDIV-IPコードレス電話機\",\"トーン1\",_xlfn.IFS(キー割付!E384=\"着信音なし\",\"トーン1\",キー割付!E384=\"トーン1\",\"トーン1\",キー割付!E384=\"トーン2\",\"トーン2\",キー割付!E384=\"トーン3\",\"トーン3\",キー割付!E384=\"トーン4\",\"トーン4\",キー割付!E384=\"トーン5\",\"トーン5\",キー割付!E384=\"トーン6\",\"トーン6\",キー割付!E384=\"トーン7\",\"トーン7\",キー割付!E384=\"トーン7\",\"トーン7\",キー割付!E384=\"無鳴動着信\",\"トーン8\",キー割付!E384=\"グリーンスリーブス\",\"メロディ1\",キー割付!E384=\"峠の我が家\",\"メロディ2\",キー割付!E384=\"カノン\",\"メロディ3\",キー割付!E384=\"春の歌\",\"メロディ4\",キー割付!E384=\"主よ人の望みの喜びよ\",\"メロディ5\",キー割付!E384=\"メヌエット\",\"メロディ6\",キー割付!E384=\"華麗なる大円舞曲\",\"メロディ7\",キー割付!E384=\"ハンガリア舞曲第5番\",\"メロディ8\",TRUE,\"トーン1\"))","v":"トーン1"},{"$f":"IF(E67=\"ZX-DECLDIV-IPコードレス電話機\",\"トーン1\",_xlfn.IFS(キー割付!F384=\"着信音なし\",\"トーン1\",キー割付!F384=\"トーン1\",\"トーン1\",キー割付!F384=\"トーン2\",\"トーン2\",キー割付!F384=\"トーン3\",\"トーン3\",キー割付!F384=\"トーン4\",\"トーン4\",キー割付!F384=\"トーン5\",\"トーン5\",キー割付!F384=\"トーン6\",\"トーン6\",キー割付!F384=\"トーン7\",\"トーン7\",キー割付!F384=\"トーン7\",\"トーン7\",キー割付!F384=\"無鳴動着信\",\"トーン8\",キー割付!F384=\"グリーンスリーブス\",\"メロディ1\",キー割付!F384=\"峠の我が家\",\"メロディ2\",キー割付!F384=\"カノン\",\"メロディ3\",キー割付!F384=\"春の歌\",\"メロディ4\",キー割付!F384=\"主よ人の望みの喜びよ\",\"メロディ5\",キー割付!F384=\"メヌエット\",\"メロディ6\",キー割付!F384=\"華麗なる大円舞曲\",\"メロディ7\",キー割付!F384=\"ハンガリア舞曲第5番\",\"メロディ8\",TRUE,\"トーン1\"))","v":"トーン1"},{"$f":"IF(E67=\"ZX-DECLDIV-IPコードレス電話機\",\"トーン1\",_xlfn.IFS(キー割付!G384=\"着信音なし\",\"トーン1\",キー割付!G384=\"トーン1\",\"トーン1\",キー割付!G384=\"トーン2\",\"トーン2\",キー割付!G384=\"トーン3\",\"トーン3\",キー割付!G384=\"トーン4\",\"トーン4\",キー割付!G384=\"トーン5\",\"トーン5\",キー割付!G384=\"トーン6\",\"トーン6\",キー割付!G384=\"トーン7\",\"トーン7\",キー割付!G384=\"トーン7\",\"トーン7\",キー割付!G384=\"無鳴動着信\",\"トーン8\",キー割付!G384=\"グリーンスリーブス\",\"メロディ1\",キー割付!G384=\"峠の我が家\",\"メロディ2\",キー割付!G384=\"カノン\",\"メロディ3\",キー割付!G384=\"春の歌\",\"メロディ4\",キー割付!G384=\"主よ人の望みの喜びよ\",\"メロディ5\",キー割付!G384=\"メヌエット\",\"メロディ6\",キー割付!G384=\"華麗なる大円舞曲\",\"メロディ7\",キー割付!G384=\"ハンガリア舞曲第5番\",\"メロディ8\",TRUE,\"トーン1\"))","v":"トーン1"},{"$f":"IF(E67=\"ZX-DECLDIV-IPコードレス電話機\",\"トーン1\",_xlfn.IFS(キー割付!H384=\"着信音なし\",\"トーン1\",キー割付!H384=\"トーン1\",\"トーン1\",キー割付!H384=\"トーン2\",\"トーン2\",キー割付!H384=\"トーン3\",\"トーン3\",キー割付!H384=\"トーン4\",\"トーン4\",キー割付!H384=\"トーン5\",\"トーン5\",キー割付!H384=\"トーン6\",\"トーン6\",キー割付!H384=\"トーン7\",\"トーン7\",キー割付!H384=\"トーン7\",\"トーン7\",キー割付!H384=\"無鳴動着信\",\"トーン8\",キー割付!H384=\"グリーンスリーブス\",\"メロディ1\",キー割付!H384=\"峠の我が家\",\"メロディ2\",キー割付!H384=\"カノン\",\"メロディ3\",キー割付!H384=\"春の歌\",\"メロディ4\",キー割付!H384=\"主よ人の望みの喜びよ\",\"メロディ5\",キー割付!H384=\"メヌエット\",\"メロディ6\",キー割付!H384=\"華麗なる大円舞曲\",\"メロディ7\",キー割付!H384=\"ハンガリア舞曲第5番\",\"メロディ8\",TRUE,\"トーン1\"))","v":"トーン1"},{"$f":"IF(E67=\"ZX-DECLDIV-IPコードレス電話機\",\"トーン1\",_xlfn.IFS(キー割付!I384=\"着信音なし\",\"トーン1\",キー割付!I384=\"トーン1\",\"トーン1\",キー割付!I384=\"トーン2\",\"トーン2\",キー割付!I384=\"トーン3\",\"トーン3\",キー割付!I384=\"トーン4\",\"トーン4\",キー割付!I384=\"トーン5\",\"トーン5\",キー割付!I384=\"トーン6\",\"トーン6\",キー割付!I384=\"トーン7\",\"トーン7\",キー割付!I384=\"トーン7\",\"トーン7\",キー割付!I384=\"無鳴動着信\",\"トーン8\",キー割付!I384=\"グリーンスリーブス\",\"メロディ1\",キー割付!I384=\"峠の我が家\",\"メロディ2\",キー割付!I384=\"カノン\",\"メロディ3\",キー割付!I384=\"春の歌\",\"メロディ4\",キー割付!I384=\"主よ人の望みの喜びよ\",\"メロディ5\",キー割付!I384=\"メヌエット\",\"メロディ6\",キー割付!I384=\"華麗なる大円舞曲\",\"メロディ7\",キー割付!I384=\"ハンガリア舞曲第5番\",\"メロディ8\",TRUE,\"トーン1\"))","v":"トーン1"},{"$f":"IF(E67=\"ZX-DECLDIV-IPコードレス電話機\",\"トーン1\",_xlfn.IFS(キー割付!D392=\"着信音なし\",\"トーン1\",キー割付!D392=\"トーン1\",\"トーン1\",キー割付!D392=\"トーン2\",\"トーン2\",キー割付!D392=\"トーン3\",\"トーン3\",キー割付!D392=\"トーン4\",\"トーン4\",キー割付!D392=\"トーン5\",\"トーン5\",キー割付!D392=\"トーン6\",\"トーン6\",キー割付!D392=\"トーン7\",\"トーン7\",キー割付!D392=\"トーン7\",\"トーン7\",キー割付!D392=\"無鳴動着信\",\"トーン8\",キー割付!D392=\"グリーンスリーブス\",\"メロディ1\",キー割付!D392=\"峠の我が家\",\"メロディ2\",キー割付!D392=\"カノン\",\"メロディ3\",キー割付!D392=\"春の歌\",\"メロディ4\",キー割付!D392=\"主よ人の望みの喜びよ\",\"メロディ5\",キー割付!D392=\"メヌエット\",\"メロディ6\",キー割付!D392=\"華麗なる大円舞曲\",\"メロディ7\",キー割付!D392=\"ハンガリア舞曲第5番\",\"メロディ8\",TRUE,\"トーン1\"))","v":"トーン1"},{"$f":"IF(E67=\"ZX-DECLDIV-IPコードレス電話機\",\"トーン1\",_xlfn.IFS(キー割付!E392=\"着信音なし\",\"トーン1\",キー割付!E392=\"トーン1\",\"トーン1\",キー割付!E392=\"トーン2\",\"トーン2\",キー割付!E392=\"トーン3\",\"トーン3\",キー割付!E392=\"トーン4\",\"トーン4\",キー割付!E392=\"トーン5\",\"トーン5\",キー割付!E392=\"トーン6\",\"トーン6\",キー割付!E392=\"トーン7\",\"トーン7\",キー割付!E392=\"トーン7\",\"トーン7\",キー割付!E392=\"無鳴動着信\",\"トーン8\",キー割付!E392=\"グリーンスリーブス\",\"メロディ1\",キー割付!E392=\"峠の我が家\",\"メロディ2\",キー割付!E392=\"カノン\",\"メロディ3\",キー割付!E392=\"春の歌\",\"メロディ4\",キー割付!E392=\"主よ人の望みの喜びよ\",\"メロディ5\",キー割付!E392=\"メヌエット\",\"メロディ6\",キー割付!E392=\"華麗なる大円舞曲\",\"メロディ7\",キー割付!E392=\"ハンガリア舞曲第5番\",\"メロディ8\",TRUE,\"トーン1\"))","v":"トーン1"},{"$f":"IF(E67=\"ZX-DECLDIV-IPコードレス電話機\",\"トーン1\",_xlfn.IFS(キー割付!F392=\"着信音なし\",\"トーン1\",キー割付!F392=\"トーン1\",\"トーン1\",キー割付!F392=\"トーン2\",\"トーン2\",キー割付!F392=\"トーン3\",\"トーン3\",キー割付!F392=\"トーン4\",\"トーン4\",キー割付!F392=\"トーン5\",\"トーン5\",キー割付!F392=\"トーン6\",\"トーン6\",キー割付!F392=\"トーン7\",\"トーン7\",キー割付!F392=\"トーン7\",\"トーン7\",キー割付!F392=\"無鳴動着信\",\"トーン8\",キー割付!F392=\"グリーンスリーブス\",\"メロディ1\",キー割付!F392=\"峠の我が家\",\"メロディ2\",キー割付!F392=\"カノン\",\"メロディ3\",キー割付!F392=\"春の歌\",\"メロディ4\",キー割付!F392=\"主よ人の望みの喜びよ\",\"メロディ5\",キー割付!F392=\"メヌエット\",\"メロディ6\",キー割付!F392=\"華麗なる大円舞曲\",\"メロディ7\",キー割付!F392=\"ハンガリア舞曲第5番\",\"メロディ8\",TRUE,\"トーン1\"))","v":"トーン1"},{"$f":"IF(E67=\"ZX-DECLDIV-IPコードレス電話機\",\"トーン1\",_xlfn.IFS(キー割付!G392=\"着信音なし\",\"トーン1\",キー割付!G392=\"トーン1\",\"トーン1\",キー割付!G392=\"トーン2\",\"トーン2\",キー割付!G392=\"トーン3\",\"トーン3\",キー割付!G392=\"トーン4\",\"トーン4\",キー割付!G392=\"トーン5\",\"トーン5\",キー割付!G392=\"トーン6\",\"トーン6\",キー割付!G392=\"トーン7\",\"トーン7\",キー割付!G392=\"トーン7\",\"トーン7\",キー割付!G392=\"無鳴動着信\",\"トーン8\",キー割付!G392=\"グリーンスリーブス\",\"メロディ1\",キー割付!G392=\"峠の我が家\",\"メロディ2\",キー割付!G392=\"カノン\",\"メロディ3\",キー割付!G392=\"春の歌\",\"メロディ4\",キー割付!G392=\"主よ人の望みの喜びよ\",\"メロディ5\",キー割付!G392=\"メヌエット\",\"メロディ6\",キー割付!G392=\"華麗なる大円舞曲\",\"メロディ7\",キー割付!G392=\"ハンガリア舞曲第5番\",\"メロディ8\",TRUE,\"トーン1\"))","v":"トーン1"},{"$f":"IF(E67=\"ZX-DECLDIV-IPコードレス電話機\",\"トーン1\",_xlfn.IFS(キー割付!H392=\"着信音なし\",\"トーン1\",キー割付!H392=\"トーン1\",\"トーン1\",キー割付!H392=\"トーン2\",\"トーン2\",キー割付!H392=\"トーン3\",\"トーン3\",キー割付!H392=\"トーン4\",\"トーン4\",キー割付!H392=\"トーン5\",\"トーン5\",キー割付!H392=\"トーン6\",\"トーン6\",キー割付!H392=\"トーン7\",\"トーン7\",キー割付!H392=\"トーン7\",\"トーン7\",キー割付!H392=\"無鳴動着信\",\"トーン8\",キー割付!H392=\"グリーンスリーブス\",\"メロディ1\",キー割付!H392=\"峠の我が家\",\"メロディ2\",キー割付!H392=\"カノン\",\"メロディ3\",キー割付!H392=\"春の歌\",\"メロディ4\",キー割付!H392=\"主よ人の望みの喜びよ\",\"メロディ5\",キー割付!H392=\"メヌエット\",\"メロディ6\",キー割付!H392=\"華麗なる大円舞曲\",\"メロディ7\",キー割付!H392=\"ハンガリア舞曲第5番\",\"メロディ8\",TRUE,\"トーン1\"))","v":"トーン1"},{"$f":"IF(E67=\"ZX-DECLDIV-IPコードレス電話機\",\"トーン1\",_xlfn.IFS(キー割付!I392=\"着信音なし\",\"トーン1\",キー割付!I392=\"トーン1\",\"トーン1\",キー割付!I392=\"トーン2\",\"トーン2\",キー割付!I392=\"トーン3\",\"トーン3\",キー割付!I392=\"トーン4\",\"トーン4\",キー割付!I392=\"トーン5\",\"トーン5\",キー割付!I392=\"トーン6\",\"トーン6\",キー割付!I392=\"トーン7\",\"トーン7\",キー割付!I392=\"トーン7\",\"トーン7\",キー割付!I392=\"無鳴動着信\",\"トーン8\",キー割付!I392=\"グリーンスリーブス\",\"メロディ1\",キー割付!I392=\"峠の我が家\",\"メロディ2\",キー割付!I392=\"カノン\",\"メロディ3\",キー割付!I392=\"春の歌\",\"メロディ4\",キー割付!I392=\"主よ人の望みの喜びよ\",\"メロディ5\",キー割付!I392=\"メヌエット\",\"メロディ6\",キー割付!I392=\"華麗なる大円舞曲\",\"メロディ7\",キー割付!I392=\"ハンガリア舞曲第5番\",\"メロディ8\",TRUE,\"トーン1\"))","v":"トーン1"}]
[null,null,null,null,null,{"$f":"_xlfn.IFS(キー割付!D369=\"昼夜休憩\",\"B\",キー割付!D369=\"－－－\",\"-\",キー割付!D369=\"昼－－\",\"H\",キー割付!D369=\"－夜－\",\"N\",キー割付!D369=\"－－休憩\",\"P\",キー割付!D369=\"昼夜－\",\"D\",キー割付!D369=\"昼－休憩\",\"F\",キー割付!D369=\"－夜休憩\",\"K\",TRUE,\"-\")","v":"-"},{"$f":"_xlfn.IFS(キー割付!E369=\"昼夜休憩\",\"B\",キー割付!E369=\"－－－\",\"-\",キー割付!E369=\"昼－－\",\"H\",キー割付!E369=\"－夜－\",\"N\",キー割付!E369=\"－－休憩\",\"P\",キー割付!E369=\"昼夜－\",\"D\",キー割付!E369=\"昼－休憩\",\"F\",キー割付!E369=\"－夜休憩\",\"K\",TRUE,\"-\")","v":"-"},{"$f":"_xlfn.IFS(キー割付!F369=\"昼夜休憩\",\"B\",キー割付!F369=\"－－－\",\"-\",キー割付!F369=\"昼－－\",\"H\",キー割付!F369=\"－夜－\",\"N\",キー割付!F369=\"－－休憩\",\"P\",キー割付!F369=\"昼夜－\",\"D\",キー割付!F369=\"昼－休憩\",\"F\",キー割付!F369=\"－夜休憩\",\"K\",TRUE,\"-\")","v":"-"},{"$f":"_xlfn.IFS(キー割付!G369=\"昼夜休憩\",\"B\",キー割付!G369=\"－－－\",\"-\",キー割付!G369=\"昼－－\",\"H\",キー割付!G369=\"－夜－\",\"N\",キー割付!G369=\"－－休憩\",\"P\",キー割付!G369=\"昼夜－\",\"D\",キー割付!G369=\"昼－休憩\",\"F\",キー割付!G369=\"－夜休憩\",\"K\",TRUE,\"-\")","v":"-"},{"$f":"_xlfn.IFS(キー割付!H369=\"昼夜休憩\",\"B\",キー割付!H369=\"－－－\",\"-\",キー割付!H369=\"昼－－\",\"H\",キー割付!H369=\"－夜－\",\"N\",キー割付!H369=\"－－休憩\",\"P\",キー割付!H369=\"昼夜－\",\"D\",キー割付!H369=\"昼－休憩\",\"F\",キー割付!H369=\"－夜休憩\",\"K\",TRUE,\"-\")","v":"-"},{"$f":"_xlfn.IFS(キー割付!I369=\"昼夜休憩\",\"B\",キー割付!I369=\"－－－\",\"-\",キー割付!I369=\"昼－－\",\"H\",キー割付!I369=\"－夜－\",\"N\",キー割付!I369=\"－－休憩\",\"P\",キー割付!I369=\"昼夜－\",\"D\",キー割付!I369=\"昼－休憩\",\"F\",キー割付!I369=\"－夜休憩\",\"K\",TRUE,\"-\")","v":"-"},{"$f":"_xlfn.IFS(キー割付!D377=\"昼夜休憩\",\"B\",キー割付!D377=\"－－－\",\"-\",キー割付!D377=\"昼－－\",\"H\",キー割付!D377=\"－夜－\",\"N\",キー割付!D377=\"－－休憩\",\"P\",キー割付!D377=\"昼夜－\",\"D\",キー割付!D377=\"昼－休憩\",\"F\",キー割付!D377=\"－夜休憩\",\"K\",TRUE,\"-\")","v":"-"},{"$f":"_xlfn.IFS(キー割付!E377=\"昼夜休憩\",\"B\",キー割付!E377=\"－－－\",\"-\",キー割付!E377=\"昼－－\",\"H\",キー割付!E377=\"－夜－\",\"N\",キー割付!E377=\"－－休憩\",\"P\",キー割付!E377=\"昼夜－\",\"D\",キー割付!E377=\"昼－休憩\",\"F\",キー割付!E377=\"－夜休憩\",\"K\",TRUE,\"-\")","v":"-"},{"$f":"IF(E67=\"ZX-DECLDIV-IPコードレス電話機\",\"-\",_xlfn.IFS(キー割付!F377=\"昼夜休憩\",\"B\",キー割付!F377=\"－－－\",\"-\",キー割付!F377=\"昼－－\",\"H\",キー割付!F377=\"－夜－\",\"N\",キー割付!F377=\"－－休憩\",\"P\",キー割付!F377=\"昼夜－\",\"D\",キー割付!F377=\"昼－休憩\",\"F\",キー割付!F377=\"－夜休憩\",\"K\",TRUE,\"-\"))","v":"-"},{"$f":"IF(E67=\"ZX-DECLDIV-IPコードレス電話機\",\"-\",_xlfn.IFS(キー割付!G377=\"昼夜休憩\",\"B\",キー割付!G377=\"－－－\",\"-\",キー割付!G377=\"昼－－\",\"H\",キー割付!G377=\"－夜－\",\"N\",キー割付!G377=\"－－休憩\",\"P\",キー割付!G377=\"昼夜－\",\"D\",キー割付!G377=\"昼－休憩\",\"F\",キー割付!G377=\"－夜休憩\",\"K\",TRUE,\"-\"))","v":"-"},{"$f":"IF(E67=\"ZX-DECLDIV-IPコードレス電話機\",\"-\",_xlfn.IFS(キー割付!H377=\"昼夜休憩\",\"B\",キー割付!H377=\"－－－\",\"-\",キー割付!H377=\"昼－－\",\"H\",キー割付!H377=\"－夜－\",\"N\",キー割付!H377=\"－－休憩\",\"P\",キー割付!H377=\"昼夜－\",\"D\",キー割付!H377=\"昼－休憩\",\"F\",キー割付!H377=\"－夜休憩\",\"K\",TRUE,\"-\"))","v":"-"},{"$f":"IF(E67=\"ZX-DECLDIV-IPコードレス電話機\",\"-\",_xlfn.IFS(キー割付!I377=\"昼夜休憩\",\"B\",キー割付!I377=\"－－－\",\"-\",キー割付!I377=\"昼－－\",\"H\",キー割付!I377=\"－夜－\",\"N\",キー割付!I377=\"－－休憩\",\"P\",キー割付!I377=\"昼夜－\",\"D\",キー割付!I377=\"昼－休憩\",\"F\",キー割付!I377=\"－夜休憩\",\"K\",TRUE,\"-\"))","v":"-"},{"$f":"IF(E67=\"ZX-DECLDIV-IPコードレス電話機\",\"-\",_xlfn.IFS(キー割付!D385=\"昼夜休憩\",\"B\",キー割付!D385=\"－－－\",\"-\",キー割付!D385=\"昼－－\",\"H\",キー割付!D385=\"－夜－\",\"N\",キー割付!D385=\"－－休憩\",\"P\",キー割付!D385=\"昼夜－\",\"D\",キー割付!D385=\"昼－休憩\",\"F\",キー割付!D385=\"－夜休憩\",\"K\",TRUE,\"-\"))","v":"-"},{"$f":"IF(E67=\"ZX-DECLDIV-IPコードレス電話機\",\"-\",_xlfn.IFS(キー割付!E385=\"昼夜休憩\",\"B\",キー割付!E385=\"－－－\",\"-\",キー割付!E385=\"昼－－\",\"H\",キー割付!E385=\"－夜－\",\"N\",キー割付!E385=\"－－休憩\",\"P\",キー割付!E385=\"昼夜－\",\"D\",キー割付!E385=\"昼－休憩\",\"F\",キー割付!E385=\"－夜休憩\",\"K\",TRUE,\"-\"))","v":"-"},{"$f":"IF(E67=\"ZX-DECLDIV-IPコードレス電話機\",\"-\",_xlfn.IFS(キー割付!F385=\"昼夜休憩\",\"B\",キー割付!F385=\"－－－\",\"-\",キー割付!F385=\"昼－－\",\"H\",キー割付!F385=\"－夜－\",\"N\",キー割付!F385=\"－－休憩\",\"P\",キー割付!F385=\"昼夜－\",\"D\",キー割付!F385=\"昼－休憩\",\"F\",キー割付!F385=\"－夜休憩\",\"K\",TRUE,\"-\"))","v":"-"},{"$f":"IF(E67=\"ZX-DECLDIV-IPコードレス電話機\",\"-\",_xlfn.IFS(キー割付!G385=\"昼夜休憩\",\"B\",キー割付!G385=\"－－－\",\"-\",キー割付!G385=\"昼－－\",\"H\",キー割付!G385=\"－夜－\",\"N\",キー割付!G385=\"－－休憩\",\"P\",キー割付!G385=\"昼夜－\",\"D\",キー割付!G385=\"昼－休憩\",\"F\",キー割付!G385=\"－夜休憩\",\"K\",TRUE,\"-\"))","v":"-"},{"$f":"IF(E67=\"ZX-DECLDIV-IPコードレス電話機\",\"-\",_xlfn.IFS(キー割付!H385=\"昼夜休憩\",\"B\",キー割付!H385=\"－－－\",\"-\",キー割付!H385=\"昼－－\",\"H\",キー割付!H385=\"－夜－\",\"N\",キー割付!H385=\"－－休憩\",\"P\",キー割付!H385=\"昼夜－\",\"D\",キー割付!H385=\"昼－休憩\",\"F\",キー割付!H385=\"－夜休憩\",\"K\",TRUE,\"-\"))","v":"-"},{"$f":"IF(E67=\"ZX-DECLDIV-IPコードレス電話機\",\"-\",_xlfn.IFS(キー割付!I385=\"昼夜休憩\",\"B\",キー割付!I385=\"－－－\",\"-\",キー割付!I385=\"昼－－\",\"H\",キー割付!I385=\"－夜－\",\"N\",キー割付!I385=\"－－休憩\",\"P\",キー割付!I385=\"昼夜－\",\"D\",キー割付!I385=\"昼－休憩\",\"F\",キー割付!I385=\"－夜休憩\",\"K\",TRUE,\"-\"))","v":"-"},{"$f":"IF(E67=\"ZX-DECLDIV-IPコードレス電話機\",\"-\",_xlfn.IFS(キー割付!D393=\"昼夜休憩\",\"B\",キー割付!D393=\"－－－\",\"-\",キー割付!D393=\"昼－－\",\"H\",キー割付!D393=\"－夜－\",\"N\",キー割付!D393=\"－－休憩\",\"P\",キー割付!D393=\"昼夜－\",\"D\",キー割付!D393=\"昼－休憩\",\"F\",キー割付!D393=\"－夜休憩\",\"K\",TRUE,\"-\"))","v":"-"},{"$f":"IF(E67=\"ZX-DECLDIV-IPコードレス電話機\",\"-\",_xlfn.IFS(キー割付!E393=\"昼夜休憩\",\"B\",キー割付!E393=\"－－－\",\"-\",キー割付!E393=\"昼－－\",\"H\",キー割付!E393=\"－夜－\",\"N\",キー割付!E393=\"－－休憩\",\"P\",キー割付!E393=\"昼夜－\",\"D\",キー割付!E393=\"昼－休憩\",\"F\",キー割付!E393=\"－夜休憩\",\"K\",TRUE,\"-\"))","v":"-"},{"$f":"IF(E67=\"ZX-DECLDIV-IPコードレス電話機\",\"-\",_xlfn.IFS(キー割付!F393=\"昼夜休憩\",\"B\",キー割付!F393=\"－－－\",\"-\",キー割付!F393=\"昼－－\",\"H\",キー割付!F393=\"－夜－\",\"N\",キー割付!F393=\"－－休憩\",\"P\",キー割付!F393=\"昼夜－\",\"D\",キー割付!F393=\"昼－休憩\",\"F\",キー割付!F393=\"－夜休憩\",\"K\",TRUE,\"-\"))","v":"-"},{"$f":"IF(E67=\"ZX-DECLDIV-IPコードレス電話機\",\"-\",_xlfn.IFS(キー割付!G393=\"昼夜休憩\",\"B\",キー割付!G393=\"－－－\",\"-\",キー割付!G393=\"昼－－\",\"H\",キー割付!G393=\"－夜－\",\"N\",キー割付!G393=\"－－休憩\",\"P\",キー割付!G393=\"昼夜－\",\"D\",キー割付!G393=\"昼－休憩\",\"F\",キー割付!G393=\"－夜休憩\",\"K\",TRUE,\"-\"))","v":"-"},{"$f":"IF(E67=\"ZX-DECLDIV-IPコードレス電話機\",\"-\",_xlfn.IFS(キー割付!H393=\"昼夜休憩\",\"B\",キー割付!H393=\"－－－\",\"-\",キー割付!H393=\"昼－－\",\"H\",キー割付!H393=\"－夜－\",\"N\",キー割付!H393=\"－－休憩\",\"P\",キー割付!H393=\"昼夜－\",\"D\",キー割付!H393=\"昼－休憩\",\"F\",キー割付!H393=\"－夜休憩\",\"K\",TRUE,\"-\"))","v":"-"},{"$f":"IF(E67=\"ZX-DECLDIV-IPコードレス電話機\",\"-\",_xlfn.IFS(キー割付!I393=\"昼夜休憩\",\"B\",キー割付!I393=\"－－－\",\"-\",キー割付!I393=\"昼－－\",\"H\",キー割付!I393=\"－夜－\",\"N\",キー割付!I393=\"－－休憩\",\"P\",キー割付!I393=\"昼夜－\",\"D\",キー割付!I393=\"昼－休憩\",\"F\",キー割付!I393=\"－夜休憩\",\"K\",TRUE,\"-\"))","v":"-"}]
[null,22,{"$f":"IF(IFERROR(VALUE(VLOOKUP(B70,内線_キー割用,2,FALSE)),\"\")=0,\"\",IFERROR(VALUE(VLOOKUP(B70,内線_キー割用,2,FALSE)),\"\"))","v":""},{"$f":"IF(IFERROR(VALUE(VLOOKUP(B70,内線_キー割用,4,FALSE)),\"\")=0,\"\",IFERROR(VALUE(VLOOKUP(B70,内線_キー割用,4,FALSE)),\"\"))","v":""},{"$f":"IF(IFERROR(VLOOKUP(B70,内線_キー割用,3,FALSE),\"\")=0,\"\",IFERROR(VLOOKUP(B70,内線_キー割用,3,FALSE),\"\"))","v":""},{"$f":"IF(キー割付!N367=\"\",\"未使用\",キー割付!N367)","v":"未使用"},{"$f":"IF(キー割付!O367=\"\",\"未使用\",キー割付!O367)","v":"未使用"},{"$f":"IF(キー割付!P367=\"\",\"未使用\",キー割付!P367)","v":"未使用"},{"$f":"IF(キー割付!Q367=\"\",\"未使用\",キー割付!Q367)","v":"未使用"},{"$f":"IF(キー割付!R367=\"\",\"未使用\",キー割付!R367)","v":"未使用"},{"$f":"IF(キー割付!S367=\"\",\"未使用\",キー割付!S367)","v":"未使用"},{"$f":"IF(キー割付!N375=\"\",\"未使用\",キー割付!N375)","v":"未使用"},{"$f":"IF(キー割付!O375=\"\",\"未使用\",キー割付!O375)","v":"未使用"},{"$f":"IF(E70=\"ZX-DECLDIV-IPコードレス電話機\",\"未使用\",IF(キー割付!P375=\"\",\"未使用\",キー割付!P375))","v":"未使用"},{"$f":"IF(E70=\"ZX-DECLDIV-IPコードレス電話機\",\"未使用\",IF(キー割付!Q375=\"\",\"未使用\",キー割付!Q375))","v":"未使用"},{"$f":"IF(E70=\"ZX-DECLDIV-IPコードレス電話機\",\"未使用\",IF(キー割付!R375=\"\",\"未使用\",キー割付!R375))","v":"未使用"},{"$f":"IF(E70=\"ZX-DECLDIV-IPコードレス電話機\",\"未使用\",IF(キー割付!S375=\"\",\"未使用\",キー割付!S375))","v":"未使用"},{"$f":"IF(E70=\"ZX-DECLDIV-IPコードレス電話機\",\"未使用\",IF(キー割付!N383=\"\",\"未使用\",キー割付!N383))","v":"未使用"},{"$f":"IF(E70=\"ZX-DECLDIV-IPコードレス電話機\",\"未使用\",IF(キー割付!O383=\"\",\"未使用\",キー割付!O383))","v":"未使用"},{"$f":"IF(E70=\"ZX-DECLDIV-IPコードレス電話機\",\"未使用\",IF(キー割付!P383=\"\",\"未使用\",キー割付!P383))","v":"未使用"},{"$f":"IF(E70=\"ZX-DECLDIV-IPコードレス電話機\",\"未使用\",IF(キー割付!Q383=\"\",\"未使用\",キー割付!Q383))","v":"未使用"},{"$f":"IF(E70=\"ZX-DECLDIV-IPコードレス電話機\",\"未使用\",IF(キー割付!R383=\"\",\"未使用\",キー割付!R383))","v":"未使用"},{"$f":"IF(E70=\"ZX-DECLDIV-IPコードレス電話機\",\"未使用\",IF(キー割付!S383=\"\",\"未使用\",キー割付!S383))","v":"未使用"},{"$f":"IF(E70=\"ZX-DECLDIV-IPコードレス電話機\",\"未使用\",IF(キー割付!N391=\"\",\"未使用\",キー割付!N391))","v":"未使用"},{"$f":"IF(E70=\"ZX-DECLDIV-IPコードレス電話機\",\"未使用\",IF(キー割付!O391=\"\",\"未使用\",キー割付!O391))","v":"未使用"},{"$f":"IF(E70=\"ZX-DECLDIV-IPコードレス電話機\",\"未使用\",IF(キー割付!P391=\"\",\"未使用\",キー割付!P391))","v":"未使用"},{"$f":"IF(E70=\"ZX-DECLDIV-IPコードレス電話機\",\"未使用\",IF(キー割付!Q391=\"\",\"未使用\",キー割付!Q391))","v":"未使用"},{"$f":"IF(E70=\"ZX-DECLDIV-IPコードレス電話機\",\"未使用\",IF(キー割付!R391=\"\",\"未使用\",キー割付!R391))","v":"未使用"},{"$f":"IF(E70=\"ZX-DECLDIV-IPコードレス電話機\",\"未使用\",IF(キー割付!S391=\"\",\"未使用\",キー割付!S391))","v":"未使用"}]
[null,null,null,null,null,{"$f":"_xlfn.IFS(キー割付!N368=\"着信音なし\",\"トーン1\",キー割付!N368=\"トーン1\",\"トーン1\",キー割付!N368=\"トーン2\",\"トーン2\",キー割付!N368=\"トーン3\",\"トーン3\",キー割付!N368=\"トーン4\",\"トーン4\",キー割付!N368=\"トーン5\",\"トーン5\",キー割付!N368=\"トーン6\",\"トーン6\",キー割付!N368=\"トーン7\",\"トーン7\",キー割付!N368=\"トーン7\",\"トーン7\",キー割付!N368=\"無鳴動着信\",\"トーン8\",キー割付!N368=\"グリーンスリーブス\",\"メロディ1\",キー割付!N368=\"峠の我が家\",\"メロディ2\",キー割付!N368=\"カノン\",\"メロディ3\",キー割付!N368=\"春の歌\",\"メロディ4\",キー割付!N368=\"主よ人の望みの喜びよ\",\"メロディ5\",キー割付!N368=\"メヌエット\",\"メロディ6\",キー割付!N368=\"華麗なる大円舞曲\",\"メロディ7\",キー割付!N368=\"ハンガリア舞曲第5番\",\"メロディ8\",TRUE,\"トーン1\")","v":"トーン1"},{"$f":"_xlfn.IFS(キー割付!O368=\"着信音なし\",\"トーン1\",キー割付!O368=\"トーン1\",\"トーン1\",キー割付!O368=\"トーン2\",\"トーン2\",キー割付!O368=\"トーン3\",\"トーン3\",キー割付!O368=\"トーン4\",\"トーン4\",キー割付!O368=\"トーン5\",\"トーン5\",キー割付!O368=\"トーン6\",\"トーン6\",キー割付!O368=\"トーン7\",\"トーン7\",キー割付!O368=\"トーン7\",\"トーン7\",キー割付!O368=\"無鳴動着信\",\"トーン8\",キー割付!O368=\"グリーンスリーブス\",\"メロディ1\",キー割付!O368=\"峠の我が家\",\"メロディ2\",キー割付!O368=\"カノン\",\"メロディ3\",キー割付!O368=\"春の歌\",\"メロディ4\",キー割付!O368=\"主よ人の望みの喜びよ\",\"メロディ5\",キー割付!O368=\"メヌエット\",\"メロディ6\",キー割付!O368=\"華麗なる大円舞曲\",\"メロディ7\",キー割付!O368=\"ハンガリア舞曲第5番\",\"メロディ8\",TRUE,\"トーン1\")","v":"トーン1"},{"$f":"_xlfn.IFS(キー割付!P368=\"着信音なし\",\"トーン1\",キー割付!P368=\"トーン1\",\"トーン1\",キー割付!P368=\"トーン2\",\"トーン2\",キー割付!P368=\"トーン3\",\"トーン3\",キー割付!P368=\"トーン4\",\"トーン4\",キー割付!P368=\"トーン5\",\"トーン5\",キー割付!P368=\"トーン6\",\"トーン6\",キー割付!P368=\"トーン7\",\"トーン7\",キー割付!P368=\"トーン7\",\"トーン7\",キー割付!P368=\"無鳴動着信\",\"トーン8\",キー割付!P368=\"グリーンスリーブス\",\"メロディ1\",キー割付!P368=\"峠の我が家\",\"メロディ2\",キー割付!P368=\"カノン\",\"メロディ3\",キー割付!P368=\"春の歌\",\"メロディ4\",キー割付!P368=\"主よ人の望みの喜びよ\",\"メロディ5\",キー割付!P368=\"メヌエット\",\"メロディ6\",キー割付!P368=\"華麗なる大円舞曲\",\"メロディ7\",キー割付!P368=\"ハンガリア舞曲第5番\",\"メロディ8\",TRUE,\"トーン1\")","v":"トーン1"},{"$f":"_xlfn.IFS(キー割付!Q368=\"着信音なし\",\"トーン1\",キー割付!Q368=\"トーン1\",\"トーン1\",キー割付!Q368=\"トーン2\",\"トーン2\",キー割付!Q368=\"トーン3\",\"トーン3\",キー割付!Q368=\"トーン4\",\"トーン4\",キー割付!Q368=\"トーン5\",\"トーン5\",キー割付!Q368=\"トーン6\",\"トーン6\",キー割付!Q368=\"トーン7\",\"トーン7\",キー割付!Q368=\"トーン7\",\"トーン7\",キー割付!Q368=\"無鳴動着信\",\"トーン8\",キー割付!Q368=\"グリーンスリーブス\",\"メロディ1\",キー割付!Q368=\"峠の我が家\",\"メロディ2\",キー割付!Q368=\"カノン\",\"メロディ3\",キー割付!Q368=\"春の歌\",\"メロディ4\",キー割付!Q368=\"主よ人の望みの喜びよ\",\"メロディ5\",キー割付!Q368=\"メヌエット\",\"メロディ6\",キー割付!Q368=\"華麗なる大円舞曲\",\"メロディ7\",キー割付!Q368=\"ハンガリア舞曲第5番\",\"メロディ8\",TRUE,\"トーン1\")","v":"トーン1"},{"$f":"_xlfn.IFS(キー割付!R368=\"着信音なし\",\"トーン1\",キー割付!R368=\"トーン1\",\"トーン1\",キー割付!R368=\"トーン2\",\"トーン2\",キー割付!R368=\"トーン3\",\"トーン3\",キー割付!R368=\"トーン4\",\"トーン4\",キー割付!R368=\"トーン5\",\"トーン5\",キー割付!R368=\"トーン6\",\"トーン6\",キー割付!R368=\"トーン7\",\"トーン7\",キー割付!R368=\"トーン7\",\"トーン7\",キー割付!R368=\"無鳴動着信\",\"トーン8\",キー割付!R368=\"グリーンスリーブス\",\"メロディ1\",キー割付!R368=\"峠の我が家\",\"メロディ2\",キー割付!R368=\"カノン\",\"メロディ3\",キー割付!R368=\"春の歌\",\"メロディ4\",キー割付!R368=\"主よ人の望みの喜びよ\",\"メロディ5\",キー割付!R368=\"メヌエット\",\"メロディ6\",キー割付!R368=\"華麗なる大円舞曲\",\"メロディ7\",キー割付!R368=\"ハンガリア舞曲第5番\",\"メロディ8\",TRUE,\"トーン1\")","v":"トーン1"},{"$f":"_xlfn.IFS(キー割付!S368=\"着信音なし\",\"トーン1\",キー割付!S368=\"トーン1\",\"トーン1\",キー割付!S368=\"トーン2\",\"トーン2\",キー割付!S368=\"トーン3\",\"トーン3\",キー割付!S368=\"トーン4\",\"トーン4\",キー割付!S368=\"トーン5\",\"トーン5\",キー割付!S368=\"トーン6\",\"トーン6\",キー割付!S368=\"トーン7\",\"トーン7\",キー割付!S368=\"トーン7\",\"トーン7\",キー割付!S368=\"無鳴動着信\",\"トーン8\",キー割付!S368=\"グリーンスリーブス\",\"メロディ1\",キー割付!S368=\"峠の我が家\",\"メロディ2\",キー割付!S368=\"カノン\",\"メロディ3\",キー割付!S368=\"春の歌\",\"メロディ4\",キー割付!S368=\"主よ人の望みの喜びよ\",\"メロディ5\",キー割付!S368=\"メヌエット\",\"メロディ6\",キー割付!S368=\"華麗なる大円舞曲\",\"メロディ7\",キー割付!S368=\"ハンガリア舞曲第5番\",\"メロディ8\",TRUE,\"トーン1\")","v":"トーン1"},{"$f":"_xlfn.IFS(キー割付!N376=\"着信音なし\",\"トーン1\",キー割付!N376=\"トーン1\",\"トーン1\",キー割付!N376=\"トーン2\",\"トーン2\",キー割付!N376=\"トーン3\",\"トーン3\",キー割付!N376=\"トーン4\",\"トーン4\",キー割付!N376=\"トーン5\",\"トーン5\",キー割付!N376=\"トーン6\",\"トーン6\",キー割付!N376=\"トーン7\",\"トーン7\",キー割付!N376=\"トーン7\",\"トーン7\",キー割付!N376=\"無鳴動着信\",\"トーン8\",キー割付!N376=\"グリーンスリーブス\",\"メロディ1\",キー割付!N376=\"峠の我が家\",\"メロディ2\",キー割付!N376=\"カノン\",\"メロディ3\",キー割付!N376=\"春の歌\",\"メロディ4\",キー割付!N376=\"主よ人の望みの喜びよ\",\"メロディ5\",キー割付!N376=\"メヌエット\",\"メロディ6\",キー割付!N376=\"華麗なる大円舞曲\",\"メロディ7\",キー割付!N376=\"ハンガリア舞曲第5番\",\"メロディ8\",TRUE,\"トーン1\")","v":"トーン1"},{"$f":"_xlfn.IFS(キー割付!O376=\"着信音なし\",\"トーン1\",キー割付!O376=\"トーン1\",\"トーン1\",キー割付!O376=\"トーン2\",\"トーン2\",キー割付!O376=\"トーン3\",\"トーン3\",キー割付!O376=\"トーン4\",\"トーン4\",キー割付!O376=\"トーン5\",\"トーン5\",キー割付!O376=\"トーン6\",\"トーン6\",キー割付!O376=\"トーン7\",\"トーン7\",キー割付!O376=\"トーン7\",\"トーン7\",キー割付!O376=\"無鳴動着信\",\"トーン8\",キー割付!O376=\"グリーンスリーブス\",\"メロディ1\",キー割付!O376=\"峠の我が家\",\"メロディ2\",キー割付!O376=\"カノン\",\"メロディ3\",キー割付!O376=\"春の歌\",\"メロディ4\",キー割付!O376=\"主よ人の望みの喜びよ\",\"メロディ5\",キー割付!O376=\"メヌエット\",\"メロディ6\",キー割付!O376=\"華麗なる大円舞曲\",\"メロディ7\",キー割付!O376=\"ハンガリア舞曲第5番\",\"メロディ8\",TRUE,\"トーン1\")","v":"トーン1"},{"$f":"IF(E70=\"ZX-DECLDIV-IPコードレス電話機\",\"トーン1\",_xlfn.IFS(キー割付!P376=\"着信音なし\",\"トーン1\",キー割付!P376=\"トーン1\",\"トーン1\",キー割付!P376=\"トーン2\",\"トーン2\",キー割付!P376=\"トーン3\",\"トーン3\",キー割付!P376=\"トーン4\",\"トーン4\",キー割付!P376=\"トーン5\",\"トーン5\",キー割付!P376=\"トーン6\",\"トーン6\",キー割付!P376=\"トーン7\",\"トーン7\",キー割付!P376=\"トーン7\",\"トーン7\",キー割付!P376=\"無鳴動着信\",\"トーン8\",キー割付!P376=\"グリーンスリーブス\",\"メロディ1\",キー割付!P376=\"峠の我が家\",\"メロディ2\",キー割付!P376=\"カノン\",\"メロディ3\",キー割付!P376=\"春の歌\",\"メロディ4\",キー割付!P376=\"主よ人の望みの喜びよ\",\"メロディ5\",キー割付!P376=\"メヌエット\",\"メロディ6\",キー割付!P376=\"華麗なる大円舞曲\",\"メロディ7\",キー割付!P376=\"ハンガリア舞曲第5番\",\"メロディ8\",TRUE,\"トーン1\"))","v":"トーン1"},{"$f":"IF(E70=\"ZX-DECLDIV-IPコードレス電話機\",\"トーン1\",_xlfn.IFS(キー割付!Q376=\"着信音なし\",\"トーン1\",キー割付!Q376=\"トーン1\",\"トーン1\",キー割付!Q376=\"トーン2\",\"トーン2\",キー割付!Q376=\"トーン3\",\"トーン3\",キー割付!Q376=\"トーン4\",\"トーン4\",キー割付!Q376=\"トーン5\",\"トーン5\",キー割付!Q376=\"トーン6\",\"トーン6\",キー割付!Q376=\"トーン7\",\"トーン7\",キー割付!Q376=\"トーン7\",\"トーン7\",キー割付!Q376=\"無鳴動着信\",\"トーン8\",キー割付!Q376=\"グリーンスリーブス\",\"メロディ1\",キー割付!Q376=\"峠の我が家\",\"メロディ2\",キー割付!Q376=\"カノン\",\"メロディ3\",キー割付!Q376=\"春の歌\",\"メロディ4\",キー割付!Q376=\"主よ人の望みの喜びよ\",\"メロディ5\",キー割付!Q376=\"メヌエット\",\"メロディ6\",キー割付!Q376=\"華麗なる大円舞曲\",\"メロディ7\",キー割付!Q376=\"ハンガリア舞曲第5番\",\"メロディ8\",TRUE,\"トーン1\"))","v":"トーン1"},{"$f":"IF(E70=\"ZX-DECLDIV-IPコードレス電話機\",\"トーン1\",_xlfn.IFS(キー割付!R376=\"着信音なし\",\"トーン1\",キー割付!R376=\"トーン1\",\"トーン1\",キー割付!R376=\"トーン2\",\"トーン2\",キー割付!R376=\"トーン3\",\"トーン3\",キー割付!R376=\"トーン4\",\"トーン4\",キー割付!R376=\"トーン5\",\"トーン5\",キー割付!R376=\"トーン6\",\"トーン6\",キー割付!R376=\"トーン7\",\"トーン7\",キー割付!R376=\"トーン7\",\"トーン7\",キー割付!R376=\"無鳴動着信\",\"トーン8\",キー割付!R376=\"グリーンスリーブス\",\"メロディ1\",キー割付!R376=\"峠の我が家\",\"メロディ2\",キー割付!R376=\"カノン\",\"メロディ3\",キー割付!R376=\"春の歌\",\"メロディ4\",キー割付!R376=\"主よ人の望みの喜びよ\",\"メロディ5\",キー割付!R376=\"メヌエット\",\"メロディ6\",キー割付!R376=\"華麗なる大円舞曲\",\"メロディ7\",キー割付!R376=\"ハンガリア舞曲第5番\",\"メロディ8\",TRUE,\"トーン1\"))","v":"トーン1"},{"$f":"IF(E70=\"ZX-DECLDIV-IPコードレス電話機\",\"トーン1\",_xlfn.IFS(キー割付!S376=\"着信音なし\",\"トーン1\",キー割付!S376=\"トーン1\",\"トーン1\",キー割付!S376=\"トーン2\",\"トーン2\",キー割付!S376=\"トーン3\",\"トーン3\",キー割付!S376=\"トーン4\",\"トーン4\",キー割付!S376=\"トーン5\",\"トーン5\",キー割付!S376=\"トーン6\",\"トーン6\",キー割付!S376=\"トーン7\",\"トーン7\",キー割付!S376=\"トーン7\",\"トーン7\",キー割付!S376=\"無鳴動着信\",\"トーン8\",キー割付!S376=\"グリーンスリーブス\",\"メロディ1\",キー割付!S376=\"峠の我が家\",\"メロディ2\",キー割付!S376=\"カノン\",\"メロディ3\",キー割付!S376=\"春の歌\",\"メロディ4\",キー割付!S376=\"主よ人の望みの喜びよ\",\"メロディ5\",キー割付!S376=\"メヌエット\",\"メロディ6\",キー割付!S376=\"華麗なる大円舞曲\",\"メロディ7\",キー割付!S376=\"ハンガリア舞曲第5番\",\"メロディ8\",TRUE,\"トーン1\"))","v":"トーン1"},{"$f":"IF(E70=\"ZX-DECLDIV-IPコードレス電話機\",\"トーン1\",_xlfn.IFS(キー割付!N384=\"着信音なし\",\"トーン1\",キー割付!N384=\"トーン1\",\"トーン1\",キー割付!N384=\"トーン2\",\"トーン2\",キー割付!N384=\"トーン3\",\"トーン3\",キー割付!N384=\"トーン4\",\"トーン4\",キー割付!N384=\"トーン5\",\"トーン5\",キー割付!N384=\"トーン6\",\"トーン6\",キー割付!N384=\"トーン7\",\"トーン7\",キー割付!N384=\"トーン7\",\"トーン7\",キー割付!N384=\"無鳴動着信\",\"トーン8\",キー割付!N384=\"グリーンスリーブス\",\"メロディ1\",キー割付!N384=\"峠の我が家\",\"メロディ2\",キー割付!N384=\"カノン\",\"メロディ3\",キー割付!N384=\"春の歌\",\"メロディ4\",キー割付!N384=\"主よ人の望みの喜びよ\",\"メロディ5\",キー割付!N384=\"メヌエット\",\"メロディ6\",キー割付!N384=\"華麗なる大円舞曲\",\"メロディ7\",キー割付!N384=\"ハンガリア舞曲第5番\",\"メロディ8\",TRUE,\"トーン1\"))","v":"トーン1"},{"$f":"IF(E70=\"ZX-DECLDIV-IPコードレス電話機\",\"トーン1\",_xlfn.IFS(キー割付!O384=\"着信音なし\",\"トーン1\",キー割付!O384=\"トーン1\",\"トーン1\",キー割付!O384=\"トーン2\",\"トーン2\",キー割付!O384=\"トーン3\",\"トーン3\",キー割付!O384=\"トーン4\",\"トーン4\",キー割付!O384=\"トーン5\",\"トーン5\",キー割付!O384=\"トーン6\",\"トーン6\",キー割付!O384=\"トーン7\",\"トーン7\",キー割付!O384=\"トーン7\",\"トーン7\",キー割付!O384=\"無鳴動着信\",\"トーン8\",キー割付!O384=\"グリーンスリーブス\",\"メロディ1\",キー割付!O384=\"峠の我が家\",\"メロディ2\",キー割付!O384=\"カノン\",\"メロディ3\",キー割付!O384=\"春の歌\",\"メロディ4\",キー割付!O384=\"主よ人の望みの喜びよ\",\"メロディ5\",キー割付!O384=\"メヌエット\",\"メロディ6\",キー割付!O384=\"華麗なる大円舞曲\",\"メロディ7\",キー割付!O384=\"ハンガリア舞曲第5番\",\"メロディ8\",TRUE,\"トーン1\"))","v":"トーン1"},{"$f":"IF(E70=\"ZX-DECLDIV-IPコードレス電話機\",\"トーン1\",_xlfn.IFS(キー割付!P384=\"着信音なし\",\"トーン1\",キー割付!P384=\"トーン1\",\"トーン1\",キー割付!P384=\"トーン2\",\"トーン2\",キー割付!P384=\"トーン3\",\"トーン3\",キー割付!P384=\"トーン4\",\"トーン4\",キー割付!P384=\"トーン5\",\"トーン5\",キー割付!P384=\"トーン6\",\"トーン6\",キー割付!P384=\"トーン7\",\"トーン7\",キー割付!P384=\"トーン7\",\"トーン7\",キー割付!P384=\"無鳴動着信\",\"トーン8\",キー割付!P384=\"グリーンスリーブス\",\"メロディ1\",キー割付!P384=\"峠の我が家\",\"メロディ2\",キー割付!P384=\"カノン\",\"メロディ3\",キー割付!P384=\"春の歌\",\"メロディ4\",キー割付!P384=\"主よ人の望みの喜びよ\",\"メロディ5\",キー割付!P384=\"メヌエット\",\"メロディ6\",キー割付!P384=\"華麗なる大円舞曲\",\"メロディ7\",キー割付!P384=\"ハンガリア舞曲第5番\",\"メロディ8\",TRUE,\"トーン1\"))","v":"トーン1"},{"$f":"IF(E70=\"ZX-DECLDIV-IPコードレス電話機\",\"トーン1\",_xlfn.IFS(キー割付!Q384=\"着信音なし\",\"トーン1\",キー割付!Q384=\"トーン1\",\"トーン1\",キー割付!Q384=\"トーン2\",\"トーン2\",キー割付!Q384=\"トーン3\",\"トーン3\",キー割付!Q384=\"トーン4\",\"トーン4\",キー割付!Q384=\"トーン5\",\"トーン5\",キー割付!Q384=\"トーン6\",\"トーン6\",キー割付!Q384=\"トーン7\",\"トーン7\",キー割付!Q384=\"トーン7\",\"トーン7\",キー割付!Q384=\"無鳴動着信\",\"トーン8\",キー割付!Q384=\"グリーンスリーブス\",\"メロディ1\",キー割付!Q384=\"峠の我が家\",\"メロディ2\",キー割付!Q384=\"カノン\",\"メロディ3\",キー割付!Q384=\"春の歌\",\"メロディ4\",キー割付!Q384=\"主よ人の望みの喜びよ\",\"メロディ5\",キー割付!Q384=\"メヌエット\",\"メロディ6\",キー割付!Q384=\"華麗なる大円舞曲\",\"メロディ7\",キー割付!Q384=\"ハンガリア舞曲第5番\",\"メロディ8\",TRUE,\"トーン1\"))","v":"トーン1"},{"$f":"IF(E70=\"ZX-DECLDIV-IPコードレス電話機\",\"トーン1\",_xlfn.IFS(キー割付!R384=\"着信音なし\",\"トーン1\",キー割付!R384=\"トーン1\",\"トーン1\",キー割付!R384=\"トーン2\",\"トーン2\",キー割付!R384=\"トーン3\",\"トーン3\",キー割付!R384=\"トーン4\",\"トーン4\",キー割付!R384=\"トーン5\",\"トーン5\",キー割付!R384=\"トーン6\",\"トーン6\",キー割付!R384=\"トーン7\",\"トーン7\",キー割付!R384=\"トーン7\",\"トーン7\",キー割付!R384=\"無鳴動着信\",\"トーン8\",キー割付!R384=\"グリーンスリーブス\",\"メロディ1\",キー割付!R384=\"峠の我が家\",\"メロディ2\",キー割付!R384=\"カノン\",\"メロディ3\",キー割付!R384=\"春の歌\",\"メロディ4\",キー割付!R384=\"主よ人の望みの喜びよ\",\"メロディ5\",キー割付!R384=\"メヌエット\",\"メロディ6\",キー割付!R384=\"華麗なる大円舞曲\",\"メロディ7\",キー割付!R384=\"ハンガリア舞曲第5番\",\"メロディ8\",TRUE,\"トーン1\"))","v":"トーン1"},{"$f":"IF(E70=\"ZX-DECLDIV-IPコードレス電話機\",\"トーン1\",_xlfn.IFS(キー割付!S384=\"着信音なし\",\"トーン1\",キー割付!S384=\"トーン1\",\"トーン1\",キー割付!S384=\"トーン2\",\"トーン2\",キー割付!S384=\"トーン3\",\"トーン3\",キー割付!S384=\"トーン4\",\"トーン4\",キー割付!S384=\"トーン5\",\"トーン5\",キー割付!S384=\"トーン6\",\"トーン6\",キー割付!S384=\"トーン7\",\"トーン7\",キー割付!S384=\"トーン7\",\"トーン7\",キー割付!S384=\"無鳴動着信\",\"トーン8\",キー割付!S384=\"グリーンスリーブス\",\"メロディ1\",キー割付!S384=\"峠の我が家\",\"メロディ2\",キー割付!S384=\"カノン\",\"メロディ3\",キー割付!S384=\"春の歌\",\"メロディ4\",キー割付!S384=\"主よ人の望みの喜びよ\",\"メロディ5\",キー割付!S384=\"メヌエット\",\"メロディ6\",キー割付!S384=\"華麗なる大円舞曲\",\"メロディ7\",キー割付!S384=\"ハンガリア舞曲第5番\",\"メロディ8\",TRUE,\"トーン1\"))","v":"トーン1"},{"$f":"IF(E70=\"ZX-DECLDIV-IPコードレス電話機\",\"トーン1\",_xlfn.IFS(キー割付!N392=\"着信音なし\",\"トーン1\",キー割付!N392=\"トーン1\",\"トーン1\",キー割付!N392=\"トーン2\",\"トーン2\",キー割付!N392=\"トーン3\",\"トーン3\",キー割付!N392=\"トーン4\",\"トーン4\",キー割付!N392=\"トーン5\",\"トーン5\",キー割付!N392=\"トーン6\",\"トーン6\",キー割付!N392=\"トーン7\",\"トーン7\",キー割付!N392=\"トーン7\",\"トーン7\",キー割付!N392=\"無鳴動着信\",\"トーン8\",キー割付!N392=\"グリーンスリーブス\",\"メロディ1\",キー割付!N392=\"峠の我が家\",\"メロディ2\",キー割付!N392=\"カノン\",\"メロディ3\",キー割付!N392=\"春の歌\",\"メロディ4\",キー割付!N392=\"主よ人の望みの喜びよ\",\"メロディ5\",キー割付!N392=\"メヌエット\",\"メロディ6\",キー割付!N392=\"華麗なる大円舞曲\",\"メロディ7\",キー割付!N392=\"ハンガリア舞曲第5番\",\"メロディ8\",TRUE,\"トーン1\"))","v":"トーン1"},{"$f":"IF(E70=\"ZX-DECLDIV-IPコードレス電話機\",\"トーン1\",_xlfn.IFS(キー割付!O392=\"着信音なし\",\"トーン1\",キー割付!O392=\"トーン1\",\"トーン1\",キー割付!O392=\"トーン2\",\"トーン2\",キー割付!O392=\"トーン3\",\"トーン3\",キー割付!O392=\"トーン4\",\"トーン4\",キー割付!O392=\"トーン5\",\"トーン5\",キー割付!O392=\"トーン6\",\"トーン6\",キー割付!O392=\"トーン7\",\"トーン7\",キー割付!O392=\"トーン7\",\"トーン7\",キー割付!O392=\"無鳴動着信\",\"トーン8\",キー割付!O392=\"グリーンスリーブス\",\"メロディ1\",キー割付!O392=\"峠の我が家\",\"メロディ2\",キー割付!O392=\"カノン\",\"メロディ3\",キー割付!O392=\"春の歌\",\"メロディ4\",キー割付!O392=\"主よ人の望みの喜びよ\",\"メロディ5\",キー割付!O392=\"メヌエット\",\"メロディ6\",キー割付!O392=\"華麗なる大円舞曲\",\"メロディ7\",キー割付!O392=\"ハンガリア舞曲第5番\",\"メロディ8\",TRUE,\"トーン1\"))","v":"トーン1"},{"$f":"IF(E70=\"ZX-DECLDIV-IPコードレス電話機\",\"トーン1\",_xlfn.IFS(キー割付!P392=\"着信音なし\",\"トーン1\",キー割付!P392=\"トーン1\",\"トーン1\",キー割付!P392=\"トーン2\",\"トーン2\",キー割付!P392=\"トーン3\",\"トーン3\",キー割付!P392=\"トーン4\",\"トーン4\",キー割付!P392=\"トーン5\",\"トーン5\",キー割付!P392=\"トーン6\",\"トーン6\",キー割付!P392=\"トーン7\",\"トーン7\",キー割付!P392=\"トーン7\",\"トーン7\",キー割付!P392=\"無鳴動着信\",\"トーン8\",キー割付!P392=\"グリーンスリーブス\",\"メロディ1\",キー割付!P392=\"峠の我が家\",\"メロディ2\",キー割付!P392=\"カノン\",\"メロディ3\",キー割付!P392=\"春の歌\",\"メロディ4\",キー割付!P392=\"主よ人の望みの喜びよ\",\"メロディ5\",キー割付!P392=\"メヌエット\",\"メロディ6\",キー割付!P392=\"華麗なる大円舞曲\",\"メロディ7\",キー割付!P392=\"ハンガリア舞曲第5番\",\"メロディ8\",TRUE,\"トーン1\"))","v":"トーン1"},{"$f":"IF(E70=\"ZX-DECLDIV-IPコードレス電話機\",\"トーン1\",_xlfn.IFS(キー割付!Q392=\"着信音なし\",\"トーン1\",キー割付!Q392=\"トーン1\",\"トーン1\",キー割付!Q392=\"トーン2\",\"トーン2\",キー割付!Q392=\"トーン3\",\"トーン3\",キー割付!Q392=\"トーン4\",\"トーン4\",キー割付!Q392=\"トーン5\",\"トーン5\",キー割付!Q392=\"トーン6\",\"トーン6\",キー割付!Q392=\"トーン7\",\"トーン7\",キー割付!Q392=\"トーン7\",\"トーン7\",キー割付!Q392=\"無鳴動着信\",\"トーン8\",キー割付!Q392=\"グリーンスリーブス\",\"メロディ1\",キー割付!Q392=\"峠の我が家\",\"メロディ2\",キー割付!Q392=\"カノン\",\"メロディ3\",キー割付!Q392=\"春の歌\",\"メロディ4\",キー割付!Q392=\"主よ人の望みの喜びよ\",\"メロディ5\",キー割付!Q392=\"メヌエット\",\"メロディ6\",キー割付!Q392=\"華麗なる大円舞曲\",\"メロディ7\",キー割付!Q392=\"ハンガリア舞曲第5番\",\"メロディ8\",TRUE,\"トーン1\"))","v":"トーン1"},{"$f":"IF(E70=\"ZX-DECLDIV-IPコードレス電話機\",\"トーン1\",_xlfn.IFS(キー割付!R392=\"着信音なし\",\"トーン1\",キー割付!R392=\"トーン1\",\"トーン1\",キー割付!R392=\"トーン2\",\"トーン2\",キー割付!R392=\"トーン3\",\"トーン3\",キー割付!R392=\"トーン4\",\"トーン4\",キー割付!R392=\"トーン5\",\"トーン5\",キー割付!R392=\"トーン6\",\"トーン6\",キー割付!R392=\"トーン7\",\"トーン7\",キー割付!R392=\"トーン7\",\"トーン7\",キー割付!R392=\"無鳴動着信\",\"トーン8\",キー割付!R392=\"グリーンスリーブス\",\"メロディ1\",キー割付!R392=\"峠の我が家\",\"メロディ2\",キー割付!R392=\"カノン\",\"メロディ3\",キー割付!R392=\"春の歌\",\"メロディ4\",キー割付!R392=\"主よ人の望みの喜びよ\",\"メロディ5\",キー割付!R392=\"メヌエット\",\"メロディ6\",キー割付!R392=\"華麗なる大円舞曲\",\"メロディ7\",キー割付!R392=\"ハンガリア舞曲第5番\",\"メロディ8\",TRUE,\"トーン1\"))","v":"トーン1"},{"$f":"IF(E70=\"ZX-DECLDIV-IPコードレス電話機\",\"トーン1\",_xlfn.IFS(キー割付!S392=\"着信音なし\",\"トーン1\",キー割付!S392=\"トーン1\",\"トーン1\",キー割付!S392=\"トーン2\",\"トーン2\",キー割付!S392=\"トーン3\",\"トーン3\",キー割付!S392=\"トーン4\",\"トーン4\",キー割付!S392=\"トーン5\",\"トーン5\",キー割付!S392=\"トーン6\",\"トーン6\",キー割付!S392=\"トーン7\",\"トーン7\",キー割付!S392=\"トーン7\",\"トーン7\",キー割付!S392=\"無鳴動着信\",\"トーン8\",キー割付!S392=\"グリーンスリーブス\",\"メロディ1\",キー割付!S392=\"峠の我が家\",\"メロディ2\",キー割付!S392=\"カノン\",\"メロディ3\",キー割付!S392=\"春の歌\",\"メロディ4\",キー割付!S392=\"主よ人の望みの喜びよ\",\"メロディ5\",キー割付!S392=\"メヌエット\",\"メロディ6\",キー割付!S392=\"華麗なる大円舞曲\",\"メロディ7\",キー割付!S392=\"ハンガリア舞曲第5番\",\"メロディ8\",TRUE,\"トーン1\"))","v":"トーン1"}]
[null,null,null,null,null,{"$f":"_xlfn.IFS(キー割付!N369=\"昼夜休憩\",\"B\",キー割付!N369=\"－－－\",\"-\",キー割付!N369=\"昼－－\",\"H\",キー割付!N369=\"－夜－\",\"N\",キー割付!N369=\"－－休憩\",\"P\",キー割付!N369=\"昼夜－\",\"N\",キー割付!N369=\"昼－休憩\",\"F\",キー割付!N369=\"－夜休憩\",\"K\",TRUE,\"-\")","v":"-"},{"$f":"_xlfn.IFS(キー割付!O369=\"昼夜休憩\",\"B\",キー割付!O369=\"－－－\",\"-\",キー割付!O369=\"昼－－\",\"H\",キー割付!O369=\"－夜－\",\"N\",キー割付!O369=\"－－休憩\",\"P\",キー割付!O369=\"昼夜－\",\"N\",キー割付!O369=\"昼－休憩\",\"F\",キー割付!O369=\"－夜休憩\",\"K\",TRUE,\"-\")","v":"-"},{"$f":"_xlfn.IFS(キー割付!P369=\"昼夜休憩\",\"B\",キー割付!P369=\"－－－\",\"-\",キー割付!P369=\"昼－－\",\"H\",キー割付!P369=\"－夜－\",\"N\",キー割付!P369=\"－－休憩\",\"P\",キー割付!P369=\"昼夜－\",\"N\",キー割付!P369=\"昼－休憩\",\"F\",キー割付!P369=\"－夜休憩\",\"K\",TRUE,\"-\")","v":"-"},{"$f":"_xlfn.IFS(キー割付!Q369=\"昼夜休憩\",\"B\",キー割付!Q369=\"－－－\",\"-\",キー割付!Q369=\"昼－－\",\"H\",キー割付!Q369=\"－夜－\",\"N\",キー割付!Q369=\"－－休憩\",\"P\",キー割付!Q369=\"昼夜－\",\"N\",キー割付!Q369=\"昼－休憩\",\"F\",キー割付!Q369=\"－夜休憩\",\"K\",TRUE,\"-\")","v":"-"},{"$f":"_xlfn.IFS(キー割付!R369=\"昼夜休憩\",\"B\",キー割付!R369=\"－－－\",\"-\",キー割付!R369=\"昼－－\",\"H\",キー割付!R369=\"－夜－\",\"N\",キー割付!R369=\"－－休憩\",\"P\",キー割付!R369=\"昼夜－\",\"N\",キー割付!R369=\"昼－休憩\",\"F\",キー割付!R369=\"－夜休憩\",\"K\",TRUE,\"-\")","v":"-"},{"$f":"_xlfn.IFS(キー割付!S369=\"昼夜休憩\",\"B\",キー割付!S369=\"－－－\",\"-\",キー割付!S369=\"昼－－\",\"H\",キー割付!S369=\"－夜－\",\"N\",キー割付!S369=\"－－休憩\",\"P\",キー割付!S369=\"昼夜－\",\"N\",キー割付!S369=\"昼－休憩\",\"F\",キー割付!S369=\"－夜休憩\",\"K\",TRUE,\"-\")","v":"-"},{"$f":"_xlfn.IFS(キー割付!N377=\"昼夜休憩\",\"B\",キー割付!N377=\"－－－\",\"-\",キー割付!N377=\"昼－－\",\"H\",キー割付!N377=\"－夜－\",\"N\",キー割付!N377=\"－－休憩\",\"P\",キー割付!N377=\"昼夜－\",\"N\",キー割付!N377=\"昼－休憩\",\"F\",キー割付!N377=\"－夜休憩\",\"K\",TRUE,\"-\")","v":"-"},{"$f":"_xlfn.IFS(キー割付!O377=\"昼夜休憩\",\"B\",キー割付!O377=\"－－－\",\"-\",キー割付!O377=\"昼－－\",\"H\",キー割付!O377=\"－夜－\",\"N\",キー割付!O377=\"－－休憩\",\"P\",キー割付!O377=\"昼夜－\",\"N\",キー割付!O377=\"昼－休憩\",\"F\",キー割付!O377=\"－夜休憩\",\"K\",TRUE,\"-\")","v":"-"},{"$f":"IF(E70=\"ZX-DECLDIV-IPコードレス電話機\",\"-\",_xlfn.IFS(キー割付!P377=\"昼夜休憩\",\"B\",キー割付!P377=\"－－－\",\"-\",キー割付!P377=\"昼－－\",\"H\",キー割付!P377=\"－夜－\",\"N\",キー割付!P377=\"－－休憩\",\"P\",キー割付!P377=\"昼夜－\",\"N\",キー割付!P377=\"昼－休憩\",\"F\",キー割付!P377=\"－夜休憩\",\"K\",TRUE,\"-\"))","v":"-"},{"$f":"IF(E70=\"ZX-DECLDIV-IPコードレス電話機\",\"-\",_xlfn.IFS(キー割付!Q377=\"昼夜休憩\",\"B\",キー割付!Q377=\"－－－\",\"-\",キー割付!Q377=\"昼－－\",\"H\",キー割付!Q377=\"－夜－\",\"N\",キー割付!Q377=\"－－休憩\",\"P\",キー割付!Q377=\"昼夜－\",\"N\",キー割付!Q377=\"昼－休憩\",\"F\",キー割付!Q377=\"－夜休憩\",\"K\",TRUE,\"-\"))","v":"-"},{"$f":"IF(E70=\"ZX-DECLDIV-IPコードレス電話機\",\"-\",_xlfn.IFS(キー割付!R377=\"昼夜休憩\",\"B\",キー割付!R377=\"－－－\",\"-\",キー割付!R377=\"昼－－\",\"H\",キー割付!R377=\"－夜－\",\"N\",キー割付!R377=\"－－休憩\",\"P\",キー割付!R377=\"昼夜－\",\"N\",キー割付!R377=\"昼－休憩\",\"F\",キー割付!R377=\"－夜休憩\",\"K\",TRUE,\"-\"))","v":"-"},{"$f":"IF(E70=\"ZX-DECLDIV-IPコードレス電話機\",\"-\",_xlfn.IFS(キー割付!S377=\"昼夜休憩\",\"B\",キー割付!S377=\"－－－\",\"-\",キー割付!S377=\"昼－－\",\"H\",キー割付!S377=\"－夜－\",\"N\",キー割付!S377=\"－－休憩\",\"P\",キー割付!S377=\"昼夜－\",\"N\",キー割付!S377=\"昼－休憩\",\"F\",キー割付!S377=\"－夜休憩\",\"K\",TRUE,\"-\"))","v":"-"},{"$f":"IF(E70=\"ZX-DECLDIV-IPコードレス電話機\",\"-\",_xlfn.IFS(キー割付!N385=\"昼夜休憩\",\"B\",キー割付!N385=\"－－－\",\"-\",キー割付!N385=\"昼－－\",\"H\",キー割付!N385=\"－夜－\",\"N\",キー割付!N385=\"－－休憩\",\"P\",キー割付!N385=\"昼夜－\",\"N\",キー割付!N385=\"昼－休憩\",\"F\",キー割付!N385=\"－夜休憩\",\"K\",TRUE,\"-\"))","v":"-"},{"$f":"IF(E70=\"ZX-DECLDIV-IPコードレス電話機\",\"-\",_xlfn.IFS(キー割付!O385=\"昼夜休憩\",\"B\",キー割付!O385=\"－－－\",\"-\",キー割付!O385=\"昼－－\",\"H\",キー割付!O385=\"－夜－\",\"N\",キー割付!O385=\"－－休憩\",\"P\",キー割付!O385=\"昼夜－\",\"N\",キー割付!O385=\"昼－休憩\",\"F\",キー割付!O385=\"－夜休憩\",\"K\",TRUE,\"-\"))","v":"-"},{"$f":"IF(E70=\"ZX-DECLDIV-IPコードレス電話機\",\"-\",_xlfn.IFS(キー割付!P385=\"昼夜休憩\",\"B\",キー割付!P385=\"－－－\",\"-\",キー割付!P385=\"昼－－\",\"H\",キー割付!P385=\"－夜－\",\"N\",キー割付!P385=\"－－休憩\",\"P\",キー割付!P385=\"昼夜－\",\"N\",キー割付!P385=\"昼－休憩\",\"F\",キー割付!P385=\"－夜休憩\",\"K\",TRUE,\"-\"))","v":"-"},{"$f":"IF(E70=\"ZX-DECLDIV-IPコードレス電話機\",\"-\",_xlfn.IFS(キー割付!Q385=\"昼夜休憩\",\"B\",キー割付!Q385=\"－－－\",\"-\",キー割付!Q385=\"昼－－\",\"H\",キー割付!Q385=\"－夜－\",\"N\",キー割付!Q385=\"－－休憩\",\"P\",キー割付!Q385=\"昼夜－\",\"N\",キー割付!Q385=\"昼－休憩\",\"F\",キー割付!Q385=\"－夜休憩\",\"K\",TRUE,\"-\"))","v":"-"},{"$f":"IF(E70=\"ZX-DECLDIV-IPコードレス電話機\",\"-\",_xlfn.IFS(キー割付!R385=\"昼夜休憩\",\"B\",キー割付!R385=\"－－－\",\"-\",キー割付!R385=\"昼－－\",\"H\",キー割付!R385=\"－夜－\",\"N\",キー割付!R385=\"－－休憩\",\"P\",キー割付!R385=\"昼夜－\",\"N\",キー割付!R385=\"昼－休憩\",\"F\",キー割付!R385=\"－夜休憩\",\"K\",TRUE,\"-\"))","v":"-"},{"$f":"IF(E70=\"ZX-DECLDIV-IPコードレス電話機\",\"-\",_xlfn.IFS(キー割付!S385=\"昼夜休憩\",\"B\",キー割付!S385=\"－－－\",\"-\",キー割付!S385=\"昼－－\",\"H\",キー割付!S385=\"－夜－\",\"N\",キー割付!S385=\"－－休憩\",\"P\",キー割付!S385=\"昼夜－\",\"N\",キー割付!S385=\"昼－休憩\",\"F\",キー割付!S385=\"－夜休憩\",\"K\",TRUE,\"-\"))","v":"-"},{"$f":"IF(E70=\"ZX-DECLDIV-IPコードレス電話機\",\"-\",_xlfn.IFS(キー割付!N393=\"昼夜休憩\",\"B\",キー割付!N393=\"－－－\",\"-\",キー割付!N393=\"昼－－\",\"H\",キー割付!N393=\"－夜－\",\"N\",キー割付!N393=\"－－休憩\",\"P\",キー割付!N393=\"昼夜－\",\"N\",キー割付!N393=\"昼－休憩\",\"F\",キー割付!N393=\"－夜休憩\",\"K\",TRUE,\"-\"))","v":"-"},{"$f":"IF(E70=\"ZX-DECLDIV-IPコードレス電話機\",\"-\",_xlfn.IFS(キー割付!O393=\"昼夜休憩\",\"B\",キー割付!O393=\"－－－\",\"-\",キー割付!O393=\"昼－－\",\"H\",キー割付!O393=\"－夜－\",\"N\",キー割付!O393=\"－－休憩\",\"P\",キー割付!O393=\"昼夜－\",\"N\",キー割付!O393=\"昼－休憩\",\"F\",キー割付!O393=\"－夜休憩\",\"K\",TRUE,\"-\"))","v":"-"},{"$f":"IF(E70=\"ZX-DECLDIV-IPコードレス電話機\",\"-\",_xlfn.IFS(キー割付!P393=\"昼夜休憩\",\"B\",キー割付!P393=\"－－－\",\"-\",キー割付!P393=\"昼－－\",\"H\",キー割付!P393=\"－夜－\",\"N\",キー割付!P393=\"－－休憩\",\"P\",キー割付!P393=\"昼夜－\",\"N\",キー割付!P393=\"昼－休憩\",\"F\",キー割付!P393=\"－夜休憩\",\"K\",TRUE,\"-\"))","v":"-"},{"$f":"IF(E70=\"ZX-DECLDIV-IPコードレス電話機\",\"-\",_xlfn.IFS(キー割付!Q393=\"昼夜休憩\",\"B\",キー割付!Q393=\"－－－\",\"-\",キー割付!Q393=\"昼－－\",\"H\",キー割付!Q393=\"－夜－\",\"N\",キー割付!Q393=\"－－休憩\",\"P\",キー割付!Q393=\"昼夜－\",\"N\",キー割付!Q393=\"昼－休憩\",\"F\",キー割付!Q393=\"－夜休憩\",\"K\",TRUE,\"-\"))","v":"-"},{"$f":"IF(E70=\"ZX-DECLDIV-IPコードレス電話機\",\"-\",_xlfn.IFS(キー割付!R393=\"昼夜休憩\",\"B\",キー割付!R393=\"－－－\",\"-\",キー割付!R393=\"昼－－\",\"H\",キー割付!R393=\"－夜－\",\"N\",キー割付!R393=\"－－休憩\",\"P\",キー割付!R393=\"昼夜－\",\"N\",キー割付!R393=\"昼－休憩\",\"F\",キー割付!R393=\"－夜休憩\",\"K\",TRUE,\"-\"))","v":"-"},{"$f":"IF(E70=\"ZX-DECLDIV-IPコードレス電話機\",\"-\",_xlfn.IFS(キー割付!S393=\"昼夜休憩\",\"B\",キー割付!S393=\"－－－\",\"-\",キー割付!S393=\"昼－－\",\"H\",キー割付!S393=\"－夜－\",\"N\",キー割付!S393=\"－－休憩\",\"P\",キー割付!S393=\"昼夜－\",\"N\",キー割付!S393=\"昼－休憩\",\"F\",キー割付!S393=\"－夜休憩\",\"K\",TRUE,\"-\"))","v":"-"}]
[null,23,{"$f":"IF(IFERROR(VALUE(VLOOKUP(B73,内線_キー割用,2,FALSE)),\"\")=0,\"\",IFERROR(VALUE(VLOOKUP(B73,内線_キー割用,2,FALSE)),\"\"))","v":""},{"$f":"IF(IFERROR(VALUE(VLOOKUP(B73,内線_キー割用,4,FALSE)),\"\")=0,\"\",IFERROR(VALUE(VLOOKUP(B73,内線_キー割用,4,FALSE)),\"\"))","v":""},{"$f":"IF(IFERROR(VLOOKUP(B73,内線_キー割用,3,FALSE),\"\")=0,\"\",IFERROR(VLOOKUP(B73,内線_キー割用,3,FALSE),\"\"))","v":""},{"$f":"IF(キー割付!D403=\"\",\"未使用\",キー割付!D403)","v":"未使用"},{"$f":"IF(キー割付!E403=\"\",\"未使用\",キー割付!E403)","v":"未使用"},{"$f":"IF(キー割付!F403=\"\",\"未使用\",キー割付!F403)","v":"未使用"},{"$f":"IF(キー割付!G403=\"\",\"未使用\",キー割付!G403)","v":"未使用"},{"$f":"IF(キー割付!H403=\"\",\"未使用\",キー割付!H403)","v":"未使用"},{"$f":"IF(キー割付!I403=\"\",\"未使用\",キー割付!I403)","v":"未使用"},{"$f":"IF(キー割付!D411=\"\",\"未使用\",キー割付!D411)","v":"未使用"},{"$f":"IF(キー割付!E411=\"\",\"未使用\",キー割付!E411)","v":"未使用"},{"$f":"IF(E73=\"ZX-DECLDIV-IPコードレス電話機\",\"未使用\",IF(キー割付!F411=\"\",\"未使用\",キー割付!F411))","v":"未使用"},{"$f":"IF(E73=\"ZX-DECLDIV-IPコードレス電話機\",\"未使用\",IF(キー割付!G411=\"\",\"未使用\",キー割付!G411))","v":"未使用"},{"$f":"IF(E73=\"ZX-DECLDIV-IPコードレス電話機\",\"未使用\",IF(キー割付!H411=\"\",\"未使用\",キー割付!H411))","v":"未使用"},{"$f":"IF(E73=\"ZX-DECLDIV-IPコードレス電話機\",\"未使用\",IF(キー割付!I411=\"\",\"未使用\",キー割付!I411))","v":"未使用"},{"$f":"IF(E73=\"ZX-DECLDIV-IPコードレス電話機\",\"未使用\",IF(キー割付!D419=\"\",\"未使用\",キー割付!D419))","v":"未使用"},{"$f":"IF(E73=\"ZX-DECLDIV-IPコードレス電話機\",\"未使用\",IF(キー割付!E419=\"\",\"未使用\",キー割付!E419))","v":"未使用"},{"$f":"IF(E73=\"ZX-DECLDIV-IPコードレス電話機\",\"未使用\",IF(キー割付!F419=\"\",\"未使用\",キー割付!F419))","v":"未使用"},{"$f":"IF(E73=\"ZX-DECLDIV-IPコードレス電話機\",\"未使用\",IF(キー割付!G419=\"\",\"未使用\",キー割付!G419))","v":"未使用"},{"$f":"IF(E73=\"ZX-DECLDIV-IPコードレス電話機\",\"未使用\",IF(キー割付!H419=\"\",\"未使用\",キー割付!H419))","v":"未使用"},{"$f":"IF(E73=\"ZX-DECLDIV-IPコードレス電話機\",\"未使用\",IF(キー割付!I419=\"\",\"未使用\",キー割付!I419))","v":"未使用"},{"$f":"IF(E73=\"ZX-DECLDIV-IPコードレス電話機\",\"未使用\",IF(キー割付!D427=\"\",\"未使用\",キー割付!D427))","v":"未使用"},{"$f":"IF(E73=\"ZX-DECLDIV-IPコードレス電話機\",\"未使用\",IF(キー割付!E427=\"\",\"未使用\",キー割付!E427))","v":"未使用"},{"$f":"IF(E73=\"ZX-DECLDIV-IPコードレス電話機\",\"未使用\",IF(キー割付!F427=\"\",\"未使用\",キー割付!F427))","v":"未使用"},{"$f":"IF(E73=\"ZX-DECLDIV-IPコードレス電話機\",\"未使用\",IF(キー割付!G427=\"\",\"未使用\",キー割付!G427))","v":"未使用"},{"$f":"IF(E73=\"ZX-DECLDIV-IPコードレス電話機\",\"未使用\",IF(キー割付!H427=\"\",\"未使用\",キー割付!H427))","v":"未使用"},{"$f":"IF(E73=\"ZX-DECLDIV-IPコードレス電話機\",\"未使用\",IF(キー割付!I427=\"\",\"未使用\",キー割付!I427))","v":"未使用"}]
[null,null,null,null,null,{"$f":"_xlfn.IFS(キー割付!D404=\"着信音なし\",\"トーン1\",キー割付!D404=\"トーン1\",\"トーン1\",キー割付!D404=\"トーン2\",\"トーン2\",キー割付!D404=\"トーン3\",\"トーン3\",キー割付!D404=\"トーン4\",\"トーン4\",キー割付!D404=\"トーン5\",\"トーン5\",キー割付!D404=\"トーン6\",\"トーン6\",キー割付!D404=\"トーン7\",\"トーン7\",キー割付!D404=\"トーン7\",\"トーン7\",キー割付!D404=\"無鳴動着信\",\"トーン8\",キー割付!D404=\"グリーンスリーブス\",\"メロディ1\",キー割付!D404=\"峠の我が家\",\"メロディ2\",キー割付!D404=\"カノン\",\"メロディ3\",キー割付!D404=\"春の歌\",\"メロディ4\",キー割付!D404=\"主よ人の望みの喜びよ\",\"メロディ5\",キー割付!D404=\"メヌエット\",\"メロディ6\",キー割付!D404=\"華麗なる大円舞曲\",\"メロディ7\",キー割付!D404=\"ハンガリア舞曲第5番\",\"メロディ8\",TRUE,\"トーン1\")","v":"トーン1"},{"$f":"_xlfn.IFS(キー割付!E404=\"着信音なし\",\"トーン1\",キー割付!E404=\"トーン1\",\"トーン1\",キー割付!E404=\"トーン2\",\"トーン2\",キー割付!E404=\"トーン3\",\"トーン3\",キー割付!E404=\"トーン4\",\"トーン4\",キー割付!E404=\"トーン5\",\"トーン5\",キー割付!E404=\"トーン6\",\"トーン6\",キー割付!E404=\"トーン7\",\"トーン7\",キー割付!E404=\"トーン7\",\"トーン7\",キー割付!E404=\"無鳴動着信\",\"トーン8\",キー割付!E404=\"グリーンスリーブス\",\"メロディ1\",キー割付!E404=\"峠の我が家\",\"メロディ2\",キー割付!E404=\"カノン\",\"メロディ3\",キー割付!E404=\"春の歌\",\"メロディ4\",キー割付!E404=\"主よ人の望みの喜びよ\",\"メロディ5\",キー割付!E404=\"メヌエット\",\"メロディ6\",キー割付!E404=\"華麗なる大円舞曲\",\"メロディ7\",キー割付!E404=\"ハンガリア舞曲第5番\",\"メロディ8\",TRUE,\"トーン1\")","v":"トーン1"},{"$f":"_xlfn.IFS(キー割付!F404=\"着信音なし\",\"トーン1\",キー割付!F404=\"トーン1\",\"トーン1\",キー割付!F404=\"トーン2\",\"トーン2\",キー割付!F404=\"トーン3\",\"トーン3\",キー割付!F404=\"トーン4\",\"トーン4\",キー割付!F404=\"トーン5\",\"トーン5\",キー割付!F404=\"トーン6\",\"トーン6\",キー割付!F404=\"トーン7\",\"トーン7\",キー割付!F404=\"トーン7\",\"トーン7\",キー割付!F404=\"無鳴動着信\",\"トーン8\",キー割付!F404=\"グリーンスリーブス\",\"メロディ1\",キー割付!F404=\"峠の我が家\",\"メロディ2\",キー割付!F404=\"カノン\",\"メロディ3\",キー割付!F404=\"春の歌\",\"メロディ4\",キー割付!F404=\"主よ人の望みの喜びよ\",\"メロディ5\",キー割付!F404=\"メヌエット\",\"メロディ6\",キー割付!F404=\"華麗なる大円舞曲\",\"メロディ7\",キー割付!F404=\"ハンガリア舞曲第5番\",\"メロディ8\",TRUE,\"トーン1\")","v":"トーン1"},{"$f":"_xlfn.IFS(キー割付!G404=\"着信音なし\",\"トーン1\",キー割付!G404=\"トーン1\",\"トーン1\",キー割付!G404=\"トーン2\",\"トーン2\",キー割付!G404=\"トーン3\",\"トーン3\",キー割付!G404=\"トーン4\",\"トーン4\",キー割付!G404=\"トーン5\",\"トーン5\",キー割付!G404=\"トーン6\",\"トーン6\",キー割付!G404=\"トーン7\",\"トーン7\",キー割付!G404=\"トーン7\",\"トーン7\",キー割付!G404=\"無鳴動着信\",\"トーン8\",キー割付!G404=\"グリーンスリーブス\",\"メロディ1\",キー割付!G404=\"峠の我が家\",\"メロディ2\",キー割付!G404=\"カノン\",\"メロディ3\",キー割付!G404=\"春の歌\",\"メロディ4\",キー割付!G404=\"主よ人の望みの喜びよ\",\"メロディ5\",キー割付!G404=\"メヌエット\",\"メロディ6\",キー割付!G404=\"華麗なる大円舞曲\",\"メロディ7\",キー割付!G404=\"ハンガリア舞曲第5番\",\"メロディ8\",TRUE,\"トーン1\")","v":"トーン1"},{"$f":"_xlfn.IFS(キー割付!H404=\"着信音なし\",\"トーン1\",キー割付!H404=\"トーン1\",\"トーン1\",キー割付!H404=\"トーン2\",\"トーン2\",キー割付!H404=\"トーン3\",\"トーン3\",キー割付!H404=\"トーン4\",\"トーン4\",キー割付!H404=\"トーン5\",\"トーン5\",キー割付!H404=\"トーン6\",\"トーン6\",キー割付!H404=\"トーン7\",\"トーン7\",キー割付!H404=\"トーン7\",\"トーン7\",キー割付!H404=\"無鳴動着信\",\"トーン8\",キー割付!H404=\"グリーンスリーブス\",\"メロディ1\",キー割付!H404=\"峠の我が家\",\"メロディ2\",キー割付!H404=\"カノン\",\"メロディ3\",キー割付!H404=\"春の歌\",\"メロディ4\",キー割付!H404=\"主よ人の望みの喜びよ\",\"メロディ5\",キー割付!H404=\"メヌエット\",\"メロディ6\",キー割付!H404=\"華麗なる大円舞曲\",\"メロディ7\",キー割付!H404=\"ハンガリア舞曲第5番\",\"メロディ8\",TRUE,\"トーン1\")","v":"トーン1"},{"$f":"_xlfn.IFS(キー割付!I404=\"着信音なし\",\"トーン1\",キー割付!I404=\"トーン1\",\"トーン1\",キー割付!I404=\"トーン2\",\"トーン2\",キー割付!I404=\"トーン3\",\"トーン3\",キー割付!I404=\"トーン4\",\"トーン4\",キー割付!I404=\"トーン5\",\"トーン5\",キー割付!I404=\"トーン6\",\"トーン6\",キー割付!I404=\"トーン7\",\"トーン7\",キー割付!I404=\"トーン7\",\"トーン7\",キー割付!I404=\"無鳴動着信\",\"トーン8\",キー割付!I404=\"グリーンスリーブス\",\"メロディ1\",キー割付!I404=\"峠の我が家\",\"メロディ2\",キー割付!I404=\"カノン\",\"メロディ3\",キー割付!I404=\"春の歌\",\"メロディ4\",キー割付!I404=\"主よ人の望みの喜びよ\",\"メロディ5\",キー割付!I404=\"メヌエット\",\"メロディ6\",キー割付!I404=\"華麗なる大円舞曲\",\"メロディ7\",キー割付!I404=\"ハンガリア舞曲第5番\",\"メロディ8\",TRUE,\"トーン1\")","v":"トーン1"},{"$f":"_xlfn.IFS(キー割付!D412=\"着信音なし\",\"トーン1\",キー割付!D412=\"トーン1\",\"トーン1\",キー割付!D412=\"トーン2\",\"トーン2\",キー割付!D412=\"トーン3\",\"トーン3\",キー割付!D412=\"トーン4\",\"トーン4\",キー割付!D412=\"トーン5\",\"トーン5\",キー割付!D412=\"トーン6\",\"トーン6\",キー割付!D412=\"トーン7\",\"トーン7\",キー割付!D412=\"トーン7\",\"トーン7\",キー割付!D412=\"無鳴動着信\",\"トーン8\",キー割付!D412=\"グリーンスリーブス\",\"メロディ1\",キー割付!D412=\"峠の我が家\",\"メロディ2\",キー割付!D412=\"カノン\",\"メロディ3\",キー割付!D412=\"春の歌\",\"メロディ4\",キー割付!D412=\"主よ人の望みの喜びよ\",\"メロディ5\",キー割付!D412=\"メヌエット\",\"メロディ6\",キー割付!D412=\"華麗なる大円舞曲\",\"メロディ7\",キー割付!D412=\"ハンガリア舞曲第5番\",\"メロディ8\",TRUE,\"トーン1\")","v":"トーン1"},{"$f":"_xlfn.IFS(キー割付!E412=\"着信音なし\",\"トーン1\",キー割付!E412=\"トーン1\",\"トーン1\",キー割付!E412=\"トーン2\",\"トーン2\",キー割付!E412=\"トーン3\",\"トーン3\",キー割付!E412=\"トーン4\",\"トーン4\",キー割付!E412=\"トーン5\",\"トーン5\",キー割付!E412=\"トーン6\",\"トーン6\",キー割付!E412=\"トーン7\",\"トーン7\",キー割付!E412=\"トーン7\",\"トーン7\",キー割付!E412=\"無鳴動着信\",\"トーン8\",キー割付!E412=\"グリーンスリーブス\",\"メロディ1\",キー割付!E412=\"峠の我が家\",\"メロディ2\",キー割付!E412=\"カノン\",\"メロディ3\",キー割付!E412=\"春の歌\",\"メロディ4\",キー割付!E412=\"主よ人の望みの喜びよ\",\"メロディ5\",キー割付!E412=\"メヌエット\",\"メロディ6\",キー割付!E412=\"華麗なる大円舞曲\",\"メロディ7\",キー割付!E412=\"ハンガリア舞曲第5番\",\"メロディ8\",TRUE,\"トーン1\")","v":"トーン1"},{"$f":"IF(E73=\"ZX-DECLDIV-IPコードレス電話機\",\"トーン1\",_xlfn.IFS(キー割付!F412=\"着信音なし\",\"トーン1\",キー割付!F412=\"トーン1\",\"トーン1\",キー割付!F412=\"トーン2\",\"トーン2\",キー割付!F412=\"トーン3\",\"トーン3\",キー割付!F412=\"トーン4\",\"トーン4\",キー割付!F412=\"トーン5\",\"トーン5\",キー割付!F412=\"トーン6\",\"トーン6\",キー割付!F412=\"トーン7\",\"トーン7\",キー割付!F412=\"トーン7\",\"トーン7\",キー割付!F412=\"無鳴動着信\",\"トーン8\",キー割付!F412=\"グリーンスリーブス\",\"メロディ1\",キー割付!F412=\"峠の我が家\",\"メロディ2\",キー割付!F412=\"カノン\",\"メロディ3\",キー割付!F412=\"春の歌\",\"メロディ4\",キー割付!F412=\"主よ人の望みの喜びよ\",\"メロディ5\",キー割付!F412=\"メヌエット\",\"メロディ6\",キー割付!F412=\"華麗なる大円舞曲\",\"メロディ7\",キー割付!F412=\"ハンガリア舞曲第5番\",\"メロディ8\",TRUE,\"トーン1\"))","v":"トーン1"},{"$f":"IF(E73=\"ZX-DECLDIV-IPコードレス電話機\",\"トーン1\",_xlfn.IFS(キー割付!G412=\"着信音なし\",\"トーン1\",キー割付!G412=\"トーン1\",\"トーン1\",キー割付!G412=\"トーン2\",\"トーン2\",キー割付!G412=\"トーン3\",\"トーン3\",キー割付!G412=\"トーン4\",\"トーン4\",キー割付!G412=\"トーン5\",\"トーン5\",キー割付!G412=\"トーン6\",\"トーン6\",キー割付!G412=\"トーン7\",\"トーン7\",キー割付!G412=\"トーン7\",\"トーン7\",キー割付!G412=\"無鳴動着信\",\"トーン8\",キー割付!G412=\"グリーンスリーブス\",\"メロディ1\",キー割付!G412=\"峠の我が家\",\"メロディ2\",キー割付!G412=\"カノン\",\"メロディ3\",キー割付!G412=\"春の歌\",\"メロディ4\",キー割付!G412=\"主よ人の望みの喜びよ\",\"メロディ5\",キー割付!G412=\"メヌエット\",\"メロディ6\",キー割付!G412=\"華麗なる大円舞曲\",\"メロディ7\",キー割付!G412=\"ハンガリア舞曲第5番\",\"メロディ8\",TRUE,\"トーン1\"))","v":"トーン1"},{"$f":"IF(E73=\"ZX-DECLDIV-IPコードレス電話機\",\"トーン1\",_xlfn.IFS(キー割付!H412=\"着信音なし\",\"トーン1\",キー割付!H412=\"トーン1\",\"トーン1\",キー割付!H412=\"トーン2\",\"トーン2\",キー割付!H412=\"トーン3\",\"トーン3\",キー割付!H412=\"トーン4\",\"トーン4\",キー割付!H412=\"トーン5\",\"トーン5\",キー割付!H412=\"トーン6\",\"トーン6\",キー割付!H412=\"トーン7\",\"トーン7\",キー割付!H412=\"トーン7\",\"トーン7\",キー割付!H412=\"無鳴動着信\",\"トーン8\",キー割付!H412=\"グリーンスリーブス\",\"メロディ1\",キー割付!H412=\"峠の我が家\",\"メロディ2\",キー割付!H412=\"カノン\",\"メロディ3\",キー割付!H412=\"春の歌\",\"メロディ4\",キー割付!H412=\"主よ人の望みの喜びよ\",\"メロディ5\",キー割付!H412=\"メヌエット\",\"メロディ6\",キー割付!H412=\"華麗なる大円舞曲\",\"メロディ7\",キー割付!H412=\"ハンガリア舞曲第5番\",\"メロディ8\",TRUE,\"トーン1\"))","v":"トーン1"},{"$f":"IF(E73=\"ZX-DECLDIV-IPコードレス電話機\",\"トーン1\",_xlfn.IFS(キー割付!I412=\"着信音なし\",\"トーン1\",キー割付!I412=\"トーン1\",\"トーン1\",キー割付!I412=\"トーン2\",\"トーン2\",キー割付!I412=\"トーン3\",\"トーン3\",キー割付!I412=\"トーン4\",\"トーン4\",キー割付!I412=\"トーン5\",\"トーン5\",キー割付!I412=\"トーン6\",\"トーン6\",キー割付!I412=\"トーン7\",\"トーン7\",キー割付!I412=\"トーン7\",\"トーン7\",キー割付!I412=\"無鳴動着信\",\"トーン8\",キー割付!I412=\"グリーンスリーブス\",\"メロディ1\",キー割付!I412=\"峠の我が家\",\"メロディ2\",キー割付!I412=\"カノン\",\"メロディ3\",キー割付!I412=\"春の歌\",\"メロディ4\",キー割付!I412=\"主よ人の望みの喜びよ\",\"メロディ5\",キー割付!I412=\"メヌエット\",\"メロディ6\",キー割付!I412=\"華麗なる大円舞曲\",\"メロディ7\",キー割付!I412=\"ハンガリア舞曲第5番\",\"メロディ8\",TRUE,\"トーン1\"))","v":"トーン1"},{"$f":"IF(E73=\"ZX-DECLDIV-IPコードレス電話機\",\"トーン1\",_xlfn.IFS(キー割付!D420=\"着信音なし\",\"トーン1\",キー割付!D420=\"トーン1\",\"トーン1\",キー割付!D420=\"トーン2\",\"トーン2\",キー割付!D420=\"トーン3\",\"トーン3\",キー割付!D420=\"トーン4\",\"トーン4\",キー割付!D420=\"トーン5\",\"トーン5\",キー割付!D420=\"トーン6\",\"トーン6\",キー割付!D420=\"トーン7\",\"トーン7\",キー割付!D420=\"トーン7\",\"トーン7\",キー割付!D420=\"無鳴動着信\",\"トーン8\",キー割付!D420=\"グリーンスリーブス\",\"メロディ1\",キー割付!D420=\"峠の我が家\",\"メロディ2\",キー割付!D420=\"カノン\",\"メロディ3\",キー割付!D420=\"春の歌\",\"メロディ4\",キー割付!D420=\"主よ人の望みの喜びよ\",\"メロディ5\",キー割付!D420=\"メヌエット\",\"メロディ6\",キー割付!D420=\"華麗なる大円舞曲\",\"メロディ7\",キー割付!D420=\"ハンガリア舞曲第5番\",\"メロディ8\",TRUE,\"トーン1\"))","v":"トーン1"},{"$f":"IF(E73=\"ZX-DECLDIV-IPコードレス電話機\",\"トーン1\",_xlfn.IFS(キー割付!E420=\"着信音なし\",\"トーン1\",キー割付!E420=\"トーン1\",\"トーン1\",キー割付!E420=\"トーン2\",\"トーン2\",キー割付!E420=\"トーン3\",\"トーン3\",キー割付!E420=\"トーン4\",\"トーン4\",キー割付!E420=\"トーン5\",\"トーン5\",キー割付!E420=\"トーン6\",\"トーン6\",キー割付!E420=\"トーン7\",\"トーン7\",キー割付!E420=\"トーン7\",\"トーン7\",キー割付!E420=\"無鳴動着信\",\"トーン8\",キー割付!E420=\"グリーンスリーブス\",\"メロディ1\",キー割付!E420=\"峠の我が家\",\"メロディ2\",キー割付!E420=\"カノン\",\"メロディ3\",キー割付!E420=\"春の歌\",\"メロディ4\",キー割付!E420=\"主よ人の望みの喜びよ\",\"メロディ5\",キー割付!E420=\"メヌエット\",\"メロディ6\",キー割付!E420=\"華麗なる大円舞曲\",\"メロディ7\",キー割付!E420=\"ハンガリア舞曲第5番\",\"メロディ8\",TRUE,\"トーン1\"))","v":"トーン1"},{"$f":"IF(E73=\"ZX-DECLDIV-IPコードレス電話機\",\"トーン1\",_xlfn.IFS(キー割付!F420=\"着信音なし\",\"トーン1\",キー割付!F420=\"トーン1\",\"トーン1\",キー割付!F420=\"トーン2\",\"トーン2\",キー割付!F420=\"トーン3\",\"トーン3\",キー割付!F420=\"トーン4\",\"トーン4\",キー割付!F420=\"トーン5\",\"トーン5\",キー割付!F420=\"トーン6\",\"トーン6\",キー割付!F420=\"トーン7\",\"トーン7\",キー割付!F420=\"トーン7\",\"トーン7\",キー割付!F420=\"無鳴動着信\",\"トーン8\",キー割付!F420=\"グリーンスリーブス\",\"メロディ1\",キー割付!F420=\"峠の我が家\",\"メロディ2\",キー割付!F420=\"カノン\",\"メロディ3\",キー割付!F420=\"春の歌\",\"メロディ4\",キー割付!F420=\"主よ人の望みの喜びよ\",\"メロディ5\",キー割付!F420=\"メヌエット\",\"メロディ6\",キー割付!F420=\"華麗なる大円舞曲\",\"メロディ7\",キー割付!F420=\"ハンガリア舞曲第5番\",\"メロディ8\",TRUE,\"トーン1\"))","v":"トーン1"},{"$f":"IF(E73=\"ZX-DECLDIV-IPコードレス電話機\",\"トーン1\",_xlfn.IFS(キー割付!G420=\"着信音なし\",\"トーン1\",キー割付!G420=\"トーン1\",\"トーン1\",キー割付!G420=\"トーン2\",\"トーン2\",キー割付!G420=\"トーン3\",\"トーン3\",キー割付!G420=\"トーン4\",\"トーン4\",キー割付!G420=\"トーン5\",\"トーン5\",キー割付!G420=\"トーン6\",\"トーン6\",キー割付!G420=\"トーン7\",\"トーン7\",キー割付!G420=\"トーン7\",\"トーン7\",キー割付!G420=\"無鳴動着信\",\"トーン8\",キー割付!G420=\"グリーンスリーブス\",\"メロディ1\",キー割付!G420=\"峠の我が家\",\"メロディ2\",キー割付!G420=\"カノン\",\"メロディ3\",キー割付!G420=\"春の歌\",\"メロディ4\",キー割付!G420=\"主よ人の望みの喜びよ\",\"メロディ5\",キー割付!G420=\"メヌエット\",\"メロディ6\",キー割付!G420=\"華麗なる大円舞曲\",\"メロディ7\",キー割付!G420=\"ハンガリア舞曲第5番\",\"メロディ8\",TRUE,\"トーン1\"))","v":"トーン1"},{"$f":"IF(E73=\"ZX-DECLDIV-IPコードレス電話機\",\"トーン1\",_xlfn.IFS(キー割付!H420=\"着信音なし\",\"トーン1\",キー割付!H420=\"トーン1\",\"トーン1\",キー割付!H420=\"トーン2\",\"トーン2\",キー割付!H420=\"トーン3\",\"トーン3\",キー割付!H420=\"トーン4\",\"トーン4\",キー割付!H420=\"トーン5\",\"トーン5\",キー割付!H420=\"トーン6\",\"トーン6\",キー割付!H420=\"トーン7\",\"トーン7\",キー割付!H420=\"トーン7\",\"トーン7\",キー割付!H420=\"無鳴動着信\",\"トーン8\",キー割付!H420=\"グリーンスリーブス\",\"メロディ1\",キー割付!H420=\"峠の我が家\",\"メロディ2\",キー割付!H420=\"カノン\",\"メロディ3\",キー割付!H420=\"春の歌\",\"メロディ4\",キー割付!H420=\"主よ人の望みの喜びよ\",\"メロディ5\",キー割付!H420=\"メヌエット\",\"メロディ6\",キー割付!H420=\"華麗なる大円舞曲\",\"メロディ7\",キー割付!H420=\"ハンガリア舞曲第5番\",\"メロディ8\",TRUE,\"トーン1\"))","v":"トーン1"},{"$f":"IF(E73=\"ZX-DECLDIV-IPコードレス電話機\",\"トーン1\",_xlfn.IFS(キー割付!I420=\"着信音なし\",\"トーン1\",キー割付!I420=\"トーン1\",\"トーン1\",キー割付!I420=\"トーン2\",\"トーン2\",キー割付!I420=\"トーン3\",\"トーン3\",キー割付!I420=\"トーン4\",\"トーン4\",キー割付!I420=\"トーン5\",\"トーン5\",キー割付!I420=\"トーン6\",\"トーン6\",キー割付!I420=\"トーン7\",\"トーン7\",キー割付!I420=\"トーン7\",\"トーン7\",キー割付!I420=\"無鳴動着信\",\"トーン8\",キー割付!I420=\"グリーンスリーブス\",\"メロディ1\",キー割付!I420=\"峠の我が家\",\"メロディ2\",キー割付!I420=\"カノン\",\"メロディ3\",キー割付!I420=\"春の歌\",\"メロディ4\",キー割付!I420=\"主よ人の望みの喜びよ\",\"メロディ5\",キー割付!I420=\"メヌエット\",\"メロディ6\",キー割付!I420=\"華麗なる大円舞曲\",\"メロディ7\",キー割付!I420=\"ハンガリア舞曲第5番\",\"メロディ8\",TRUE,\"トーン1\"))","v":"トーン1"},{"$f":"IF(E73=\"ZX-DECLDIV-IPコードレス電話機\",\"トーン1\",_xlfn.IFS(キー割付!D428=\"着信音なし\",\"トーン1\",キー割付!D428=\"トーン1\",\"トーン1\",キー割付!D428=\"トーン2\",\"トーン2\",キー割付!D428=\"トーン3\",\"トーン3\",キー割付!D428=\"トーン4\",\"トーン4\",キー割付!D428=\"トーン5\",\"トーン5\",キー割付!D428=\"トーン6\",\"トーン6\",キー割付!D428=\"トーン7\",\"トーン7\",キー割付!D428=\"トーン7\",\"トーン7\",キー割付!D428=\"無鳴動着信\",\"トーン8\",キー割付!D428=\"グリーンスリーブス\",\"メロディ1\",キー割付!D428=\"峠の我が家\",\"メロディ2\",キー割付!D428=\"カノン\",\"メロディ3\",キー割付!D428=\"春の歌\",\"メロディ4\",キー割付!D428=\"主よ人の望みの喜びよ\",\"メロディ5\",キー割付!D428=\"メヌエット\",\"メロディ6\",キー割付!D428=\"華麗なる大円舞曲\",\"メロディ7\",キー割付!D428=\"ハンガリア舞曲第5番\",\"メロディ8\",TRUE,\"トーン1\"))","v":"トーン1"},{"$f":"IF(E73=\"ZX-DECLDIV-IPコードレス電話機\",\"トーン1\",_xlfn.IFS(キー割付!E428=\"着信音なし\",\"トーン1\",キー割付!E428=\"トーン1\",\"トーン1\",キー割付!E428=\"トーン2\",\"トーン2\",キー割付!E428=\"トーン3\",\"トーン3\",キー割付!E428=\"トーン4\",\"トーン4\",キー割付!E428=\"トーン5\",\"トーン5\",キー割付!E428=\"トーン6\",\"トーン6\",キー割付!E428=\"トーン7\",\"トーン7\",キー割付!E428=\"トーン7\",\"トーン7\",キー割付!E428=\"無鳴動着信\",\"トーン8\",キー割付!E428=\"グリーンスリーブス\",\"メロディ1\",キー割付!E428=\"峠の我が家\",\"メロディ2\",キー割付!E428=\"カノン\",\"メロディ3\",キー割付!E428=\"春の歌\",\"メロディ4\",キー割付!E428=\"主よ人の望みの喜びよ\",\"メロディ5\",キー割付!E428=\"メヌエット\",\"メロディ6\",キー割付!E428=\"華麗なる大円舞曲\",\"メロディ7\",キー割付!E428=\"ハンガリア舞曲第5番\",\"メロディ8\",TRUE,\"トーン1\"))","v":"トーン1"},{"$f":"IF(E73=\"ZX-DECLDIV-IPコードレス電話機\",\"トーン1\",_xlfn.IFS(キー割付!F428=\"着信音なし\",\"トーン1\",キー割付!F428=\"トーン1\",\"トーン1\",キー割付!F428=\"トーン2\",\"トーン2\",キー割付!F428=\"トーン3\",\"トーン3\",キー割付!F428=\"トーン4\",\"トーン4\",キー割付!F428=\"トーン5\",\"トーン5\",キー割付!F428=\"トーン6\",\"トーン6\",キー割付!F428=\"トーン7\",\"トーン7\",キー割付!F428=\"トーン7\",\"トーン7\",キー割付!F428=\"無鳴動着信\",\"トーン8\",キー割付!F428=\"グリーンスリーブス\",\"メロディ1\",キー割付!F428=\"峠の我が家\",\"メロディ2\",キー割付!F428=\"カノン\",\"メロディ3\",キー割付!F428=\"春の歌\",\"メロディ4\",キー割付!F428=\"主よ人の望みの喜びよ\",\"メロディ5\",キー割付!F428=\"メヌエット\",\"メロディ6\",キー割付!F428=\"華麗なる大円舞曲\",\"メロディ7\",キー割付!F428=\"ハンガリア舞曲第5番\",\"メロディ8\",TRUE,\"トーン1\"))","v":"トーン1"},{"$f":"IF(E73=\"ZX-DECLDIV-IPコードレス電話機\",\"トーン1\",_xlfn.IFS(キー割付!G428=\"着信音なし\",\"トーン1\",キー割付!G428=\"トーン1\",\"トーン1\",キー割付!G428=\"トーン2\",\"トーン2\",キー割付!G428=\"トーン3\",\"トーン3\",キー割付!G428=\"トーン4\",\"トーン4\",キー割付!G428=\"トーン5\",\"トーン5\",キー割付!G428=\"トーン6\",\"トーン6\",キー割付!G428=\"トーン7\",\"トーン7\",キー割付!G428=\"トーン7\",\"トーン7\",キー割付!G428=\"無鳴動着信\",\"トーン8\",キー割付!G428=\"グリーンスリーブス\",\"メロディ1\",キー割付!G428=\"峠の我が家\",\"メロディ2\",キー割付!G428=\"カノン\",\"メロディ3\",キー割付!G428=\"春の歌\",\"メロディ4\",キー割付!G428=\"主よ人の望みの喜びよ\",\"メロディ5\",キー割付!G428=\"メヌエット\",\"メロディ6\",キー割付!G428=\"華麗なる大円舞曲\",\"メロディ7\",キー割付!G428=\"ハンガリア舞曲第5番\",\"メロディ8\",TRUE,\"トーン1\"))","v":"トーン1"},{"$f":"IF(E73=\"ZX-DECLDIV-IPコードレス電話機\",\"トーン1\",_xlfn.IFS(キー割付!H428=\"着信音なし\",\"トーン1\",キー割付!H428=\"トーン1\",\"トーン1\",キー割付!H428=\"トーン2\",\"トーン2\",キー割付!H428=\"トーン3\",\"トーン3\",キー割付!H428=\"トーン4\",\"トーン4\",キー割付!H428=\"トーン5\",\"トーン5\",キー割付!H428=\"トーン6\",\"トーン6\",キー割付!H428=\"トーン7\",\"トーン7\",キー割付!H428=\"トーン7\",\"トーン7\",キー割付!H428=\"無鳴動着信\",\"トーン8\",キー割付!H428=\"グリーンスリーブス\",\"メロディ1\",キー割付!H428=\"峠の我が家\",\"メロディ2\",キー割付!H428=\"カノン\",\"メロディ3\",キー割付!H428=\"春の歌\",\"メロディ4\",キー割付!H428=\"主よ人の望みの喜びよ\",\"メロディ5\",キー割付!H428=\"メヌエット\",\"メロディ6\",キー割付!H428=\"華麗なる大円舞曲\",\"メロディ7\",キー割付!H428=\"ハンガリア舞曲第5番\",\"メロディ8\",TRUE,\"トーン1\"))","v":"トーン1"},{"$f":"IF(E73=\"ZX-DECLDIV-IPコードレス電話機\",\"トーン1\",_xlfn.IFS(キー割付!I428=\"着信音なし\",\"トーン1\",キー割付!I428=\"トーン1\",\"トーン1\",キー割付!I428=\"トーン2\",\"トーン2\",キー割付!I428=\"トーン3\",\"トーン3\",キー割付!I428=\"トーン4\",\"トーン4\",キー割付!I428=\"トーン5\",\"トーン5\",キー割付!I428=\"トーン6\",\"トーン6\",キー割付!I428=\"トーン7\",\"トーン7\",キー割付!I428=\"トーン7\",\"トーン7\",キー割付!I428=\"無鳴動着信\",\"トーン8\",キー割付!I428=\"グリーンスリーブス\",\"メロディ1\",キー割付!I428=\"峠の我が家\",\"メロディ2\",キー割付!I428=\"カノン\",\"メロディ3\",キー割付!I428=\"春の歌\",\"メロディ4\",キー割付!I428=\"主よ人の望みの喜びよ\",\"メロディ5\",キー割付!I428=\"メヌエット\",\"メロディ6\",キー割付!I428=\"華麗なる大円舞曲\",\"メロディ7\",キー割付!I428=\"ハンガリア舞曲第5番\",\"メロディ8\",TRUE,\"トーン1\"))","v":"トーン1"}]
[null,null,null,null,null,{"$f":"_xlfn.IFS(キー割付!D405=\"昼夜休憩\",\"B\",キー割付!D405=\"－－－\",\"-\",キー割付!D405=\"昼－－\",\"H\",キー割付!D405=\"－夜－\",\"N\",キー割付!D405=\"－－休憩\",\"P\",キー割付!D405=\"昼夜－\",\"D\",キー割付!D405=\"昼－休憩\",\"F\",キー割付!D405=\"－夜休憩\",\"K\",TRUE,\"-\")","v":"-"},{"$f":"_xlfn.IFS(キー割付!E405=\"昼夜休憩\",\"B\",キー割付!E405=\"－－－\",\"-\",キー割付!E405=\"昼－－\",\"H\",キー割付!E405=\"－夜－\",\"N\",キー割付!E405=\"－－休憩\",\"P\",キー割付!E405=\"昼夜－\",\"D\",キー割付!E405=\"昼－休憩\",\"F\",キー割付!E405=\"－夜休憩\",\"K\",TRUE,\"-\")","v":"-"},{"$f":"_xlfn.IFS(キー割付!F405=\"昼夜休憩\",\"B\",キー割付!F405=\"－－－\",\"-\",キー割付!F405=\"昼－－\",\"H\",キー割付!F405=\"－夜－\",\"N\",キー割付!F405=\"－－休憩\",\"P\",キー割付!F405=\"昼夜－\",\"D\",キー割付!F405=\"昼－休憩\",\"F\",キー割付!F405=\"－夜休憩\",\"K\",TRUE,\"-\")","v":"-"},{"$f":"_xlfn.IFS(キー割付!G405=\"昼夜休憩\",\"B\",キー割付!G405=\"－－－\",\"-\",キー割付!G405=\"昼－－\",\"H\",キー割付!G405=\"－夜－\",\"N\",キー割付!G405=\"－－休憩\",\"P\",キー割付!G405=\"昼夜－\",\"D\",キー割付!G405=\"昼－休憩\",\"F\",キー割付!G405=\"－夜休憩\",\"K\",TRUE,\"-\")","v":"-"},{"$f":"_xlfn.IFS(キー割付!H405=\"昼夜休憩\",\"B\",キー割付!H405=\"－－－\",\"-\",キー割付!H405=\"昼－－\",\"H\",キー割付!H405=\"－夜－\",\"N\",キー割付!H405=\"－－休憩\",\"P\",キー割付!H405=\"昼夜－\",\"D\",キー割付!H405=\"昼－休憩\",\"F\",キー割付!H405=\"－夜休憩\",\"K\",TRUE,\"-\")","v":"-"},{"$f":"_xlfn.IFS(キー割付!I405=\"昼夜休憩\",\"B\",キー割付!I405=\"－－－\",\"-\",キー割付!I405=\"昼－－\",\"H\",キー割付!I405=\"－夜－\",\"N\",キー割付!I405=\"－－休憩\",\"P\",キー割付!I405=\"昼夜－\",\"D\",キー割付!I405=\"昼－休憩\",\"F\",キー割付!I405=\"－夜休憩\",\"K\",TRUE,\"-\")","v":"-"},{"$f":"_xlfn.IFS(キー割付!D413=\"昼夜休憩\",\"B\",キー割付!D413=\"－－－\",\"-\",キー割付!D413=\"昼－－\",\"H\",キー割付!D413=\"－夜－\",\"N\",キー割付!D413=\"－－休憩\",\"P\",キー割付!D413=\"昼夜－\",\"D\",キー割付!D413=\"昼－休憩\",\"F\",キー割付!D413=\"－夜休憩\",\"K\",TRUE,\"-\")","v":"-"},{"$f":"_xlfn.IFS(キー割付!E413=\"昼夜休憩\",\"B\",キー割付!E413=\"－－－\",\"-\",キー割付!E413=\"昼－－\",\"H\",キー割付!E413=\"－夜－\",\"N\",キー割付!E413=\"－－休憩\",\"P\",キー割付!E413=\"昼夜－\",\"D\",キー割付!E413=\"昼－休憩\",\"F\",キー割付!E413=\"－夜休憩\",\"K\",TRUE,\"-\")","v":"-"},{"$f":"IF(E73=\"ZX-DECLDIV-IPコードレス電話機\",\"-\",_xlfn.IFS(キー割付!F413=\"昼夜休憩\",\"B\",キー割付!F413=\"－－－\",\"-\",キー割付!F413=\"昼－－\",\"H\",キー割付!F413=\"－夜－\",\"N\",キー割付!F413=\"－－休憩\",\"P\",キー割付!F413=\"昼夜－\",\"D\",キー割付!F413=\"昼－休憩\",\"F\",キー割付!F413=\"－夜休憩\",\"K\",TRUE,\"-\"))","v":"-"},{"$f":"IF(E73=\"ZX-DECLDIV-IPコードレス電話機\",\"-\",_xlfn.IFS(キー割付!G413=\"昼夜休憩\",\"B\",キー割付!G413=\"－－－\",\"-\",キー割付!G413=\"昼－－\",\"H\",キー割付!G413=\"－夜－\",\"N\",キー割付!G413=\"－－休憩\",\"P\",キー割付!G413=\"昼夜－\",\"D\",キー割付!G413=\"昼－休憩\",\"F\",キー割付!G413=\"－夜休憩\",\"K\",TRUE,\"-\"))","v":"-"},{"$f":"IF(E73=\"ZX-DECLDIV-IPコードレス電話機\",\"-\",_xlfn.IFS(キー割付!H413=\"昼夜休憩\",\"B\",キー割付!H413=\"－－－\",\"-\",キー割付!H413=\"昼－－\",\"H\",キー割付!H413=\"－夜－\",\"N\",キー割付!H413=\"－－休憩\",\"P\",キー割付!H413=\"昼夜－\",\"D\",キー割付!H413=\"昼－休憩\",\"F\",キー割付!H413=\"－夜休憩\",\"K\",TRUE,\"-\"))","v":"-"},{"$f":"IF(E73=\"ZX-DECLDIV-IPコードレス電話機\",\"-\",_xlfn.IFS(キー割付!I413=\"昼夜休憩\",\"B\",キー割付!I413=\"－－－\",\"-\",キー割付!I413=\"昼－－\",\"H\",キー割付!I413=\"－夜－\",\"N\",キー割付!I413=\"－－休憩\",\"P\",キー割付!I413=\"昼夜－\",\"D\",キー割付!I413=\"昼－休憩\",\"F\",キー割付!I413=\"－夜休憩\",\"K\",TRUE,\"-\"))","v":"-"},{"$f":"IF(E73=\"ZX-DECLDIV-IPコードレス電話機\",\"-\",_xlfn.IFS(キー割付!D421=\"昼夜休憩\",\"B\",キー割付!D421=\"－－－\",\"-\",キー割付!D421=\"昼－－\",\"H\",キー割付!D421=\"－夜－\",\"N\",キー割付!D421=\"－－休憩\",\"P\",キー割付!D421=\"昼夜－\",\"D\",キー割付!D421=\"昼－休憩\",\"F\",キー割付!D421=\"－夜休憩\",\"K\",TRUE,\"-\"))","v":"-"},{"$f":"IF(E73=\"ZX-DECLDIV-IPコードレス電話機\",\"-\",_xlfn.IFS(キー割付!E421=\"昼夜休憩\",\"B\",キー割付!E421=\"－－－\",\"-\",キー割付!E421=\"昼－－\",\"H\",キー割付!E421=\"－夜－\",\"N\",キー割付!E421=\"－－休憩\",\"P\",キー割付!E421=\"昼夜－\",\"D\",キー割付!E421=\"昼－休憩\",\"F\",キー割付!E421=\"－夜休憩\",\"K\",TRUE,\"-\"))","v":"-"},{"$f":"IF(E73=\"ZX-DECLDIV-IPコードレス電話機\",\"-\",_xlfn.IFS(キー割付!F421=\"昼夜休憩\",\"B\",キー割付!F421=\"－－－\",\"-\",キー割付!F421=\"昼－－\",\"H\",キー割付!F421=\"－夜－\",\"N\",キー割付!F421=\"－－休憩\",\"P\",キー割付!F421=\"昼夜－\",\"D\",キー割付!F421=\"昼－休憩\",\"F\",キー割付!F421=\"－夜休憩\",\"K\",TRUE,\"-\"))","v":"-"},{"$f":"IF(E73=\"ZX-DECLDIV-IPコードレス電話機\",\"-\",_xlfn.IFS(キー割付!G421=\"昼夜休憩\",\"B\",キー割付!G421=\"－－－\",\"-\",キー割付!G421=\"昼－－\",\"H\",キー割付!G421=\"－夜－\",\"N\",キー割付!G421=\"－－休憩\",\"P\",キー割付!G421=\"昼夜－\",\"D\",キー割付!G421=\"昼－休憩\",\"F\",キー割付!G421=\"－夜休憩\",\"K\",TRUE,\"-\"))","v":"-"},{"$f":"IF(E73=\"ZX-DECLDIV-IPコードレス電話機\",\"-\",_xlfn.IFS(キー割付!H421=\"昼夜休憩\",\"B\",キー割付!H421=\"－－－\",\"-\",キー割付!H421=\"昼－－\",\"H\",キー割付!H421=\"－夜－\",\"N\",キー割付!H421=\"－－休憩\",\"P\",キー割付!H421=\"昼夜－\",\"D\",キー割付!H421=\"昼－休憩\",\"F\",キー割付!H421=\"－夜休憩\",\"K\",TRUE,\"-\"))","v":"-"},{"$f":"IF(E73=\"ZX-DECLDIV-IPコードレス電話機\",\"-\",_xlfn.IFS(キー割付!I421=\"昼夜休憩\",\"B\",キー割付!I421=\"－－－\",\"-\",キー割付!I421=\"昼－－\",\"H\",キー割付!I421=\"－夜－\",\"N\",キー割付!I421=\"－－休憩\",\"P\",キー割付!I421=\"昼夜－\",\"D\",キー割付!I421=\"昼－休憩\",\"F\",キー割付!I421=\"－夜休憩\",\"K\",TRUE,\"-\"))","v":"-"},{"$f":"IF(E73=\"ZX-DECLDIV-IPコードレス電話機\",\"-\",_xlfn.IFS(キー割付!D429=\"昼夜休憩\",\"B\",キー割付!D429=\"－－－\",\"-\",キー割付!D429=\"昼－－\",\"H\",キー割付!D429=\"－夜－\",\"N\",キー割付!D429=\"－－休憩\",\"P\",キー割付!D429=\"昼夜－\",\"D\",キー割付!D429=\"昼－休憩\",\"F\",キー割付!D429=\"－夜休憩\",\"K\",TRUE,\"-\"))","v":"-"},{"$f":"IF(E73=\"ZX-DECLDIV-IPコードレス電話機\",\"-\",_xlfn.IFS(キー割付!E429=\"昼夜休憩\",\"B\",キー割付!E429=\"－－－\",\"-\",キー割付!E429=\"昼－－\",\"H\",キー割付!E429=\"－夜－\",\"N\",キー割付!E429=\"－－休憩\",\"P\",キー割付!E429=\"昼夜－\",\"D\",キー割付!E429=\"昼－休憩\",\"F\",キー割付!E429=\"－夜休憩\",\"K\",TRUE,\"-\"))","v":"-"},{"$f":"IF(E73=\"ZX-DECLDIV-IPコードレス電話機\",\"-\",_xlfn.IFS(キー割付!F429=\"昼夜休憩\",\"B\",キー割付!F429=\"－－－\",\"-\",キー割付!F429=\"昼－－\",\"H\",キー割付!F429=\"－夜－\",\"N\",キー割付!F429=\"－－休憩\",\"P\",キー割付!F429=\"昼夜－\",\"D\",キー割付!F429=\"昼－休憩\",\"F\",キー割付!F429=\"－夜休憩\",\"K\",TRUE,\"-\"))","v":"-"},{"$f":"IF(E73=\"ZX-DECLDIV-IPコードレス電話機\",\"-\",_xlfn.IFS(キー割付!G429=\"昼夜休憩\",\"B\",キー割付!G429=\"－－－\",\"-\",キー割付!G429=\"昼－－\",\"H\",キー割付!G429=\"－夜－\",\"N\",キー割付!G429=\"－－休憩\",\"P\",キー割付!G429=\"昼夜－\",\"D\",キー割付!G429=\"昼－休憩\",\"F\",キー割付!G429=\"－夜休憩\",\"K\",TRUE,\"-\"))","v":"-"},{"$f":"IF(E73=\"ZX-DECLDIV-IPコードレス電話機\",\"-\",_xlfn.IFS(キー割付!H429=\"昼夜休憩\",\"B\",キー割付!H429=\"－－－\",\"-\",キー割付!H429=\"昼－－\",\"H\",キー割付!H429=\"－夜－\",\"N\",キー割付!H429=\"－－休憩\",\"P\",キー割付!H429=\"昼夜－\",\"D\",キー割付!H429=\"昼－休憩\",\"F\",キー割付!H429=\"－夜休憩\",\"K\",TRUE,\"-\"))","v":"-"},{"$f":"IF(E73=\"ZX-DECLDIV-IPコードレス電話機\",\"-\",_xlfn.IFS(キー割付!I429=\"昼夜休憩\",\"B\",キー割付!I429=\"－－－\",\"-\",キー割付!I429=\"昼－－\",\"H\",キー割付!I429=\"－夜－\",\"N\",キー割付!I429=\"－－休憩\",\"P\",キー割付!I429=\"昼夜－\",\"D\",キー割付!I429=\"昼－休憩\",\"F\",キー割付!I429=\"－夜休憩\",\"K\",TRUE,\"-\"))","v":"-"}]
[null,24,{"$f":"IF(IFERROR(VALUE(VLOOKUP(B76,内線_キー割用,2,FALSE)),\"\")=0,\"\",IFERROR(VALUE(VLOOKUP(B76,内線_キー割用,2,FALSE)),\"\"))","v":""},{"$f":"IF(IFERROR(VALUE(VLOOKUP(B76,内線_キー割用,4,FALSE)),\"\")=0,\"\",IFERROR(VALUE(VLOOKUP(B76,内線_キー割用,4,FALSE)),\"\"))","v":""},{"$f":"IF(IFERROR(VLOOKUP(B76,内線_キー割用,3,FALSE),\"\")=0,\"\",IFERROR(VLOOKUP(B76,内線_キー割用,3,FALSE),\"\"))","v":""},{"$f":"IF(キー割付!N403=\"\",\"未使用\",キー割付!N403)","v":"未使用"},{"$f":"IF(キー割付!O403=\"\",\"未使用\",キー割付!O403)","v":"未使用"},{"$f":"IF(キー割付!P403=\"\",\"未使用\",キー割付!P403)","v":"未使用"},{"$f":"IF(キー割付!Q403=\"\",\"未使用\",キー割付!Q403)","v":"未使用"},{"$f":"IF(キー割付!R403=\"\",\"未使用\",キー割付!R403)","v":"未使用"},{"$f":"IF(キー割付!S403=\"\",\"未使用\",キー割付!S403)","v":"未使用"},{"$f":"IF(キー割付!N411=\"\",\"未使用\",キー割付!N411)","v":"未使用"},{"$f":"IF(キー割付!O411=\"\",\"未使用\",キー割付!O411)","v":"未使用"},{"$f":"IF(E76=\"ZX-DECLDIV-IPコードレス電話機\",\"未使用\",IF(キー割付!P411=\"\",\"未使用\",キー割付!P411))","v":"未使用"},{"$f":"IF(E76=\"ZX-DECLDIV-IPコードレス電話機\",\"未使用\",IF(キー割付!Q411=\"\",\"未使用\",キー割付!Q411))","v":"未使用"},{"$f":"IF(E76=\"ZX-DECLDIV-IPコードレス電話機\",\"未使用\",IF(キー割付!R411=\"\",\"未使用\",キー割付!R411))","v":"未使用"},{"$f":"IF(E76=\"ZX-DECLDIV-IPコードレス電話機\",\"未使用\",IF(キー割付!S411=\"\",\"未使用\",キー割付!S411))","v":"未使用"},{"$f":"IF(E76=\"ZX-DECLDIV-IPコードレス電話機\",\"未使用\",IF(キー割付!N419=\"\",\"未使用\",キー割付!N419))","v":"未使用"},{"$f":"IF(E76=\"ZX-DECLDIV-IPコードレス電話機\",\"未使用\",IF(キー割付!O419=\"\",\"未使用\",キー割付!O419))","v":"未使用"},{"$f":"IF(E76=\"ZX-DECLDIV-IPコードレス電話機\",\"未使用\",IF(キー割付!P419=\"\",\"未使用\",キー割付!P419))","v":"未使用"},{"$f":"IF(E76=\"ZX-DECLDIV-IPコードレス電話機\",\"未使用\",IF(キー割付!Q419=\"\",\"未使用\",キー割付!Q419))","v":"未使用"},{"$f":"IF(E76=\"ZX-DECLDIV-IPコードレス電話機\",\"未使用\",IF(キー割付!R419=\"\",\"未使用\",キー割付!R419))","v":"未使用"},{"$f":"IF(E76=\"ZX-DECLDIV-IPコードレス電話機\",\"未使用\",IF(キー割付!S419=\"\",\"未使用\",キー割付!S419))","v":"未使用"},{"$f":"IF(E76=\"ZX-DECLDIV-IPコードレス電話機\",\"未使用\",IF(キー割付!N427=\"\",\"未使用\",キー割付!N427))","v":"未使用"},{"$f":"IF(E76=\"ZX-DECLDIV-IPコードレス電話機\",\"未使用\",IF(キー割付!O427=\"\",\"未使用\",キー割付!O427))","v":"未使用"},{"$f":"IF(E76=\"ZX-DECLDIV-IPコードレス電話機\",\"未使用\",IF(キー割付!P427=\"\",\"未使用\",キー割付!P427))","v":"未使用"},{"$f":"IF(E76=\"ZX-DECLDIV-IPコードレス電話機\",\"未使用\",IF(キー割付!Q427=\"\",\"未使用\",キー割付!Q427))","v":"未使用"},{"$f":"IF(E76=\"ZX-DECLDIV-IPコードレス電話機\",\"未使用\",IF(キー割付!R427=\"\",\"未使用\",キー割付!R427))","v":"未使用"},{"$f":"IF(E76=\"ZX-DECLDIV-IPコードレス電話機\",\"未使用\",IF(キー割付!S427=\"\",\"未使用\",キー割付!S427))","v":"未使用"}]
[null,null,null,null,null,{"$f":"_xlfn.IFS(キー割付!N404=\"着信音なし\",\"トーン1\",キー割付!N404=\"トーン1\",\"トーン1\",キー割付!N404=\"トーン2\",\"トーン2\",キー割付!N404=\"トーン3\",\"トーン3\",キー割付!N404=\"トーン4\",\"トーン4\",キー割付!N404=\"トーン5\",\"トーン5\",キー割付!N404=\"トーン6\",\"トーン6\",キー割付!N404=\"トーン7\",\"トーン7\",キー割付!N404=\"トーン7\",\"トーン7\",キー割付!N404=\"無鳴動着信\",\"トーン8\",キー割付!N404=\"グリーンスリーブス\",\"メロディ1\",キー割付!N404=\"峠の我が家\",\"メロディ2\",キー割付!N404=\"カノン\",\"メロディ3\",キー割付!N404=\"春の歌\",\"メロディ4\",キー割付!N404=\"主よ人の望みの喜びよ\",\"メロディ5\",キー割付!N404=\"メヌエット\",\"メロディ6\",キー割付!N404=\"華麗なる大円舞曲\",\"メロディ7\",キー割付!N404=\"ハンガリア舞曲第5番\",\"メロディ8\",TRUE,\"トーン1\")","v":"トーン1"},{"$f":"_xlfn.IFS(キー割付!O404=\"着信音なし\",\"トーン1\",キー割付!O404=\"トーン1\",\"トーン1\",キー割付!O404=\"トーン2\",\"トーン2\",キー割付!O404=\"トーン3\",\"トーン3\",キー割付!O404=\"トーン4\",\"トーン4\",キー割付!O404=\"トーン5\",\"トーン5\",キー割付!O404=\"トーン6\",\"トーン6\",キー割付!O404=\"トーン7\",\"トーン7\",キー割付!O404=\"トーン7\",\"トーン7\",キー割付!O404=\"無鳴動着信\",\"トーン8\",キー割付!O404=\"グリーンスリーブス\",\"メロディ1\",キー割付!O404=\"峠の我が家\",\"メロディ2\",キー割付!O404=\"カノン\",\"メロディ3\",キー割付!O404=\"春の歌\",\"メロディ4\",キー割付!O404=\"主よ人の望みの喜びよ\",\"メロディ5\",キー割付!O404=\"メヌエット\",\"メロディ6\",キー割付!O404=\"華麗なる大円舞曲\",\"メロディ7\",キー割付!O404=\"ハンガリア舞曲第5番\",\"メロディ8\",TRUE,\"トーン1\")","v":"トーン1"},{"$f":"_xlfn.IFS(キー割付!P404=\"着信音なし\",\"トーン1\",キー割付!P404=\"トーン1\",\"トーン1\",キー割付!P404=\"トーン2\",\"トーン2\",キー割付!P404=\"トーン3\",\"トーン3\",キー割付!P404=\"トーン4\",\"トーン4\",キー割付!P404=\"トーン5\",\"トーン5\",キー割付!P404=\"トーン6\",\"トーン6\",キー割付!P404=\"トーン7\",\"トーン7\",キー割付!P404=\"トーン7\",\"トーン7\",キー割付!P404=\"無鳴動着信\",\"トーン8\",キー割付!P404=\"グリーンスリーブス\",\"メロディ1\",キー割付!P404=\"峠の我が家\",\"メロディ2\",キー割付!P404=\"カノン\",\"メロディ3\",キー割付!P404=\"春の歌\",\"メロディ4\",キー割付!P404=\"主よ人の望みの喜びよ\",\"メロディ5\",キー割付!P404=\"メヌエット\",\"メロディ6\",キー割付!P404=\"華麗なる大円舞曲\",\"メロディ7\",キー割付!P404=\"ハンガリア舞曲第5番\",\"メロディ8\",TRUE,\"トーン1\")","v":"トーン1"},{"$f":"_xlfn.IFS(キー割付!Q404=\"着信音なし\",\"トーン1\",キー割付!Q404=\"トーン1\",\"トーン1\",キー割付!Q404=\"トーン2\",\"トーン2\",キー割付!Q404=\"トーン3\",\"トーン3\",キー割付!Q404=\"トーン4\",\"トーン4\",キー割付!Q404=\"トーン5\",\"トーン5\",キー割付!Q404=\"トーン6\",\"トーン6\",キー割付!Q404=\"トーン7\",\"トーン7\",キー割付!Q404=\"トーン7\",\"トーン7\",キー割付!Q404=\"無鳴動着信\",\"トーン8\",キー割付!Q404=\"グリーンスリーブス\",\"メロディ1\",キー割付!Q404=\"峠の我が家\",\"メロディ2\",キー割付!Q404=\"カノン\",\"メロディ3\",キー割付!Q404=\"春の歌\",\"メロディ4\",キー割付!Q404=\"主よ人の望みの喜びよ\",\"メロディ5\",キー割付!Q404=\"メヌエット\",\"メロディ6\",キー割付!Q404=\"華麗なる大円舞曲\",\"メロディ7\",キー割付!Q404=\"ハンガリア舞曲第5番\",\"メロディ8\",TRUE,\"トーン1\")","v":"トーン1"},{"$f":"_xlfn.IFS(キー割付!R404=\"着信音なし\",\"トーン1\",キー割付!R404=\"トーン1\",\"トーン1\",キー割付!R404=\"トーン2\",\"トーン2\",キー割付!R404=\"トーン3\",\"トーン3\",キー割付!R404=\"トーン4\",\"トーン4\",キー割付!R404=\"トーン5\",\"トーン5\",キー割付!R404=\"トーン6\",\"トーン6\",キー割付!R404=\"トーン7\",\"トーン7\",キー割付!R404=\"トーン7\",\"トーン7\",キー割付!R404=\"無鳴動着信\",\"トーン8\",キー割付!R404=\"グリーンスリーブス\",\"メロディ1\",キー割付!R404=\"峠の我が家\",\"メロディ2\",キー割付!R404=\"カノン\",\"メロディ3\",キー割付!R404=\"春の歌\",\"メロディ4\",キー割付!R404=\"主よ人の望みの喜びよ\",\"メロディ5\",キー割付!R404=\"メヌエット\",\"メロディ6\",キー割付!R404=\"華麗なる大円舞曲\",\"メロディ7\",キー割付!R404=\"ハンガリア舞曲第5番\",\"メロディ8\",TRUE,\"トーン1\")","v":"トーン1"},{"$f":"_xlfn.IFS(キー割付!S404=\"着信音なし\",\"トーン1\",キー割付!S404=\"トーン1\",\"トーン1\",キー割付!S404=\"トーン2\",\"トーン2\",キー割付!S404=\"トーン3\",\"トーン3\",キー割付!S404=\"トーン4\",\"トーン4\",キー割付!S404=\"トーン5\",\"トーン5\",キー割付!S404=\"トーン6\",\"トーン6\",キー割付!S404=\"トーン7\",\"トーン7\",キー割付!S404=\"トーン7\",\"トーン7\",キー割付!S404=\"無鳴動着信\",\"トーン8\",キー割付!S404=\"グリーンスリーブス\",\"メロディ1\",キー割付!S404=\"峠の我が家\",\"メロディ2\",キー割付!S404=\"カノン\",\"メロディ3\",キー割付!S404=\"春の歌\",\"メロディ4\",キー割付!S404=\"主よ人の望みの喜びよ\",\"メロディ5\",キー割付!S404=\"メヌエット\",\"メロディ6\",キー割付!S404=\"華麗なる大円舞曲\",\"メロディ7\",キー割付!S404=\"ハンガリア舞曲第5番\",\"メロディ8\",TRUE,\"トーン1\")","v":"トーン1"},{"$f":"_xlfn.IFS(キー割付!N412=\"着信音なし\",\"トーン1\",キー割付!N412=\"トーン1\",\"トーン1\",キー割付!N412=\"トーン2\",\"トーン2\",キー割付!N412=\"トーン3\",\"トーン3\",キー割付!N412=\"トーン4\",\"トーン4\",キー割付!N412=\"トーン5\",\"トーン5\",キー割付!N412=\"トーン6\",\"トーン6\",キー割付!N412=\"トーン7\",\"トーン7\",キー割付!N412=\"トーン7\",\"トーン7\",キー割付!N412=\"無鳴動着信\",\"トーン8\",キー割付!N412=\"グリーンスリーブス\",\"メロディ1\",キー割付!N412=\"峠の我が家\",\"メロディ2\",キー割付!N412=\"カノン\",\"メロディ3\",キー割付!N412=\"春の歌\",\"メロディ4\",キー割付!N412=\"主よ人の望みの喜びよ\",\"メロディ5\",キー割付!N412=\"メヌエット\",\"メロディ6\",キー割付!N412=\"華麗なる大円舞曲\",\"メロディ7\",キー割付!N412=\"ハンガリア舞曲第5番\",\"メロディ8\",TRUE,\"トーン1\")","v":"トーン1"},{"$f":"_xlfn.IFS(キー割付!O412=\"着信音なし\",\"トーン1\",キー割付!O412=\"トーン1\",\"トーン1\",キー割付!O412=\"トーン2\",\"トーン2\",キー割付!O412=\"トーン3\",\"トーン3\",キー割付!O412=\"トーン4\",\"トーン4\",キー割付!O412=\"トーン5\",\"トーン5\",キー割付!O412=\"トーン6\",\"トーン6\",キー割付!O412=\"トーン7\",\"トーン7\",キー割付!O412=\"トーン7\",\"トーン7\",キー割付!O412=\"無鳴動着信\",\"トーン8\",キー割付!O412=\"グリーンスリーブス\",\"メロディ1\",キー割付!O412=\"峠の我が家\",\"メロディ2\",キー割付!O412=\"カノン\",\"メロディ3\",キー割付!O412=\"春の歌\",\"メロディ4\",キー割付!O412=\"主よ人の望みの喜びよ\",\"メロディ5\",キー割付!O412=\"メヌエット\",\"メロディ6\",キー割付!O412=\"華麗なる大円舞曲\",\"メロディ7\",キー割付!O412=\"ハンガリア舞曲第5番\",\"メロディ8\",TRUE,\"トーン1\")","v":"トーン1"},{"$f":"IF(E76=\"ZX-DECLDIV-IPコードレス電話機\",\"トーン1\",_xlfn.IFS(キー割付!P412=\"着信音なし\",\"トーン1\",キー割付!P412=\"トーン1\",\"トーン1\",キー割付!P412=\"トーン2\",\"トーン2\",キー割付!P412=\"トーン3\",\"トーン3\",キー割付!P412=\"トーン4\",\"トーン4\",キー割付!P412=\"トーン5\",\"トーン5\",キー割付!P412=\"トーン6\",\"トーン6\",キー割付!P412=\"トーン7\",\"トーン7\",キー割付!P412=\"トーン7\",\"トーン7\",キー割付!P412=\"無鳴動着信\",\"トーン8\",キー割付!P412=\"グリーンスリーブス\",\"メロディ1\",キー割付!P412=\"峠の我が家\",\"メロディ2\",キー割付!P412=\"カノン\",\"メロディ3\",キー割付!P412=\"春の歌\",\"メロディ4\",キー割付!P412=\"主よ人の望みの喜びよ\",\"メロディ5\",キー割付!P412=\"メヌエット\",\"メロディ6\",キー割付!P412=\"華麗なる大円舞曲\",\"メロディ7\",キー割付!P412=\"ハンガリア舞曲第5番\",\"メロディ8\",TRUE,\"トーン1\"))","v":"トーン1"},{"$f":"IF(E76=\"ZX-DECLDIV-IPコードレス電話機\",\"トーン1\",_xlfn.IFS(キー割付!Q412=\"着信音なし\",\"トーン1\",キー割付!Q412=\"トーン1\",\"トーン1\",キー割付!Q412=\"トーン2\",\"トーン2\",キー割付!Q412=\"トーン3\",\"トーン3\",キー割付!Q412=\"トーン4\",\"トーン4\",キー割付!Q412=\"トーン5\",\"トーン5\",キー割付!Q412=\"トーン6\",\"トーン6\",キー割付!Q412=\"トーン7\",\"トーン7\",キー割付!Q412=\"トーン7\",\"トーン7\",キー割付!Q412=\"無鳴動着信\",\"トーン8\",キー割付!Q412=\"グリーンスリーブス\",\"メロディ1\",キー割付!Q412=\"峠の我が家\",\"メロディ2\",キー割付!Q412=\"カノン\",\"メロディ3\",キー割付!Q412=\"春の歌\",\"メロディ4\",キー割付!Q412=\"主よ人の望みの喜びよ\",\"メロディ5\",キー割付!Q412=\"メヌエット\",\"メロディ6\",キー割付!Q412=\"華麗なる大円舞曲\",\"メロディ7\",キー割付!Q412=\"ハンガリア舞曲第5番\",\"メロディ8\",TRUE,\"トーン1\"))","v":"トーン1"},{"$f":"IF(E76=\"ZX-DECLDIV-IPコードレス電話機\",\"トーン1\",_xlfn.IFS(キー割付!R412=\"着信音なし\",\"トーン1\",キー割付!R412=\"トーン1\",\"トーン1\",キー割付!R412=\"トーン2\",\"トーン2\",キー割付!R412=\"トーン3\",\"トーン3\",キー割付!R412=\"トーン4\",\"トーン4\",キー割付!R412=\"トーン5\",\"トーン5\",キー割付!R412=\"トーン6\",\"トーン6\",キー割付!R412=\"トーン7\",\"トーン7\",キー割付!R412=\"トーン7\",\"トーン7\",キー割付!R412=\"無鳴動着信\",\"トーン8\",キー割付!R412=\"グリーンスリーブス\",\"メロディ1\",キー割付!R412=\"峠の我が家\",\"メロディ2\",キー割付!R412=\"カノン\",\"メロディ3\",キー割付!R412=\"春の歌\",\"メロディ4\",キー割付!R412=\"主よ人の望みの喜びよ\",\"メロディ5\",キー割付!R412=\"メヌエット\",\"メロディ6\",キー割付!R412=\"華麗なる大円舞曲\",\"メロディ7\",キー割付!R412=\"ハンガリア舞曲第5番\",\"メロディ8\",TRUE,\"トーン1\"))","v":"トーン1"},{"$f":"IF(E76=\"ZX-DECLDIV-IPコードレス電話機\",\"トーン1\",_xlfn.IFS(キー割付!S412=\"着信音なし\",\"トーン1\",キー割付!S412=\"トーン1\",\"トーン1\",キー割付!S412=\"トーン2\",\"トーン2\",キー割付!S412=\"トーン3\",\"トーン3\",キー割付!S412=\"トーン4\",\"トーン4\",キー割付!S412=\"トーン5\",\"トーン5\",キー割付!S412=\"トーン6\",\"トーン6\",キー割付!S412=\"トーン7\",\"トーン7\",キー割付!S412=\"トーン7\",\"トーン7\",キー割付!S412=\"無鳴動着信\",\"トーン8\",キー割付!S412=\"グリーンスリーブス\",\"メロディ1\",キー割付!S412=\"峠の我が家\",\"メロディ2\",キー割付!S412=\"カノン\",\"メロディ3\",キー割付!S412=\"春の歌\",\"メロディ4\",キー割付!S412=\"主よ人の望みの喜びよ\",\"メロディ5\",キー割付!S412=\"メヌエット\",\"メロディ6\",キー割付!S412=\"華麗なる大円舞曲\",\"メロディ7\",キー割付!S412=\"ハンガリア舞曲第5番\",\"メロディ8\",TRUE,\"トーン1\"))","v":"トーン1"},{"$f":"IF(E76=\"ZX-DECLDIV-IPコードレス電話機\",\"トーン1\",_xlfn.IFS(キー割付!N420=\"着信音なし\",\"トーン1\",キー割付!N420=\"トーン1\",\"トーン1\",キー割付!N420=\"トーン2\",\"トーン2\",キー割付!N420=\"トーン3\",\"トーン3\",キー割付!N420=\"トーン4\",\"トーン4\",キー割付!N420=\"トーン5\",\"トーン5\",キー割付!N420=\"トーン6\",\"トーン6\",キー割付!N420=\"トーン7\",\"トーン7\",キー割付!N420=\"トーン7\",\"トーン7\",キー割付!N420=\"無鳴動着信\",\"トーン8\",キー割付!N420=\"グリーンスリーブス\",\"メロディ1\",キー割付!N420=\"峠の我が家\",\"メロディ2\",キー割付!N420=\"カノン\",\"メロディ3\",キー割付!N420=\"春の歌\",\"メロディ4\",キー割付!N420=\"主よ人の望みの喜びよ\",\"メロディ5\",キー割付!N420=\"メヌエット\",\"メロディ6\",キー割付!N420=\"華麗なる大円舞曲\",\"メロディ7\",キー割付!N420=\"ハンガリア舞曲第5番\",\"メロディ8\",TRUE,\"トーン1\"))","v":"トーン1"},{"$f":"IF(E76=\"ZX-DECLDIV-IPコードレス電話機\",\"トーン1\",_xlfn.IFS(キー割付!O420=\"着信音なし\",\"トーン1\",キー割付!O420=\"トーン1\",\"トーン1\",キー割付!O420=\"トーン2\",\"トーン2\",キー割付!O420=\"トーン3\",\"トーン3\",キー割付!O420=\"トーン4\",\"トーン4\",キー割付!O420=\"トーン5\",\"トーン5\",キー割付!O420=\"トーン6\",\"トーン6\",キー割付!O420=\"トーン7\",\"トーン7\",キー割付!O420=\"トーン7\",\"トーン7\",キー割付!O420=\"無鳴動着信\",\"トーン8\",キー割付!O420=\"グリーンスリーブス\",\"メロディ1\",キー割付!O420=\"峠の我が家\",\"メロディ2\",キー割付!O420=\"カノン\",\"メロディ3\",キー割付!O420=\"春の歌\",\"メロディ4\",キー割付!O420=\"主よ人の望みの喜びよ\",\"メロディ5\",キー割付!O420=\"メヌエット\",\"メロディ6\",キー割付!O420=\"華麗なる大円舞曲\",\"メロディ7\",キー割付!O420=\"ハンガリア舞曲第5番\",\"メロディ8\",TRUE,\"トーン1\"))","v":"トーン1"},{"$f":"IF(E76=\"ZX-DECLDIV-IPコードレス電話機\",\"トーン1\",_xlfn.IFS(キー割付!P420=\"着信音なし\",\"トーン1\",キー割付!P420=\"トーン1\",\"トーン1\",キー割付!P420=\"トーン2\",\"トーン2\",キー割付!P420=\"トーン3\",\"トーン3\",キー割付!P420=\"トーン4\",\"トーン4\",キー割付!P420=\"トーン5\",\"トーン5\",キー割付!P420=\"トーン6\",\"トーン6\",キー割付!P420=\"トーン7\",\"トーン7\",キー割付!P420=\"トーン7\",\"トーン7\",キー割付!P420=\"無鳴動着信\",\"トーン8\",キー割付!P420=\"グリーンスリーブス\",\"メロディ1\",キー割付!P420=\"峠の我が家\",\"メロディ2\",キー割付!P420=\"カノン\",\"メロディ3\",キー割付!P420=\"春の歌\",\"メロディ4\",キー割付!P420=\"主よ人の望みの喜びよ\",\"メロディ5\",キー割付!P420=\"メヌエット\",\"メロディ6\",キー割付!P420=\"華麗なる大円舞曲\",\"メロディ7\",キー割付!P420=\"ハンガリア舞曲第5番\",\"メロディ8\",TRUE,\"トーン1\"))","v":"トーン1"},{"$f":"IF(E76=\"ZX-DECLDIV-IPコードレス電話機\",\"トーン1\",_xlfn.IFS(キー割付!Q420=\"着信音なし\",\"トーン1\",キー割付!Q420=\"トーン1\",\"トーン1\",キー割付!Q420=\"トーン2\",\"トーン2\",キー割付!Q420=\"トーン3\",\"トーン3\",キー割付!Q420=\"トーン4\",\"トーン4\",キー割付!Q420=\"トーン5\",\"トーン5\",キー割付!Q420=\"トーン6\",\"トーン6\",キー割付!Q420=\"トーン7\",\"トーン7\",キー割付!Q420=\"トーン7\",\"トーン7\",キー割付!Q420=\"無鳴動着信\",\"トーン8\",キー割付!Q420=\"グリーンスリーブス\",\"メロディ1\",キー割付!Q420=\"峠の我が家\",\"メロディ2\",キー割付!Q420=\"カノン\",\"メロディ3\",キー割付!Q420=\"春の歌\",\"メロディ4\",キー割付!Q420=\"主よ人の望みの喜びよ\",\"メロディ5\",キー割付!Q420=\"メヌエット\",\"メロディ6\",キー割付!Q420=\"華麗なる大円舞曲\",\"メロディ7\",キー割付!Q420=\"ハンガリア舞曲第5番\",\"メロディ8\",TRUE,\"トーン1\"))","v":"トーン1"},{"$f":"IF(E76=\"ZX-DECLDIV-IPコードレス電話機\",\"トーン1\",_xlfn.IFS(キー割付!R420=\"着信音なし\",\"トーン1\",キー割付!R420=\"トーン1\",\"トーン1\",キー割付!R420=\"トーン2\",\"トーン2\",キー割付!R420=\"トーン3\",\"トーン3\",キー割付!R420=\"トーン4\",\"トーン4\",キー割付!R420=\"トーン5\",\"トーン5\",キー割付!R420=\"トーン6\",\"トーン6\",キー割付!R420=\"トーン7\",\"トーン7\",キー割付!R420=\"トーン7\",\"トーン7\",キー割付!R420=\"無鳴動着信\",\"トーン8\",キー割付!R420=\"グリーンスリーブス\",\"メロディ1\",キー割付!R420=\"峠の我が家\",\"メロディ2\",キー割付!R420=\"カノン\",\"メロディ3\",キー割付!R420=\"春の歌\",\"メロディ4\",キー割付!R420=\"主よ人の望みの喜びよ\",\"メロディ5\",キー割付!R420=\"メヌエット\",\"メロディ6\",キー割付!R420=\"華麗なる大円舞曲\",\"メロディ7\",キー割付!R420=\"ハンガリア舞曲第5番\",\"メロディ8\",TRUE,\"トーン1\"))","v":"トーン1"},{"$f":"IF(E76=\"ZX-DECLDIV-IPコードレス電話機\",\"トーン1\",_xlfn.IFS(キー割付!S420=\"着信音なし\",\"トーン1\",キー割付!S420=\"トーン1\",\"トーン1\",キー割付!S420=\"トーン2\",\"トーン2\",キー割付!S420=\"トーン3\",\"トーン3\",キー割付!S420=\"トーン4\",\"トーン4\",キー割付!S420=\"トーン5\",\"トーン5\",キー割付!S420=\"トーン6\",\"トーン6\",キー割付!S420=\"トーン7\",\"トーン7\",キー割付!S420=\"トーン7\",\"トーン7\",キー割付!S420=\"無鳴動着信\",\"トーン8\",キー割付!S420=\"グリーンスリーブス\",\"メロディ1\",キー割付!S420=\"峠の我が家\",\"メロディ2\",キー割付!S420=\"カノン\",\"メロディ3\",キー割付!S420=\"春の歌\",\"メロディ4\",キー割付!S420=\"主よ人の望みの喜びよ\",\"メロディ5\",キー割付!S420=\"メヌエット\",\"メロディ6\",キー割付!S420=\"華麗なる大円舞曲\",\"メロディ7\",キー割付!S420=\"ハンガリア舞曲第5番\",\"メロディ8\",TRUE,\"トーン1\"))","v":"トーン1"},{"$f":"IF(E76=\"ZX-DECLDIV-IPコードレス電話機\",\"トーン1\",_xlfn.IFS(キー割付!N428=\"着信音なし\",\"トーン1\",キー割付!N428=\"トーン1\",\"トーン1\",キー割付!N428=\"トーン2\",\"トーン2\",キー割付!N428=\"トーン3\",\"トーン3\",キー割付!N428=\"トーン4\",\"トーン4\",キー割付!N428=\"トーン5\",\"トーン5\",キー割付!N428=\"トーン6\",\"トーン6\",キー割付!N428=\"トーン7\",\"トーン7\",キー割付!N428=\"トーン7\",\"トーン7\",キー割付!N428=\"無鳴動着信\",\"トーン8\",キー割付!N428=\"グリーンスリーブス\",\"メロディ1\",キー割付!N428=\"峠の我が家\",\"メロディ2\",キー割付!N428=\"カノン\",\"メロディ3\",キー割付!N428=\"春の歌\",\"メロディ4\",キー割付!N428=\"主よ人の望みの喜びよ\",\"メロディ5\",キー割付!N428=\"メヌエット\",\"メロディ6\",キー割付!N428=\"華麗なる大円舞曲\",\"メロディ7\",キー割付!N428=\"ハンガリア舞曲第5番\",\"メロディ8\",TRUE,\"トーン1\"))","v":"トーン1"},{"$f":"IF(E76=\"ZX-DECLDIV-IPコードレス電話機\",\"トーン1\",_xlfn.IFS(キー割付!O428=\"着信音なし\",\"トーン1\",キー割付!O428=\"トーン1\",\"トーン1\",キー割付!O428=\"トーン2\",\"トーン2\",キー割付!O428=\"トーン3\",\"トーン3\",キー割付!O428=\"トーン4\",\"トーン4\",キー割付!O428=\"トーン5\",\"トーン5\",キー割付!O428=\"トーン6\",\"トーン6\",キー割付!O428=\"トーン7\",\"トーン7\",キー割付!O428=\"トーン7\",\"トーン7\",キー割付!O428=\"無鳴動着信\",\"トーン8\",キー割付!O428=\"グリーンスリーブス\",\"メロディ1\",キー割付!O428=\"峠の我が家\",\"メロディ2\",キー割付!O428=\"カノン\",\"メロディ3\",キー割付!O428=\"春の歌\",\"メロディ4\",キー割付!O428=\"主よ人の望みの喜びよ\",\"メロディ5\",キー割付!O428=\"メヌエット\",\"メロディ6\",キー割付!O428=\"華麗なる大円舞曲\",\"メロディ7\",キー割付!O428=\"ハンガリア舞曲第5番\",\"メロディ8\",TRUE,\"トーン1\"))","v":"トーン1"},{"$f":"IF(E76=\"ZX-DECLDIV-IPコードレス電話機\",\"トーン1\",_xlfn.IFS(キー割付!P428=\"着信音なし\",\"トーン1\",キー割付!P428=\"トーン1\",\"トーン1\",キー割付!P428=\"トーン2\",\"トーン2\",キー割付!P428=\"トーン3\",\"トーン3\",キー割付!P428=\"トーン4\",\"トーン4\",キー割付!P428=\"トーン5\",\"トーン5\",キー割付!P428=\"トーン6\",\"トーン6\",キー割付!P428=\"トーン7\",\"トーン7\",キー割付!P428=\"トーン7\",\"トーン7\",キー割付!P428=\"無鳴動着信\",\"トーン8\",キー割付!P428=\"グリーンスリーブス\",\"メロディ1\",キー割付!P428=\"峠の我が家\",\"メロディ2\",キー割付!P428=\"カノン\",\"メロディ3\",キー割付!P428=\"春の歌\",\"メロディ4\",キー割付!P428=\"主よ人の望みの喜びよ\",\"メロディ5\",キー割付!P428=\"メヌエット\",\"メロディ6\",キー割付!P428=\"華麗なる大円舞曲\",\"メロディ7\",キー割付!P428=\"ハンガリア舞曲第5番\",\"メロディ8\",TRUE,\"トーン1\"))","v":"トーン1"},{"$f":"IF(E76=\"ZX-DECLDIV-IPコードレス電話機\",\"トーン1\",_xlfn.IFS(キー割付!Q428=\"着信音なし\",\"トーン1\",キー割付!Q428=\"トーン1\",\"トーン1\",キー割付!Q428=\"トーン2\",\"トーン2\",キー割付!Q428=\"トーン3\",\"トーン3\",キー割付!Q428=\"トーン4\",\"トーン4\",キー割付!Q428=\"トーン5\",\"トーン5\",キー割付!Q428=\"トーン6\",\"トーン6\",キー割付!Q428=\"トーン7\",\"トーン7\",キー割付!Q428=\"トーン7\",\"トーン7\",キー割付!Q428=\"無鳴動着信\",\"トーン8\",キー割付!Q428=\"グリーンスリーブス\",\"メロディ1\",キー割付!Q428=\"峠の我が家\",\"メロディ2\",キー割付!Q428=\"カノン\",\"メロディ3\",キー割付!Q428=\"春の歌\",\"メロディ4\",キー割付!Q428=\"主よ人の望みの喜びよ\",\"メロディ5\",キー割付!Q428=\"メヌエット\",\"メロディ6\",キー割付!Q428=\"華麗なる大円舞曲\",\"メロディ7\",キー割付!Q428=\"ハンガリア舞曲第5番\",\"メロディ8\",TRUE,\"トーン1\"))","v":"トーン1"},{"$f":"IF(E76=\"ZX-DECLDIV-IPコードレス電話機\",\"トーン1\",_xlfn.IFS(キー割付!R428=\"着信音なし\",\"トーン1\",キー割付!R428=\"トーン1\",\"トーン1\",キー割付!R428=\"トーン2\",\"トーン2\",キー割付!R428=\"トーン3\",\"トーン3\",キー割付!R428=\"トーン4\",\"トーン4\",キー割付!R428=\"トーン5\",\"トーン5\",キー割付!R428=\"トーン6\",\"トーン6\",キー割付!R428=\"トーン7\",\"トーン7\",キー割付!R428=\"トーン7\",\"トーン7\",キー割付!R428=\"無鳴動着信\",\"トーン8\",キー割付!R428=\"グリーンスリーブス\",\"メロディ1\",キー割付!R428=\"峠の我が家\",\"メロディ2\",キー割付!R428=\"カノン\",\"メロディ3\",キー割付!R428=\"春の歌\",\"メロディ4\",キー割付!R428=\"主よ人の望みの喜びよ\",\"メロディ5\",キー割付!R428=\"メヌエット\",\"メロディ6\",キー割付!R428=\"華麗なる大円舞曲\",\"メロディ7\",キー割付!R428=\"ハンガリア舞曲第5番\",\"メロディ8\",TRUE,\"トーン1\"))","v":"トーン1"},{"$f":"IF(E76=\"ZX-DECLDIV-IPコードレス電話機\",\"トーン1\",_xlfn.IFS(キー割付!S428=\"着信音なし\",\"トーン1\",キー割付!S428=\"トーン1\",\"トーン1\",キー割付!S428=\"トーン2\",\"トーン2\",キー割付!S428=\"トーン3\",\"トーン3\",キー割付!S428=\"トーン4\",\"トーン4\",キー割付!S428=\"トーン5\",\"トーン5\",キー割付!S428=\"トーン6\",\"トーン6\",キー割付!S428=\"トーン7\",\"トーン7\",キー割付!S428=\"トーン7\",\"トーン7\",キー割付!S428=\"無鳴動着信\",\"トーン8\",キー割付!S428=\"グリーンスリーブス\",\"メロディ1\",キー割付!S428=\"峠の我が家\",\"メロディ2\",キー割付!S428=\"カノン\",\"メロディ3\",キー割付!S428=\"春の歌\",\"メロディ4\",キー割付!S428=\"主よ人の望みの喜びよ\",\"メロディ5\",キー割付!S428=\"メヌエット\",\"メロディ6\",キー割付!S428=\"華麗なる大円舞曲\",\"メロディ7\",キー割付!S428=\"ハンガリア舞曲第5番\",\"メロディ8\",TRUE,\"トーン1\"))","v":"トーン1"}]
[null,null,null,null,null,{"$f":"_xlfn.IFS(キー割付!N405=\"昼夜休憩\",\"B\",キー割付!N405=\"－－－\",\"-\",キー割付!N405=\"昼－－\",\"H\",キー割付!N405=\"－夜－\",\"N\",キー割付!N405=\"－－休憩\",\"P\",キー割付!N405=\"昼夜－\",\"N\",キー割付!N405=\"昼－休憩\",\"F\",キー割付!N405=\"－夜休憩\",\"K\",TRUE,\"-\")","v":"-"},{"$f":"_xlfn.IFS(キー割付!O405=\"昼夜休憩\",\"B\",キー割付!O405=\"－－－\",\"-\",キー割付!O405=\"昼－－\",\"H\",キー割付!O405=\"－夜－\",\"N\",キー割付!O405=\"－－休憩\",\"P\",キー割付!O405=\"昼夜－\",\"N\",キー割付!O405=\"昼－休憩\",\"F\",キー割付!O405=\"－夜休憩\",\"K\",TRUE,\"-\")","v":"-"},{"$f":"_xlfn.IFS(キー割付!P405=\"昼夜休憩\",\"B\",キー割付!P405=\"－－－\",\"-\",キー割付!P405=\"昼－－\",\"H\",キー割付!P405=\"－夜－\",\"N\",キー割付!P405=\"－－休憩\",\"P\",キー割付!P405=\"昼夜－\",\"N\",キー割付!P405=\"昼－休憩\",\"F\",キー割付!P405=\"－夜休憩\",\"K\",TRUE,\"-\")","v":"-"},{"$f":"_xlfn.IFS(キー割付!Q405=\"昼夜休憩\",\"B\",キー割付!Q405=\"－－－\",\"-\",キー割付!Q405=\"昼－－\",\"H\",キー割付!Q405=\"－夜－\",\"N\",キー割付!Q405=\"－－休憩\",\"P\",キー割付!Q405=\"昼夜－\",\"N\",キー割付!Q405=\"昼－休憩\",\"F\",キー割付!Q405=\"－夜休憩\",\"K\",TRUE,\"-\")","v":"-"},{"$f":"_xlfn.IFS(キー割付!R405=\"昼夜休憩\",\"B\",キー割付!R405=\"－－－\",\"-\",キー割付!R405=\"昼－－\",\"H\",キー割付!R405=\"－夜－\",\"N\",キー割付!R405=\"－－休憩\",\"P\",キー割付!R405=\"昼夜－\",\"N\",キー割付!R405=\"昼－休憩\",\"F\",キー割付!R405=\"－夜休憩\",\"K\",TRUE,\"-\")","v":"-"},{"$f":"_xlfn.IFS(キー割付!S405=\"昼夜休憩\",\"B\",キー割付!S405=\"－－－\",\"-\",キー割付!S405=\"昼－－\",\"H\",キー割付!S405=\"－夜－\",\"N\",キー割付!S405=\"－－休憩\",\"P\",キー割付!S405=\"昼夜－\",\"N\",キー割付!S405=\"昼－休憩\",\"F\",キー割付!S405=\"－夜休憩\",\"K\",TRUE,\"-\")","v":"-"},{"$f":"_xlfn.IFS(キー割付!N413=\"昼夜休憩\",\"B\",キー割付!N413=\"－－－\",\"-\",キー割付!N413=\"昼－－\",\"H\",キー割付!N413=\"－夜－\",\"N\",キー割付!N413=\"－－休憩\",\"P\",キー割付!N413=\"昼夜－\",\"N\",キー割付!N413=\"昼－休憩\",\"F\",キー割付!N413=\"－夜休憩\",\"K\",TRUE,\"-\")","v":"-"},{"$f":"_xlfn.IFS(キー割付!O413=\"昼夜休憩\",\"B\",キー割付!O413=\"－－－\",\"-\",キー割付!O413=\"昼－－\",\"H\",キー割付!O413=\"－夜－\",\"N\",キー割付!O413=\"－－休憩\",\"P\",キー割付!O413=\"昼夜－\",\"N\",キー割付!O413=\"昼－休憩\",\"F\",キー割付!O413=\"－夜休憩\",\"K\",TRUE,\"-\")","v":"-"},{"$f":"IF(E76=\"ZX-DECLDIV-IPコードレス電話機\",\"-\",_xlfn.IFS(キー割付!P413=\"昼夜休憩\",\"B\",キー割付!P413=\"－－－\",\"-\",キー割付!P413=\"昼－－\",\"H\",キー割付!P413=\"－夜－\",\"N\",キー割付!P413=\"－－休憩\",\"P\",キー割付!P413=\"昼夜－\",\"N\",キー割付!P413=\"昼－休憩\",\"F\",キー割付!P413=\"－夜休憩\",\"K\",TRUE,\"-\"))","v":"-"},{"$f":"IF(E76=\"ZX-DECLDIV-IPコードレス電話機\",\"-\",_xlfn.IFS(キー割付!Q413=\"昼夜休憩\",\"B\",キー割付!Q413=\"－－－\",\"-\",キー割付!Q413=\"昼－－\",\"H\",キー割付!Q413=\"－夜－\",\"N\",キー割付!Q413=\"－－休憩\",\"P\",キー割付!Q413=\"昼夜－\",\"N\",キー割付!Q413=\"昼－休憩\",\"F\",キー割付!Q413=\"－夜休憩\",\"K\",TRUE,\"-\"))","v":"-"},{"$f":"IF(E76=\"ZX-DECLDIV-IPコードレス電話機\",\"-\",_xlfn.IFS(キー割付!R413=\"昼夜休憩\",\"B\",キー割付!R413=\"－－－\",\"-\",キー割付!R413=\"昼－－\",\"H\",キー割付!R413=\"－夜－\",\"N\",キー割付!R413=\"－－休憩\",\"P\",キー割付!R413=\"昼夜－\",\"N\",キー割付!R413=\"昼－休憩\",\"F\",キー割付!R413=\"－夜休憩\",\"K\",TRUE,\"-\"))","v":"-"},{"$f":"IF(E76=\"ZX-DECLDIV-IPコードレス電話機\",\"-\",_xlfn.IFS(キー割付!S413=\"昼夜休憩\",\"B\",キー割付!S413=\"－－－\",\"-\",キー割付!S413=\"昼－－\",\"H\",キー割付!S413=\"－夜－\",\"N\",キー割付!S413=\"－－休憩\",\"P\",キー割付!S413=\"昼夜－\",\"N\",キー割付!S413=\"昼－休憩\",\"F\",キー割付!S413=\"－夜休憩\",\"K\",TRUE,\"-\"))","v":"-"},{"$f":"IF(E76=\"ZX-DECLDIV-IPコードレス電話機\",\"-\",_xlfn.IFS(キー割付!N421=\"昼夜休憩\",\"B\",キー割付!N421=\"－－－\",\"-\",キー割付!N421=\"昼－－\",\"H\",キー割付!N421=\"－夜－\",\"N\",キー割付!N421=\"－－休憩\",\"P\",キー割付!N421=\"昼夜－\",\"N\",キー割付!N421=\"昼－休憩\",\"F\",キー割付!N421=\"－夜休憩\",\"K\",TRUE,\"-\"))","v":"-"},{"$f":"IF(E76=\"ZX-DECLDIV-IPコードレス電話機\",\"-\",_xlfn.IFS(キー割付!O421=\"昼夜休憩\",\"B\",キー割付!O421=\"－－－\",\"-\",キー割付!O421=\"昼－－\",\"H\",キー割付!O421=\"－夜－\",\"N\",キー割付!O421=\"－－休憩\",\"P\",キー割付!O421=\"昼夜－\",\"N\",キー割付!O421=\"昼－休憩\",\"F\",キー割付!O421=\"－夜休憩\",\"K\",TRUE,\"-\"))","v":"-"},{"$f":"IF(E76=\"ZX-DECLDIV-IPコードレス電話機\",\"-\",_xlfn.IFS(キー割付!P421=\"昼夜休憩\",\"B\",キー割付!P421=\"－－－\",\"-\",キー割付!P421=\"昼－－\",\"H\",キー割付!P421=\"－夜－\",\"N\",キー割付!P421=\"－－休憩\",\"P\",キー割付!P421=\"昼夜－\",\"N\",キー割付!P421=\"昼－休憩\",\"F\",キー割付!P421=\"－夜休憩\",\"K\",TRUE,\"-\"))","v":"-"},{"$f":"IF(E76=\"ZX-DECLDIV-IPコードレス電話機\",\"-\",_xlfn.IFS(キー割付!Q421=\"昼夜休憩\",\"B\",キー割付!Q421=\"－－－\",\"-\",キー割付!Q421=\"昼－－\",\"H\",キー割付!Q421=\"－夜－\",\"N\",キー割付!Q421=\"－－休憩\",\"P\",キー割付!Q421=\"昼夜－\",\"N\",キー割付!Q421=\"昼－休憩\",\"F\",キー割付!Q421=\"－夜休憩\",\"K\",TRUE,\"-\"))","v":"-"},{"$f":"IF(E76=\"ZX-DECLDIV-IPコードレス電話機\",\"-\",_xlfn.IFS(キー割付!R421=\"昼夜休憩\",\"B\",キー割付!R421=\"－－－\",\"-\",キー割付!R421=\"昼－－\",\"H\",キー割付!R421=\"－夜－\",\"N\",キー割付!R421=\"－－休憩\",\"P\",キー割付!R421=\"昼夜－\",\"N\",キー割付!R421=\"昼－休憩\",\"F\",キー割付!R421=\"－夜休憩\",\"K\",TRUE,\"-\"))","v":"-"},{"$f":"IF(E76=\"ZX-DECLDIV-IPコードレス電話機\",\"-\",_xlfn.IFS(キー割付!S421=\"昼夜休憩\",\"B\",キー割付!S421=\"－－－\",\"-\",キー割付!S421=\"昼－－\",\"H\",キー割付!S421=\"－夜－\",\"N\",キー割付!S421=\"－－休憩\",\"P\",キー割付!S421=\"昼夜－\",\"N\",キー割付!S421=\"昼－休憩\",\"F\",キー割付!S421=\"－夜休憩\",\"K\",TRUE,\"-\"))","v":"-"},{"$f":"IF(E76=\"ZX-DECLDIV-IPコードレス電話機\",\"-\",_xlfn.IFS(キー割付!N429=\"昼夜休憩\",\"B\",キー割付!N429=\"－－－\",\"-\",キー割付!N429=\"昼－－\",\"H\",キー割付!N429=\"－夜－\",\"N\",キー割付!N429=\"－－休憩\",\"P\",キー割付!N429=\"昼夜－\",\"N\",キー割付!N429=\"昼－休憩\",\"F\",キー割付!N429=\"－夜休憩\",\"K\",TRUE,\"-\"))","v":"-"},{"$f":"IF(E76=\"ZX-DECLDIV-IPコードレス電話機\",\"-\",_xlfn.IFS(キー割付!O429=\"昼夜休憩\",\"B\",キー割付!O429=\"－－－\",\"-\",キー割付!O429=\"昼－－\",\"H\",キー割付!O429=\"－夜－\",\"N\",キー割付!O429=\"－－休憩\",\"P\",キー割付!O429=\"昼夜－\",\"N\",キー割付!O429=\"昼－休憩\",\"F\",キー割付!O429=\"－夜休憩\",\"K\",TRUE,\"-\"))","v":"-"},{"$f":"IF(E76=\"ZX-DECLDIV-IPコードレス電話機\",\"-\",_xlfn.IFS(キー割付!P429=\"昼夜休憩\",\"B\",キー割付!P429=\"－－－\",\"-\",キー割付!P429=\"昼－－\",\"H\",キー割付!P429=\"－夜－\",\"N\",キー割付!P429=\"－－休憩\",\"P\",キー割付!P429=\"昼夜－\",\"N\",キー割付!P429=\"昼－休憩\",\"F\",キー割付!P429=\"－夜休憩\",\"K\",TRUE,\"-\"))","v":"-"},{"$f":"IF(E76=\"ZX-DECLDIV-IPコードレス電話機\",\"-\",_xlfn.IFS(キー割付!Q429=\"昼夜休憩\",\"B\",キー割付!Q429=\"－－－\",\"-\",キー割付!Q429=\"昼－－\",\"H\",キー割付!Q429=\"－夜－\",\"N\",キー割付!Q429=\"－－休憩\",\"P\",キー割付!Q429=\"昼夜－\",\"N\",キー割付!Q429=\"昼－休憩\",\"F\",キー割付!Q429=\"－夜休憩\",\"K\",TRUE,\"-\"))","v":"-"},{"$f":"IF(E76=\"ZX-DECLDIV-IPコードレス電話機\",\"-\",_xlfn.IFS(キー割付!R429=\"昼夜休憩\",\"B\",キー割付!R429=\"－－－\",\"-\",キー割付!R429=\"昼－－\",\"H\",キー割付!R429=\"－夜－\",\"N\",キー割付!R429=\"－－休憩\",\"P\",キー割付!R429=\"昼夜－\",\"N\",キー割付!R429=\"昼－休憩\",\"F\",キー割付!R429=\"－夜休憩\",\"K\",TRUE,\"-\"))","v":"-"},{"$f":"IF(E76=\"ZX-DECLDIV-IPコードレス電話機\",\"-\",_xlfn.IFS(キー割付!S429=\"昼夜休憩\",\"B\",キー割付!S429=\"－－－\",\"-\",キー割付!S429=\"昼－－\",\"H\",キー割付!S429=\"－夜－\",\"N\",キー割付!S429=\"－－休憩\",\"P\",キー割付!S429=\"昼夜－\",\"N\",キー割付!S429=\"昼－休憩\",\"F\",キー割付!S429=\"－夜休憩\",\"K\",TRUE,\"-\"))","v":"-"}]
[null,25,{"$f":"IF(IFERROR(VALUE(VLOOKUP(B79,内線_キー割用,2,FALSE)),\"\")=0,\"\",IFERROR(VALUE(VLOOKUP(B79,内線_キー割用,2,FALSE)),\"\"))","v":""},{"$f":"IF(IFERROR(VALUE(VLOOKUP(B79,内線_キー割用,4,FALSE)),\"\")=0,\"\",IFERROR(VALUE(VLOOKUP(B79,内線_キー割用,4,FALSE)),\"\"))","v":""},{"$f":"IF(IFERROR(VLOOKUP(B79,内線_キー割用,3,FALSE),\"\")=0,\"\",IFERROR(VLOOKUP(B79,内線_キー割用,3,FALSE),\"\"))","v":""},{"$f":"IF(キー割付!D439=\"\",\"未使用\",キー割付!D439)","v":"未使用"},{"$f":"IF(キー割付!E439=\"\",\"未使用\",キー割付!E439)","v":"未使用"},{"$f":"IF(キー割付!F439=\"\",\"未使用\",キー割付!F439)","v":"未使用"},{"$f":"IF(キー割付!G439=\"\",\"未使用\",キー割付!G439)","v":"未使用"},{"$f":"IF(キー割付!H439=\"\",\"未使用\",キー割付!H439)","v":"未使用"},{"$f":"IF(キー割付!I439=\"\",\"未使用\",キー割付!I439)","v":"未使用"},{"$f":"IF(キー割付!D447=\"\",\"未使用\",キー割付!D447)","v":"未使用"},{"$f":"IF(キー割付!E447=\"\",\"未使用\",キー割付!E447)","v":"未使用"},{"$f":"IF(E79=\"ZX-DECLDIV-IPコードレス電話機\",\"未使用\",IF(キー割付!F447=\"\",\"未使用\",キー割付!F447))","v":"未使用"},{"$f":"IF(E79=\"ZX-DECLDIV-IPコードレス電話機\",\"未使用\",IF(キー割付!G447=\"\",\"未使用\",キー割付!G447))","v":"未使用"},{"$f":"IF(E79=\"ZX-DECLDIV-IPコードレス電話機\",\"未使用\",IF(キー割付!H447=\"\",\"未使用\",キー割付!H447))","v":"未使用"},{"$f":"IF(E79=\"ZX-DECLDIV-IPコードレス電話機\",\"未使用\",IF(キー割付!I447=\"\",\"未使用\",キー割付!I447))","v":"未使用"},{"$f":"IF(E79=\"ZX-DECLDIV-IPコードレス電話機\",\"未使用\",IF(キー割付!D455=\"\",\"未使用\",キー割付!D455))","v":"未使用"},{"$f":"IF(E79=\"ZX-DECLDIV-IPコードレス電話機\",\"未使用\",IF(キー割付!E455=\"\",\"未使用\",キー割付!E455))","v":"未使用"},{"$f":"IF(E79=\"ZX-DECLDIV-IPコードレス電話機\",\"未使用\",IF(キー割付!F455=\"\",\"未使用\",キー割付!F455))","v":"未使用"},{"$f":"IF(E79=\"ZX-DECLDIV-IPコードレス電話機\",\"未使用\",IF(キー割付!G455=\"\",\"未使用\",キー割付!G455))","v":"未使用"},{"$f":"IF(E79=\"ZX-DECLDIV-IPコードレス電話機\",\"未使用\",IF(キー割付!H455=\"\",\"未使用\",キー割付!H455))","v":"未使用"},{"$f":"IF(E79=\"ZX-DECLDIV-IPコードレス電話機\",\"未使用\",IF(キー割付!I455=\"\",\"未使用\",キー割付!I455))","v":"未使用"},{"$f":"IF(E79=\"ZX-DECLDIV-IPコードレス電話機\",\"未使用\",IF(キー割付!D463=\"\",\"未使用\",キー割付!D463))","v":"未使用"},{"$f":"IF(E79=\"ZX-DECLDIV-IPコードレス電話機\",\"未使用\",IF(キー割付!E463=\"\",\"未使用\",キー割付!E463))","v":"未使用"},{"$f":"IF(E79=\"ZX-DECLDIV-IPコードレス電話機\",\"未使用\",IF(キー割付!F463=\"\",\"未使用\",キー割付!F463))","v":"未使用"},{"$f":"IF(E79=\"ZX-DECLDIV-IPコードレス電話機\",\"未使用\",IF(キー割付!G463=\"\",\"未使用\",キー割付!G463))","v":"未使用"},{"$f":"IF(E79=\"ZX-DECLDIV-IPコードレス電話機\",\"未使用\",IF(キー割付!H463=\"\",\"未使用\",キー割付!H463))","v":"未使用"},{"$f":"IF(E79=\"ZX-DECLDIV-IPコードレス電話機\",\"未使用\",IF(キー割付!I463=\"\",\"未使用\",キー割付!I463))","v":"未使用"}]
[null,null,null,null,null,{"$f":"_xlfn.IFS(キー割付!D440=\"着信音なし\",\"トーン1\",キー割付!D440=\"トーン1\",\"トーン1\",キー割付!D440=\"トーン2\",\"トーン2\",キー割付!D440=\"トーン3\",\"トーン3\",キー割付!D440=\"トーン4\",\"トーン4\",キー割付!D440=\"トーン5\",\"トーン5\",キー割付!D440=\"トーン6\",\"トーン6\",キー割付!D440=\"トーン7\",\"トーン7\",キー割付!D440=\"トーン7\",\"トーン7\",キー割付!D440=\"無鳴動着信\",\"トーン8\",キー割付!D440=\"グリーンスリーブス\",\"メロディ1\",キー割付!D440=\"峠の我が家\",\"メロディ2\",キー割付!D440=\"カノン\",\"メロディ3\",キー割付!D440=\"春の歌\",\"メロディ4\",キー割付!D440=\"主よ人の望みの喜びよ\",\"メロディ5\",キー割付!D440=\"メヌエット\",\"メロディ6\",キー割付!D440=\"華麗なる大円舞曲\",\"メロディ7\",キー割付!D440=\"ハンガリア舞曲第5番\",\"メロディ8\",TRUE,\"トーン1\")","v":"トーン1"},{"$f":"_xlfn.IFS(キー割付!E440=\"着信音なし\",\"トーン1\",キー割付!E440=\"トーン1\",\"トーン1\",キー割付!E440=\"トーン2\",\"トーン2\",キー割付!E440=\"トーン3\",\"トーン3\",キー割付!E440=\"トーン4\",\"トーン4\",キー割付!E440=\"トーン5\",\"トーン5\",キー割付!E440=\"トーン6\",\"トーン6\",キー割付!E440=\"トーン7\",\"トーン7\",キー割付!E440=\"トーン7\",\"トーン7\",キー割付!E440=\"無鳴動着信\",\"トーン8\",キー割付!E440=\"グリーンスリーブス\",\"メロディ1\",キー割付!E440=\"峠の我が家\",\"メロディ2\",キー割付!E440=\"カノン\",\"メロディ3\",キー割付!E440=\"春の歌\",\"メロディ4\",キー割付!E440=\"主よ人の望みの喜びよ\",\"メロディ5\",キー割付!E440=\"メヌエット\",\"メロディ6\",キー割付!E440=\"華麗なる大円舞曲\",\"メロディ7\",キー割付!E440=\"ハンガリア舞曲第5番\",\"メロディ8\",TRUE,\"トーン1\")","v":"トーン1"},{"$f":"_xlfn.IFS(キー割付!F440=\"着信音なし\",\"トーン1\",キー割付!F440=\"トーン1\",\"トーン1\",キー割付!F440=\"トーン2\",\"トーン2\",キー割付!F440=\"トーン3\",\"トーン3\",キー割付!F440=\"トーン4\",\"トーン4\",キー割付!F440=\"トーン5\",\"トーン5\",キー割付!F440=\"トーン6\",\"トーン6\",キー割付!F440=\"トーン7\",\"トーン7\",キー割付!F440=\"トーン7\",\"トーン7\",キー割付!F440=\"無鳴動着信\",\"トーン8\",キー割付!F440=\"グリーンスリーブス\",\"メロディ1\",キー割付!F440=\"峠の我が家\",\"メロディ2\",キー割付!F440=\"カノン\",\"メロディ3\",キー割付!F440=\"春の歌\",\"メロディ4\",キー割付!F440=\"主よ人の望みの喜びよ\",\"メロディ5\",キー割付!F440=\"メヌエット\",\"メロディ6\",キー割付!F440=\"華麗なる大円舞曲\",\"メロディ7\",キー割付!F440=\"ハンガリア舞曲第5番\",\"メロディ8\",TRUE,\"トーン1\")","v":"トーン1"},{"$f":"_xlfn.IFS(キー割付!G440=\"着信音なし\",\"トーン1\",キー割付!G440=\"トーン1\",\"トーン1\",キー割付!G440=\"トーン2\",\"トーン2\",キー割付!G440=\"トーン3\",\"トーン3\",キー割付!G440=\"トーン4\",\"トーン4\",キー割付!G440=\"トーン5\",\"トーン5\",キー割付!G440=\"トーン6\",\"トーン6\",キー割付!G440=\"トーン7\",\"トーン7\",キー割付!G440=\"トーン7\",\"トーン7\",キー割付!G440=\"無鳴動着信\",\"トーン8\",キー割付!G440=\"グリーンスリーブス\",\"メロディ1\",キー割付!G440=\"峠の我が家\",\"メロディ2\",キー割付!G440=\"カノン\",\"メロディ3\",キー割付!G440=\"春の歌\",\"メロディ4\",キー割付!G440=\"主よ人の望みの喜びよ\",\"メロディ5\",キー割付!G440=\"メヌエット\",\"メロディ6\",キー割付!G440=\"華麗なる大円舞曲\",\"メロディ7\",キー割付!G440=\"ハンガリア舞曲第5番\",\"メロディ8\",TRUE,\"トーン1\")","v":"トーン1"},{"$f":"_xlfn.IFS(キー割付!H440=\"着信音なし\",\"トーン1\",キー割付!H440=\"トーン1\",\"トーン1\",キー割付!H440=\"トーン2\",\"トーン2\",キー割付!H440=\"トーン3\",\"トーン3\",キー割付!H440=\"トーン4\",\"トーン4\",キー割付!H440=\"トーン5\",\"トーン5\",キー割付!H440=\"トーン6\",\"トーン6\",キー割付!H440=\"トーン7\",\"トーン7\",キー割付!H440=\"トーン7\",\"トーン7\",キー割付!H440=\"無鳴動着信\",\"トーン8\",キー割付!H440=\"グリーンスリーブス\",\"メロディ1\",キー割付!H440=\"峠の我が家\",\"メロディ2\",キー割付!H440=\"カノン\",\"メロディ3\",キー割付!H440=\"春の歌\",\"メロディ4\",キー割付!H440=\"主よ人の望みの喜びよ\",\"メロディ5\",キー割付!H440=\"メヌエット\",\"メロディ6\",キー割付!H440=\"華麗なる大円舞曲\",\"メロディ7\",キー割付!H440=\"ハンガリア舞曲第5番\",\"メロディ8\",TRUE,\"トーン1\")","v":"トーン1"},{"$f":"_xlfn.IFS(キー割付!I440=\"着信音なし\",\"トーン1\",キー割付!I440=\"トーン1\",\"トーン1\",キー割付!I440=\"トーン2\",\"トーン2\",キー割付!I440=\"トーン3\",\"トーン3\",キー割付!I440=\"トーン4\",\"トーン4\",キー割付!I440=\"トーン5\",\"トーン5\",キー割付!I440=\"トーン6\",\"トーン6\",キー割付!I440=\"トーン7\",\"トーン7\",キー割付!I440=\"トーン7\",\"トーン7\",キー割付!I440=\"無鳴動着信\",\"トーン8\",キー割付!I440=\"グリーンスリーブス\",\"メロディ1\",キー割付!I440=\"峠の我が家\",\"メロディ2\",キー割付!I440=\"カノン\",\"メロディ3\",キー割付!I440=\"春の歌\",\"メロディ4\",キー割付!I440=\"主よ人の望みの喜びよ\",\"メロディ5\",キー割付!I440=\"メヌエット\",\"メロディ6\",キー割付!I440=\"華麗なる大円舞曲\",\"メロディ7\",キー割付!I440=\"ハンガリア舞曲第5番\",\"メロディ8\",TRUE,\"トーン1\")","v":"トーン1"},{"$f":"_xlfn.IFS(キー割付!D448=\"着信音なし\",\"トーン1\",キー割付!D448=\"トーン1\",\"トーン1\",キー割付!D448=\"トーン2\",\"トーン2\",キー割付!D448=\"トーン3\",\"トーン3\",キー割付!D448=\"トーン4\",\"トーン4\",キー割付!D448=\"トーン5\",\"トーン5\",キー割付!D448=\"トーン6\",\"トーン6\",キー割付!D448=\"トーン7\",\"トーン7\",キー割付!D448=\"トーン7\",\"トーン7\",キー割付!D448=\"無鳴動着信\",\"トーン8\",キー割付!D448=\"グリーンスリーブス\",\"メロディ1\",キー割付!D448=\"峠の我が家\",\"メロディ2\",キー割付!D448=\"カノン\",\"メロディ3\",キー割付!D448=\"春の歌\",\"メロディ4\",キー割付!D448=\"主よ人の望みの喜びよ\",\"メロディ5\",キー割付!D448=\"メヌエット\",\"メロディ6\",キー割付!D448=\"華麗なる大円舞曲\",\"メロディ7\",キー割付!D448=\"ハンガリア舞曲第5番\",\"メロディ8\",TRUE,\"トーン1\")","v":"トーン1"},{"$f":"_xlfn.IFS(キー割付!E448=\"着信音なし\",\"トーン1\",キー割付!E448=\"トーン1\",\"トーン1\",キー割付!E448=\"トーン2\",\"トーン2\",キー割付!E448=\"トーン3\",\"トーン3\",キー割付!E448=\"トーン4\",\"トーン4\",キー割付!E448=\"トーン5\",\"トーン5\",キー割付!E448=\"トーン6\",\"トーン6\",キー割付!E448=\"トーン7\",\"トーン7\",キー割付!E448=\"トーン7\",\"トーン7\",キー割付!E448=\"無鳴動着信\",\"トーン8\",キー割付!E448=\"グリーンスリーブス\",\"メロディ1\",キー割付!E448=\"峠の我が家\",\"メロディ2\",キー割付!E448=\"カノン\",\"メロディ3\",キー割付!E448=\"春の歌\",\"メロディ4\",キー割付!E448=\"主よ人の望みの喜びよ\",\"メロディ5\",キー割付!E448=\"メヌエット\",\"メロディ6\",キー割付!E448=\"華麗なる大円舞曲\",\"メロディ7\",キー割付!E448=\"ハンガリア舞曲第5番\",\"メロディ8\",TRUE,\"トーン1\")","v":"トーン1"},{"$f":"IF(E79=\"ZX-DECLDIV-IPコードレス電話機\",\"トーン1\",_xlfn.IFS(キー割付!F448=\"着信音なし\",\"トーン1\",キー割付!F448=\"トーン1\",\"トーン1\",キー割付!F448=\"トーン2\",\"トーン2\",キー割付!F448=\"トーン3\",\"トーン3\",キー割付!F448=\"トーン4\",\"トーン4\",キー割付!F448=\"トーン5\",\"トーン5\",キー割付!F448=\"トーン6\",\"トーン6\",キー割付!F448=\"トーン7\",\"トーン7\",キー割付!F448=\"トーン7\",\"トーン7\",キー割付!F448=\"無鳴動着信\",\"トーン8\",キー割付!F448=\"グリーンスリーブス\",\"メロディ1\",キー割付!F448=\"峠の我が家\",\"メロディ2\",キー割付!F448=\"カノン\",\"メロディ3\",キー割付!F448=\"春の歌\",\"メロディ4\",キー割付!F448=\"主よ人の望みの喜びよ\",\"メロディ5\",キー割付!F448=\"メヌエット\",\"メロディ6\",キー割付!F448=\"華麗なる大円舞曲\",\"メロディ7\",キー割付!F448=\"ハンガリア舞曲第5番\",\"メロディ8\",TRUE,\"トーン1\"))","v":"トーン1"},{"$f":"IF(E79=\"ZX-DECLDIV-IPコードレス電話機\",\"トーン1\",_xlfn.IFS(キー割付!G448=\"着信音なし\",\"トーン1\",キー割付!G448=\"トーン1\",\"トーン1\",キー割付!G448=\"トーン2\",\"トーン2\",キー割付!G448=\"トーン3\",\"トーン3\",キー割付!G448=\"トーン4\",\"トーン4\",キー割付!G448=\"トーン5\",\"トーン5\",キー割付!G448=\"トーン6\",\"トーン6\",キー割付!G448=\"トーン7\",\"トーン7\",キー割付!G448=\"トーン7\",\"トーン7\",キー割付!G448=\"無鳴動着信\",\"トーン8\",キー割付!G448=\"グリーンスリーブス\",\"メロディ1\",キー割付!G448=\"峠の我が家\",\"メロディ2\",キー割付!G448=\"カノン\",\"メロディ3\",キー割付!G448=\"春の歌\",\"メロディ4\",キー割付!G448=\"主よ人の望みの喜びよ\",\"メロディ5\",キー割付!G448=\"メヌエット\",\"メロディ6\",キー割付!G448=\"華麗なる大円舞曲\",\"メロディ7\",キー割付!G448=\"ハンガリア舞曲第5番\",\"メロディ8\",TRUE,\"トーン1\"))","v":"トーン1"},{"$f":"IF(E79=\"ZX-DECLDIV-IPコードレス電話機\",\"トーン1\",_xlfn.IFS(キー割付!H448=\"着信音なし\",\"トーン1\",キー割付!H448=\"トーン1\",\"トーン1\",キー割付!H448=\"トーン2\",\"トーン2\",キー割付!H448=\"トーン3\",\"トーン3\",キー割付!H448=\"トーン4\",\"トーン4\",キー割付!H448=\"トーン5\",\"トーン5\",キー割付!H448=\"トーン6\",\"トーン6\",キー割付!H448=\"トーン7\",\"トーン7\",キー割付!H448=\"トーン7\",\"トーン7\",キー割付!H448=\"無鳴動着信\",\"トーン8\",キー割付!H448=\"グリーンスリーブス\",\"メロディ1\",キー割付!H448=\"峠の我が家\",\"メロディ2\",キー割付!H448=\"カノン\",\"メロディ3\",キー割付!H448=\"春の歌\",\"メロディ4\",キー割付!H448=\"主よ人の望みの喜びよ\",\"メロディ5\",キー割付!H448=\"メヌエット\",\"メロディ6\",キー割付!H448=\"華麗なる大円舞曲\",\"メロディ7\",キー割付!H448=\"ハンガリア舞曲第5番\",\"メロディ8\",TRUE,\"トーン1\"))","v":"トーン1"},{"$f":"IF(E79=\"ZX-DECLDIV-IPコードレス電話機\",\"トーン1\",_xlfn.IFS(キー割付!I448=\"着信音なし\",\"トーン1\",キー割付!I448=\"トーン1\",\"トーン1\",キー割付!I448=\"トーン2\",\"トーン2\",キー割付!I448=\"トーン3\",\"トーン3\",キー割付!I448=\"トーン4\",\"トーン4\",キー割付!I448=\"トーン5\",\"トーン5\",キー割付!I448=\"トーン6\",\"トーン6\",キー割付!I448=\"トーン7\",\"トーン7\",キー割付!I448=\"トーン7\",\"トーン7\",キー割付!I448=\"無鳴動着信\",\"トーン8\",キー割付!I448=\"グリーンスリーブス\",\"メロディ1\",キー割付!I448=\"峠の我が家\",\"メロディ2\",キー割付!I448=\"カノン\",\"メロディ3\",キー割付!I448=\"春の歌\",\"メロディ4\",キー割付!I448=\"主よ人の望みの喜びよ\",\"メロディ5\",キー割付!I448=\"メヌエット\",\"メロディ6\",キー割付!I448=\"華麗なる大円舞曲\",\"メロディ7\",キー割付!I448=\"ハンガリア舞曲第5番\",\"メロディ8\",TRUE,\"トーン1\"))","v":"トーン1"},{"$f":"IF(E79=\"ZX-DECLDIV-IPコードレス電話機\",\"トーン1\",_xlfn.IFS(キー割付!D456=\"着信音なし\",\"トーン1\",キー割付!D456=\"トーン1\",\"トーン1\",キー割付!D456=\"トーン2\",\"トーン2\",キー割付!D456=\"トーン3\",\"トーン3\",キー割付!D456=\"トーン4\",\"トーン4\",キー割付!D456=\"トーン5\",\"トーン5\",キー割付!D456=\"トーン6\",\"トーン6\",キー割付!D456=\"トーン7\",\"トーン7\",キー割付!D456=\"トーン7\",\"トーン7\",キー割付!D456=\"無鳴動着信\",\"トーン8\",キー割付!D456=\"グリーンスリーブス\",\"メロディ1\",キー割付!D456=\"峠の我が家\",\"メロディ2\",キー割付!D456=\"カノン\",\"メロディ3\",キー割付!D456=\"春の歌\",\"メロディ4\",キー割付!D456=\"主よ人の望みの喜びよ\",\"メロディ5\",キー割付!D456=\"メヌエット\",\"メロディ6\",キー割付!D456=\"華麗なる大円舞曲\",\"メロディ7\",キー割付!D456=\"ハンガリア舞曲第5番\",\"メロディ8\",TRUE,\"トーン1\"))","v":"トーン1"},{"$f":"IF(E79=\"ZX-DECLDIV-IPコードレス電話機\",\"トーン1\",_xlfn.IFS(キー割付!E456=\"着信音なし\",\"トーン1\",キー割付!E456=\"トーン1\",\"トーン1\",キー割付!E456=\"トーン2\",\"トーン2\",キー割付!E456=\"トーン3\",\"トーン3\",キー割付!E456=\"トーン4\",\"トーン4\",キー割付!E456=\"トーン5\",\"トーン5\",キー割付!E456=\"トーン6\",\"トーン6\",キー割付!E456=\"トーン7\",\"トーン7\",キー割付!E456=\"トーン7\",\"トーン7\",キー割付!E456=\"無鳴動着信\",\"トーン8\",キー割付!E456=\"グリーンスリーブス\",\"メロディ1\",キー割付!E456=\"峠の我が家\",\"メロディ2\",キー割付!E456=\"カノン\",\"メロディ3\",キー割付!E456=\"春の歌\",\"メロディ4\",キー割付!E456=\"主よ人の望みの喜びよ\",\"メロディ5\",キー割付!E456=\"メヌエット\",\"メロディ6\",キー割付!E456=\"華麗なる大円舞曲\",\"メロディ7\",キー割付!E456=\"ハンガリア舞曲第5番\",\"メロディ8\",TRUE,\"トーン1\"))","v":"トーン1"},{"$f":"IF(E79=\"ZX-DECLDIV-IPコードレス電話機\",\"トーン1\",_xlfn.IFS(キー割付!F456=\"着信音なし\",\"トーン1\",キー割付!F456=\"トーン1\",\"トーン1\",キー割付!F456=\"トーン2\",\"トーン2\",キー割付!F456=\"トーン3\",\"トーン3\",キー割付!F456=\"トーン4\",\"トーン4\",キー割付!F456=\"トーン5\",\"トーン5\",キー割付!F456=\"トーン6\",\"トーン6\",キー割付!F456=\"トーン7\",\"トーン7\",キー割付!F456=\"トーン7\",\"トーン7\",キー割付!F456=\"無鳴動着信\",\"トーン8\",キー割付!F456=\"グリーンスリーブス\",\"メロディ1\",キー割付!F456=\"峠の我が家\",\"メロディ2\",キー割付!F456=\"カノン\",\"メロディ3\",キー割付!F456=\"春の歌\",\"メロディ4\",キー割付!F456=\"主よ人の望みの喜びよ\",\"メロディ5\",キー割付!F456=\"メヌエット\",\"メロディ6\",キー割付!F456=\"華麗なる大円舞曲\",\"メロディ7\",キー割付!F456=\"ハンガリア舞曲第5番\",\"メロディ8\",TRUE,\"トーン1\"))","v":"トーン1"},{"$f":"IF(E79=\"ZX-DECLDIV-IPコードレス電話機\",\"トーン1\",_xlfn.IFS(キー割付!G456=\"着信音なし\",\"トーン1\",キー割付!G456=\"トーン1\",\"トーン1\",キー割付!G456=\"トーン2\",\"トーン2\",キー割付!G456=\"トーン3\",\"トーン3\",キー割付!G456=\"トーン4\",\"トーン4\",キー割付!G456=\"トーン5\",\"トーン5\",キー割付!G456=\"トーン6\",\"トーン6\",キー割付!G456=\"トーン7\",\"トーン7\",キー割付!G456=\"トーン7\",\"トーン7\",キー割付!G456=\"無鳴動着信\",\"トーン8\",キー割付!G456=\"グリーンスリーブス\",\"メロディ1\",キー割付!G456=\"峠の我が家\",\"メロディ2\",キー割付!G456=\"カノン\",\"メロディ3\",キー割付!G456=\"春の歌\",\"メロディ4\",キー割付!G456=\"主よ人の望みの喜びよ\",\"メロディ5\",キー割付!G456=\"メヌエット\",\"メロディ6\",キー割付!G456=\"華麗なる大円舞曲\",\"メロディ7\",キー割付!G456=\"ハンガリア舞曲第5番\",\"メロディ8\",TRUE,\"トーン1\"))","v":"トーン1"},{"$f":"IF(E79=\"ZX-DECLDIV-IPコードレス電話機\",\"トーン1\",_xlfn.IFS(キー割付!H456=\"着信音なし\",\"トーン1\",キー割付!H456=\"トーン1\",\"トーン1\",キー割付!H456=\"トーン2\",\"トーン2\",キー割付!H456=\"トーン3\",\"トーン3\",キー割付!H456=\"トーン4\",\"トーン4\",キー割付!H456=\"トーン5\",\"トーン5\",キー割付!H456=\"トーン6\",\"トーン6\",キー割付!H456=\"トーン7\",\"トーン7\",キー割付!H456=\"トーン7\",\"トーン7\",キー割付!H456=\"無鳴動着信\",\"トーン8\",キー割付!H456=\"グリーンスリーブス\",\"メロディ1\",キー割付!H456=\"峠の我が家\",\"メロディ2\",キー割付!H456=\"カノン\",\"メロディ3\",キー割付!H456=\"春の歌\",\"メロディ4\",キー割付!H456=\"主よ人の望みの喜びよ\",\"メロディ5\",キー割付!H456=\"メヌエット\",\"メロディ6\",キー割付!H456=\"華麗なる大円舞曲\",\"メロディ7\",キー割付!H456=\"ハンガリア舞曲第5番\",\"メロディ8\",TRUE,\"トーン1\"))","v":"トーン1"},{"$f":"IF(E79=\"ZX-DECLDIV-IPコードレス電話機\",\"トーン1\",_xlfn.IFS(キー割付!I456=\"着信音なし\",\"トーン1\",キー割付!I456=\"トーン1\",\"トーン1\",キー割付!I456=\"トーン2\",\"トーン2\",キー割付!I456=\"トーン3\",\"トーン3\",キー割付!I456=\"トーン4\",\"トーン4\",キー割付!I456=\"トーン5\",\"トーン5\",キー割付!I456=\"トーン6\",\"トーン6\",キー割付!I456=\"トーン7\",\"トーン7\",キー割付!I456=\"トーン7\",\"トーン7\",キー割付!I456=\"無鳴動着信\",\"トーン8\",キー割付!I456=\"グリーンスリーブス\",\"メロディ1\",キー割付!I456=\"峠の我が家\",\"メロディ2\",キー割付!I456=\"カノン\",\"メロディ3\",キー割付!I456=\"春の歌\",\"メロディ4\",キー割付!I456=\"主よ人の望みの喜びよ\",\"メロディ5\",キー割付!I456=\"メヌエット\",\"メロディ6\",キー割付!I456=\"華麗なる大円舞曲\",\"メロディ7\",キー割付!I456=\"ハンガリア舞曲第5番\",\"メロディ8\",TRUE,\"トーン1\"))","v":"トーン1"},{"$f":"IF(E79=\"ZX-DECLDIV-IPコードレス電話機\",\"トーン1\",_xlfn.IFS(キー割付!D464=\"着信音なし\",\"トーン1\",キー割付!D464=\"トーン1\",\"トーン1\",キー割付!D464=\"トーン2\",\"トーン2\",キー割付!D464=\"トーン3\",\"トーン3\",キー割付!D464=\"トーン4\",\"トーン4\",キー割付!D464=\"トーン5\",\"トーン5\",キー割付!D464=\"トーン6\",\"トーン6\",キー割付!D464=\"トーン7\",\"トーン7\",キー割付!D464=\"トーン7\",\"トーン7\",キー割付!D464=\"無鳴動着信\",\"トーン8\",キー割付!D464=\"グリーンスリーブス\",\"メロディ1\",キー割付!D464=\"峠の我が家\",\"メロディ2\",キー割付!D464=\"カノン\",\"メロディ3\",キー割付!D464=\"春の歌\",\"メロディ4\",キー割付!D464=\"主よ人の望みの喜びよ\",\"メロディ5\",キー割付!D464=\"メヌエット\",\"メロディ6\",キー割付!D464=\"華麗なる大円舞曲\",\"メロディ7\",キー割付!D464=\"ハンガリア舞曲第5番\",\"メロディ8\",TRUE,\"トーン1\"))","v":"トーン1"},{"$f":"IF(E79=\"ZX-DECLDIV-IPコードレス電話機\",\"トーン1\",_xlfn.IFS(キー割付!E464=\"着信音なし\",\"トーン1\",キー割付!E464=\"トーン1\",\"トーン1\",キー割付!E464=\"トーン2\",\"トーン2\",キー割付!E464=\"トーン3\",\"トーン3\",キー割付!E464=\"トーン4\",\"トーン4\",キー割付!E464=\"トーン5\",\"トーン5\",キー割付!E464=\"トーン6\",\"トーン6\",キー割付!E464=\"トーン7\",\"トーン7\",キー割付!E464=\"トーン7\",\"トーン7\",キー割付!E464=\"無鳴動着信\",\"トーン8\",キー割付!E464=\"グリーンスリーブス\",\"メロディ1\",キー割付!E464=\"峠の我が家\",\"メロディ2\",キー割付!E464=\"カノン\",\"メロディ3\",キー割付!E464=\"春の歌\",\"メロディ4\",キー割付!E464=\"主よ人の望みの喜びよ\",\"メロディ5\",キー割付!E464=\"メヌエット\",\"メロディ6\",キー割付!E464=\"華麗なる大円舞曲\",\"メロディ7\",キー割付!E464=\"ハンガリア舞曲第5番\",\"メロディ8\",TRUE,\"トーン1\"))","v":"トーン1"},{"$f":"IF(E79=\"ZX-DECLDIV-IPコードレス電話機\",\"トーン1\",_xlfn.IFS(キー割付!F464=\"着信音なし\",\"トーン1\",キー割付!F464=\"トーン1\",\"トーン1\",キー割付!F464=\"トーン2\",\"トーン2\",キー割付!F464=\"トーン3\",\"トーン3\",キー割付!F464=\"トーン4\",\"トーン4\",キー割付!F464=\"トーン5\",\"トーン5\",キー割付!F464=\"トーン6\",\"トーン6\",キー割付!F464=\"トーン7\",\"トーン7\",キー割付!F464=\"トーン7\",\"トーン7\",キー割付!F464=\"無鳴動着信\",\"トーン8\",キー割付!F464=\"グリーンスリーブス\",\"メロディ1\",キー割付!F464=\"峠の我が家\",\"メロディ2\",キー割付!F464=\"カノン\",\"メロディ3\",キー割付!F464=\"春の歌\",\"メロディ4\",キー割付!F464=\"主よ人の望みの喜びよ\",\"メロディ5\",キー割付!F464=\"メヌエット\",\"メロディ6\",キー割付!F464=\"華麗なる大円舞曲\",\"メロディ7\",キー割付!F464=\"ハンガリア舞曲第5番\",\"メロディ8\",TRUE,\"トーン1\"))","v":"トーン1"},{"$f":"IF(E79=\"ZX-DECLDIV-IPコードレス電話機\",\"トーン1\",_xlfn.IFS(キー割付!G464=\"着信音なし\",\"トーン1\",キー割付!G464=\"トーン1\",\"トーン1\",キー割付!G464=\"トーン2\",\"トーン2\",キー割付!G464=\"トーン3\",\"トーン3\",キー割付!G464=\"トーン4\",\"トーン4\",キー割付!G464=\"トーン5\",\"トーン5\",キー割付!G464=\"トーン6\",\"トーン6\",キー割付!G464=\"トーン7\",\"トーン7\",キー割付!G464=\"トーン7\",\"トーン7\",キー割付!G464=\"無鳴動着信\",\"トーン8\",キー割付!G464=\"グリーンスリーブス\",\"メロディ1\",キー割付!G464=\"峠の我が家\",\"メロディ2\",キー割付!G464=\"カノン\",\"メロディ3\",キー割付!G464=\"春の歌\",\"メロディ4\",キー割付!G464=\"主よ人の望みの喜びよ\",\"メロディ5\",キー割付!G464=\"メヌエット\",\"メロディ6\",キー割付!G464=\"華麗なる大円舞曲\",\"メロディ7\",キー割付!G464=\"ハンガリア舞曲第5番\",\"メロディ8\",TRUE,\"トーン1\"))","v":"トーン1"},{"$f":"IF(E79=\"ZX-DECLDIV-IPコードレス電話機\",\"トーン1\",_xlfn.IFS(キー割付!H464=\"着信音なし\",\"トーン1\",キー割付!H464=\"トーン1\",\"トーン1\",キー割付!H464=\"トーン2\",\"トーン2\",キー割付!H464=\"トーン3\",\"トーン3\",キー割付!H464=\"トーン4\",\"トーン4\",キー割付!H464=\"トーン5\",\"トーン5\",キー割付!H464=\"トーン6\",\"トーン6\",キー割付!H464=\"トーン7\",\"トーン7\",キー割付!H464=\"トーン7\",\"トーン7\",キー割付!H464=\"無鳴動着信\",\"トーン8\",キー割付!H464=\"グリーンスリーブス\",\"メロディ1\",キー割付!H464=\"峠の我が家\",\"メロディ2\",キー割付!H464=\"カノン\",\"メロディ3\",キー割付!H464=\"春の歌\",\"メロディ4\",キー割付!H464=\"主よ人の望みの喜びよ\",\"メロディ5\",キー割付!H464=\"メヌエット\",\"メロディ6\",キー割付!H464=\"華麗なる大円舞曲\",\"メロディ7\",キー割付!H464=\"ハンガリア舞曲第5番\",\"メロディ8\",TRUE,\"トーン1\"))","v":"トーン1"},{"$f":"IF(E79=\"ZX-DECLDIV-IPコードレス電話機\",\"トーン1\",_xlfn.IFS(キー割付!I464=\"着信音なし\",\"トーン1\",キー割付!I464=\"トーン1\",\"トーン1\",キー割付!I464=\"トーン2\",\"トーン2\",キー割付!I464=\"トーン3\",\"トーン3\",キー割付!I464=\"トーン4\",\"トーン4\",キー割付!I464=\"トーン5\",\"トーン5\",キー割付!I464=\"トーン6\",\"トーン6\",キー割付!I464=\"トーン7\",\"トーン7\",キー割付!I464=\"トーン7\",\"トーン7\",キー割付!I464=\"無鳴動着信\",\"トーン8\",キー割付!I464=\"グリーンスリーブス\",\"メロディ1\",キー割付!I464=\"峠の我が家\",\"メロディ2\",キー割付!I464=\"カノン\",\"メロディ3\",キー割付!I464=\"春の歌\",\"メロディ4\",キー割付!I464=\"主よ人の望みの喜びよ\",\"メロディ5\",キー割付!I464=\"メヌエット\",\"メロディ6\",キー割付!I464=\"華麗なる大円舞曲\",\"メロディ7\",キー割付!I464=\"ハンガリア舞曲第5番\",\"メロディ8\",TRUE,\"トーン1\"))","v":"トーン1"}]
[null,null,null,null,null,{"$f":"_xlfn.IFS(キー割付!D441=\"昼夜休憩\",\"B\",キー割付!D441=\"－－－\",\"-\",キー割付!D441=\"昼－－\",\"H\",キー割付!D441=\"－夜－\",\"N\",キー割付!D441=\"－－休憩\",\"P\",キー割付!D441=\"昼夜－\",\"D\",キー割付!D441=\"昼－休憩\",\"F\",キー割付!D441=\"－夜休憩\",\"K\",TRUE,\"-\")","v":"-"},{"$f":"_xlfn.IFS(キー割付!E441=\"昼夜休憩\",\"B\",キー割付!E441=\"－－－\",\"-\",キー割付!E441=\"昼－－\",\"H\",キー割付!E441=\"－夜－\",\"N\",キー割付!E441=\"－－休憩\",\"P\",キー割付!E441=\"昼夜－\",\"D\",キー割付!E441=\"昼－休憩\",\"F\",キー割付!E441=\"－夜休憩\",\"K\",TRUE,\"-\")","v":"-"},{"$f":"_xlfn.IFS(キー割付!F441=\"昼夜休憩\",\"B\",キー割付!F441=\"－－－\",\"-\",キー割付!F441=\"昼－－\",\"H\",キー割付!F441=\"－夜－\",\"N\",キー割付!F441=\"－－休憩\",\"P\",キー割付!F441=\"昼夜－\",\"D\",キー割付!F441=\"昼－休憩\",\"F\",キー割付!F441=\"－夜休憩\",\"K\",TRUE,\"-\")","v":"-"},{"$f":"_xlfn.IFS(キー割付!G441=\"昼夜休憩\",\"B\",キー割付!G441=\"－－－\",\"-\",キー割付!G441=\"昼－－\",\"H\",キー割付!G441=\"－夜－\",\"N\",キー割付!G441=\"－－休憩\",\"P\",キー割付!G441=\"昼夜－\",\"D\",キー割付!G441=\"昼－休憩\",\"F\",キー割付!G441=\"－夜休憩\",\"K\",TRUE,\"-\")","v":"-"},{"$f":"_xlfn.IFS(キー割付!H441=\"昼夜休憩\",\"B\",キー割付!H441=\"－－－\",\"-\",キー割付!H441=\"昼－－\",\"H\",キー割付!H441=\"－夜－\",\"N\",キー割付!H441=\"－－休憩\",\"P\",キー割付!H441=\"昼夜－\",\"D\",キー割付!H441=\"昼－休憩\",\"F\",キー割付!H441=\"－夜休憩\",\"K\",TRUE,\"-\")","v":"-"},{"$f":"_xlfn.IFS(キー割付!I441=\"昼夜休憩\",\"B\",キー割付!I441=\"－－－\",\"-\",キー割付!I441=\"昼－－\",\"H\",キー割付!I441=\"－夜－\",\"N\",キー割付!I441=\"－－休憩\",\"P\",キー割付!I441=\"昼夜－\",\"D\",キー割付!I441=\"昼－休憩\",\"F\",キー割付!I441=\"－夜休憩\",\"K\",TRUE,\"-\")","v":"-"},{"$f":"_xlfn.IFS(キー割付!D449=\"昼夜休憩\",\"B\",キー割付!D449=\"－－－\",\"-\",キー割付!D449=\"昼－－\",\"H\",キー割付!D449=\"－夜－\",\"N\",キー割付!D449=\"－－休憩\",\"P\",キー割付!D449=\"昼夜－\",\"D\",キー割付!D449=\"昼－休憩\",\"F\",キー割付!D449=\"－夜休憩\",\"K\",TRUE,\"-\")","v":"-"},{"$f":"_xlfn.IFS(キー割付!E449=\"昼夜休憩\",\"B\",キー割付!E449=\"－－－\",\"-\",キー割付!E449=\"昼－－\",\"H\",キー割付!E449=\"－夜－\",\"N\",キー割付!E449=\"－－休憩\",\"P\",キー割付!E449=\"昼夜－\",\"D\",キー割付!E449=\"昼－休憩\",\"F\",キー割付!E449=\"－夜休憩\",\"K\",TRUE,\"-\")","v":"-"},{"$f":"IF(E79=\"ZX-DECLDIV-IPコードレス電話機\",\"-\",_xlfn.IFS(キー割付!F449=\"昼夜休憩\",\"B\",キー割付!F449=\"－－－\",\"-\",キー割付!F449=\"昼－－\",\"H\",キー割付!F449=\"－夜－\",\"N\",キー割付!F449=\"－－休憩\",\"P\",キー割付!F449=\"昼夜－\",\"D\",キー割付!F449=\"昼－休憩\",\"F\",キー割付!F449=\"－夜休憩\",\"K\",TRUE,\"-\"))","v":"-"},{"$f":"IF(E79=\"ZX-DECLDIV-IPコードレス電話機\",\"-\",_xlfn.IFS(キー割付!G449=\"昼夜休憩\",\"B\",キー割付!G449=\"－－－\",\"-\",キー割付!G449=\"昼－－\",\"H\",キー割付!G449=\"－夜－\",\"N\",キー割付!G449=\"－－休憩\",\"P\",キー割付!G449=\"昼夜－\",\"D\",キー割付!G449=\"昼－休憩\",\"F\",キー割付!G449=\"－夜休憩\",\"K\",TRUE,\"-\"))","v":"-"},{"$f":"IF(E79=\"ZX-DECLDIV-IPコードレス電話機\",\"-\",_xlfn.IFS(キー割付!H449=\"昼夜休憩\",\"B\",キー割付!H449=\"－－－\",\"-\",キー割付!H449=\"昼－－\",\"H\",キー割付!H449=\"－夜－\",\"N\",キー割付!H449=\"－－休憩\",\"P\",キー割付!H449=\"昼夜－\",\"D\",キー割付!H449=\"昼－休憩\",\"F\",キー割付!H449=\"－夜休憩\",\"K\",TRUE,\"-\"))","v":"-"},{"$f":"IF(E79=\"ZX-DECLDIV-IPコードレス電話機\",\"-\",_xlfn.IFS(キー割付!I449=\"昼夜休憩\",\"B\",キー割付!I449=\"－－－\",\"-\",キー割付!I449=\"昼－－\",\"H\",キー割付!I449=\"－夜－\",\"N\",キー割付!I449=\"－－休憩\",\"P\",キー割付!I449=\"昼夜－\",\"D\",キー割付!I449=\"昼－休憩\",\"F\",キー割付!I449=\"－夜休憩\",\"K\",TRUE,\"-\"))","v":"-"},{"$f":"IF(E79=\"ZX-DECLDIV-IPコードレス電話機\",\"-\",_xlfn.IFS(キー割付!D457=\"昼夜休憩\",\"B\",キー割付!D457=\"－－－\",\"-\",キー割付!D457=\"昼－－\",\"H\",キー割付!D457=\"－夜－\",\"N\",キー割付!D457=\"－－休憩\",\"P\",キー割付!D457=\"昼夜－\",\"D\",キー割付!D457=\"昼－休憩\",\"F\",キー割付!D457=\"－夜休憩\",\"K\",TRUE,\"-\"))","v":"-"},{"$f":"IF(E79=\"ZX-DECLDIV-IPコードレス電話機\",\"-\",_xlfn.IFS(キー割付!E457=\"昼夜休憩\",\"B\",キー割付!E457=\"－－－\",\"-\",キー割付!E457=\"昼－－\",\"H\",キー割付!E457=\"－夜－\",\"N\",キー割付!E457=\"－－休憩\",\"P\",キー割付!E457=\"昼夜－\",\"D\",キー割付!E457=\"昼－休憩\",\"F\",キー割付!E457=\"－夜休憩\",\"K\",TRUE,\"-\"))","v":"-"},{"$f":"IF(E79=\"ZX-DECLDIV-IPコードレス電話機\",\"-\",_xlfn.IFS(キー割付!F457=\"昼夜休憩\",\"B\",キー割付!F457=\"－－－\",\"-\",キー割付!F457=\"昼－－\",\"H\",キー割付!F457=\"－夜－\",\"N\",キー割付!F457=\"－－休憩\",\"P\",キー割付!F457=\"昼夜－\",\"D\",キー割付!F457=\"昼－休憩\",\"F\",キー割付!F457=\"－夜休憩\",\"K\",TRUE,\"-\"))","v":"-"},{"$f":"IF(E79=\"ZX-DECLDIV-IPコードレス電話機\",\"-\",_xlfn.IFS(キー割付!G457=\"昼夜休憩\",\"B\",キー割付!G457=\"－－－\",\"-\",キー割付!G457=\"昼－－\",\"H\",キー割付!G457=\"－夜－\",\"N\",キー割付!G457=\"－－休憩\",\"P\",キー割付!G457=\"昼夜－\",\"D\",キー割付!G457=\"昼－休憩\",\"F\",キー割付!G457=\"－夜休憩\",\"K\",TRUE,\"-\"))","v":"-"},{"$f":"IF(E79=\"ZX-DECLDIV-IPコードレス電話機\",\"-\",_xlfn.IFS(キー割付!H457=\"昼夜休憩\",\"B\",キー割付!H457=\"－－－\",\"-\",キー割付!H457=\"昼－－\",\"H\",キー割付!H457=\"－夜－\",\"N\",キー割付!H457=\"－－休憩\",\"P\",キー割付!H457=\"昼夜－\",\"D\",キー割付!H457=\"昼－休憩\",\"F\",キー割付!H457=\"－夜休憩\",\"K\",TRUE,\"-\"))","v":"-"},{"$f":"IF(E79=\"ZX-DECLDIV-IPコードレス電話機\",\"-\",_xlfn.IFS(キー割付!I457=\"昼夜休憩\",\"B\",キー割付!I457=\"－－－\",\"-\",キー割付!I457=\"昼－－\",\"H\",キー割付!I457=\"－夜－\",\"N\",キー割付!I457=\"－－休憩\",\"P\",キー割付!I457=\"昼夜－\",\"D\",キー割付!I457=\"昼－休憩\",\"F\",キー割付!I457=\"－夜休憩\",\"K\",TRUE,\"-\"))","v":"-"},{"$f":"IF(E79=\"ZX-DECLDIV-IPコードレス電話機\",\"-\",_xlfn.IFS(キー割付!D465=\"昼夜休憩\",\"B\",キー割付!D465=\"－－－\",\"-\",キー割付!D465=\"昼－－\",\"H\",キー割付!D465=\"－夜－\",\"N\",キー割付!D465=\"－－休憩\",\"P\",キー割付!D465=\"昼夜－\",\"D\",キー割付!D465=\"昼－休憩\",\"F\",キー割付!D465=\"－夜休憩\",\"K\",TRUE,\"-\"))","v":"-"},{"$f":"IF(E79=\"ZX-DECLDIV-IPコードレス電話機\",\"-\",_xlfn.IFS(キー割付!E465=\"昼夜休憩\",\"B\",キー割付!E465=\"－－－\",\"-\",キー割付!E465=\"昼－－\",\"H\",キー割付!E465=\"－夜－\",\"N\",キー割付!E465=\"－－休憩\",\"P\",キー割付!E465=\"昼夜－\",\"D\",キー割付!E465=\"昼－休憩\",\"F\",キー割付!E465=\"－夜休憩\",\"K\",TRUE,\"-\"))","v":"-"},{"$f":"IF(E79=\"ZX-DECLDIV-IPコードレス電話機\",\"-\",_xlfn.IFS(キー割付!F465=\"昼夜休憩\",\"B\",キー割付!F465=\"－－－\",\"-\",キー割付!F465=\"昼－－\",\"H\",キー割付!F465=\"－夜－\",\"N\",キー割付!F465=\"－－休憩\",\"P\",キー割付!F465=\"昼夜－\",\"D\",キー割付!F465=\"昼－休憩\",\"F\",キー割付!F465=\"－夜休憩\",\"K\",TRUE,\"-\"))","v":"-"},{"$f":"IF(E79=\"ZX-DECLDIV-IPコードレス電話機\",\"-\",_xlfn.IFS(キー割付!G465=\"昼夜休憩\",\"B\",キー割付!G465=\"－－－\",\"-\",キー割付!G465=\"昼－－\",\"H\",キー割付!G465=\"－夜－\",\"N\",キー割付!G465=\"－－休憩\",\"P\",キー割付!G465=\"昼夜－\",\"D\",キー割付!G465=\"昼－休憩\",\"F\",キー割付!G465=\"－夜休憩\",\"K\",TRUE,\"-\"))","v":"-"},{"$f":"IF(E79=\"ZX-DECLDIV-IPコードレス電話機\",\"-\",_xlfn.IFS(キー割付!H465=\"昼夜休憩\",\"B\",キー割付!H465=\"－－－\",\"-\",キー割付!H465=\"昼－－\",\"H\",キー割付!H465=\"－夜－\",\"N\",キー割付!H465=\"－－休憩\",\"P\",キー割付!H465=\"昼夜－\",\"D\",キー割付!H465=\"昼－休憩\",\"F\",キー割付!H465=\"－夜休憩\",\"K\",TRUE,\"-\"))","v":"-"},{"$f":"IF(E79=\"ZX-DECLDIV-IPコードレス電話機\",\"-\",_xlfn.IFS(キー割付!I465=\"昼夜休憩\",\"B\",キー割付!I465=\"－－－\",\"-\",キー割付!I465=\"昼－－\",\"H\",キー割付!I465=\"－夜－\",\"N\",キー割付!I465=\"－－休憩\",\"P\",キー割付!I465=\"昼夜－\",\"D\",キー割付!I465=\"昼－休憩\",\"F\",キー割付!I465=\"－夜休憩\",\"K\",TRUE,\"-\"))","v":"-"}]
[null,26,{"$f":"IF(IFERROR(VALUE(VLOOKUP(B82,内線_キー割用,2,FALSE)),\"\")=0,\"\",IFERROR(VALUE(VLOOKUP(B82,内線_キー割用,2,FALSE)),\"\"))","v":""},{"$f":"IF(IFERROR(VALUE(VLOOKUP(B82,内線_キー割用,4,FALSE)),\"\")=0,\"\",IFERROR(VALUE(VLOOKUP(B82,内線_キー割用,4,FALSE)),\"\"))","v":""},{"$f":"IF(IFERROR(VLOOKUP(B82,内線_キー割用,3,FALSE),\"\")=0,\"\",IFERROR(VLOOKUP(B82,内線_キー割用,3,FALSE),\"\"))","v":""},{"$f":"IF(キー割付!N439=\"\",\"未使用\",キー割付!N439)","v":"未使用"},{"$f":"IF(キー割付!O439=\"\",\"未使用\",キー割付!O439)","v":"未使用"},{"$f":"IF(キー割付!P439=\"\",\"未使用\",キー割付!P439)","v":"未使用"},{"$f":"IF(キー割付!Q439=\"\",\"未使用\",キー割付!Q439)","v":"未使用"},{"$f":"IF(キー割付!R439=\"\",\"未使用\",キー割付!R439)","v":"未使用"},{"$f":"IF(キー割付!S439=\"\",\"未使用\",キー割付!S439)","v":"未使用"},{"$f":"IF(キー割付!N447=\"\",\"未使用\",キー割付!N447)","v":"未使用"},{"$f":"IF(キー割付!O447=\"\",\"未使用\",キー割付!O447)","v":"未使用"},{"$f":"IF(E82=\"ZX-DECLDIV-IPコードレス電話機\",\"未使用\",IF(キー割付!P447=\"\",\"未使用\",キー割付!P447))","v":"未使用"},{"$f":"IF(E82=\"ZX-DECLDIV-IPコードレス電話機\",\"未使用\",IF(キー割付!Q447=\"\",\"未使用\",キー割付!Q447))","v":"未使用"},{"$f":"IF(E82=\"ZX-DECLDIV-IPコードレス電話機\",\"未使用\",IF(キー割付!R447=\"\",\"未使用\",キー割付!R447))","v":"未使用"},{"$f":"IF(E82=\"ZX-DECLDIV-IPコードレス電話機\",\"未使用\",IF(キー割付!S447=\"\",\"未使用\",キー割付!S447))","v":"未使用"},{"$f":"IF(E82=\"ZX-DECLDIV-IPコードレス電話機\",\"未使用\",IF(キー割付!N455=\"\",\"未使用\",キー割付!N455))","v":"未使用"},{"$f":"IF(E82=\"ZX-DECLDIV-IPコードレス電話機\",\"未使用\",IF(キー割付!O455=\"\",\"未使用\",キー割付!O455))","v":"未使用"},{"$f":"IF(E82=\"ZX-DECLDIV-IPコードレス電話機\",\"未使用\",IF(キー割付!P455=\"\",\"未使用\",キー割付!P455))","v":"未使用"},{"$f":"IF(E82=\"ZX-DECLDIV-IPコードレス電話機\",\"未使用\",IF(キー割付!Q455=\"\",\"未使用\",キー割付!Q455))","v":"未使用"},{"$f":"IF(E82=\"ZX-DECLDIV-IPコードレス電話機\",\"未使用\",IF(キー割付!R455=\"\",\"未使用\",キー割付!R455))","v":"未使用"},{"$f":"IF(E82=\"ZX-DECLDIV-IPコードレス電話機\",\"未使用\",IF(キー割付!S455=\"\",\"未使用\",キー割付!S455))","v":"未使用"},{"$f":"IF(E82=\"ZX-DECLDIV-IPコードレス電話機\",\"未使用\",IF(キー割付!N463=\"\",\"未使用\",キー割付!N463))","v":"未使用"},{"$f":"IF(E82=\"ZX-DECLDIV-IPコードレス電話機\",\"未使用\",IF(キー割付!O463=\"\",\"未使用\",キー割付!O463))","v":"未使用"},{"$f":"IF(E82=\"ZX-DECLDIV-IPコードレス電話機\",\"未使用\",IF(キー割付!P463=\"\",\"未使用\",キー割付!P463))","v":"未使用"},{"$f":"IF(E82=\"ZX-DECLDIV-IPコードレス電話機\",\"未使用\",IF(キー割付!Q463=\"\",\"未使用\",キー割付!Q463))","v":"未使用"},{"$f":"IF(E82=\"ZX-DECLDIV-IPコードレス電話機\",\"未使用\",IF(キー割付!R463=\"\",\"未使用\",キー割付!R463))","v":"未使用"},{"$f":"IF(E82=\"ZX-DECLDIV-IPコードレス電話機\",\"未使用\",IF(キー割付!S463=\"\",\"未使用\",キー割付!S463))","v":"未使用"}]
[null,null,null,null,null,{"$f":"_xlfn.IFS(キー割付!N440=\"着信音なし\",\"トーン1\",キー割付!N440=\"トーン1\",\"トーン1\",キー割付!N440=\"トーン2\",\"トーン2\",キー割付!N440=\"トーン3\",\"トーン3\",キー割付!N440=\"トーン4\",\"トーン4\",キー割付!N440=\"トーン5\",\"トーン5\",キー割付!N440=\"トーン6\",\"トーン6\",キー割付!N440=\"トーン7\",\"トーン7\",キー割付!N440=\"トーン7\",\"トーン7\",キー割付!N440=\"無鳴動着信\",\"トーン8\",キー割付!N440=\"グリーンスリーブス\",\"メロディ1\",キー割付!N440=\"峠の我が家\",\"メロディ2\",キー割付!N440=\"カノン\",\"メロディ3\",キー割付!N440=\"春の歌\",\"メロディ4\",キー割付!N440=\"主よ人の望みの喜びよ\",\"メロディ5\",キー割付!N440=\"メヌエット\",\"メロディ6\",キー割付!N440=\"華麗なる大円舞曲\",\"メロディ7\",キー割付!N440=\"ハンガリア舞曲第5番\",\"メロディ8\",TRUE,\"トーン1\")","v":"トーン1"},{"$f":"_xlfn.IFS(キー割付!O440=\"着信音なし\",\"トーン1\",キー割付!O440=\"トーン1\",\"トーン1\",キー割付!O440=\"トーン2\",\"トーン2\",キー割付!O440=\"トーン3\",\"トーン3\",キー割付!O440=\"トーン4\",\"トーン4\",キー割付!O440=\"トーン5\",\"トーン5\",キー割付!O440=\"トーン6\",\"トーン6\",キー割付!O440=\"トーン7\",\"トーン7\",キー割付!O440=\"トーン7\",\"トーン7\",キー割付!O440=\"無鳴動着信\",\"トーン8\",キー割付!O440=\"グリーンスリーブス\",\"メロディ1\",キー割付!O440=\"峠の我が家\",\"メロディ2\",キー割付!O440=\"カノン\",\"メロディ3\",キー割付!O440=\"春の歌\",\"メロディ4\",キー割付!O440=\"主よ人の望みの喜びよ\",\"メロディ5\",キー割付!O440=\"メヌエット\",\"メロディ6\",キー割付!O440=\"華麗なる大円舞曲\",\"メロディ7\",キー割付!O440=\"ハンガリア舞曲第5番\",\"メロディ8\",TRUE,\"トーン1\")","v":"トーン1"},{"$f":"_xlfn.IFS(キー割付!P440=\"着信音なし\",\"トーン1\",キー割付!P440=\"トーン1\",\"トーン1\",キー割付!P440=\"トーン2\",\"トーン2\",キー割付!P440=\"トーン3\",\"トーン3\",キー割付!P440=\"トーン4\",\"トーン4\",キー割付!P440=\"トーン5\",\"トーン5\",キー割付!P440=\"トーン6\",\"トーン6\",キー割付!P440=\"トーン7\",\"トーン7\",キー割付!P440=\"トーン7\",\"トーン7\",キー割付!P440=\"無鳴動着信\",\"トーン8\",キー割付!P440=\"グリーンスリーブス\",\"メロディ1\",キー割付!P440=\"峠の我が家\",\"メロディ2\",キー割付!P440=\"カノン\",\"メロディ3\",キー割付!P440=\"春の歌\",\"メロディ4\",キー割付!P440=\"主よ人の望みの喜びよ\",\"メロディ5\",キー割付!P440=\"メヌエット\",\"メロディ6\",キー割付!P440=\"華麗なる大円舞曲\",\"メロディ7\",キー割付!P440=\"ハンガリア舞曲第5番\",\"メロディ8\",TRUE,\"トーン1\")","v":"トーン1"},{"$f":"_xlfn.IFS(キー割付!Q440=\"着信音なし\",\"トーン1\",キー割付!Q440=\"トーン1\",\"トーン1\",キー割付!Q440=\"トーン2\",\"トーン2\",キー割付!Q440=\"トーン3\",\"トーン3\",キー割付!Q440=\"トーン4\",\"トーン4\",キー割付!Q440=\"トーン5\",\"トーン5\",キー割付!Q440=\"トーン6\",\"トーン6\",キー割付!Q440=\"トーン7\",\"トーン7\",キー割付!Q440=\"トーン7\",\"トーン7\",キー割付!Q440=\"無鳴動着信\",\"トーン8\",キー割付!Q440=\"グリーンスリーブス\",\"メロディ1\",キー割付!Q440=\"峠の我が家\",\"メロディ2\",キー割付!Q440=\"カノン\",\"メロディ3\",キー割付!Q440=\"春の歌\",\"メロディ4\",キー割付!Q440=\"主よ人の望みの喜びよ\",\"メロディ5\",キー割付!Q440=\"メヌエット\",\"メロディ6\",キー割付!Q440=\"華麗なる大円舞曲\",\"メロディ7\",キー割付!Q440=\"ハンガリア舞曲第5番\",\"メロディ8\",TRUE,\"トーン1\")","v":"トーン1"},{"$f":"_xlfn.IFS(キー割付!R440=\"着信音なし\",\"トーン1\",キー割付!R440=\"トーン1\",\"トーン1\",キー割付!R440=\"トーン2\",\"トーン2\",キー割付!R440=\"トーン3\",\"トーン3\",キー割付!R440=\"トーン4\",\"トーン4\",キー割付!R440=\"トーン5\",\"トーン5\",キー割付!R440=\"トーン6\",\"トーン6\",キー割付!R440=\"トーン7\",\"トーン7\",キー割付!R440=\"トーン7\",\"トーン7\",キー割付!R440=\"無鳴動着信\",\"トーン8\",キー割付!R440=\"グリーンスリーブス\",\"メロディ1\",キー割付!R440=\"峠の我が家\",\"メロディ2\",キー割付!R440=\"カノン\",\"メロディ3\",キー割付!R440=\"春の歌\",\"メロディ4\",キー割付!R440=\"主よ人の望みの喜びよ\",\"メロディ5\",キー割付!R440=\"メヌエット\",\"メロディ6\",キー割付!R440=\"華麗なる大円舞曲\",\"メロディ7\",キー割付!R440=\"ハンガリア舞曲第5番\",\"メロディ8\",TRUE,\"トーン1\")","v":"トーン1"},{"$f":"_xlfn.IFS(キー割付!S440=\"着信音なし\",\"トーン1\",キー割付!S440=\"トーン1\",\"トーン1\",キー割付!S440=\"トーン2\",\"トーン2\",キー割付!S440=\"トーン3\",\"トーン3\",キー割付!S440=\"トーン4\",\"トーン4\",キー割付!S440=\"トーン5\",\"トーン5\",キー割付!S440=\"トーン6\",\"トーン6\",キー割付!S440=\"トーン7\",\"トーン7\",キー割付!S440=\"トーン7\",\"トーン7\",キー割付!S440=\"無鳴動着信\",\"トーン8\",キー割付!S440=\"グリーンスリーブス\",\"メロディ1\",キー割付!S440=\"峠の我が家\",\"メロディ2\",キー割付!S440=\"カノン\",\"メロディ3\",キー割付!S440=\"春の歌\",\"メロディ4\",キー割付!S440=\"主よ人の望みの喜びよ\",\"メロディ5\",キー割付!S440=\"メヌエット\",\"メロディ6\",キー割付!S440=\"華麗なる大円舞曲\",\"メロディ7\",キー割付!S440=\"ハンガリア舞曲第5番\",\"メロディ8\",TRUE,\"トーン1\")","v":"トーン1"},{"$f":"_xlfn.IFS(キー割付!N448=\"着信音なし\",\"トーン1\",キー割付!N448=\"トーン1\",\"トーン1\",キー割付!N448=\"トーン2\",\"トーン2\",キー割付!N448=\"トーン3\",\"トーン3\",キー割付!N448=\"トーン4\",\"トーン4\",キー割付!N448=\"トーン5\",\"トーン5\",キー割付!N448=\"トーン6\",\"トーン6\",キー割付!N448=\"トーン7\",\"トーン7\",キー割付!N448=\"トーン7\",\"トーン7\",キー割付!N448=\"無鳴動着信\",\"トーン8\",キー割付!N448=\"グリーンスリーブス\",\"メロディ1\",キー割付!N448=\"峠の我が家\",\"メロディ2\",キー割付!N448=\"カノン\",\"メロディ3\",キー割付!N448=\"春の歌\",\"メロディ4\",キー割付!N448=\"主よ人の望みの喜びよ\",\"メロディ5\",キー割付!N448=\"メヌエット\",\"メロディ6\",キー割付!N448=\"華麗なる大円舞曲\",\"メロディ7\",キー割付!N448=\"ハンガリア舞曲第5番\",\"メロディ8\",TRUE,\"トーン1\")","v":"トーン1"},{"$f":"_xlfn.IFS(キー割付!O448=\"着信音なし\",\"トーン1\",キー割付!O448=\"トーン1\",\"トーン1\",キー割付!O448=\"トーン2\",\"トーン2\",キー割付!O448=\"トーン3\",\"トーン3\",キー割付!O448=\"トーン4\",\"トーン4\",キー割付!O448=\"トーン5\",\"トーン5\",キー割付!O448=\"トーン6\",\"トーン6\",キー割付!O448=\"トーン7\",\"トーン7\",キー割付!O448=\"トーン7\",\"トーン7\",キー割付!O448=\"無鳴動着信\",\"トーン8\",キー割付!O448=\"グリーンスリーブス\",\"メロディ1\",キー割付!O448=\"峠の我が家\",\"メロディ2\",キー割付!O448=\"カノン\",\"メロディ3\",キー割付!O448=\"春の歌\",\"メロディ4\",キー割付!O448=\"主よ人の望みの喜びよ\",\"メロディ5\",キー割付!O448=\"メヌエット\",\"メロディ6\",キー割付!O448=\"華麗なる大円舞曲\",\"メロディ7\",キー割付!O448=\"ハンガリア舞曲第5番\",\"メロディ8\",TRUE,\"トーン1\")","v":"トーン1"},{"$f":"IF(E82=\"ZX-DECLDIV-IPコードレス電話機\",\"トーン1\",_xlfn.IFS(キー割付!P448=\"着信音なし\",\"トーン1\",キー割付!P448=\"トーン1\",\"トーン1\",キー割付!P448=\"トーン2\",\"トーン2\",キー割付!P448=\"トーン3\",\"トーン3\",キー割付!P448=\"トーン4\",\"トーン4\",キー割付!P448=\"トーン5\",\"トーン5\",キー割付!P448=\"トーン6\",\"トーン6\",キー割付!P448=\"トーン7\",\"トーン7\",キー割付!P448=\"トーン7\",\"トーン7\",キー割付!P448=\"無鳴動着信\",\"トーン8\",キー割付!P448=\"グリーンスリーブス\",\"メロディ1\",キー割付!P448=\"峠の我が家\",\"メロディ2\",キー割付!P448=\"カノン\",\"メロディ3\",キー割付!P448=\"春の歌\",\"メロディ4\",キー割付!P448=\"主よ人の望みの喜びよ\",\"メロディ5\",キー割付!P448=\"メヌエット\",\"メロディ6\",キー割付!P448=\"華麗なる大円舞曲\",\"メロディ7\",キー割付!P448=\"ハンガリア舞曲第5番\",\"メロディ8\",TRUE,\"トーン1\"))","v":"トーン1"},{"$f":"IF(E82=\"ZX-DECLDIV-IPコードレス電話機\",\"トーン1\",_xlfn.IFS(キー割付!Q448=\"着信音なし\",\"トーン1\",キー割付!Q448=\"トーン1\",\"トーン1\",キー割付!Q448=\"トーン2\",\"トーン2\",キー割付!Q448=\"トーン3\",\"トーン3\",キー割付!Q448=\"トーン4\",\"トーン4\",キー割付!Q448=\"トーン5\",\"トーン5\",キー割付!Q448=\"トーン6\",\"トーン6\",キー割付!Q448=\"トーン7\",\"トーン7\",キー割付!Q448=\"トーン7\",\"トーン7\",キー割付!Q448=\"無鳴動着信\",\"トーン8\",キー割付!Q448=\"グリーンスリーブス\",\"メロディ1\",キー割付!Q448=\"峠の我が家\",\"メロディ2\",キー割付!Q448=\"カノン\",\"メロディ3\",キー割付!Q448=\"春の歌\",\"メロディ4\",キー割付!Q448=\"主よ人の望みの喜びよ\",\"メロディ5\",キー割付!Q448=\"メヌエット\",\"メロディ6\",キー割付!Q448=\"華麗なる大円舞曲\",\"メロディ7\",キー割付!Q448=\"ハンガリア舞曲第5番\",\"メロディ8\",TRUE,\"トーン1\"))","v":"トーン1"},{"$f":"IF(E82=\"ZX-DECLDIV-IPコードレス電話機\",\"トーン1\",_xlfn.IFS(キー割付!R448=\"着信音なし\",\"トーン1\",キー割付!R448=\"トーン1\",\"トーン1\",キー割付!R448=\"トーン2\",\"トーン2\",キー割付!R448=\"トーン3\",\"トーン3\",キー割付!R448=\"トーン4\",\"トーン4\",キー割付!R448=\"トーン5\",\"トーン5\",キー割付!R448=\"トーン6\",\"トーン6\",キー割付!R448=\"トーン7\",\"トーン7\",キー割付!R448=\"トーン7\",\"トーン7\",キー割付!R448=\"無鳴動着信\",\"トーン8\",キー割付!R448=\"グリーンスリーブス\",\"メロディ1\",キー割付!R448=\"峠の我が家\",\"メロディ2\",キー割付!R448=\"カノン\",\"メロディ3\",キー割付!R448=\"春の歌\",\"メロディ4\",キー割付!R448=\"主よ人の望みの喜びよ\",\"メロディ5\",キー割付!R448=\"メヌエット\",\"メロディ6\",キー割付!R448=\"華麗なる大円舞曲\",\"メロディ7\",キー割付!R448=\"ハンガリア舞曲第5番\",\"メロディ8\",TRUE,\"トーン1\"))","v":"トーン1"},{"$f":"IF(E82=\"ZX-DECLDIV-IPコードレス電話機\",\"トーン1\",_xlfn.IFS(キー割付!S448=\"着信音なし\",\"トーン1\",キー割付!S448=\"トーン1\",\"トーン1\",キー割付!S448=\"トーン2\",\"トーン2\",キー割付!S448=\"トーン3\",\"トーン3\",キー割付!S448=\"トーン4\",\"トーン4\",キー割付!S448=\"トーン5\",\"トーン5\",キー割付!S448=\"トーン6\",\"トーン6\",キー割付!S448=\"トーン7\",\"トーン7\",キー割付!S448=\"トーン7\",\"トーン7\",キー割付!S448=\"無鳴動着信\",\"トーン8\",キー割付!S448=\"グリーンスリーブス\",\"メロディ1\",キー割付!S448=\"峠の我が家\",\"メロディ2\",キー割付!S448=\"カノン\",\"メロディ3\",キー割付!S448=\"春の歌\",\"メロディ4\",キー割付!S448=\"主よ人の望みの喜びよ\",\"メロディ5\",キー割付!S448=\"メヌエット\",\"メロディ6\",キー割付!S448=\"華麗なる大円舞曲\",\"メロディ7\",キー割付!S448=\"ハンガリア舞曲第5番\",\"メロディ8\",TRUE,\"トーン1\"))","v":"トーン1"},{"$f":"IF(E82=\"ZX-DECLDIV-IPコードレス電話機\",\"トーン1\",_xlfn.IFS(キー割付!N456=\"着信音なし\",\"トーン1\",キー割付!N456=\"トーン1\",\"トーン1\",キー割付!N456=\"トーン2\",\"トーン2\",キー割付!N456=\"トーン3\",\"トーン3\",キー割付!N456=\"トーン4\",\"トーン4\",キー割付!N456=\"トーン5\",\"トーン5\",キー割付!N456=\"トーン6\",\"トーン6\",キー割付!N456=\"トーン7\",\"トーン7\",キー割付!N456=\"トーン7\",\"トーン7\",キー割付!N456=\"無鳴動着信\",\"トーン8\",キー割付!N456=\"グリーンスリーブス\",\"メロディ1\",キー割付!N456=\"峠の我が家\",\"メロディ2\",キー割付!N456=\"カノン\",\"メロディ3\",キー割付!N456=\"春の歌\",\"メロディ4\",キー割付!N456=\"主よ人の望みの喜びよ\",\"メロディ5\",キー割付!N456=\"メヌエット\",\"メロディ6\",キー割付!N456=\"華麗なる大円舞曲\",\"メロディ7\",キー割付!N456=\"ハンガリア舞曲第5番\",\"メロディ8\",TRUE,\"トーン1\"))","v":"トーン1"},{"$f":"IF(E82=\"ZX-DECLDIV-IPコードレス電話機\",\"トーン1\",_xlfn.IFS(キー割付!O456=\"着信音なし\",\"トーン1\",キー割付!O456=\"トーン1\",\"トーン1\",キー割付!O456=\"トーン2\",\"トーン2\",キー割付!O456=\"トーン3\",\"トーン3\",キー割付!O456=\"トーン4\",\"トーン4\",キー割付!O456=\"トーン5\",\"トーン5\",キー割付!O456=\"トーン6\",\"トーン6\",キー割付!O456=\"トーン7\",\"トーン7\",キー割付!O456=\"トーン7\",\"トーン7\",キー割付!O456=\"無鳴動着信\",\"トーン8\",キー割付!O456=\"グリーンスリーブス\",\"メロディ1\",キー割付!O456=\"峠の我が家\",\"メロディ2\",キー割付!O456=\"カノン\",\"メロディ3\",キー割付!O456=\"春の歌\",\"メロディ4\",キー割付!O456=\"主よ人の望みの喜びよ\",\"メロディ5\",キー割付!O456=\"メヌエット\",\"メロディ6\",キー割付!O456=\"華麗なる大円舞曲\",\"メロディ7\",キー割付!O456=\"ハンガリア舞曲第5番\",\"メロディ8\",TRUE,\"トーン1\"))","v":"トーン1"},{"$f":"IF(E82=\"ZX-DECLDIV-IPコードレス電話機\",\"トーン1\",_xlfn.IFS(キー割付!P456=\"着信音なし\",\"トーン1\",キー割付!P456=\"トーン1\",\"トーン1\",キー割付!P456=\"トーン2\",\"トーン2\",キー割付!P456=\"トーン3\",\"トーン3\",キー割付!P456=\"トーン4\",\"トーン4\",キー割付!P456=\"トーン5\",\"トーン5\",キー割付!P456=\"トーン6\",\"トーン6\",キー割付!P456=\"トーン7\",\"トーン7\",キー割付!P456=\"トーン7\",\"トーン7\",キー割付!P456=\"無鳴動着信\",\"トーン8\",キー割付!P456=\"グリーンスリーブス\",\"メロディ1\",キー割付!P456=\"峠の我が家\",\"メロディ2\",キー割付!P456=\"カノン\",\"メロディ3\",キー割付!P456=\"春の歌\",\"メロディ4\",キー割付!P456=\"主よ人の望みの喜びよ\",\"メロディ5\",キー割付!P456=\"メヌエット\",\"メロディ6\",キー割付!P456=\"華麗なる大円舞曲\",\"メロディ7\",キー割付!P456=\"ハンガリア舞曲第5番\",\"メロディ8\",TRUE,\"トーン1\"))","v":"トーン1"},{"$f":"IF(E82=\"ZX-DECLDIV-IPコードレス電話機\",\"トーン1\",_xlfn.IFS(キー割付!Q456=\"着信音なし\",\"トーン1\",キー割付!Q456=\"トーン1\",\"トーン1\",キー割付!Q456=\"トーン2\",\"トーン2\",キー割付!Q456=\"トーン3\",\"トーン3\",キー割付!Q456=\"トーン4\",\"トーン4\",キー割付!Q456=\"トーン5\",\"トーン5\",キー割付!Q456=\"トーン6\",\"トーン6\",キー割付!Q456=\"トーン7\",\"トーン7\",キー割付!Q456=\"トーン7\",\"トーン7\",キー割付!Q456=\"無鳴動着信\",\"トーン8\",キー割付!Q456=\"グリーンスリーブス\",\"メロディ1\",キー割付!Q456=\"峠の我が家\",\"メロディ2\",キー割付!Q456=\"カノン\",\"メロディ3\",キー割付!Q456=\"春の歌\",\"メロディ4\",キー割付!Q456=\"主よ人の望みの喜びよ\",\"メロディ5\",キー割付!Q456=\"メヌエット\",\"メロディ6\",キー割付!Q456=\"華麗なる大円舞曲\",\"メロディ7\",キー割付!Q456=\"ハンガリア舞曲第5番\",\"メロディ8\",TRUE,\"トーン1\"))","v":"トーン1"},{"$f":"IF(E82=\"ZX-DECLDIV-IPコードレス電話機\",\"トーン1\",_xlfn.IFS(キー割付!R456=\"着信音なし\",\"トーン1\",キー割付!R456=\"トーン1\",\"トーン1\",キー割付!R456=\"トーン2\",\"トーン2\",キー割付!R456=\"トーン3\",\"トーン3\",キー割付!R456=\"トーン4\",\"トーン4\",キー割付!R456=\"トーン5\",\"トーン5\",キー割付!R456=\"トーン6\",\"トーン6\",キー割付!R456=\"トーン7\",\"トーン7\",キー割付!R456=\"トーン7\",\"トーン7\",キー割付!R456=\"無鳴動着信\",\"トーン8\",キー割付!R456=\"グリーンスリーブス\",\"メロディ1\",キー割付!R456=\"峠の我が家\",\"メロディ2\",キー割付!R456=\"カノン\",\"メロディ3\",キー割付!R456=\"春の歌\",\"メロディ4\",キー割付!R456=\"主よ人の望みの喜びよ\",\"メロディ5\",キー割付!R456=\"メヌエット\",\"メロディ6\",キー割付!R456=\"華麗なる大円舞曲\",\"メロディ7\",キー割付!R456=\"ハンガリア舞曲第5番\",\"メロディ8\",TRUE,\"トーン1\"))","v":"トーン1"},{"$f":"IF(E82=\"ZX-DECLDIV-IPコードレス電話機\",\"トーン1\",_xlfn.IFS(キー割付!S456=\"着信音なし\",\"トーン1\",キー割付!S456=\"トーン1\",\"トーン1\",キー割付!S456=\"トーン2\",\"トーン2\",キー割付!S456=\"トーン3\",\"トーン3\",キー割付!S456=\"トーン4\",\"トーン4\",キー割付!S456=\"トーン5\",\"トーン5\",キー割付!S456=\"トーン6\",\"トーン6\",キー割付!S456=\"トーン7\",\"トーン7\",キー割付!S456=\"トーン7\",\"トーン7\",キー割付!S456=\"無鳴動着信\",\"トーン8\",キー割付!S456=\"グリーンスリーブス\",\"メロディ1\",キー割付!S456=\"峠の我が家\",\"メロディ2\",キー割付!S456=\"カノン\",\"メロディ3\",キー割付!S456=\"春の歌\",\"メロディ4\",キー割付!S456=\"主よ人の望みの喜びよ\",\"メロディ5\",キー割付!S456=\"メヌエット\",\"メロディ6\",キー割付!S456=\"華麗なる大円舞曲\",\"メロディ7\",キー割付!S456=\"ハンガリア舞曲第5番\",\"メロディ8\",TRUE,\"トーン1\"))","v":"トーン1"},{"$f":"IF(E82=\"ZX-DECLDIV-IPコードレス電話機\",\"トーン1\",_xlfn.IFS(キー割付!N464=\"着信音なし\",\"トーン1\",キー割付!N464=\"トーン1\",\"トーン1\",キー割付!N464=\"トーン2\",\"トーン2\",キー割付!N464=\"トーン3\",\"トーン3\",キー割付!N464=\"トーン4\",\"トーン4\",キー割付!N464=\"トーン5\",\"トーン5\",キー割付!N464=\"トーン6\",\"トーン6\",キー割付!N464=\"トーン7\",\"トーン7\",キー割付!N464=\"トーン7\",\"トーン7\",キー割付!N464=\"無鳴動着信\",\"トーン8\",キー割付!N464=\"グリーンスリーブス\",\"メロディ1\",キー割付!N464=\"峠の我が家\",\"メロディ2\",キー割付!N464=\"カノン\",\"メロディ3\",キー割付!N464=\"春の歌\",\"メロディ4\",キー割付!N464=\"主よ人の望みの喜びよ\",\"メロディ5\",キー割付!N464=\"メヌエット\",\"メロディ6\",キー割付!N464=\"華麗なる大円舞曲\",\"メロディ7\",キー割付!N464=\"ハンガリア舞曲第5番\",\"メロディ8\",TRUE,\"トーン1\"))","v":"トーン1"},{"$f":"IF(E82=\"ZX-DECLDIV-IPコードレス電話機\",\"トーン1\",_xlfn.IFS(キー割付!O464=\"着信音なし\",\"トーン1\",キー割付!O464=\"トーン1\",\"トーン1\",キー割付!O464=\"トーン2\",\"トーン2\",キー割付!O464=\"トーン3\",\"トーン3\",キー割付!O464=\"トーン4\",\"トーン4\",キー割付!O464=\"トーン5\",\"トーン5\",キー割付!O464=\"トーン6\",\"トーン6\",キー割付!O464=\"トーン7\",\"トーン7\",キー割付!O464=\"トーン7\",\"トーン7\",キー割付!O464=\"無鳴動着信\",\"トーン8\",キー割付!O464=\"グリーンスリーブス\",\"メロディ1\",キー割付!O464=\"峠の我が家\",\"メロディ2\",キー割付!O464=\"カノン\",\"メロディ3\",キー割付!O464=\"春の歌\",\"メロディ4\",キー割付!O464=\"主よ人の望みの喜びよ\",\"メロディ5\",キー割付!O464=\"メヌエット\",\"メロディ6\",キー割付!O464=\"華麗なる大円舞曲\",\"メロディ7\",キー割付!O464=\"ハンガリア舞曲第5番\",\"メロディ8\",TRUE,\"トーン1\"))","v":"トーン1"},{"$f":"IF(E82=\"ZX-DECLDIV-IPコードレス電話機\",\"トーン1\",_xlfn.IFS(キー割付!P464=\"着信音なし\",\"トーン1\",キー割付!P464=\"トーン1\",\"トーン1\",キー割付!P464=\"トーン2\",\"トーン2\",キー割付!P464=\"トーン3\",\"トーン3\",キー割付!P464=\"トーン4\",\"トーン4\",キー割付!P464=\"トーン5\",\"トーン5\",キー割付!P464=\"トーン6\",\"トーン6\",キー割付!P464=\"トーン7\",\"トーン7\",キー割付!P464=\"トーン7\",\"トーン7\",キー割付!P464=\"無鳴動着信\",\"トーン8\",キー割付!P464=\"グリーンスリーブス\",\"メロディ1\",キー割付!P464=\"峠の我が家\",\"メロディ2\",キー割付!P464=\"カノン\",\"メロディ3\",キー割付!P464=\"春の歌\",\"メロディ4\",キー割付!P464=\"主よ人の望みの喜びよ\",\"メロディ5\",キー割付!P464=\"メヌエット\",\"メロディ6\",キー割付!P464=\"華麗なる大円舞曲\",\"メロディ7\",キー割付!P464=\"ハンガリア舞曲第5番\",\"メロディ8\",TRUE,\"トーン1\"))","v":"トーン1"},{"$f":"IF(E82=\"ZX-DECLDIV-IPコードレス電話機\",\"トーン1\",_xlfn.IFS(キー割付!Q464=\"着信音なし\",\"トーン1\",キー割付!Q464=\"トーン1\",\"トーン1\",キー割付!Q464=\"トーン2\",\"トーン2\",キー割付!Q464=\"トーン3\",\"トーン3\",キー割付!Q464=\"トーン4\",\"トーン4\",キー割付!Q464=\"トーン5\",\"トーン5\",キー割付!Q464=\"トーン6\",\"トーン6\",キー割付!Q464=\"トーン7\",\"トーン7\",キー割付!Q464=\"トーン7\",\"トーン7\",キー割付!Q464=\"無鳴動着信\",\"トーン8\",キー割付!Q464=\"グリーンスリーブス\",\"メロディ1\",キー割付!Q464=\"峠の我が家\",\"メロディ2\",キー割付!Q464=\"カノン\",\"メロディ3\",キー割付!Q464=\"春の歌\",\"メロディ4\",キー割付!Q464=\"主よ人の望みの喜びよ\",\"メロディ5\",キー割付!Q464=\"メヌエット\",\"メロディ6\",キー割付!Q464=\"華麗なる大円舞曲\",\"メロディ7\",キー割付!Q464=\"ハンガリア舞曲第5番\",\"メロディ8\",TRUE,\"トーン1\"))","v":"トーン1"},{"$f":"IF(E82=\"ZX-DECLDIV-IPコードレス電話機\",\"トーン1\",_xlfn.IFS(キー割付!R464=\"着信音なし\",\"トーン1\",キー割付!R464=\"トーン1\",\"トーン1\",キー割付!R464=\"トーン2\",\"トーン2\",キー割付!R464=\"トーン3\",\"トーン3\",キー割付!R464=\"トーン4\",\"トーン4\",キー割付!R464=\"トーン5\",\"トーン5\",キー割付!R464=\"トーン6\",\"トーン6\",キー割付!R464=\"トーン7\",\"トーン7\",キー割付!R464=\"トーン7\",\"トーン7\",キー割付!R464=\"無鳴動着信\",\"トーン8\",キー割付!R464=\"グリーンスリーブス\",\"メロディ1\",キー割付!R464=\"峠の我が家\",\"メロディ2\",キー割付!R464=\"カノン\",\"メロディ3\",キー割付!R464=\"春の歌\",\"メロディ4\",キー割付!R464=\"主よ人の望みの喜びよ\",\"メロディ5\",キー割付!R464=\"メヌエット\",\"メロディ6\",キー割付!R464=\"華麗なる大円舞曲\",\"メロディ7\",キー割付!R464=\"ハンガリア舞曲第5番\",\"メロディ8\",TRUE,\"トーン1\"))","v":"トーン1"},{"$f":"IF(E82=\"ZX-DECLDIV-IPコードレス電話機\",\"トーン1\",_xlfn.IFS(キー割付!S464=\"着信音なし\",\"トーン1\",キー割付!S464=\"トーン1\",\"トーン1\",キー割付!S464=\"トーン2\",\"トーン2\",キー割付!S464=\"トーン3\",\"トーン3\",キー割付!S464=\"トーン4\",\"トーン4\",キー割付!S464=\"トーン5\",\"トーン5\",キー割付!S464=\"トーン6\",\"トーン6\",キー割付!S464=\"トーン7\",\"トーン7\",キー割付!S464=\"トーン7\",\"トーン7\",キー割付!S464=\"無鳴動着信\",\"トーン8\",キー割付!S464=\"グリーンスリーブス\",\"メロディ1\",キー割付!S464=\"峠の我が家\",\"メロディ2\",キー割付!S464=\"カノン\",\"メロディ3\",キー割付!S464=\"春の歌\",\"メロディ4\",キー割付!S464=\"主よ人の望みの喜びよ\",\"メロディ5\",キー割付!S464=\"メヌエット\",\"メロディ6\",キー割付!S464=\"華麗なる大円舞曲\",\"メロディ7\",キー割付!S464=\"ハンガリア舞曲第5番\",\"メロディ8\",TRUE,\"トーン1\"))","v":"トーン1"}]
[null,null,null,null,null,{"$f":"_xlfn.IFS(キー割付!N441=\"昼夜休憩\",\"B\",キー割付!N441=\"－－－\",\"-\",キー割付!N441=\"昼－－\",\"H\",キー割付!N441=\"－夜－\",\"N\",キー割付!N441=\"－－休憩\",\"P\",キー割付!N441=\"昼夜－\",\"N\",キー割付!N441=\"昼－休憩\",\"F\",キー割付!N441=\"－夜休憩\",\"K\",TRUE,\"-\")","v":"-"},{"$f":"_xlfn.IFS(キー割付!O441=\"昼夜休憩\",\"B\",キー割付!O441=\"－－－\",\"-\",キー割付!O441=\"昼－－\",\"H\",キー割付!O441=\"－夜－\",\"N\",キー割付!O441=\"－－休憩\",\"P\",キー割付!O441=\"昼夜－\",\"N\",キー割付!O441=\"昼－休憩\",\"F\",キー割付!O441=\"－夜休憩\",\"K\",TRUE,\"-\")","v":"-"},{"$f":"_xlfn.IFS(キー割付!P441=\"昼夜休憩\",\"B\",キー割付!P441=\"－－－\",\"-\",キー割付!P441=\"昼－－\",\"H\",キー割付!P441=\"－夜－\",\"N\",キー割付!P441=\"－－休憩\",\"P\",キー割付!P441=\"昼夜－\",\"N\",キー割付!P441=\"昼－休憩\",\"F\",キー割付!P441=\"－夜休憩\",\"K\",TRUE,\"-\")","v":"-"},{"$f":"_xlfn.IFS(キー割付!Q441=\"昼夜休憩\",\"B\",キー割付!Q441=\"－－－\",\"-\",キー割付!Q441=\"昼－－\",\"H\",キー割付!Q441=\"－夜－\",\"N\",キー割付!Q441=\"－－休憩\",\"P\",キー割付!Q441=\"昼夜－\",\"N\",キー割付!Q441=\"昼－休憩\",\"F\",キー割付!Q441=\"－夜休憩\",\"K\",TRUE,\"-\")","v":"-"},{"$f":"_xlfn.IFS(キー割付!R441=\"昼夜休憩\",\"B\",キー割付!R441=\"－－－\",\"-\",キー割付!R441=\"昼－－\",\"H\",キー割付!R441=\"－夜－\",\"N\",キー割付!R441=\"－－休憩\",\"P\",キー割付!R441=\"昼夜－\",\"N\",キー割付!R441=\"昼－休憩\",\"F\",キー割付!R441=\"－夜休憩\",\"K\",TRUE,\"-\")","v":"-"},{"$f":"_xlfn.IFS(キー割付!S441=\"昼夜休憩\",\"B\",キー割付!S441=\"－－－\",\"-\",キー割付!S441=\"昼－－\",\"H\",キー割付!S441=\"－夜－\",\"N\",キー割付!S441=\"－－休憩\",\"P\",キー割付!S441=\"昼夜－\",\"N\",キー割付!S441=\"昼－休憩\",\"F\",キー割付!S441=\"－夜休憩\",\"K\",TRUE,\"-\")","v":"-"},{"$f":"_xlfn.IFS(キー割付!N449=\"昼夜休憩\",\"B\",キー割付!N449=\"－－－\",\"-\",キー割付!N449=\"昼－－\",\"H\",キー割付!N449=\"－夜－\",\"N\",キー割付!N449=\"－－休憩\",\"P\",キー割付!N449=\"昼夜－\",\"N\",キー割付!N449=\"昼－休憩\",\"F\",キー割付!N449=\"－夜休憩\",\"K\",TRUE,\"-\")","v":"-"},{"$f":"_xlfn.IFS(キー割付!O449=\"昼夜休憩\",\"B\",キー割付!O449=\"－－－\",\"-\",キー割付!O449=\"昼－－\",\"H\",キー割付!O449=\"－夜－\",\"N\",キー割付!O449=\"－－休憩\",\"P\",キー割付!O449=\"昼夜－\",\"N\",キー割付!O449=\"昼－休憩\",\"F\",キー割付!O449=\"－夜休憩\",\"K\",TRUE,\"-\")","v":"-"},{"$f":"IF(E82=\"ZX-DECLDIV-IPコードレス電話機\",\"-\",_xlfn.IFS(キー割付!P449=\"昼夜休憩\",\"B\",キー割付!P449=\"－－－\",\"-\",キー割付!P449=\"昼－－\",\"H\",キー割付!P449=\"－夜－\",\"N\",キー割付!P449=\"－－休憩\",\"P\",キー割付!P449=\"昼夜－\",\"N\",キー割付!P449=\"昼－休憩\",\"F\",キー割付!P449=\"－夜休憩\",\"K\",TRUE,\"-\"))","v":"-"},{"$f":"IF(E82=\"ZX-DECLDIV-IPコードレス電話機\",\"-\",_xlfn.IFS(キー割付!Q449=\"昼夜休憩\",\"B\",キー割付!Q449=\"－－－\",\"-\",キー割付!Q449=\"昼－－\",\"H\",キー割付!Q449=\"－夜－\",\"N\",キー割付!Q449=\"－－休憩\",\"P\",キー割付!Q449=\"昼夜－\",\"N\",キー割付!Q449=\"昼－休憩\",\"F\",キー割付!Q449=\"－夜休憩\",\"K\",TRUE,\"-\"))","v":"-"},{"$f":"IF(E82=\"ZX-DECLDIV-IPコードレス電話機\",\"-\",_xlfn.IFS(キー割付!R449=\"昼夜休憩\",\"B\",キー割付!R449=\"－－－\",\"-\",キー割付!R449=\"昼－－\",\"H\",キー割付!R449=\"－夜－\",\"N\",キー割付!R449=\"－－休憩\",\"P\",キー割付!R449=\"昼夜－\",\"N\",キー割付!R449=\"昼－休憩\",\"F\",キー割付!R449=\"－夜休憩\",\"K\",TRUE,\"-\"))","v":"-"},{"$f":"IF(E82=\"ZX-DECLDIV-IPコードレス電話機\",\"-\",_xlfn.IFS(キー割付!S449=\"昼夜休憩\",\"B\",キー割付!S449=\"－－－\",\"-\",キー割付!S449=\"昼－－\",\"H\",キー割付!S449=\"－夜－\",\"N\",キー割付!S449=\"－－休憩\",\"P\",キー割付!S449=\"昼夜－\",\"N\",キー割付!S449=\"昼－休憩\",\"F\",キー割付!S449=\"－夜休憩\",\"K\",TRUE,\"-\"))","v":"-"},{"$f":"IF(E82=\"ZX-DECLDIV-IPコードレス電話機\",\"-\",_xlfn.IFS(キー割付!N457=\"昼夜休憩\",\"B\",キー割付!N457=\"－－－\",\"-\",キー割付!N457=\"昼－－\",\"H\",キー割付!N457=\"－夜－\",\"N\",キー割付!N457=\"－－休憩\",\"P\",キー割付!N457=\"昼夜－\",\"N\",キー割付!N457=\"昼－休憩\",\"F\",キー割付!N457=\"－夜休憩\",\"K\",TRUE,\"-\"))","v":"-"},{"$f":"IF(E82=\"ZX-DECLDIV-IPコードレス電話機\",\"-\",_xlfn.IFS(キー割付!O457=\"昼夜休憩\",\"B\",キー割付!O457=\"－－－\",\"-\",キー割付!O457=\"昼－－\",\"H\",キー割付!O457=\"－夜－\",\"N\",キー割付!O457=\"－－休憩\",\"P\",キー割付!O457=\"昼夜－\",\"N\",キー割付!O457=\"昼－休憩\",\"F\",キー割付!O457=\"－夜休憩\",\"K\",TRUE,\"-\"))","v":"-"},{"$f":"IF(E82=\"ZX-DECLDIV-IPコードレス電話機\",\"-\",_xlfn.IFS(キー割付!P457=\"昼夜休憩\",\"B\",キー割付!P457=\"－－－\",\"-\",キー割付!P457=\"昼－－\",\"H\",キー割付!P457=\"－夜－\",\"N\",キー割付!P457=\"－－休憩\",\"P\",キー割付!P457=\"昼夜－\",\"N\",キー割付!P457=\"昼－休憩\",\"F\",キー割付!P457=\"－夜休憩\",\"K\",TRUE,\"-\"))","v":"-"},{"$f":"IF(E82=\"ZX-DECLDIV-IPコードレス電話機\",\"-\",_xlfn.IFS(キー割付!Q457=\"昼夜休憩\",\"B\",キー割付!Q457=\"－－－\",\"-\",キー割付!Q457=\"昼－－\",\"H\",キー割付!Q457=\"－夜－\",\"N\",キー割付!Q457=\"－－休憩\",\"P\",キー割付!Q457=\"昼夜－\",\"N\",キー割付!Q457=\"昼－休憩\",\"F\",キー割付!Q457=\"－夜休憩\",\"K\",TRUE,\"-\"))","v":"-"},{"$f":"IF(E82=\"ZX-DECLDIV-IPコードレス電話機\",\"-\",_xlfn.IFS(キー割付!R457=\"昼夜休憩\",\"B\",キー割付!R457=\"－－－\",\"-\",キー割付!R457=\"昼－－\",\"H\",キー割付!R457=\"－夜－\",\"N\",キー割付!R457=\"－－休憩\",\"P\",キー割付!R457=\"昼夜－\",\"N\",キー割付!R457=\"昼－休憩\",\"F\",キー割付!R457=\"－夜休憩\",\"K\",TRUE,\"-\"))","v":"-"},{"$f":"IF(E82=\"ZX-DECLDIV-IPコードレス電話機\",\"-\",_xlfn.IFS(キー割付!S457=\"昼夜休憩\",\"B\",キー割付!S457=\"－－－\",\"-\",キー割付!S457=\"昼－－\",\"H\",キー割付!S457=\"－夜－\",\"N\",キー割付!S457=\"－－休憩\",\"P\",キー割付!S457=\"昼夜－\",\"N\",キー割付!S457=\"昼－休憩\",\"F\",キー割付!S457=\"－夜休憩\",\"K\",TRUE,\"-\"))","v":"-"},{"$f":"IF(E82=\"ZX-DECLDIV-IPコードレス電話機\",\"-\",_xlfn.IFS(キー割付!N465=\"昼夜休憩\",\"B\",キー割付!N465=\"－－－\",\"-\",キー割付!N465=\"昼－－\",\"H\",キー割付!N465=\"－夜－\",\"N\",キー割付!N465=\"－－休憩\",\"P\",キー割付!N465=\"昼夜－\",\"N\",キー割付!N465=\"昼－休憩\",\"F\",キー割付!N465=\"－夜休憩\",\"K\",TRUE,\"-\"))","v":"-"},{"$f":"IF(E82=\"ZX-DECLDIV-IPコードレス電話機\",\"-\",_xlfn.IFS(キー割付!O465=\"昼夜休憩\",\"B\",キー割付!O465=\"－－－\",\"-\",キー割付!O465=\"昼－－\",\"H\",キー割付!O465=\"－夜－\",\"N\",キー割付!O465=\"－－休憩\",\"P\",キー割付!O465=\"昼夜－\",\"N\",キー割付!O465=\"昼－休憩\",\"F\",キー割付!O465=\"－夜休憩\",\"K\",TRUE,\"-\"))","v":"-"},{"$f":"IF(E82=\"ZX-DECLDIV-IPコードレス電話機\",\"-\",_xlfn.IFS(キー割付!P465=\"昼夜休憩\",\"B\",キー割付!P465=\"－－－\",\"-\",キー割付!P465=\"昼－－\",\"H\",キー割付!P465=\"－夜－\",\"N\",キー割付!P465=\"－－休憩\",\"P\",キー割付!P465=\"昼夜－\",\"N\",キー割付!P465=\"昼－休憩\",\"F\",キー割付!P465=\"－夜休憩\",\"K\",TRUE,\"-\"))","v":"-"},{"$f":"IF(E82=\"ZX-DECLDIV-IPコードレス電話機\",\"-\",_xlfn.IFS(キー割付!Q465=\"昼夜休憩\",\"B\",キー割付!Q465=\"－－－\",\"-\",キー割付!Q465=\"昼－－\",\"H\",キー割付!Q465=\"－夜－\",\"N\",キー割付!Q465=\"－－休憩\",\"P\",キー割付!Q465=\"昼夜－\",\"N\",キー割付!Q465=\"昼－休憩\",\"F\",キー割付!Q465=\"－夜休憩\",\"K\",TRUE,\"-\"))","v":"-"},{"$f":"IF(E82=\"ZX-DECLDIV-IPコードレス電話機\",\"-\",_xlfn.IFS(キー割付!R465=\"昼夜休憩\",\"B\",キー割付!R465=\"－－－\",\"-\",キー割付!R465=\"昼－－\",\"H\",キー割付!R465=\"－夜－\",\"N\",キー割付!R465=\"－－休憩\",\"P\",キー割付!R465=\"昼夜－\",\"N\",キー割付!R465=\"昼－休憩\",\"F\",キー割付!R465=\"－夜休憩\",\"K\",TRUE,\"-\"))","v":"-"},{"$f":"IF(E82=\"ZX-DECLDIV-IPコードレス電話機\",\"-\",_xlfn.IFS(キー割付!S465=\"昼夜休憩\",\"B\",キー割付!S465=\"－－－\",\"-\",キー割付!S465=\"昼－－\",\"H\",キー割付!S465=\"－夜－\",\"N\",キー割付!S465=\"－－休憩\",\"P\",キー割付!S465=\"昼夜－\",\"N\",キー割付!S465=\"昼－休憩\",\"F\",キー割付!S465=\"－夜休憩\",\"K\",TRUE,\"-\"))","v":"-"}]
[null,27,{"$f":"IF(IFERROR(VALUE(VLOOKUP(B85,内線_キー割用,2,FALSE)),\"\")=0,\"\",IFERROR(VALUE(VLOOKUP(B85,内線_キー割用,2,FALSE)),\"\"))","v":""},{"$f":"IF(IFERROR(VALUE(VLOOKUP(B85,内線_キー割用,4,FALSE)),\"\")=0,\"\",IFERROR(VALUE(VLOOKUP(B85,内線_キー割用,4,FALSE)),\"\"))","v":""},{"$f":"IF(IFERROR(VLOOKUP(B85,内線_キー割用,3,FALSE),\"\")=0,\"\",IFERROR(VLOOKUP(B85,内線_キー割用,3,FALSE),\"\"))","v":""},{"$f":"IF(キー割付!D475=\"\",\"未使用\",キー割付!D475)","v":"未使用"},{"$f":"IF(キー割付!E475=\"\",\"未使用\",キー割付!E475)","v":"未使用"},{"$f":"IF(キー割付!F475=\"\",\"未使用\",キー割付!F475)","v":"未使用"},{"$f":"IF(キー割付!G475=\"\",\"未使用\",キー割付!G475)","v":"未使用"},{"$f":"IF(キー割付!H475=\"\",\"未使用\",キー割付!H475)","v":"未使用"},{"$f":"IF(キー割付!I475=\"\",\"未使用\",キー割付!I475)","v":"未使用"},{"$f":"IF(キー割付!D483=\"\",\"未使用\",キー割付!D483)","v":"未使用"},{"$f":"IF(キー割付!E483=\"\",\"未使用\",キー割付!E483)","v":"未使用"},{"$f":"IF(E85=\"ZX-DECLDIV-IPコードレス電話機\",\"未使用\",IF(キー割付!F483=\"\",\"未使用\",キー割付!F483))","v":"未使用"},{"$f":"IF(E85=\"ZX-DECLDIV-IPコードレス電話機\",\"未使用\",IF(キー割付!G483=\"\",\"未使用\",キー割付!G483))","v":"未使用"},{"$f":"IF(E85=\"ZX-DECLDIV-IPコードレス電話機\",\"未使用\",IF(キー割付!H483=\"\",\"未使用\",キー割付!H483))","v":"未使用"},{"$f":"IF(E85=\"ZX-DECLDIV-IPコードレス電話機\",\"未使用\",IF(キー割付!I483=\"\",\"未使用\",キー割付!I483))","v":"未使用"},{"$f":"IF(E85=\"ZX-DECLDIV-IPコードレス電話機\",\"未使用\",IF(キー割付!D491=\"\",\"未使用\",キー割付!D491))","v":"未使用"},{"$f":"IF(E85=\"ZX-DECLDIV-IPコードレス電話機\",\"未使用\",IF(キー割付!E491=\"\",\"未使用\",キー割付!E491))","v":"未使用"},{"$f":"IF(E85=\"ZX-DECLDIV-IPコードレス電話機\",\"未使用\",IF(キー割付!F491=\"\",\"未使用\",キー割付!F491))","v":"未使用"},{"$f":"IF(E85=\"ZX-DECLDIV-IPコードレス電話機\",\"未使用\",IF(キー割付!G491=\"\",\"未使用\",キー割付!G491))","v":"未使用"},{"$f":"IF(E85=\"ZX-DECLDIV-IPコードレス電話機\",\"未使用\",IF(キー割付!H491=\"\",\"未使用\",キー割付!H491))","v":"未使用"},{"$f":"IF(E85=\"ZX-DECLDIV-IPコードレス電話機\",\"未使用\",IF(キー割付!I491=\"\",\"未使用\",キー割付!I491))","v":"未使用"},{"$f":"IF(E85=\"ZX-DECLDIV-IPコードレス電話機\",\"未使用\",IF(キー割付!D499=\"\",\"未使用\",キー割付!D499))","v":"未使用"},{"$f":"IF(E85=\"ZX-DECLDIV-IPコードレス電話機\",\"未使用\",IF(キー割付!E499=\"\",\"未使用\",キー割付!E499))","v":"未使用"},{"$f":"IF(E85=\"ZX-DECLDIV-IPコードレス電話機\",\"未使用\",IF(キー割付!F499=\"\",\"未使用\",キー割付!F499))","v":"未使用"},{"$f":"IF(E85=\"ZX-DECLDIV-IPコードレス電話機\",\"未使用\",IF(キー割付!G499=\"\",\"未使用\",キー割付!G499))","v":"未使用"},{"$f":"IF(E85=\"ZX-DECLDIV-IPコードレス電話機\",\"未使用\",IF(キー割付!H499=\"\",\"未使用\",キー割付!H499))","v":"未使用"},{"$f":"IF(E85=\"ZX-DECLDIV-IPコードレス電話機\",\"未使用\",IF(キー割付!I499=\"\",\"未使用\",キー割付!I499))","v":"未使用"}]
[null,null,null,null,null,{"$f":"_xlfn.IFS(キー割付!D476=\"着信音なし\",\"トーン1\",キー割付!D476=\"トーン1\",\"トーン1\",キー割付!D476=\"トーン2\",\"トーン2\",キー割付!D476=\"トーン3\",\"トーン3\",キー割付!D476=\"トーン4\",\"トーン4\",キー割付!D476=\"トーン5\",\"トーン5\",キー割付!D476=\"トーン6\",\"トーン6\",キー割付!D476=\"トーン7\",\"トーン7\",キー割付!D476=\"トーン7\",\"トーン7\",キー割付!D476=\"無鳴動着信\",\"トーン8\",キー割付!D476=\"グリーンスリーブス\",\"メロディ1\",キー割付!D476=\"峠の我が家\",\"メロディ2\",キー割付!D476=\"カノン\",\"メロディ3\",キー割付!D476=\"春の歌\",\"メロディ4\",キー割付!D476=\"主よ人の望みの喜びよ\",\"メロディ5\",キー割付!D476=\"メヌエット\",\"メロディ6\",キー割付!D476=\"華麗なる大円舞曲\",\"メロディ7\",キー割付!D476=\"ハンガリア舞曲第5番\",\"メロディ8\",TRUE,\"トーン1\")","v":"トーン1"},{"$f":"_xlfn.IFS(キー割付!E476=\"着信音なし\",\"トーン1\",キー割付!E476=\"トーン1\",\"トーン1\",キー割付!E476=\"トーン2\",\"トーン2\",キー割付!E476=\"トーン3\",\"トーン3\",キー割付!E476=\"トーン4\",\"トーン4\",キー割付!E476=\"トーン5\",\"トーン5\",キー割付!E476=\"トーン6\",\"トーン6\",キー割付!E476=\"トーン7\",\"トーン7\",キー割付!E476=\"トーン7\",\"トーン7\",キー割付!E476=\"無鳴動着信\",\"トーン8\",キー割付!E476=\"グリーンスリーブス\",\"メロディ1\",キー割付!E476=\"峠の我が家\",\"メロディ2\",キー割付!E476=\"カノン\",\"メロディ3\",キー割付!E476=\"春の歌\",\"メロディ4\",キー割付!E476=\"主よ人の望みの喜びよ\",\"メロディ5\",キー割付!E476=\"メヌエット\",\"メロディ6\",キー割付!E476=\"華麗なる大円舞曲\",\"メロディ7\",キー割付!E476=\"ハンガリア舞曲第5番\",\"メロディ8\",TRUE,\"トーン1\")","v":"トーン1"},{"$f":"_xlfn.IFS(キー割付!F476=\"着信音なし\",\"トーン1\",キー割付!F476=\"トーン1\",\"トーン1\",キー割付!F476=\"トーン2\",\"トーン2\",キー割付!F476=\"トーン3\",\"トーン3\",キー割付!F476=\"トーン4\",\"トーン4\",キー割付!F476=\"トーン5\",\"トーン5\",キー割付!F476=\"トーン6\",\"トーン6\",キー割付!F476=\"トーン7\",\"トーン7\",キー割付!F476=\"トーン7\",\"トーン7\",キー割付!F476=\"無鳴動着信\",\"トーン8\",キー割付!F476=\"グリーンスリーブス\",\"メロディ1\",キー割付!F476=\"峠の我が家\",\"メロディ2\",キー割付!F476=\"カノン\",\"メロディ3\",キー割付!F476=\"春の歌\",\"メロディ4\",キー割付!F476=\"主よ人の望みの喜びよ\",\"メロディ5\",キー割付!F476=\"メヌエット\",\"メロディ6\",キー割付!F476=\"華麗なる大円舞曲\",\"メロディ7\",キー割付!F476=\"ハンガリア舞曲第5番\",\"メロディ8\",TRUE,\"トーン1\")","v":"トーン1"},{"$f":"_xlfn.IFS(キー割付!G476=\"着信音なし\",\"トーン1\",キー割付!G476=\"トーン1\",\"トーン1\",キー割付!G476=\"トーン2\",\"トーン2\",キー割付!G476=\"トーン3\",\"トーン3\",キー割付!G476=\"トーン4\",\"トーン4\",キー割付!G476=\"トーン5\",\"トーン5\",キー割付!G476=\"トーン6\",\"トーン6\",キー割付!G476=\"トーン7\",\"トーン7\",キー割付!G476=\"トーン7\",\"トーン7\",キー割付!G476=\"無鳴動着信\",\"トーン8\",キー割付!G476=\"グリーンスリーブス\",\"メロディ1\",キー割付!G476=\"峠の我が家\",\"メロディ2\",キー割付!G476=\"カノン\",\"メロディ3\",キー割付!G476=\"春の歌\",\"メロディ4\",キー割付!G476=\"主よ人の望みの喜びよ\",\"メロディ5\",キー割付!G476=\"メヌエット\",\"メロディ6\",キー割付!G476=\"華麗なる大円舞曲\",\"メロディ7\",キー割付!G476=\"ハンガリア舞曲第5番\",\"メロディ8\",TRUE,\"トーン1\")","v":"トーン1"},{"$f":"_xlfn.IFS(キー割付!H476=\"着信音なし\",\"トーン1\",キー割付!H476=\"トーン1\",\"トーン1\",キー割付!H476=\"トーン2\",\"トーン2\",キー割付!H476=\"トーン3\",\"トーン3\",キー割付!H476=\"トーン4\",\"トーン4\",キー割付!H476=\"トーン5\",\"トーン5\",キー割付!H476=\"トーン6\",\"トーン6\",キー割付!H476=\"トーン7\",\"トーン7\",キー割付!H476=\"トーン7\",\"トーン7\",キー割付!H476=\"無鳴動着信\",\"トーン8\",キー割付!H476=\"グリーンスリーブス\",\"メロディ1\",キー割付!H476=\"峠の我が家\",\"メロディ2\",キー割付!H476=\"カノン\",\"メロディ3\",キー割付!H476=\"春の歌\",\"メロディ4\",キー割付!H476=\"主よ人の望みの喜びよ\",\"メロディ5\",キー割付!H476=\"メヌエット\",\"メロディ6\",キー割付!H476=\"華麗なる大円舞曲\",\"メロディ7\",キー割付!H476=\"ハンガリア舞曲第5番\",\"メロディ8\",TRUE,\"トーン1\")","v":"トーン1"},{"$f":"_xlfn.IFS(キー割付!I476=\"着信音なし\",\"トーン1\",キー割付!I476=\"トーン1\",\"トーン1\",キー割付!I476=\"トーン2\",\"トーン2\",キー割付!I476=\"トーン3\",\"トーン3\",キー割付!I476=\"トーン4\",\"トーン4\",キー割付!I476=\"トーン5\",\"トーン5\",キー割付!I476=\"トーン6\",\"トーン6\",キー割付!I476=\"トーン7\",\"トーン7\",キー割付!I476=\"トーン7\",\"トーン7\",キー割付!I476=\"無鳴動着信\",\"トーン8\",キー割付!I476=\"グリーンスリーブス\",\"メロディ1\",キー割付!I476=\"峠の我が家\",\"メロディ2\",キー割付!I476=\"カノン\",\"メロディ3\",キー割付!I476=\"春の歌\",\"メロディ4\",キー割付!I476=\"主よ人の望みの喜びよ\",\"メロディ5\",キー割付!I476=\"メヌエット\",\"メロディ6\",キー割付!I476=\"華麗なる大円舞曲\",\"メロディ7\",キー割付!I476=\"ハンガリア舞曲第5番\",\"メロディ8\",TRUE,\"トーン1\")","v":"トーン1"},{"$f":"_xlfn.IFS(キー割付!D484=\"着信音なし\",\"トーン1\",キー割付!D484=\"トーン1\",\"トーン1\",キー割付!D484=\"トーン2\",\"トーン2\",キー割付!D484=\"トーン3\",\"トーン3\",キー割付!D484=\"トーン4\",\"トーン4\",キー割付!D484=\"トーン5\",\"トーン5\",キー割付!D484=\"トーン6\",\"トーン6\",キー割付!D484=\"トーン7\",\"トーン7\",キー割付!D484=\"トーン7\",\"トーン7\",キー割付!D484=\"無鳴動着信\",\"トーン8\",キー割付!D484=\"グリーンスリーブス\",\"メロディ1\",キー割付!D484=\"峠の我が家\",\"メロディ2\",キー割付!D484=\"カノン\",\"メロディ3\",キー割付!D484=\"春の歌\",\"メロディ4\",キー割付!D484=\"主よ人の望みの喜びよ\",\"メロディ5\",キー割付!D484=\"メヌエット\",\"メロディ6\",キー割付!D484=\"華麗なる大円舞曲\",\"メロディ7\",キー割付!D484=\"ハンガリア舞曲第5番\",\"メロディ8\",TRUE,\"トーン1\")","v":"トーン1"},{"$f":"_xlfn.IFS(キー割付!E484=\"着信音なし\",\"トーン1\",キー割付!E484=\"トーン1\",\"トーン1\",キー割付!E484=\"トーン2\",\"トーン2\",キー割付!E484=\"トーン3\",\"トーン3\",キー割付!E484=\"トーン4\",\"トーン4\",キー割付!E484=\"トーン5\",\"トーン5\",キー割付!E484=\"トーン6\",\"トーン6\",キー割付!E484=\"トーン7\",\"トーン7\",キー割付!E484=\"トーン7\",\"トーン7\",キー割付!E484=\"無鳴動着信\",\"トーン8\",キー割付!E484=\"グリーンスリーブス\",\"メロディ1\",キー割付!E484=\"峠の我が家\",\"メロディ2\",キー割付!E484=\"カノン\",\"メロディ3\",キー割付!E484=\"春の歌\",\"メロディ4\",キー割付!E484=\"主よ人の望みの喜びよ\",\"メロディ5\",キー割付!E484=\"メヌエット\",\"メロディ6\",キー割付!E484=\"華麗なる大円舞曲\",\"メロディ7\",キー割付!E484=\"ハンガリア舞曲第5番\",\"メロディ8\",TRUE,\"トーン1\")","v":"トーン1"},{"$f":"IF(E85=\"ZX-DECLDIV-IPコードレス電話機\",\"トーン1\",_xlfn.IFS(キー割付!F484=\"着信音なし\",\"トーン1\",キー割付!F484=\"トーン1\",\"トーン1\",キー割付!F484=\"トーン2\",\"トーン2\",キー割付!F484=\"トーン3\",\"トーン3\",キー割付!F484=\"トーン4\",\"トーン4\",キー割付!F484=\"トーン5\",\"トーン5\",キー割付!F484=\"トーン6\",\"トーン6\",キー割付!F484=\"トーン7\",\"トーン7\",キー割付!F484=\"トーン7\",\"トーン7\",キー割付!F484=\"無鳴動着信\",\"トーン8\",キー割付!F484=\"グリーンスリーブス\",\"メロディ1\",キー割付!F484=\"峠の我が家\",\"メロディ2\",キー割付!F484=\"カノン\",\"メロディ3\",キー割付!F484=\"春の歌\",\"メロディ4\",キー割付!F484=\"主よ人の望みの喜びよ\",\"メロディ5\",キー割付!F484=\"メヌエット\",\"メロディ6\",キー割付!F484=\"華麗なる大円舞曲\",\"メロディ7\",キー割付!F484=\"ハンガリア舞曲第5番\",\"メロディ8\",TRUE,\"トーン1\"))","v":"トーン1"},{"$f":"IF(E85=\"ZX-DECLDIV-IPコードレス電話機\",\"トーン1\",_xlfn.IFS(キー割付!G484=\"着信音なし\",\"トーン1\",キー割付!G484=\"トーン1\",\"トーン1\",キー割付!G484=\"トーン2\",\"トーン2\",キー割付!G484=\"トーン3\",\"トーン3\",キー割付!G484=\"トーン4\",\"トーン4\",キー割付!G484=\"トーン5\",\"トーン5\",キー割付!G484=\"トーン6\",\"トーン6\",キー割付!G484=\"トーン7\",\"トーン7\",キー割付!G484=\"トーン7\",\"トーン7\",キー割付!G484=\"無鳴動着信\",\"トーン8\",キー割付!G484=\"グリーンスリーブス\",\"メロディ1\",キー割付!G484=\"峠の我が家\",\"メロディ2\",キー割付!G484=\"カノン\",\"メロディ3\",キー割付!G484=\"春の歌\",\"メロディ4\",キー割付!G484=\"主よ人の望みの喜びよ\",\"メロディ5\",キー割付!G484=\"メヌエット\",\"メロディ6\",キー割付!G484=\"華麗なる大円舞曲\",\"メロディ7\",キー割付!G484=\"ハンガリア舞曲第5番\",\"メロディ8\",TRUE,\"トーン1\"))","v":"トーン1"},{"$f":"IF(E85=\"ZX-DECLDIV-IPコードレス電話機\",\"トーン1\",_xlfn.IFS(キー割付!H484=\"着信音なし\",\"トーン1\",キー割付!H484=\"トーン1\",\"トーン1\",キー割付!H484=\"トーン2\",\"トーン2\",キー割付!H484=\"トーン3\",\"トーン3\",キー割付!H484=\"トーン4\",\"トーン4\",キー割付!H484=\"トーン5\",\"トーン5\",キー割付!H484=\"トーン6\",\"トーン6\",キー割付!H484=\"トーン7\",\"トーン7\",キー割付!H484=\"トーン7\",\"トーン7\",キー割付!H484=\"無鳴動着信\",\"トーン8\",キー割付!H484=\"グリーンスリーブス\",\"メロディ1\",キー割付!H484=\"峠の我が家\",\"メロディ2\",キー割付!H484=\"カノン\",\"メロディ3\",キー割付!H484=\"春の歌\",\"メロディ4\",キー割付!H484=\"主よ人の望みの喜びよ\",\"メロディ5\",キー割付!H484=\"メヌエット\",\"メロディ6\",キー割付!H484=\"華麗なる大円舞曲\",\"メロディ7\",キー割付!H484=\"ハンガリア舞曲第5番\",\"メロディ8\",TRUE,\"トーン1\"))","v":"トーン1"},{"$f":"IF(E85=\"ZX-DECLDIV-IPコードレス電話機\",\"トーン1\",_xlfn.IFS(キー割付!I484=\"着信音なし\",\"トーン1\",キー割付!I484=\"トーン1\",\"トーン1\",キー割付!I484=\"トーン2\",\"トーン2\",キー割付!I484=\"トーン3\",\"トーン3\",キー割付!I484=\"トーン4\",\"トーン4\",キー割付!I484=\"トーン5\",\"トーン5\",キー割付!I484=\"トーン6\",\"トーン6\",キー割付!I484=\"トーン7\",\"トーン7\",キー割付!I484=\"トーン7\",\"トーン7\",キー割付!I484=\"無鳴動着信\",\"トーン8\",キー割付!I484=\"グリーンスリーブス\",\"メロディ1\",キー割付!I484=\"峠の我が家\",\"メロディ2\",キー割付!I484=\"カノン\",\"メロディ3\",キー割付!I484=\"春の歌\",\"メロディ4\",キー割付!I484=\"主よ人の望みの喜びよ\",\"メロディ5\",キー割付!I484=\"メヌエット\",\"メロディ6\",キー割付!I484=\"華麗なる大円舞曲\",\"メロディ7\",キー割付!I484=\"ハンガリア舞曲第5番\",\"メロディ8\",TRUE,\"トーン1\"))","v":"トーン1"},{"$f":"IF(E85=\"ZX-DECLDIV-IPコードレス電話機\",\"トーン1\",_xlfn.IFS(キー割付!D492=\"着信音なし\",\"トーン1\",キー割付!D492=\"トーン1\",\"トーン1\",キー割付!D492=\"トーン2\",\"トーン2\",キー割付!D492=\"トーン3\",\"トーン3\",キー割付!D492=\"トーン4\",\"トーン4\",キー割付!D492=\"トーン5\",\"トーン5\",キー割付!D492=\"トーン6\",\"トーン6\",キー割付!D492=\"トーン7\",\"トーン7\",キー割付!D492=\"トーン7\",\"トーン7\",キー割付!D492=\"無鳴動着信\",\"トーン8\",キー割付!D492=\"グリーンスリーブス\",\"メロディ1\",キー割付!D492=\"峠の我が家\",\"メロディ2\",キー割付!D492=\"カノン\",\"メロディ3\",キー割付!D492=\"春の歌\",\"メロディ4\",キー割付!D492=\"主よ人の望みの喜びよ\",\"メロディ5\",キー割付!D492=\"メヌエット\",\"メロディ6\",キー割付!D492=\"華麗なる大円舞曲\",\"メロディ7\",キー割付!D492=\"ハンガリア舞曲第5番\",\"メロディ8\",TRUE,\"トーン1\"))","v":"トーン1"},{"$f":"IF(E85=\"ZX-DECLDIV-IPコードレス電話機\",\"トーン1\",_xlfn.IFS(キー割付!E492=\"着信音なし\",\"トーン1\",キー割付!E492=\"トーン1\",\"トーン1\",キー割付!E492=\"トーン2\",\"トーン2\",キー割付!E492=\"トーン3\",\"トーン3\",キー割付!E492=\"トーン4\",\"トーン4\",キー割付!E492=\"トーン5\",\"トーン5\",キー割付!E492=\"トーン6\",\"トーン6\",キー割付!E492=\"トーン7\",\"トーン7\",キー割付!E492=\"トーン7\",\"トーン7\",キー割付!E492=\"無鳴動着信\",\"トーン8\",キー割付!E492=\"グリーンスリーブス\",\"メロディ1\",キー割付!E492=\"峠の我が家\",\"メロディ2\",キー割付!E492=\"カノン\",\"メロディ3\",キー割付!E492=\"春の歌\",\"メロディ4\",キー割付!E492=\"主よ人の望みの喜びよ\",\"メロディ5\",キー割付!E492=\"メヌエット\",\"メロディ6\",キー割付!E492=\"華麗なる大円舞曲\",\"メロディ7\",キー割付!E492=\"ハンガリア舞曲第5番\",\"メロディ8\",TRUE,\"トーン1\"))","v":"トーン1"},{"$f":"IF(E85=\"ZX-DECLDIV-IPコードレス電話機\",\"トーン1\",_xlfn.IFS(キー割付!F492=\"着信音なし\",\"トーン1\",キー割付!F492=\"トーン1\",\"トーン1\",キー割付!F492=\"トーン2\",\"トーン2\",キー割付!F492=\"トーン3\",\"トーン3\",キー割付!F492=\"トーン4\",\"トーン4\",キー割付!F492=\"トーン5\",\"トーン5\",キー割付!F492=\"トーン6\",\"トーン6\",キー割付!F492=\"トーン7\",\"トーン7\",キー割付!F492=\"トーン7\",\"トーン7\",キー割付!F492=\"無鳴動着信\",\"トーン8\",キー割付!F492=\"グリーンスリーブス\",\"メロディ1\",キー割付!F492=\"峠の我が家\",\"メロディ2\",キー割付!F492=\"カノン\",\"メロディ3\",キー割付!F492=\"春の歌\",\"メロディ4\",キー割付!F492=\"主よ人の望みの喜びよ\",\"メロディ5\",キー割付!F492=\"メヌエット\",\"メロディ6\",キー割付!F492=\"華麗なる大円舞曲\",\"メロディ7\",キー割付!F492=\"ハンガリア舞曲第5番\",\"メロディ8\",TRUE,\"トーン1\"))","v":"トーン1"},{"$f":"IF(E85=\"ZX-DECLDIV-IPコードレス電話機\",\"トーン1\",_xlfn.IFS(キー割付!G492=\"着信音なし\",\"トーン1\",キー割付!G492=\"トーン1\",\"トーン1\",キー割付!G492=\"トーン2\",\"トーン2\",キー割付!G492=\"トーン3\",\"トーン3\",キー割付!G492=\"トーン4\",\"トーン4\",キー割付!G492=\"トーン5\",\"トーン5\",キー割付!G492=\"トーン6\",\"トーン6\",キー割付!G492=\"トーン7\",\"トーン7\",キー割付!G492=\"トーン7\",\"トーン7\",キー割付!G492=\"無鳴動着信\",\"トーン8\",キー割付!G492=\"グリーンスリーブス\",\"メロディ1\",キー割付!G492=\"峠の我が家\",\"メロディ2\",キー割付!G492=\"カノン\",\"メロディ3\",キー割付!G492=\"春の歌\",\"メロディ4\",キー割付!G492=\"主よ人の望みの喜びよ\",\"メロディ5\",キー割付!G492=\"メヌエット\",\"メロディ6\",キー割付!G492=\"華麗なる大円舞曲\",\"メロディ7\",キー割付!G492=\"ハンガリア舞曲第5番\",\"メロディ8\",TRUE,\"トーン1\"))","v":"トーン1"},{"$f":"IF(E85=\"ZX-DECLDIV-IPコードレス電話機\",\"トーン1\",_xlfn.IFS(キー割付!H492=\"着信音なし\",\"トーン1\",キー割付!H492=\"トーン1\",\"トーン1\",キー割付!H492=\"トーン2\",\"トーン2\",キー割付!H492=\"トーン3\",\"トーン3\",キー割付!H492=\"トーン4\",\"トーン4\",キー割付!H492=\"トーン5\",\"トーン5\",キー割付!H492=\"トーン6\",\"トーン6\",キー割付!H492=\"トーン7\",\"トーン7\",キー割付!H492=\"トーン7\",\"トーン7\",キー割付!H492=\"無鳴動着信\",\"トーン8\",キー割付!H492=\"グリーンスリーブス\",\"メロディ1\",キー割付!H492=\"峠の我が家\",\"メロディ2\",キー割付!H492=\"カノン\",\"メロディ3\",キー割付!H492=\"春の歌\",\"メロディ4\",キー割付!H492=\"主よ人の望みの喜びよ\",\"メロディ5\",キー割付!H492=\"メヌエット\",\"メロディ6\",キー割付!H492=\"華麗なる大円舞曲\",\"メロディ7\",キー割付!H492=\"ハンガリア舞曲第5番\",\"メロディ8\",TRUE,\"トーン1\"))","v":"トーン1"},{"$f":"IF(E85=\"ZX-DECLDIV-IPコードレス電話機\",\"トーン1\",_xlfn.IFS(キー割付!I492=\"着信音なし\",\"トーン1\",キー割付!I492=\"トーン1\",\"トーン1\",キー割付!I492=\"トーン2\",\"トーン2\",キー割付!I492=\"トーン3\",\"トーン3\",キー割付!I492=\"トーン4\",\"トーン4\",キー割付!I492=\"トーン5\",\"トーン5\",キー割付!I492=\"トーン6\",\"トーン6\",キー割付!I492=\"トーン7\",\"トーン7\",キー割付!I492=\"トーン7\",\"トーン7\",キー割付!I492=\"無鳴動着信\",\"トーン8\",キー割付!I492=\"グリーンスリーブス\",\"メロディ1\",キー割付!I492=\"峠の我が家\",\"メロディ2\",キー割付!I492=\"カノン\",\"メロディ3\",キー割付!I492=\"春の歌\",\"メロディ4\",キー割付!I492=\"主よ人の望みの喜びよ\",\"メロディ5\",キー割付!I492=\"メヌエット\",\"メロディ6\",キー割付!I492=\"華麗なる大円舞曲\",\"メロディ7\",キー割付!I492=\"ハンガリア舞曲第5番\",\"メロディ8\",TRUE,\"トーン1\"))","v":"トーン1"},{"$f":"IF(E85=\"ZX-DECLDIV-IPコードレス電話機\",\"トーン1\",_xlfn.IFS(キー割付!D500=\"着信音なし\",\"トーン1\",キー割付!D500=\"トーン1\",\"トーン1\",キー割付!D500=\"トーン2\",\"トーン2\",キー割付!D500=\"トーン3\",\"トーン3\",キー割付!D500=\"トーン4\",\"トーン4\",キー割付!D500=\"トーン5\",\"トーン5\",キー割付!D500=\"トーン6\",\"トーン6\",キー割付!D500=\"トーン7\",\"トーン7\",キー割付!D500=\"トーン7\",\"トーン7\",キー割付!D500=\"無鳴動着信\",\"トーン8\",キー割付!D500=\"グリーンスリーブス\",\"メロディ1\",キー割付!D500=\"峠の我が家\",\"メロディ2\",キー割付!D500=\"カノン\",\"メロディ3\",キー割付!D500=\"春の歌\",\"メロディ4\",キー割付!D500=\"主よ人の望みの喜びよ\",\"メロディ5\",キー割付!D500=\"メヌエット\",\"メロディ6\",キー割付!D500=\"華麗なる大円舞曲\",\"メロディ7\",キー割付!D500=\"ハンガリア舞曲第5番\",\"メロディ8\",TRUE,\"トーン1\"))","v":"トーン1"},{"$f":"IF(E85=\"ZX-DECLDIV-IPコードレス電話機\",\"トーン1\",_xlfn.IFS(キー割付!E500=\"着信音なし\",\"トーン1\",キー割付!E500=\"トーン1\",\"トーン1\",キー割付!E500=\"トーン2\",\"トーン2\",キー割付!E500=\"トーン3\",\"トーン3\",キー割付!E500=\"トーン4\",\"トーン4\",キー割付!E500=\"トーン5\",\"トーン5\",キー割付!E500=\"トーン6\",\"トーン6\",キー割付!E500=\"トーン7\",\"トーン7\",キー割付!E500=\"トーン7\",\"トーン7\",キー割付!E500=\"無鳴動着信\",\"トーン8\",キー割付!E500=\"グリーンスリーブス\",\"メロディ1\",キー割付!E500=\"峠の我が家\",\"メロディ2\",キー割付!E500=\"カノン\",\"メロディ3\",キー割付!E500=\"春の歌\",\"メロディ4\",キー割付!E500=\"主よ人の望みの喜びよ\",\"メロディ5\",キー割付!E500=\"メヌエット\",\"メロディ6\",キー割付!E500=\"華麗なる大円舞曲\",\"メロディ7\",キー割付!E500=\"ハンガリア舞曲第5番\",\"メロディ8\",TRUE,\"トーン1\"))","v":"トーン1"},{"$f":"IF(E85=\"ZX-DECLDIV-IPコードレス電話機\",\"トーン1\",_xlfn.IFS(キー割付!F500=\"着信音なし\",\"トーン1\",キー割付!F500=\"トーン1\",\"トーン1\",キー割付!F500=\"トーン2\",\"トーン2\",キー割付!F500=\"トーン3\",\"トーン3\",キー割付!F500=\"トーン4\",\"トーン4\",キー割付!F500=\"トーン5\",\"トーン5\",キー割付!F500=\"トーン6\",\"トーン6\",キー割付!F500=\"トーン7\",\"トーン7\",キー割付!F500=\"トーン7\",\"トーン7\",キー割付!F500=\"無鳴動着信\",\"トーン8\",キー割付!F500=\"グリーンスリーブス\",\"メロディ1\",キー割付!F500=\"峠の我が家\",\"メロディ2\",キー割付!F500=\"カノン\",\"メロディ3\",キー割付!F500=\"春の歌\",\"メロディ4\",キー割付!F500=\"主よ人の望みの喜びよ\",\"メロディ5\",キー割付!F500=\"メヌエット\",\"メロディ6\",キー割付!F500=\"華麗なる大円舞曲\",\"メロディ7\",キー割付!F500=\"ハンガリア舞曲第5番\",\"メロディ8\",TRUE,\"トーン1\"))","v":"トーン1"},{"$f":"IF(E85=\"ZX-DECLDIV-IPコードレス電話機\",\"トーン1\",_xlfn.IFS(キー割付!G500=\"着信音なし\",\"トーン1\",キー割付!G500=\"トーン1\",\"トーン1\",キー割付!G500=\"トーン2\",\"トーン2\",キー割付!G500=\"トーン3\",\"トーン3\",キー割付!G500=\"トーン4\",\"トーン4\",キー割付!G500=\"トーン5\",\"トーン5\",キー割付!G500=\"トーン6\",\"トーン6\",キー割付!G500=\"トーン7\",\"トーン7\",キー割付!G500=\"トーン7\",\"トーン7\",キー割付!G500=\"無鳴動着信\",\"トーン8\",キー割付!G500=\"グリーンスリーブス\",\"メロディ1\",キー割付!G500=\"峠の我が家\",\"メロディ2\",キー割付!G500=\"カノン\",\"メロディ3\",キー割付!G500=\"春の歌\",\"メロディ4\",キー割付!G500=\"主よ人の望みの喜びよ\",\"メロディ5\",キー割付!G500=\"メヌエット\",\"メロディ6\",キー割付!G500=\"華麗なる大円舞曲\",\"メロディ7\",キー割付!G500=\"ハンガリア舞曲第5番\",\"メロディ8\",TRUE,\"トーン1\"))","v":"トーン1"},{"$f":"IF(E85=\"ZX-DECLDIV-IPコードレス電話機\",\"トーン1\",_xlfn.IFS(キー割付!H500=\"着信音なし\",\"トーン1\",キー割付!H500=\"トーン1\",\"トーン1\",キー割付!H500=\"トーン2\",\"トーン2\",キー割付!H500=\"トーン3\",\"トーン3\",キー割付!H500=\"トーン4\",\"トーン4\",キー割付!H500=\"トーン5\",\"トーン5\",キー割付!H500=\"トーン6\",\"トーン6\",キー割付!H500=\"トーン7\",\"トーン7\",キー割付!H500=\"トーン7\",\"トーン7\",キー割付!H500=\"無鳴動着信\",\"トーン8\",キー割付!H500=\"グリーンスリーブス\",\"メロディ1\",キー割付!H500=\"峠の我が家\",\"メロディ2\",キー割付!H500=\"カノン\",\"メロディ3\",キー割付!H500=\"春の歌\",\"メロディ4\",キー割付!H500=\"主よ人の望みの喜びよ\",\"メロディ5\",キー割付!H500=\"メヌエット\",\"メロディ6\",キー割付!H500=\"華麗なる大円舞曲\",\"メロディ7\",キー割付!H500=\"ハンガリア舞曲第5番\",\"メロディ8\",TRUE,\"トーン1\"))","v":"トーン1"},{"$f":"IF(E85=\"ZX-DECLDIV-IPコードレス電話機\",\"トーン1\",_xlfn.IFS(キー割付!I500=\"着信音なし\",\"トーン1\",キー割付!I500=\"トーン1\",\"トーン1\",キー割付!I500=\"トーン2\",\"トーン2\",キー割付!I500=\"トーン3\",\"トーン3\",キー割付!I500=\"トーン4\",\"トーン4\",キー割付!I500=\"トーン5\",\"トーン5\",キー割付!I500=\"トーン6\",\"トーン6\",キー割付!I500=\"トーン7\",\"トーン7\",キー割付!I500=\"トーン7\",\"トーン7\",キー割付!I500=\"無鳴動着信\",\"トーン8\",キー割付!I500=\"グリーンスリーブス\",\"メロディ1\",キー割付!I500=\"峠の我が家\",\"メロディ2\",キー割付!I500=\"カノン\",\"メロディ3\",キー割付!I500=\"春の歌\",\"メロディ4\",キー割付!I500=\"主よ人の望みの喜びよ\",\"メロディ5\",キー割付!I500=\"メヌエット\",\"メロディ6\",キー割付!I500=\"華麗なる大円舞曲\",\"メロディ7\",キー割付!I500=\"ハンガリア舞曲第5番\",\"メロディ8\",TRUE,\"トーン1\"))","v":"トーン1"}]
[null,null,null,null,null,{"$f":"_xlfn.IFS(キー割付!D477=\"昼夜休憩\",\"B\",キー割付!D477=\"－－－\",\"-\",キー割付!D477=\"昼－－\",\"H\",キー割付!D477=\"－夜－\",\"N\",キー割付!D477=\"－－休憩\",\"P\",キー割付!D477=\"昼夜－\",\"D\",キー割付!D477=\"昼－休憩\",\"F\",キー割付!D477=\"－夜休憩\",\"K\",TRUE,\"-\")","v":"-"},{"$f":"_xlfn.IFS(キー割付!E477=\"昼夜休憩\",\"B\",キー割付!E477=\"－－－\",\"-\",キー割付!E477=\"昼－－\",\"H\",キー割付!E477=\"－夜－\",\"N\",キー割付!E477=\"－－休憩\",\"P\",キー割付!E477=\"昼夜－\",\"D\",キー割付!E477=\"昼－休憩\",\"F\",キー割付!E477=\"－夜休憩\",\"K\",TRUE,\"-\")","v":"-"},{"$f":"_xlfn.IFS(キー割付!F477=\"昼夜休憩\",\"B\",キー割付!F477=\"－－－\",\"-\",キー割付!F477=\"昼－－\",\"H\",キー割付!F477=\"－夜－\",\"N\",キー割付!F477=\"－－休憩\",\"P\",キー割付!F477=\"昼夜－\",\"D\",キー割付!F477=\"昼－休憩\",\"F\",キー割付!F477=\"－夜休憩\",\"K\",TRUE,\"-\")","v":"-"},{"$f":"_xlfn.IFS(キー割付!G477=\"昼夜休憩\",\"B\",キー割付!G477=\"－－－\",\"-\",キー割付!G477=\"昼－－\",\"H\",キー割付!G477=\"－夜－\",\"N\",キー割付!G477=\"－－休憩\",\"P\",キー割付!G477=\"昼夜－\",\"D\",キー割付!G477=\"昼－休憩\",\"F\",キー割付!G477=\"－夜休憩\",\"K\",TRUE,\"-\")","v":"-"},{"$f":"_xlfn.IFS(キー割付!H477=\"昼夜休憩\",\"B\",キー割付!H477=\"－－－\",\"-\",キー割付!H477=\"昼－－\",\"H\",キー割付!H477=\"－夜－\",\"N\",キー割付!H477=\"－－休憩\",\"P\",キー割付!H477=\"昼夜－\",\"D\",キー割付!H477=\"昼－休憩\",\"F\",キー割付!H477=\"－夜休憩\",\"K\",TRUE,\"-\")","v":"-"},{"$f":"_xlfn.IFS(キー割付!I477=\"昼夜休憩\",\"B\",キー割付!I477=\"－－－\",\"-\",キー割付!I477=\"昼－－\",\"H\",キー割付!I477=\"－夜－\",\"N\",キー割付!I477=\"－－休憩\",\"P\",キー割付!I477=\"昼夜－\",\"D\",キー割付!I477=\"昼－休憩\",\"F\",キー割付!I477=\"－夜休憩\",\"K\",TRUE,\"-\")","v":"-"},{"$f":"_xlfn.IFS(キー割付!D485=\"昼夜休憩\",\"B\",キー割付!D485=\"－－－\",\"-\",キー割付!D485=\"昼－－\",\"H\",キー割付!D485=\"－夜－\",\"N\",キー割付!D485=\"－－休憩\",\"P\",キー割付!D485=\"昼夜－\",\"D\",キー割付!D485=\"昼－休憩\",\"F\",キー割付!D485=\"－夜休憩\",\"K\",TRUE,\"-\")","v":"-"},{"$f":"_xlfn.IFS(キー割付!E485=\"昼夜休憩\",\"B\",キー割付!E485=\"－－－\",\"-\",キー割付!E485=\"昼－－\",\"H\",キー割付!E485=\"－夜－\",\"N\",キー割付!E485=\"－－休憩\",\"P\",キー割付!E485=\"昼夜－\",\"D\",キー割付!E485=\"昼－休憩\",\"F\",キー割付!E485=\"－夜休憩\",\"K\",TRUE,\"-\")","v":"-"},{"$f":"IF(E85=\"ZX-DECLDIV-IPコードレス電話機\",\"-\",_xlfn.IFS(キー割付!F485=\"昼夜休憩\",\"B\",キー割付!F485=\"－－－\",\"-\",キー割付!F485=\"昼－－\",\"H\",キー割付!F485=\"－夜－\",\"N\",キー割付!F485=\"－－休憩\",\"P\",キー割付!F485=\"昼夜－\",\"D\",キー割付!F485=\"昼－休憩\",\"F\",キー割付!F485=\"－夜休憩\",\"K\",TRUE,\"-\"))","v":"-"},{"$f":"IF(E85=\"ZX-DECLDIV-IPコードレス電話機\",\"-\",_xlfn.IFS(キー割付!G485=\"昼夜休憩\",\"B\",キー割付!G485=\"－－－\",\"-\",キー割付!G485=\"昼－－\",\"H\",キー割付!G485=\"－夜－\",\"N\",キー割付!G485=\"－－休憩\",\"P\",キー割付!G485=\"昼夜－\",\"D\",キー割付!G485=\"昼－休憩\",\"F\",キー割付!G485=\"－夜休憩\",\"K\",TRUE,\"-\"))","v":"-"},{"$f":"IF(E85=\"ZX-DECLDIV-IPコードレス電話機\",\"-\",_xlfn.IFS(キー割付!H485=\"昼夜休憩\",\"B\",キー割付!H485=\"－－－\",\"-\",キー割付!H485=\"昼－－\",\"H\",キー割付!H485=\"－夜－\",\"N\",キー割付!H485=\"－－休憩\",\"P\",キー割付!H485=\"昼夜－\",\"D\",キー割付!H485=\"昼－休憩\",\"F\",キー割付!H485=\"－夜休憩\",\"K\",TRUE,\"-\"))","v":"-"},{"$f":"IF(E85=\"ZX-DECLDIV-IPコードレス電話機\",\"-\",_xlfn.IFS(キー割付!I485=\"昼夜休憩\",\"B\",キー割付!I485=\"－－－\",\"-\",キー割付!I485=\"昼－－\",\"H\",キー割付!I485=\"－夜－\",\"N\",キー割付!I485=\"－－休憩\",\"P\",キー割付!I485=\"昼夜－\",\"D\",キー割付!I485=\"昼－休憩\",\"F\",キー割付!I485=\"－夜休憩\",\"K\",TRUE,\"-\"))","v":"-"},{"$f":"IF(E85=\"ZX-DECLDIV-IPコードレス電話機\",\"-\",_xlfn.IFS(キー割付!D493=\"昼夜休憩\",\"B\",キー割付!D493=\"－－－\",\"-\",キー割付!D493=\"昼－－\",\"H\",キー割付!D493=\"－夜－\",\"N\",キー割付!D493=\"－－休憩\",\"P\",キー割付!D493=\"昼夜－\",\"D\",キー割付!D493=\"昼－休憩\",\"F\",キー割付!D493=\"－夜休憩\",\"K\",TRUE,\"-\"))","v":"-"},{"$f":"IF(E85=\"ZX-DECLDIV-IPコードレス電話機\",\"-\",_xlfn.IFS(キー割付!E493=\"昼夜休憩\",\"B\",キー割付!E493=\"－－－\",\"-\",キー割付!E493=\"昼－－\",\"H\",キー割付!E493=\"－夜－\",\"N\",キー割付!E493=\"－－休憩\",\"P\",キー割付!E493=\"昼夜－\",\"D\",キー割付!E493=\"昼－休憩\",\"F\",キー割付!E493=\"－夜休憩\",\"K\",TRUE,\"-\"))","v":"-"},{"$f":"IF(E85=\"ZX-DECLDIV-IPコードレス電話機\",\"-\",_xlfn.IFS(キー割付!F493=\"昼夜休憩\",\"B\",キー割付!F493=\"－－－\",\"-\",キー割付!F493=\"昼－－\",\"H\",キー割付!F493=\"－夜－\",\"N\",キー割付!F493=\"－－休憩\",\"P\",キー割付!F493=\"昼夜－\",\"D\",キー割付!F493=\"昼－休憩\",\"F\",キー割付!F493=\"－夜休憩\",\"K\",TRUE,\"-\"))","v":"-"},{"$f":"IF(E85=\"ZX-DECLDIV-IPコードレス電話機\",\"-\",_xlfn.IFS(キー割付!G493=\"昼夜休憩\",\"B\",キー割付!G493=\"－－－\",\"-\",キー割付!G493=\"昼－－\",\"H\",キー割付!G493=\"－夜－\",\"N\",キー割付!G493=\"－－休憩\",\"P\",キー割付!G493=\"昼夜－\",\"D\",キー割付!G493=\"昼－休憩\",\"F\",キー割付!G493=\"－夜休憩\",\"K\",TRUE,\"-\"))","v":"-"},{"$f":"IF(E85=\"ZX-DECLDIV-IPコードレス電話機\",\"-\",_xlfn.IFS(キー割付!H493=\"昼夜休憩\",\"B\",キー割付!H493=\"－－－\",\"-\",キー割付!H493=\"昼－－\",\"H\",キー割付!H493=\"－夜－\",\"N\",キー割付!H493=\"－－休憩\",\"P\",キー割付!H493=\"昼夜－\",\"D\",キー割付!H493=\"昼－休憩\",\"F\",キー割付!H493=\"－夜休憩\",\"K\",TRUE,\"-\"))","v":"-"},{"$f":"IF(E85=\"ZX-DECLDIV-IPコードレス電話機\",\"-\",_xlfn.IFS(キー割付!I493=\"昼夜休憩\",\"B\",キー割付!I493=\"－－－\",\"-\",キー割付!I493=\"昼－－\",\"H\",キー割付!I493=\"－夜－\",\"N\",キー割付!I493=\"－－休憩\",\"P\",キー割付!I493=\"昼夜－\",\"D\",キー割付!I493=\"昼－休憩\",\"F\",キー割付!I493=\"－夜休憩\",\"K\",TRUE,\"-\"))","v":"-"},{"$f":"IF(E85=\"ZX-DECLDIV-IPコードレス電話機\",\"-\",_xlfn.IFS(キー割付!D503=\"昼夜休憩\",\"B\",キー割付!D503=\"－－－\",\"-\",キー割付!D503=\"昼－－\",\"H\",キー割付!D503=\"－夜－\",\"N\",キー割付!D503=\"－－休憩\",\"P\",キー割付!D503=\"昼夜－\",\"D\",キー割付!D503=\"昼－休憩\",\"F\",キー割付!D503=\"－夜休憩\",\"K\",TRUE,\"-\"))","v":"-"},{"$f":"IF(E85=\"ZX-DECLDIV-IPコードレス電話機\",\"-\",_xlfn.IFS(キー割付!E503=\"昼夜休憩\",\"B\",キー割付!E503=\"－－－\",\"-\",キー割付!E503=\"昼－－\",\"H\",キー割付!E503=\"－夜－\",\"N\",キー割付!E503=\"－－休憩\",\"P\",キー割付!E503=\"昼夜－\",\"D\",キー割付!E503=\"昼－休憩\",\"F\",キー割付!E503=\"－夜休憩\",\"K\",TRUE,\"-\"))","v":"-"},{"$f":"IF(E85=\"ZX-DECLDIV-IPコードレス電話機\",\"-\",_xlfn.IFS(キー割付!F503=\"昼夜休憩\",\"B\",キー割付!F503=\"－－－\",\"-\",キー割付!F503=\"昼－－\",\"H\",キー割付!F503=\"－夜－\",\"N\",キー割付!F503=\"－－休憩\",\"P\",キー割付!F503=\"昼夜－\",\"D\",キー割付!F503=\"昼－休憩\",\"F\",キー割付!F503=\"－夜休憩\",\"K\",TRUE,\"-\"))","v":"-"},{"$f":"IF(E85=\"ZX-DECLDIV-IPコードレス電話機\",\"-\",_xlfn.IFS(キー割付!G503=\"昼夜休憩\",\"B\",キー割付!G503=\"－－－\",\"-\",キー割付!G503=\"昼－－\",\"H\",キー割付!G503=\"－夜－\",\"N\",キー割付!G503=\"－－休憩\",\"P\",キー割付!G503=\"昼夜－\",\"D\",キー割付!G503=\"昼－休憩\",\"F\",キー割付!G503=\"－夜休憩\",\"K\",TRUE,\"-\"))","v":"-"},{"$f":"IF(E85=\"ZX-DECLDIV-IPコードレス電話機\",\"-\",_xlfn.IFS(キー割付!H503=\"昼夜休憩\",\"B\",キー割付!H503=\"－－－\",\"-\",キー割付!H503=\"昼－－\",\"H\",キー割付!H503=\"－夜－\",\"N\",キー割付!H503=\"－－休憩\",\"P\",キー割付!H503=\"昼夜－\",\"D\",キー割付!H503=\"昼－休憩\",\"F\",キー割付!H503=\"－夜休憩\",\"K\",TRUE,\"-\"))","v":"-"},{"$f":"IF(E85=\"ZX-DECLDIV-IPコードレス電話機\",\"-\",_xlfn.IFS(キー割付!I503=\"昼夜休憩\",\"B\",キー割付!I503=\"－－－\",\"-\",キー割付!I503=\"昼－－\",\"H\",キー割付!I503=\"－夜－\",\"N\",キー割付!I503=\"－－休憩\",\"P\",キー割付!I503=\"昼夜－\",\"D\",キー割付!I503=\"昼－休憩\",\"F\",キー割付!I503=\"－夜休憩\",\"K\",TRUE,\"-\"))","v":"-"}]
[null,28,{"$f":"IF(IFERROR(VALUE(VLOOKUP(B88,内線_キー割用,2,FALSE)),\"\")=0,\"\",IFERROR(VALUE(VLOOKUP(B88,内線_キー割用,2,FALSE)),\"\"))","v":""},{"$f":"IF(IFERROR(VALUE(VLOOKUP(B88,内線_キー割用,4,FALSE)),\"\")=0,\"\",IFERROR(VALUE(VLOOKUP(B88,内線_キー割用,4,FALSE)),\"\"))","v":""},{"$f":"IF(IFERROR(VLOOKUP(B88,内線_キー割用,3,FALSE),\"\")=0,\"\",IFERROR(VLOOKUP(B88,内線_キー割用,3,FALSE),\"\"))","v":""},{"$f":"IF(キー割付!N475=\"\",\"未使用\",キー割付!N475)","v":"未使用"},{"$f":"IF(キー割付!O475=\"\",\"未使用\",キー割付!O475)","v":"未使用"},{"$f":"IF(キー割付!P475=\"\",\"未使用\",キー割付!P475)","v":"未使用"},{"$f":"IF(キー割付!Q475=\"\",\"未使用\",キー割付!Q475)","v":"未使用"},{"$f":"IF(キー割付!R475=\"\",\"未使用\",キー割付!R475)","v":"未使用"},{"$f":"IF(キー割付!S475=\"\",\"未使用\",キー割付!S475)","v":"未使用"},{"$f":"IF(キー割付!N483=\"\",\"未使用\",キー割付!N483)","v":"未使用"},{"$f":"IF(キー割付!O483=\"\",\"未使用\",キー割付!O483)","v":"未使用"},{"$f":"IF(E88=\"ZX-DECLDIV-IPコードレス電話機\",\"未使用\",IF(キー割付!P483=\"\",\"未使用\",キー割付!P483))","v":"未使用"},{"$f":"IF(E88=\"ZX-DECLDIV-IPコードレス電話機\",\"未使用\",IF(キー割付!Q483=\"\",\"未使用\",キー割付!Q483))","v":"未使用"},{"$f":"IF(E88=\"ZX-DECLDIV-IPコードレス電話機\",\"未使用\",IF(キー割付!R483=\"\",\"未使用\",キー割付!R483))","v":"未使用"},{"$f":"IF(E88=\"ZX-DECLDIV-IPコードレス電話機\",\"未使用\",IF(キー割付!S483=\"\",\"未使用\",キー割付!S483))","v":"未使用"},{"$f":"IF(E88=\"ZX-DECLDIV-IPコードレス電話機\",\"未使用\",IF(キー割付!N491=\"\",\"未使用\",キー割付!N491))","v":"未使用"},{"$f":"IF(E88=\"ZX-DECLDIV-IPコードレス電話機\",\"未使用\",IF(キー割付!O491=\"\",\"未使用\",キー割付!O491))","v":"未使用"},{"$f":"IF(E88=\"ZX-DECLDIV-IPコードレス電話機\",\"未使用\",IF(キー割付!P491=\"\",\"未使用\",キー割付!P491))","v":"未使用"},{"$f":"IF(E88=\"ZX-DECLDIV-IPコードレス電話機\",\"未使用\",IF(キー割付!Q491=\"\",\"未使用\",キー割付!Q491))","v":"未使用"},{"$f":"IF(E88=\"ZX-DECLDIV-IPコードレス電話機\",\"未使用\",IF(キー割付!R491=\"\",\"未使用\",キー割付!R491))","v":"未使用"},{"$f":"IF(E88=\"ZX-DECLDIV-IPコードレス電話機\",\"未使用\",IF(キー割付!S491=\"\",\"未使用\",キー割付!S491))","v":"未使用"},{"$f":"IF(E88=\"ZX-DECLDIV-IPコードレス電話機\",\"未使用\",IF(キー割付!N499=\"\",\"未使用\",キー割付!N499))","v":"未使用"},{"$f":"IF(E88=\"ZX-DECLDIV-IPコードレス電話機\",\"未使用\",IF(キー割付!O499=\"\",\"未使用\",キー割付!O499))","v":"未使用"},{"$f":"IF(E88=\"ZX-DECLDIV-IPコードレス電話機\",\"未使用\",IF(キー割付!P499=\"\",\"未使用\",キー割付!P499))","v":"未使用"},{"$f":"IF(E88=\"ZX-DECLDIV-IPコードレス電話機\",\"未使用\",IF(キー割付!Q499=\"\",\"未使用\",キー割付!Q499))","v":"未使用"},{"$f":"IF(E88=\"ZX-DECLDIV-IPコードレス電話機\",\"未使用\",IF(キー割付!R499=\"\",\"未使用\",キー割付!R499))","v":"未使用"},{"$f":"IF(E88=\"ZX-DECLDIV-IPコードレス電話機\",\"未使用\",IF(キー割付!S499=\"\",\"未使用\",キー割付!S499))","v":"未使用"}]
[null,null,null,null,null,{"$f":"_xlfn.IFS(キー割付!N476=\"着信音なし\",\"トーン1\",キー割付!N476=\"トーン1\",\"トーン1\",キー割付!N476=\"トーン2\",\"トーン2\",キー割付!N476=\"トーン3\",\"トーン3\",キー割付!N476=\"トーン4\",\"トーン4\",キー割付!N476=\"トーン5\",\"トーン5\",キー割付!N476=\"トーン6\",\"トーン6\",キー割付!N476=\"トーン7\",\"トーン7\",キー割付!N476=\"トーン7\",\"トーン7\",キー割付!N476=\"無鳴動着信\",\"トーン8\",キー割付!N476=\"グリーンスリーブス\",\"メロディ1\",キー割付!N476=\"峠の我が家\",\"メロディ2\",キー割付!N476=\"カノン\",\"メロディ3\",キー割付!N476=\"春の歌\",\"メロディ4\",キー割付!N476=\"主よ人の望みの喜びよ\",\"メロディ5\",キー割付!N476=\"メヌエット\",\"メロディ6\",キー割付!N476=\"華麗なる大円舞曲\",\"メロディ7\",キー割付!N476=\"ハンガリア舞曲第5番\",\"メロディ8\",TRUE,\"トーン1\")","v":"トーン1"},{"$f":"_xlfn.IFS(キー割付!O476=\"着信音なし\",\"トーン1\",キー割付!O476=\"トーン1\",\"トーン1\",キー割付!O476=\"トーン2\",\"トーン2\",キー割付!O476=\"トーン3\",\"トーン3\",キー割付!O476=\"トーン4\",\"トーン4\",キー割付!O476=\"トーン5\",\"トーン5\",キー割付!O476=\"トーン6\",\"トーン6\",キー割付!O476=\"トーン7\",\"トーン7\",キー割付!O476=\"トーン7\",\"トーン7\",キー割付!O476=\"無鳴動着信\",\"トーン8\",キー割付!O476=\"グリーンスリーブス\",\"メロディ1\",キー割付!O476=\"峠の我が家\",\"メロディ2\",キー割付!O476=\"カノン\",\"メロディ3\",キー割付!O476=\"春の歌\",\"メロディ4\",キー割付!O476=\"主よ人の望みの喜びよ\",\"メロディ5\",キー割付!O476=\"メヌエット\",\"メロディ6\",キー割付!O476=\"華麗なる大円舞曲\",\"メロディ7\",キー割付!O476=\"ハンガリア舞曲第5番\",\"メロディ8\",TRUE,\"トーン1\")","v":"トーン1"},{"$f":"_xlfn.IFS(キー割付!P476=\"着信音なし\",\"トーン1\",キー割付!P476=\"トーン1\",\"トーン1\",キー割付!P476=\"トーン2\",\"トーン2\",キー割付!P476=\"トーン3\",\"トーン3\",キー割付!P476=\"トーン4\",\"トーン4\",キー割付!P476=\"トーン5\",\"トーン5\",キー割付!P476=\"トーン6\",\"トーン6\",キー割付!P476=\"トーン7\",\"トーン7\",キー割付!P476=\"トーン7\",\"トーン7\",キー割付!P476=\"無鳴動着信\",\"トーン8\",キー割付!P476=\"グリーンスリーブス\",\"メロディ1\",キー割付!P476=\"峠の我が家\",\"メロディ2\",キー割付!P476=\"カノン\",\"メロディ3\",キー割付!P476=\"春の歌\",\"メロディ4\",キー割付!P476=\"主よ人の望みの喜びよ\",\"メロディ5\",キー割付!P476=\"メヌエット\",\"メロディ6\",キー割付!P476=\"華麗なる大円舞曲\",\"メロディ7\",キー割付!P476=\"ハンガリア舞曲第5番\",\"メロディ8\",TRUE,\"トーン1\")","v":"トーン1"},{"$f":"_xlfn.IFS(キー割付!Q476=\"着信音なし\",\"トーン1\",キー割付!Q476=\"トーン1\",\"トーン1\",キー割付!Q476=\"トーン2\",\"トーン2\",キー割付!Q476=\"トーン3\",\"トーン3\",キー割付!Q476=\"トーン4\",\"トーン4\",キー割付!Q476=\"トーン5\",\"トーン5\",キー割付!Q476=\"トーン6\",\"トーン6\",キー割付!Q476=\"トーン7\",\"トーン7\",キー割付!Q476=\"トーン7\",\"トーン7\",キー割付!Q476=\"無鳴動着信\",\"トーン8\",キー割付!Q476=\"グリーンスリーブス\",\"メロディ1\",キー割付!Q476=\"峠の我が家\",\"メロディ2\",キー割付!Q476=\"カノン\",\"メロディ3\",キー割付!Q476=\"春の歌\",\"メロディ4\",キー割付!Q476=\"主よ人の望みの喜びよ\",\"メロディ5\",キー割付!Q476=\"メヌエット\",\"メロディ6\",キー割付!Q476=\"華麗なる大円舞曲\",\"メロディ7\",キー割付!Q476=\"ハンガリア舞曲第5番\",\"メロディ8\",TRUE,\"トーン1\")","v":"トーン1"},{"$f":"_xlfn.IFS(キー割付!R476=\"着信音なし\",\"トーン1\",キー割付!R476=\"トーン1\",\"トーン1\",キー割付!R476=\"トーン2\",\"トーン2\",キー割付!R476=\"トーン3\",\"トーン3\",キー割付!R476=\"トーン4\",\"トーン4\",キー割付!R476=\"トーン5\",\"トーン5\",キー割付!R476=\"トーン6\",\"トーン6\",キー割付!R476=\"トーン7\",\"トーン7\",キー割付!R476=\"トーン7\",\"トーン7\",キー割付!R476=\"無鳴動着信\",\"トーン8\",キー割付!R476=\"グリーンスリーブス\",\"メロディ1\",キー割付!R476=\"峠の我が家\",\"メロディ2\",キー割付!R476=\"カノン\",\"メロディ3\",キー割付!R476=\"春の歌\",\"メロディ4\",キー割付!R476=\"主よ人の望みの喜びよ\",\"メロディ5\",キー割付!R476=\"メヌエット\",\"メロディ6\",キー割付!R476=\"華麗なる大円舞曲\",\"メロディ7\",キー割付!R476=\"ハンガリア舞曲第5番\",\"メロディ8\",TRUE,\"トーン1\")","v":"トーン1"},{"$f":"_xlfn.IFS(キー割付!S476=\"着信音なし\",\"トーン1\",キー割付!S476=\"トーン1\",\"トーン1\",キー割付!S476=\"トーン2\",\"トーン2\",キー割付!S476=\"トーン3\",\"トーン3\",キー割付!S476=\"トーン4\",\"トーン4\",キー割付!S476=\"トーン5\",\"トーン5\",キー割付!S476=\"トーン6\",\"トーン6\",キー割付!S476=\"トーン7\",\"トーン7\",キー割付!S476=\"トーン7\",\"トーン7\",キー割付!S476=\"無鳴動着信\",\"トーン8\",キー割付!S476=\"グリーンスリーブス\",\"メロディ1\",キー割付!S476=\"峠の我が家\",\"メロディ2\",キー割付!S476=\"カノン\",\"メロディ3\",キー割付!S476=\"春の歌\",\"メロディ4\",キー割付!S476=\"主よ人の望みの喜びよ\",\"メロディ5\",キー割付!S476=\"メヌエット\",\"メロディ6\",キー割付!S476=\"華麗なる大円舞曲\",\"メロディ7\",キー割付!S476=\"ハンガリア舞曲第5番\",\"メロディ8\",TRUE,\"トーン1\")","v":"トーン1"},{"$f":"_xlfn.IFS(キー割付!N484=\"着信音なし\",\"トーン1\",キー割付!N484=\"トーン1\",\"トーン1\",キー割付!N484=\"トーン2\",\"トーン2\",キー割付!N484=\"トーン3\",\"トーン3\",キー割付!N484=\"トーン4\",\"トーン4\",キー割付!N484=\"トーン5\",\"トーン5\",キー割付!N484=\"トーン6\",\"トーン6\",キー割付!N484=\"トーン7\",\"トーン7\",キー割付!N484=\"トーン7\",\"トーン7\",キー割付!N484=\"無鳴動着信\",\"トーン8\",キー割付!N484=\"グリーンスリーブス\",\"メロディ1\",キー割付!N484=\"峠の我が家\",\"メロディ2\",キー割付!N484=\"カノン\",\"メロディ3\",キー割付!N484=\"春の歌\",\"メロディ4\",キー割付!N484=\"主よ人の望みの喜びよ\",\"メロディ5\",キー割付!N484=\"メヌエット\",\"メロディ6\",キー割付!N484=\"華麗なる大円舞曲\",\"メロディ7\",キー割付!N484=\"ハンガリア舞曲第5番\",\"メロディ8\",TRUE,\"トーン1\")","v":"トーン1"},{"$f":"_xlfn.IFS(キー割付!O484=\"着信音なし\",\"トーン1\",キー割付!O484=\"トーン1\",\"トーン1\",キー割付!O484=\"トーン2\",\"トーン2\",キー割付!O484=\"トーン3\",\"トーン3\",キー割付!O484=\"トーン4\",\"トーン4\",キー割付!O484=\"トーン5\",\"トーン5\",キー割付!O484=\"トーン6\",\"トーン6\",キー割付!O484=\"トーン7\",\"トーン7\",キー割付!O484=\"トーン7\",\"トーン7\",キー割付!O484=\"無鳴動着信\",\"トーン8\",キー割付!O484=\"グリーンスリーブス\",\"メロディ1\",キー割付!O484=\"峠の我が家\",\"メロディ2\",キー割付!O484=\"カノン\",\"メロディ3\",キー割付!O484=\"春の歌\",\"メロディ4\",キー割付!O484=\"主よ人の望みの喜びよ\",\"メロディ5\",キー割付!O484=\"メヌエット\",\"メロディ6\",キー割付!O484=\"華麗なる大円舞曲\",\"メロディ7\",キー割付!O484=\"ハンガリア舞曲第5番\",\"メロディ8\",TRUE,\"トーン1\")","v":"トーン1"},{"$f":"IF(E88=\"ZX-DECLDIV-IPコードレス電話機\",\"トーン1\",_xlfn.IFS(キー割付!P484=\"着信音なし\",\"トーン1\",キー割付!P484=\"トーン1\",\"トーン1\",キー割付!P484=\"トーン2\",\"トーン2\",キー割付!P484=\"トーン3\",\"トーン3\",キー割付!P484=\"トーン4\",\"トーン4\",キー割付!P484=\"トーン5\",\"トーン5\",キー割付!P484=\"トーン6\",\"トーン6\",キー割付!P484=\"トーン7\",\"トーン7\",キー割付!P484=\"トーン7\",\"トーン7\",キー割付!P484=\"無鳴動着信\",\"トーン8\",キー割付!P484=\"グリーンスリーブス\",\"メロディ1\",キー割付!P484=\"峠の我が家\",\"メロディ2\",キー割付!P484=\"カノン\",\"メロディ3\",キー割付!P484=\"春の歌\",\"メロディ4\",キー割付!P484=\"主よ人の望みの喜びよ\",\"メロディ5\",キー割付!P484=\"メヌエット\",\"メロディ6\",キー割付!P484=\"華麗なる大円舞曲\",\"メロディ7\",キー割付!P484=\"ハンガリア舞曲第5番\",\"メロディ8\",TRUE,\"トーン1\"))","v":"トーン1"},{"$f":"IF(E88=\"ZX-DECLDIV-IPコードレス電話機\",\"トーン1\",_xlfn.IFS(キー割付!Q484=\"着信音なし\",\"トーン1\",キー割付!Q484=\"トーン1\",\"トーン1\",キー割付!Q484=\"トーン2\",\"トーン2\",キー割付!Q484=\"トーン3\",\"トーン3\",キー割付!Q484=\"トーン4\",\"トーン4\",キー割付!Q484=\"トーン5\",\"トーン5\",キー割付!Q484=\"トーン6\",\"トーン6\",キー割付!Q484=\"トーン7\",\"トーン7\",キー割付!Q484=\"トーン7\",\"トーン7\",キー割付!Q484=\"無鳴動着信\",\"トーン8\",キー割付!Q484=\"グリーンスリーブス\",\"メロディ1\",キー割付!Q484=\"峠の我が家\",\"メロディ2\",キー割付!Q484=\"カノン\",\"メロディ3\",キー割付!Q484=\"春の歌\",\"メロディ4\",キー割付!Q484=\"主よ人の望みの喜びよ\",\"メロディ5\",キー割付!Q484=\"メヌエット\",\"メロディ6\",キー割付!Q484=\"華麗なる大円舞曲\",\"メロディ7\",キー割付!Q484=\"ハンガリア舞曲第5番\",\"メロディ8\",TRUE,\"トーン1\"))","v":"トーン1"},{"$f":"IF(E88=\"ZX-DECLDIV-IPコードレス電話機\",\"トーン1\",_xlfn.IFS(キー割付!R484=\"着信音なし\",\"トーン1\",キー割付!R484=\"トーン1\",\"トーン1\",キー割付!R484=\"トーン2\",\"トーン2\",キー割付!R484=\"トーン3\",\"トーン3\",キー割付!R484=\"トーン4\",\"トーン4\",キー割付!R484=\"トーン5\",\"トーン5\",キー割付!R484=\"トーン6\",\"トーン6\",キー割付!R484=\"トーン7\",\"トーン7\",キー割付!R484=\"トーン7\",\"トーン7\",キー割付!R484=\"無鳴動着信\",\"トーン8\",キー割付!R484=\"グリーンスリーブス\",\"メロディ1\",キー割付!R484=\"峠の我が家\",\"メロディ2\",キー割付!R484=\"カノン\",\"メロディ3\",キー割付!R484=\"春の歌\",\"メロディ4\",キー割付!R484=\"主よ人の望みの喜びよ\",\"メロディ5\",キー割付!R484=\"メヌエット\",\"メロディ6\",キー割付!R484=\"華麗なる大円舞曲\",\"メロディ7\",キー割付!R484=\"ハンガリア舞曲第5番\",\"メロディ8\",TRUE,\"トーン1\"))","v":"トーン1"},{"$f":"IF(E88=\"ZX-DECLDIV-IPコードレス電話機\",\"トーン1\",_xlfn.IFS(キー割付!S484=\"着信音なし\",\"トーン1\",キー割付!S484=\"トーン1\",\"トーン1\",キー割付!S484=\"トーン2\",\"トーン2\",キー割付!S484=\"トーン3\",\"トーン3\",キー割付!S484=\"トーン4\",\"トーン4\",キー割付!S484=\"トーン5\",\"トーン5\",キー割付!S484=\"トーン6\",\"トーン6\",キー割付!S484=\"トーン7\",\"トーン7\",キー割付!S484=\"トーン7\",\"トーン7\",キー割付!S484=\"無鳴動着信\",\"トーン8\",キー割付!S484=\"グリーンスリーブス\",\"メロディ1\",キー割付!S484=\"峠の我が家\",\"メロディ2\",キー割付!S484=\"カノン\",\"メロディ3\",キー割付!S484=\"春の歌\",\"メロディ4\",キー割付!S484=\"主よ人の望みの喜びよ\",\"メロディ5\",キー割付!S484=\"メヌエット\",\"メロディ6\",キー割付!S484=\"華麗なる大円舞曲\",\"メロディ7\",キー割付!S484=\"ハンガリア舞曲第5番\",\"メロディ8\",TRUE,\"トーン1\"))","v":"トーン1"},{"$f":"IF(E88=\"ZX-DECLDIV-IPコードレス電話機\",\"トーン1\",_xlfn.IFS(キー割付!N492=\"着信音なし\",\"トーン1\",キー割付!N492=\"トーン1\",\"トーン1\",キー割付!N492=\"トーン2\",\"トーン2\",キー割付!N492=\"トーン3\",\"トーン3\",キー割付!N492=\"トーン4\",\"トーン4\",キー割付!N492=\"トーン5\",\"トーン5\",キー割付!N492=\"トーン6\",\"トーン6\",キー割付!N492=\"トーン7\",\"トーン7\",キー割付!N492=\"トーン7\",\"トーン7\",キー割付!N492=\"無鳴動着信\",\"トーン8\",キー割付!N492=\"グリーンスリーブス\",\"メロディ1\",キー割付!N492=\"峠の我が家\",\"メロディ2\",キー割付!N492=\"カノン\",\"メロディ3\",キー割付!N492=\"春の歌\",\"メロディ4\",キー割付!N492=\"主よ人の望みの喜びよ\",\"メロディ5\",キー割付!N492=\"メヌエット\",\"メロディ6\",キー割付!N492=\"華麗なる大円舞曲\",\"メロディ7\",キー割付!N492=\"ハンガリア舞曲第5番\",\"メロディ8\",TRUE,\"トーン1\"))","v":"トーン1"},{"$f":"IF(E88=\"ZX-DECLDIV-IPコードレス電話機\",\"トーン1\",_xlfn.IFS(キー割付!O492=\"着信音なし\",\"トーン1\",キー割付!O492=\"トーン1\",\"トーン1\",キー割付!O492=\"トーン2\",\"トーン2\",キー割付!O492=\"トーン3\",\"トーン3\",キー割付!O492=\"トーン4\",\"トーン4\",キー割付!O492=\"トーン5\",\"トーン5\",キー割付!O492=\"トーン6\",\"トーン6\",キー割付!O492=\"トーン7\",\"トーン7\",キー割付!O492=\"トーン7\",\"トーン7\",キー割付!O492=\"無鳴動着信\",\"トーン8\",キー割付!O492=\"グリーンスリーブス\",\"メロディ1\",キー割付!O492=\"峠の我が家\",\"メロディ2\",キー割付!O492=\"カノン\",\"メロディ3\",キー割付!O492=\"春の歌\",\"メロディ4\",キー割付!O492=\"主よ人の望みの喜びよ\",\"メロディ5\",キー割付!O492=\"メヌエット\",\"メロディ6\",キー割付!O492=\"華麗なる大円舞曲\",\"メロディ7\",キー割付!O492=\"ハンガリア舞曲第5番\",\"メロディ8\",TRUE,\"トーン1\"))","v":"トーン1"},{"$f":"IF(E88=\"ZX-DECLDIV-IPコードレス電話機\",\"トーン1\",_xlfn.IFS(キー割付!P492=\"着信音なし\",\"トーン1\",キー割付!P492=\"トーン1\",\"トーン1\",キー割付!P492=\"トーン2\",\"トーン2\",キー割付!P492=\"トーン3\",\"トーン3\",キー割付!P492=\"トーン4\",\"トーン4\",キー割付!P492=\"トーン5\",\"トーン5\",キー割付!P492=\"トーン6\",\"トーン6\",キー割付!P492=\"トーン7\",\"トーン7\",キー割付!P492=\"トーン7\",\"トーン7\",キー割付!P492=\"無鳴動着信\",\"トーン8\",キー割付!P492=\"グリーンスリーブス\",\"メロディ1\",キー割付!P492=\"峠の我が家\",\"メロディ2\",キー割付!P492=\"カノン\",\"メロディ3\",キー割付!P492=\"春の歌\",\"メロディ4\",キー割付!P492=\"主よ人の望みの喜びよ\",\"メロディ5\",キー割付!P492=\"メヌエット\",\"メロディ6\",キー割付!P492=\"華麗なる大円舞曲\",\"メロディ7\",キー割付!P492=\"ハンガリア舞曲第5番\",\"メロディ8\",TRUE,\"トーン1\"))","v":"トーン1"},{"$f":"IF(E88=\"ZX-DECLDIV-IPコードレス電話機\",\"トーン1\",_xlfn.IFS(キー割付!Q492=\"着信音なし\",\"トーン1\",キー割付!Q492=\"トーン1\",\"トーン1\",キー割付!Q492=\"トーン2\",\"トーン2\",キー割付!Q492=\"トーン3\",\"トーン3\",キー割付!Q492=\"トーン4\",\"トーン4\",キー割付!Q492=\"トーン5\",\"トーン5\",キー割付!Q492=\"トーン6\",\"トーン6\",キー割付!Q492=\"トーン7\",\"トーン7\",キー割付!Q492=\"トーン7\",\"トーン7\",キー割付!Q492=\"無鳴動着信\",\"トーン8\",キー割付!Q492=\"グリーンスリーブス\",\"メロディ1\",キー割付!Q492=\"峠の我が家\",\"メロディ2\",キー割付!Q492=\"カノン\",\"メロディ3\",キー割付!Q492=\"春の歌\",\"メロディ4\",キー割付!Q492=\"主よ人の望みの喜びよ\",\"メロディ5\",キー割付!Q492=\"メヌエット\",\"メロディ6\",キー割付!Q492=\"華麗なる大円舞曲\",\"メロディ7\",キー割付!Q492=\"ハンガリア舞曲第5番\",\"メロディ8\",TRUE,\"トーン1\"))","v":"トーン1"},{"$f":"IF(E88=\"ZX-DECLDIV-IPコードレス電話機\",\"トーン1\",_xlfn.IFS(キー割付!R492=\"着信音なし\",\"トーン1\",キー割付!R492=\"トーン1\",\"トーン1\",キー割付!R492=\"トーン2\",\"トーン2\",キー割付!R492=\"トーン3\",\"トーン3\",キー割付!R492=\"トーン4\",\"トーン4\",キー割付!R492=\"トーン5\",\"トーン5\",キー割付!R492=\"トーン6\",\"トーン6\",キー割付!R492=\"トーン7\",\"トーン7\",キー割付!R492=\"トーン7\",\"トーン7\",キー割付!R492=\"無鳴動着信\",\"トーン8\",キー割付!R492=\"グリーンスリーブス\",\"メロディ1\",キー割付!R492=\"峠の我が家\",\"メロディ2\",キー割付!R492=\"カノン\",\"メロディ3\",キー割付!R492=\"春の歌\",\"メロディ4\",キー割付!R492=\"主よ人の望みの喜びよ\",\"メロディ5\",キー割付!R492=\"メヌエット\",\"メロディ6\",キー割付!R492=\"華麗なる大円舞曲\",\"メロディ7\",キー割付!R492=\"ハンガリア舞曲第5番\",\"メロディ8\",TRUE,\"トーン1\"))","v":"トーン1"},{"$f":"IF(E88=\"ZX-DECLDIV-IPコードレス電話機\",\"トーン1\",_xlfn.IFS(キー割付!S492=\"着信音なし\",\"トーン1\",キー割付!S492=\"トーン1\",\"トーン1\",キー割付!S492=\"トーン2\",\"トーン2\",キー割付!S492=\"トーン3\",\"トーン3\",キー割付!S492=\"トーン4\",\"トーン4\",キー割付!S492=\"トーン5\",\"トーン5\",キー割付!S492=\"トーン6\",\"トーン6\",キー割付!S492=\"トーン7\",\"トーン7\",キー割付!S492=\"トーン7\",\"トーン7\",キー割付!S492=\"無鳴動着信\",\"トーン8\",キー割付!S492=\"グリーンスリーブス\",\"メロディ1\",キー割付!S492=\"峠の我が家\",\"メロディ2\",キー割付!S492=\"カノン\",\"メロディ3\",キー割付!S492=\"春の歌\",\"メロディ4\",キー割付!S492=\"主よ人の望みの喜びよ\",\"メロディ5\",キー割付!S492=\"メヌエット\",\"メロディ6\",キー割付!S492=\"華麗なる大円舞曲\",\"メロディ7\",キー割付!S492=\"ハンガリア舞曲第5番\",\"メロディ8\",TRUE,\"トーン1\"))","v":"トーン1"},{"$f":"IF(E88=\"ZX-DECLDIV-IPコードレス電話機\",\"トーン1\",_xlfn.IFS(キー割付!N500=\"着信音なし\",\"トーン1\",キー割付!N500=\"トーン1\",\"トーン1\",キー割付!N500=\"トーン2\",\"トーン2\",キー割付!N500=\"トーン3\",\"トーン3\",キー割付!N500=\"トーン4\",\"トーン4\",キー割付!N500=\"トーン5\",\"トーン5\",キー割付!N500=\"トーン6\",\"トーン6\",キー割付!N500=\"トーン7\",\"トーン7\",キー割付!N500=\"トーン7\",\"トーン7\",キー割付!N500=\"無鳴動着信\",\"トーン8\",キー割付!N500=\"グリーンスリーブス\",\"メロディ1\",キー割付!N500=\"峠の我が家\",\"メロディ2\",キー割付!N500=\"カノン\",\"メロディ3\",キー割付!N500=\"春の歌\",\"メロディ4\",キー割付!N500=\"主よ人の望みの喜びよ\",\"メロディ5\",キー割付!N500=\"メヌエット\",\"メロディ6\",キー割付!N500=\"華麗なる大円舞曲\",\"メロディ7\",キー割付!N500=\"ハンガリア舞曲第5番\",\"メロディ8\",TRUE,\"トーン1\"))","v":"トーン1"},{"$f":"IF(E88=\"ZX-DECLDIV-IPコードレス電話機\",\"トーン1\",_xlfn.IFS(キー割付!O500=\"着信音なし\",\"トーン1\",キー割付!O500=\"トーン1\",\"トーン1\",キー割付!O500=\"トーン2\",\"トーン2\",キー割付!O500=\"トーン3\",\"トーン3\",キー割付!O500=\"トーン4\",\"トーン4\",キー割付!O500=\"トーン5\",\"トーン5\",キー割付!O500=\"トーン6\",\"トーン6\",キー割付!O500=\"トーン7\",\"トーン7\",キー割付!O500=\"トーン7\",\"トーン7\",キー割付!O500=\"無鳴動着信\",\"トーン8\",キー割付!O500=\"グリーンスリーブス\",\"メロディ1\",キー割付!O500=\"峠の我が家\",\"メロディ2\",キー割付!O500=\"カノン\",\"メロディ3\",キー割付!O500=\"春の歌\",\"メロディ4\",キー割付!O500=\"主よ人の望みの喜びよ\",\"メロディ5\",キー割付!O500=\"メヌエット\",\"メロディ6\",キー割付!O500=\"華麗なる大円舞曲\",\"メロディ7\",キー割付!O500=\"ハンガリア舞曲第5番\",\"メロディ8\",TRUE,\"トーン1\"))","v":"トーン1"},{"$f":"IF(E88=\"ZX-DECLDIV-IPコードレス電話機\",\"トーン1\",_xlfn.IFS(キー割付!P500=\"着信音なし\",\"トーン1\",キー割付!P500=\"トーン1\",\"トーン1\",キー割付!P500=\"トーン2\",\"トーン2\",キー割付!P500=\"トーン3\",\"トーン3\",キー割付!P500=\"トーン4\",\"トーン4\",キー割付!P500=\"トーン5\",\"トーン5\",キー割付!P500=\"トーン6\",\"トーン6\",キー割付!P500=\"トーン7\",\"トーン7\",キー割付!P500=\"トーン7\",\"トーン7\",キー割付!P500=\"無鳴動着信\",\"トーン8\",キー割付!P500=\"グリーンスリーブス\",\"メロディ1\",キー割付!P500=\"峠の我が家\",\"メロディ2\",キー割付!P500=\"カノン\",\"メロディ3\",キー割付!P500=\"春の歌\",\"メロディ4\",キー割付!P500=\"主よ人の望みの喜びよ\",\"メロディ5\",キー割付!P500=\"メヌエット\",\"メロディ6\",キー割付!P500=\"華麗なる大円舞曲\",\"メロディ7\",キー割付!P500=\"ハンガリア舞曲第5番\",\"メロディ8\",TRUE,\"トーン1\"))","v":"トーン1"},{"$f":"IF(E88=\"ZX-DECLDIV-IPコードレス電話機\",\"トーン1\",_xlfn.IFS(キー割付!Q500=\"着信音なし\",\"トーン1\",キー割付!Q500=\"トーン1\",\"トーン1\",キー割付!Q500=\"トーン2\",\"トーン2\",キー割付!Q500=\"トーン3\",\"トーン3\",キー割付!Q500=\"トーン4\",\"トーン4\",キー割付!Q500=\"トーン5\",\"トーン5\",キー割付!Q500=\"トーン6\",\"トーン6\",キー割付!Q500=\"トーン7\",\"トーン7\",キー割付!Q500=\"トーン7\",\"トーン7\",キー割付!Q500=\"無鳴動着信\",\"トーン8\",キー割付!Q500=\"グリーンスリーブス\",\"メロディ1\",キー割付!Q500=\"峠の我が家\",\"メロディ2\",キー割付!Q500=\"カノン\",\"メロディ3\",キー割付!Q500=\"春の歌\",\"メロディ4\",キー割付!Q500=\"主よ人の望みの喜びよ\",\"メロディ5\",キー割付!Q500=\"メヌエット\",\"メロディ6\",キー割付!Q500=\"華麗なる大円舞曲\",\"メロディ7\",キー割付!Q500=\"ハンガリア舞曲第5番\",\"メロディ8\",TRUE,\"トーン1\"))","v":"トーン1"},{"$f":"IF(E88=\"ZX-DECLDIV-IPコードレス電話機\",\"トーン1\",_xlfn.IFS(キー割付!R500=\"着信音なし\",\"トーン1\",キー割付!R500=\"トーン1\",\"トーン1\",キー割付!R500=\"トーン2\",\"トーン2\",キー割付!R500=\"トーン3\",\"トーン3\",キー割付!R500=\"トーン4\",\"トーン4\",キー割付!R500=\"トーン5\",\"トーン5\",キー割付!R500=\"トーン6\",\"トーン6\",キー割付!R500=\"トーン7\",\"トーン7\",キー割付!R500=\"トーン7\",\"トーン7\",キー割付!R500=\"無鳴動着信\",\"トーン8\",キー割付!R500=\"グリーンスリーブス\",\"メロディ1\",キー割付!R500=\"峠の我が家\",\"メロディ2\",キー割付!R500=\"カノン\",\"メロディ3\",キー割付!R500=\"春の歌\",\"メロディ4\",キー割付!R500=\"主よ人の望みの喜びよ\",\"メロディ5\",キー割付!R500=\"メヌエット\",\"メロディ6\",キー割付!R500=\"華麗なる大円舞曲\",\"メロディ7\",キー割付!R500=\"ハンガリア舞曲第5番\",\"メロディ8\",TRUE,\"トーン1\"))","v":"トーン1"},{"$f":"IF(E88=\"ZX-DECLDIV-IPコードレス電話機\",\"トーン1\",_xlfn.IFS(キー割付!S500=\"着信音なし\",\"トーン1\",キー割付!S500=\"トーン1\",\"トーン1\",キー割付!S500=\"トーン2\",\"トーン2\",キー割付!S500=\"トーン3\",\"トーン3\",キー割付!S500=\"トーン4\",\"トーン4\",キー割付!S500=\"トーン5\",\"トーン5\",キー割付!S500=\"トーン6\",\"トーン6\",キー割付!S500=\"トーン7\",\"トーン7\",キー割付!S500=\"トーン7\",\"トーン7\",キー割付!S500=\"無鳴動着信\",\"トーン8\",キー割付!S500=\"グリーンスリーブス\",\"メロディ1\",キー割付!S500=\"峠の我が家\",\"メロディ2\",キー割付!S500=\"カノン\",\"メロディ3\",キー割付!S500=\"春の歌\",\"メロディ4\",キー割付!S500=\"主よ人の望みの喜びよ\",\"メロディ5\",キー割付!S500=\"メヌエット\",\"メロディ6\",キー割付!S500=\"華麗なる大円舞曲\",\"メロディ7\",キー割付!S500=\"ハンガリア舞曲第5番\",\"メロディ8\",TRUE,\"トーン1\"))","v":"トーン1"}]
[null,null,null,null,null,{"$f":"_xlfn.IFS(キー割付!N477=\"昼夜休憩\",\"B\",キー割付!N477=\"－－－\",\"-\",キー割付!N477=\"昼－－\",\"H\",キー割付!N477=\"－夜－\",\"N\",キー割付!N477=\"－－休憩\",\"P\",キー割付!N477=\"昼夜－\",\"N\",キー割付!N477=\"昼－休憩\",\"F\",キー割付!N477=\"－夜休憩\",\"K\",TRUE,\"-\")","v":"-"},{"$f":"_xlfn.IFS(キー割付!O477=\"昼夜休憩\",\"B\",キー割付!O477=\"－－－\",\"-\",キー割付!O477=\"昼－－\",\"H\",キー割付!O477=\"－夜－\",\"N\",キー割付!O477=\"－－休憩\",\"P\",キー割付!O477=\"昼夜－\",\"N\",キー割付!O477=\"昼－休憩\",\"F\",キー割付!O477=\"－夜休憩\",\"K\",TRUE,\"-\")","v":"-"},{"$f":"_xlfn.IFS(キー割付!P477=\"昼夜休憩\",\"B\",キー割付!P477=\"－－－\",\"-\",キー割付!P477=\"昼－－\",\"H\",キー割付!P477=\"－夜－\",\"N\",キー割付!P477=\"－－休憩\",\"P\",キー割付!P477=\"昼夜－\",\"N\",キー割付!P477=\"昼－休憩\",\"F\",キー割付!P477=\"－夜休憩\",\"K\",TRUE,\"-\")","v":"-"},{"$f":"_xlfn.IFS(キー割付!Q477=\"昼夜休憩\",\"B\",キー割付!Q477=\"－－－\",\"-\",キー割付!Q477=\"昼－－\",\"H\",キー割付!Q477=\"－夜－\",\"N\",キー割付!Q477=\"－－休憩\",\"P\",キー割付!Q477=\"昼夜－\",\"N\",キー割付!Q477=\"昼－休憩\",\"F\",キー割付!Q477=\"－夜休憩\",\"K\",TRUE,\"-\")","v":"-"},{"$f":"_xlfn.IFS(キー割付!R477=\"昼夜休憩\",\"B\",キー割付!R477=\"－－－\",\"-\",キー割付!R477=\"昼－－\",\"H\",キー割付!R477=\"－夜－\",\"N\",キー割付!R477=\"－－休憩\",\"P\",キー割付!R477=\"昼夜－\",\"N\",キー割付!R477=\"昼－休憩\",\"F\",キー割付!R477=\"－夜休憩\",\"K\",TRUE,\"-\")","v":"-"},{"$f":"_xlfn.IFS(キー割付!S477=\"昼夜休憩\",\"B\",キー割付!S477=\"－－－\",\"-\",キー割付!S477=\"昼－－\",\"H\",キー割付!S477=\"－夜－\",\"N\",キー割付!S477=\"－－休憩\",\"P\",キー割付!S477=\"昼夜－\",\"N\",キー割付!S477=\"昼－休憩\",\"F\",キー割付!S477=\"－夜休憩\",\"K\",TRUE,\"-\")","v":"-"},{"$f":"_xlfn.IFS(キー割付!N485=\"昼夜休憩\",\"B\",キー割付!N485=\"－－－\",\"-\",キー割付!N485=\"昼－－\",\"H\",キー割付!N485=\"－夜－\",\"N\",キー割付!N485=\"－－休憩\",\"P\",キー割付!N485=\"昼夜－\",\"N\",キー割付!N485=\"昼－休憩\",\"F\",キー割付!N485=\"－夜休憩\",\"K\",TRUE,\"-\")","v":"-"},{"$f":"_xlfn.IFS(キー割付!O485=\"昼夜休憩\",\"B\",キー割付!O485=\"－－－\",\"-\",キー割付!O485=\"昼－－\",\"H\",キー割付!O485=\"－夜－\",\"N\",キー割付!O485=\"－－休憩\",\"P\",キー割付!O485=\"昼夜－\",\"N\",キー割付!O485=\"昼－休憩\",\"F\",キー割付!O485=\"－夜休憩\",\"K\",TRUE,\"-\")","v":"-"},{"$f":"IF(E88=\"ZX-DECLDIV-IPコードレス電話機\",\"-\",_xlfn.IFS(キー割付!P485=\"昼夜休憩\",\"B\",キー割付!P485=\"－－－\",\"-\",キー割付!P485=\"昼－－\",\"H\",キー割付!P485=\"－夜－\",\"N\",キー割付!P485=\"－－休憩\",\"P\",キー割付!P485=\"昼夜－\",\"N\",キー割付!P485=\"昼－休憩\",\"F\",キー割付!P485=\"－夜休憩\",\"K\",TRUE,\"-\"))","v":"-"},{"$f":"IF(E88=\"ZX-DECLDIV-IPコードレス電話機\",\"-\",_xlfn.IFS(キー割付!Q485=\"昼夜休憩\",\"B\",キー割付!Q485=\"－－－\",\"-\",キー割付!Q485=\"昼－－\",\"H\",キー割付!Q485=\"－夜－\",\"N\",キー割付!Q485=\"－－休憩\",\"P\",キー割付!Q485=\"昼夜－\",\"N\",キー割付!Q485=\"昼－休憩\",\"F\",キー割付!Q485=\"－夜休憩\",\"K\",TRUE,\"-\"))","v":"-"},{"$f":"IF(E88=\"ZX-DECLDIV-IPコードレス電話機\",\"-\",_xlfn.IFS(キー割付!R485=\"昼夜休憩\",\"B\",キー割付!R485=\"－－－\",\"-\",キー割付!R485=\"昼－－\",\"H\",キー割付!R485=\"－夜－\",\"N\",キー割付!R485=\"－－休憩\",\"P\",キー割付!R485=\"昼夜－\",\"N\",キー割付!R485=\"昼－休憩\",\"F\",キー割付!R485=\"－夜休憩\",\"K\",TRUE,\"-\"))","v":"-"},{"$f":"IF(E88=\"ZX-DECLDIV-IPコードレス電話機\",\"-\",_xlfn.IFS(キー割付!S485=\"昼夜休憩\",\"B\",キー割付!S485=\"－－－\",\"-\",キー割付!S485=\"昼－－\",\"H\",キー割付!S485=\"－夜－\",\"N\",キー割付!S485=\"－－休憩\",\"P\",キー割付!S485=\"昼夜－\",\"N\",キー割付!S485=\"昼－休憩\",\"F\",キー割付!S485=\"－夜休憩\",\"K\",TRUE,\"-\"))","v":"-"},{"$f":"IF(E88=\"ZX-DECLDIV-IPコードレス電話機\",\"-\",_xlfn.IFS(キー割付!N493=\"昼夜休憩\",\"B\",キー割付!N493=\"－－－\",\"-\",キー割付!N493=\"昼－－\",\"H\",キー割付!N493=\"－夜－\",\"N\",キー割付!N493=\"－－休憩\",\"P\",キー割付!N493=\"昼夜－\",\"N\",キー割付!N493=\"昼－休憩\",\"F\",キー割付!N493=\"－夜休憩\",\"K\",TRUE,\"-\"))","v":"-"},{"$f":"IF(E88=\"ZX-DECLDIV-IPコードレス電話機\",\"-\",_xlfn.IFS(キー割付!O493=\"昼夜休憩\",\"B\",キー割付!O493=\"－－－\",\"-\",キー割付!O493=\"昼－－\",\"H\",キー割付!O493=\"－夜－\",\"N\",キー割付!O493=\"－－休憩\",\"P\",キー割付!O493=\"昼夜－\",\"N\",キー割付!O493=\"昼－休憩\",\"F\",キー割付!O493=\"－夜休憩\",\"K\",TRUE,\"-\"))","v":"-"},{"$f":"IF(E88=\"ZX-DECLDIV-IPコードレス電話機\",\"-\",_xlfn.IFS(キー割付!P493=\"昼夜休憩\",\"B\",キー割付!P493=\"－－－\",\"-\",キー割付!P493=\"昼－－\",\"H\",キー割付!P493=\"－夜－\",\"N\",キー割付!P493=\"－－休憩\",\"P\",キー割付!P493=\"昼夜－\",\"N\",キー割付!P493=\"昼－休憩\",\"F\",キー割付!P493=\"－夜休憩\",\"K\",TRUE,\"-\"))","v":"-"},{"$f":"IF(E88=\"ZX-DECLDIV-IPコードレス電話機\",\"-\",_xlfn.IFS(キー割付!Q493=\"昼夜休憩\",\"B\",キー割付!Q493=\"－－－\",\"-\",キー割付!Q493=\"昼－－\",\"H\",キー割付!Q493=\"－夜－\",\"N\",キー割付!Q493=\"－－休憩\",\"P\",キー割付!Q493=\"昼夜－\",\"N\",キー割付!Q493=\"昼－休憩\",\"F\",キー割付!Q493=\"－夜休憩\",\"K\",TRUE,\"-\"))","v":"-"},{"$f":"IF(E88=\"ZX-DECLDIV-IPコードレス電話機\",\"-\",_xlfn.IFS(キー割付!R493=\"昼夜休憩\",\"B\",キー割付!R493=\"－－－\",\"-\",キー割付!R493=\"昼－－\",\"H\",キー割付!R493=\"－夜－\",\"N\",キー割付!R493=\"－－休憩\",\"P\",キー割付!R493=\"昼夜－\",\"N\",キー割付!R493=\"昼－休憩\",\"F\",キー割付!R493=\"－夜休憩\",\"K\",TRUE,\"-\"))","v":"-"},{"$f":"IF(E88=\"ZX-DECLDIV-IPコードレス電話機\",\"-\",_xlfn.IFS(キー割付!S493=\"昼夜休憩\",\"B\",キー割付!S493=\"－－－\",\"-\",キー割付!S493=\"昼－－\",\"H\",キー割付!S493=\"－夜－\",\"N\",キー割付!S493=\"－－休憩\",\"P\",キー割付!S493=\"昼夜－\",\"N\",キー割付!S493=\"昼－休憩\",\"F\",キー割付!S493=\"－夜休憩\",\"K\",TRUE,\"-\"))","v":"-"},{"$f":"IF(E88=\"ZX-DECLDIV-IPコードレス電話機\",\"-\",_xlfn.IFS(キー割付!N503=\"昼夜休憩\",\"B\",キー割付!N503=\"－－－\",\"-\",キー割付!N503=\"昼－－\",\"H\",キー割付!N503=\"－夜－\",\"N\",キー割付!N503=\"－－休憩\",\"P\",キー割付!N503=\"昼夜－\",\"N\",キー割付!N503=\"昼－休憩\",\"F\",キー割付!N503=\"－夜休憩\",\"K\",TRUE,\"-\"))","v":"-"},{"$f":"IF(E88=\"ZX-DECLDIV-IPコードレス電話機\",\"-\",_xlfn.IFS(キー割付!O503=\"昼夜休憩\",\"B\",キー割付!O503=\"－－－\",\"-\",キー割付!O503=\"昼－－\",\"H\",キー割付!O503=\"－夜－\",\"N\",キー割付!O503=\"－－休憩\",\"P\",キー割付!O503=\"昼夜－\",\"N\",キー割付!O503=\"昼－休憩\",\"F\",キー割付!O503=\"－夜休憩\",\"K\",TRUE,\"-\"))","v":"-"},{"$f":"IF(E88=\"ZX-DECLDIV-IPコードレス電話機\",\"-\",_xlfn.IFS(キー割付!P503=\"昼夜休憩\",\"B\",キー割付!P503=\"－－－\",\"-\",キー割付!P503=\"昼－－\",\"H\",キー割付!P503=\"－夜－\",\"N\",キー割付!P503=\"－－休憩\",\"P\",キー割付!P503=\"昼夜－\",\"N\",キー割付!P503=\"昼－休憩\",\"F\",キー割付!P503=\"－夜休憩\",\"K\",TRUE,\"-\"))","v":"-"},{"$f":"IF(E88=\"ZX-DECLDIV-IPコードレス電話機\",\"-\",_xlfn.IFS(キー割付!Q503=\"昼夜休憩\",\"B\",キー割付!Q503=\"－－－\",\"-\",キー割付!Q503=\"昼－－\",\"H\",キー割付!Q503=\"－夜－\",\"N\",キー割付!Q503=\"－－休憩\",\"P\",キー割付!Q503=\"昼夜－\",\"N\",キー割付!Q503=\"昼－休憩\",\"F\",キー割付!Q503=\"－夜休憩\",\"K\",TRUE,\"-\"))","v":"-"},{"$f":"IF(E88=\"ZX-DECLDIV-IPコードレス電話機\",\"-\",_xlfn.IFS(キー割付!R503=\"昼夜休憩\",\"B\",キー割付!R503=\"－－－\",\"-\",キー割付!R503=\"昼－－\",\"H\",キー割付!R503=\"－夜－\",\"N\",キー割付!R503=\"－－休憩\",\"P\",キー割付!R503=\"昼夜－\",\"N\",キー割付!R503=\"昼－休憩\",\"F\",キー割付!R503=\"－夜休憩\",\"K\",TRUE,\"-\"))","v":"-"},{"$f":"IF(E88=\"ZX-DECLDIV-IPコードレス電話機\",\"-\",_xlfn.IFS(キー割付!S503=\"昼夜休憩\",\"B\",キー割付!S503=\"－－－\",\"-\",キー割付!S503=\"昼－－\",\"H\",キー割付!S503=\"－夜－\",\"N\",キー割付!S503=\"－－休憩\",\"P\",キー割付!S503=\"昼夜－\",\"N\",キー割付!S503=\"昼－休憩\",\"F\",キー割付!S503=\"－夜休憩\",\"K\",TRUE,\"-\"))","v":"-"}]
[null,29,{"$f":"IF(IFERROR(VALUE(VLOOKUP(B91,内線_キー割用,2,FALSE)),\"\")=0,\"\",IFERROR(VALUE(VLOOKUP(B91,内線_キー割用,2,FALSE)),\"\"))","v":""},{"$f":"IF(IFERROR(VALUE(VLOOKUP(B91,内線_キー割用,4,FALSE)),\"\")=0,\"\",IFERROR(VALUE(VLOOKUP(B91,内線_キー割用,4,FALSE)),\"\"))","v":""},{"$f":"IF(IFERROR(VLOOKUP(B91,内線_キー割用,3,FALSE),\"\")=0,\"\",IFERROR(VLOOKUP(B91,内線_キー割用,3,FALSE),\"\"))","v":""},{"$f":"IF(キー割付!D511=\"\",\"未使用\",キー割付!D511)","v":"未使用"},{"$f":"IF(キー割付!E511=\"\",\"未使用\",キー割付!E511)","v":"未使用"},{"$f":"IF(キー割付!F511=\"\",\"未使用\",キー割付!F511)","v":"未使用"},{"$f":"IF(キー割付!G511=\"\",\"未使用\",キー割付!G511)","v":"未使用"},{"$f":"IF(キー割付!H511=\"\",\"未使用\",キー割付!H511)","v":"未使用"},{"$f":"IF(キー割付!I511=\"\",\"未使用\",キー割付!I511)","v":"未使用"},{"$f":"IF(キー割付!D519=\"\",\"未使用\",キー割付!D519)","v":"未使用"},{"$f":"IF(キー割付!E519=\"\",\"未使用\",キー割付!E519)","v":"未使用"},{"$f":"IF(E91=\"ZX-DECLDIV-IPコードレス電話機\",\"未使用\",IF(キー割付!F519=\"\",\"未使用\",キー割付!F519))","v":"未使用"},{"$f":"IF(E91=\"ZX-DECLDIV-IPコードレス電話機\",\"未使用\",IF(キー割付!G519=\"\",\"未使用\",キー割付!G519))","v":"未使用"},{"$f":"IF(E91=\"ZX-DECLDIV-IPコードレス電話機\",\"未使用\",IF(キー割付!H519=\"\",\"未使用\",キー割付!H519))","v":"未使用"},{"$f":"IF(E91=\"ZX-DECLDIV-IPコードレス電話機\",\"未使用\",IF(キー割付!I519=\"\",\"未使用\",キー割付!I519))","v":"未使用"},{"$f":"IF(E91=\"ZX-DECLDIV-IPコードレス電話機\",\"未使用\",IF(キー割付!D527=\"\",\"未使用\",キー割付!D527))","v":"未使用"},{"$f":"IF(E91=\"ZX-DECLDIV-IPコードレス電話機\",\"未使用\",IF(キー割付!E527=\"\",\"未使用\",キー割付!E527))","v":"未使用"},{"$f":"IF(E91=\"ZX-DECLDIV-IPコードレス電話機\",\"未使用\",IF(キー割付!F527=\"\",\"未使用\",キー割付!F527))","v":"未使用"},{"$f":"IF(E91=\"ZX-DECLDIV-IPコードレス電話機\",\"未使用\",IF(キー割付!G527=\"\",\"未使用\",キー割付!G527))","v":"未使用"},{"$f":"IF(E91=\"ZX-DECLDIV-IPコードレス電話機\",\"未使用\",IF(キー割付!H527=\"\",\"未使用\",キー割付!H527))","v":"未使用"},{"$f":"IF(E91=\"ZX-DECLDIV-IPコードレス電話機\",\"未使用\",IF(キー割付!I527=\"\",\"未使用\",キー割付!I527))","v":"未使用"},{"$f":"IF(E91=\"ZX-DECLDIV-IPコードレス電話機\",\"未使用\",IF(キー割付!D535=\"\",\"未使用\",キー割付!D535))","v":"未使用"},{"$f":"IF(E91=\"ZX-DECLDIV-IPコードレス電話機\",\"未使用\",IF(キー割付!E535=\"\",\"未使用\",キー割付!E535))","v":"未使用"},{"$f":"IF(E91=\"ZX-DECLDIV-IPコードレス電話機\",\"未使用\",IF(キー割付!F535=\"\",\"未使用\",キー割付!F535))","v":"未使用"},{"$f":"IF(E91=\"ZX-DECLDIV-IPコードレス電話機\",\"未使用\",IF(キー割付!G535=\"\",\"未使用\",キー割付!G535))","v":"未使用"},{"$f":"IF(E91=\"ZX-DECLDIV-IPコードレス電話機\",\"未使用\",IF(キー割付!H535=\"\",\"未使用\",キー割付!H535))","v":"未使用"},{"$f":"IF(E91=\"ZX-DECLDIV-IPコードレス電話機\",\"未使用\",IF(キー割付!I535=\"\",\"未使用\",キー割付!I535))","v":"未使用"}]
[null,null,null,null,null,{"$f":"_xlfn.IFS(キー割付!D512=\"着信音なし\",\"トーン1\",キー割付!D512=\"トーン1\",\"トーン1\",キー割付!D512=\"トーン2\",\"トーン2\",キー割付!D512=\"トーン3\",\"トーン3\",キー割付!D512=\"トーン4\",\"トーン4\",キー割付!D512=\"トーン5\",\"トーン5\",キー割付!D512=\"トーン6\",\"トーン6\",キー割付!D512=\"トーン7\",\"トーン7\",キー割付!D512=\"トーン7\",\"トーン7\",キー割付!D512=\"無鳴動着信\",\"トーン8\",キー割付!D512=\"グリーンスリーブス\",\"メロディ1\",キー割付!D512=\"峠の我が家\",\"メロディ2\",キー割付!D512=\"カノン\",\"メロディ3\",キー割付!D512=\"春の歌\",\"メロディ4\",キー割付!D512=\"主よ人の望みの喜びよ\",\"メロディ5\",キー割付!D512=\"メヌエット\",\"メロディ6\",キー割付!D512=\"華麗なる大円舞曲\",\"メロディ7\",キー割付!D512=\"ハンガリア舞曲第5番\",\"メロディ8\",TRUE,\"トーン1\")","v":"トーン1"},{"$f":"_xlfn.IFS(キー割付!E512=\"着信音なし\",\"トーン1\",キー割付!E512=\"トーン1\",\"トーン1\",キー割付!E512=\"トーン2\",\"トーン2\",キー割付!E512=\"トーン3\",\"トーン3\",キー割付!E512=\"トーン4\",\"トーン4\",キー割付!E512=\"トーン5\",\"トーン5\",キー割付!E512=\"トーン6\",\"トーン6\",キー割付!E512=\"トーン7\",\"トーン7\",キー割付!E512=\"トーン7\",\"トーン7\",キー割付!E512=\"無鳴動着信\",\"トーン8\",キー割付!E512=\"グリーンスリーブス\",\"メロディ1\",キー割付!E512=\"峠の我が家\",\"メロディ2\",キー割付!E512=\"カノン\",\"メロディ3\",キー割付!E512=\"春の歌\",\"メロディ4\",キー割付!E512=\"主よ人の望みの喜びよ\",\"メロディ5\",キー割付!E512=\"メヌエット\",\"メロディ6\",キー割付!E512=\"華麗なる大円舞曲\",\"メロディ7\",キー割付!E512=\"ハンガリア舞曲第5番\",\"メロディ8\",TRUE,\"トーン1\")","v":"トーン1"},{"$f":"_xlfn.IFS(キー割付!F512=\"着信音なし\",\"トーン1\",キー割付!F512=\"トーン1\",\"トーン1\",キー割付!F512=\"トーン2\",\"トーン2\",キー割付!F512=\"トーン3\",\"トーン3\",キー割付!F512=\"トーン4\",\"トーン4\",キー割付!F512=\"トーン5\",\"トーン5\",キー割付!F512=\"トーン6\",\"トーン6\",キー割付!F512=\"トーン7\",\"トーン7\",キー割付!F512=\"トーン7\",\"トーン7\",キー割付!F512=\"無鳴動着信\",\"トーン8\",キー割付!F512=\"グリーンスリーブス\",\"メロディ1\",キー割付!F512=\"峠の我が家\",\"メロディ2\",キー割付!F512=\"カノン\",\"メロディ3\",キー割付!F512=\"春の歌\",\"メロディ4\",キー割付!F512=\"主よ人の望みの喜びよ\",\"メロディ5\",キー割付!F512=\"メヌエット\",\"メロディ6\",キー割付!F512=\"華麗なる大円舞曲\",\"メロディ7\",キー割付!F512=\"ハンガリア舞曲第5番\",\"メロディ8\",TRUE,\"トーン1\")","v":"トーン1"},{"$f":"_xlfn.IFS(キー割付!G512=\"着信音なし\",\"トーン1\",キー割付!G512=\"トーン1\",\"トーン1\",キー割付!G512=\"トーン2\",\"トーン2\",キー割付!G512=\"トーン3\",\"トーン3\",キー割付!G512=\"トーン4\",\"トーン4\",キー割付!G512=\"トーン5\",\"トーン5\",キー割付!G512=\"トーン6\",\"トーン6\",キー割付!G512=\"トーン7\",\"トーン7\",キー割付!G512=\"トーン7\",\"トーン7\",キー割付!G512=\"無鳴動着信\",\"トーン8\",キー割付!G512=\"グリーンスリーブス\",\"メロディ1\",キー割付!G512=\"峠の我が家\",\"メロディ2\",キー割付!G512=\"カノン\",\"メロディ3\",キー割付!G512=\"春の歌\",\"メロディ4\",キー割付!G512=\"主よ人の望みの喜びよ\",\"メロディ5\",キー割付!G512=\"メヌエット\",\"メロディ6\",キー割付!G512=\"華麗なる大円舞曲\",\"メロディ7\",キー割付!G512=\"ハンガリア舞曲第5番\",\"メロディ8\",TRUE,\"トーン1\")","v":"トーン1"},{"$f":"_xlfn.IFS(キー割付!H512=\"着信音なし\",\"トーン1\",キー割付!H512=\"トーン1\",\"トーン1\",キー割付!H512=\"トーン2\",\"トーン2\",キー割付!H512=\"トーン3\",\"トーン3\",キー割付!H512=\"トーン4\",\"トーン4\",キー割付!H512=\"トーン5\",\"トーン5\",キー割付!H512=\"トーン6\",\"トーン6\",キー割付!H512=\"トーン7\",\"トーン7\",キー割付!H512=\"トーン7\",\"トーン7\",キー割付!H512=\"無鳴動着信\",\"トーン8\",キー割付!H512=\"グリーンスリーブス\",\"メロディ1\",キー割付!H512=\"峠の我が家\",\"メロディ2\",キー割付!H512=\"カノン\",\"メロディ3\",キー割付!H512=\"春の歌\",\"メロディ4\",キー割付!H512=\"主よ人の望みの喜びよ\",\"メロディ5\",キー割付!H512=\"メヌエット\",\"メロディ6\",キー割付!H512=\"華麗なる大円舞曲\",\"メロディ7\",キー割付!H512=\"ハンガリア舞曲第5番\",\"メロディ8\",TRUE,\"トーン1\")","v":"トーン1"},{"$f":"_xlfn.IFS(キー割付!I512=\"着信音なし\",\"トーン1\",キー割付!I512=\"トーン1\",\"トーン1\",キー割付!I512=\"トーン2\",\"トーン2\",キー割付!I512=\"トーン3\",\"トーン3\",キー割付!I512=\"トーン4\",\"トーン4\",キー割付!I512=\"トーン5\",\"トーン5\",キー割付!I512=\"トーン6\",\"トーン6\",キー割付!I512=\"トーン7\",\"トーン7\",キー割付!I512=\"トーン7\",\"トーン7\",キー割付!I512=\"無鳴動着信\",\"トーン8\",キー割付!I512=\"グリーンスリーブス\",\"メロディ1\",キー割付!I512=\"峠の我が家\",\"メロディ2\",キー割付!I512=\"カノン\",\"メロディ3\",キー割付!I512=\"春の歌\",\"メロディ4\",キー割付!I512=\"主よ人の望みの喜びよ\",\"メロディ5\",キー割付!I512=\"メヌエット\",\"メロディ6\",キー割付!I512=\"華麗なる大円舞曲\",\"メロディ7\",キー割付!I512=\"ハンガリア舞曲第5番\",\"メロディ8\",TRUE,\"トーン1\")","v":"トーン1"},{"$f":"_xlfn.IFS(キー割付!D520=\"着信音なし\",\"トーン1\",キー割付!D520=\"トーン1\",\"トーン1\",キー割付!D520=\"トーン2\",\"トーン2\",キー割付!D520=\"トーン3\",\"トーン3\",キー割付!D520=\"トーン4\",\"トーン4\",キー割付!D520=\"トーン5\",\"トーン5\",キー割付!D520=\"トーン6\",\"トーン6\",キー割付!D520=\"トーン7\",\"トーン7\",キー割付!D520=\"トーン7\",\"トーン7\",キー割付!D520=\"無鳴動着信\",\"トーン8\",キー割付!D520=\"グリーンスリーブス\",\"メロディ1\",キー割付!D520=\"峠の我が家\",\"メロディ2\",キー割付!D520=\"カノン\",\"メロディ3\",キー割付!D520=\"春の歌\",\"メロディ4\",キー割付!D520=\"主よ人の望みの喜びよ\",\"メロディ5\",キー割付!D520=\"メヌエット\",\"メロディ6\",キー割付!D520=\"華麗なる大円舞曲\",\"メロディ7\",キー割付!D520=\"ハンガリア舞曲第5番\",\"メロディ8\",TRUE,\"トーン1\")","v":"トーン1"},{"$f":"_xlfn.IFS(キー割付!E520=\"着信音なし\",\"トーン1\",キー割付!E520=\"トーン1\",\"トーン1\",キー割付!E520=\"トーン2\",\"トーン2\",キー割付!E520=\"トーン3\",\"トーン3\",キー割付!E520=\"トーン4\",\"トーン4\",キー割付!E520=\"トーン5\",\"トーン5\",キー割付!E520=\"トーン6\",\"トーン6\",キー割付!E520=\"トーン7\",\"トーン7\",キー割付!E520=\"トーン7\",\"トーン7\",キー割付!E520=\"無鳴動着信\",\"トーン8\",キー割付!E520=\"グリーンスリーブス\",\"メロディ1\",キー割付!E520=\"峠の我が家\",\"メロディ2\",キー割付!E520=\"カノン\",\"メロディ3\",キー割付!E520=\"春の歌\",\"メロディ4\",キー割付!E520=\"主よ人の望みの喜びよ\",\"メロディ5\",キー割付!E520=\"メヌエット\",\"メロディ6\",キー割付!E520=\"華麗なる大円舞曲\",\"メロディ7\",キー割付!E520=\"ハンガリア舞曲第5番\",\"メロディ8\",TRUE,\"トーン1\")","v":"トーン1"},{"$f":"IF(E91=\"ZX-DECLDIV-IPコードレス電話機\",\"トーン1\",_xlfn.IFS(キー割付!F520=\"着信音なし\",\"トーン1\",キー割付!F520=\"トーン1\",\"トーン1\",キー割付!F520=\"トーン2\",\"トーン2\",キー割付!F520=\"トーン3\",\"トーン3\",キー割付!F520=\"トーン4\",\"トーン4\",キー割付!F520=\"トーン5\",\"トーン5\",キー割付!F520=\"トーン6\",\"トーン6\",キー割付!F520=\"トーン7\",\"トーン7\",キー割付!F520=\"トーン7\",\"トーン7\",キー割付!F520=\"無鳴動着信\",\"トーン8\",キー割付!F520=\"グリーンスリーブス\",\"メロディ1\",キー割付!F520=\"峠の我が家\",\"メロディ2\",キー割付!F520=\"カノン\",\"メロディ3\",キー割付!F520=\"春の歌\",\"メロディ4\",キー割付!F520=\"主よ人の望みの喜びよ\",\"メロディ5\",キー割付!F520=\"メヌエット\",\"メロディ6\",キー割付!F520=\"華麗なる大円舞曲\",\"メロディ7\",キー割付!F520=\"ハンガリア舞曲第5番\",\"メロディ8\",TRUE,\"トーン1\"))","v":"トーン1"},{"$f":"IF(E91=\"ZX-DECLDIV-IPコードレス電話機\",\"トーン1\",_xlfn.IFS(キー割付!G520=\"着信音なし\",\"トーン1\",キー割付!G520=\"トーン1\",\"トーン1\",キー割付!G520=\"トーン2\",\"トーン2\",キー割付!G520=\"トーン3\",\"トーン3\",キー割付!G520=\"トーン4\",\"トーン4\",キー割付!G520=\"トーン5\",\"トーン5\",キー割付!G520=\"トーン6\",\"トーン6\",キー割付!G520=\"トーン7\",\"トーン7\",キー割付!G520=\"トーン7\",\"トーン7\",キー割付!G520=\"無鳴動着信\",\"トーン8\",キー割付!G520=\"グリーンスリーブス\",\"メロディ1\",キー割付!G520=\"峠の我が家\",\"メロディ2\",キー割付!G520=\"カノン\",\"メロディ3\",キー割付!G520=\"春の歌\",\"メロディ4\",キー割付!G520=\"主よ人の望みの喜びよ\",\"メロディ5\",キー割付!G520=\"メヌエット\",\"メロディ6\",キー割付!G520=\"華麗なる大円舞曲\",\"メロディ7\",キー割付!G520=\"ハンガリア舞曲第5番\",\"メロディ8\",TRUE,\"トーン1\"))","v":"トーン1"},{"$f":"IF(E91=\"ZX-DECLDIV-IPコードレス電話機\",\"トーン1\",_xlfn.IFS(キー割付!H520=\"着信音なし\",\"トーン1\",キー割付!H520=\"トーン1\",\"トーン1\",キー割付!H520=\"トーン2\",\"トーン2\",キー割付!H520=\"トーン3\",\"トーン3\",キー割付!H520=\"トーン4\",\"トーン4\",キー割付!H520=\"トーン5\",\"トーン5\",キー割付!H520=\"トーン6\",\"トーン6\",キー割付!H520=\"トーン7\",\"トーン7\",キー割付!H520=\"トーン7\",\"トーン7\",キー割付!H520=\"無鳴動着信\",\"トーン8\",キー割付!H520=\"グリーンスリーブス\",\"メロディ1\",キー割付!H520=\"峠の我が家\",\"メロディ2\",キー割付!H520=\"カノン\",\"メロディ3\",キー割付!H520=\"春の歌\",\"メロディ4\",キー割付!H520=\"主よ人の望みの喜びよ\",\"メロディ5\",キー割付!H520=\"メヌエット\",\"メロディ6\",キー割付!H520=\"華麗なる大円舞曲\",\"メロディ7\",キー割付!H520=\"ハンガリア舞曲第5番\",\"メロディ8\",TRUE,\"トーン1\"))","v":"トーン1"},{"$f":"IF(E91=\"ZX-DECLDIV-IPコードレス電話機\",\"トーン1\",_xlfn.IFS(キー割付!I520=\"着信音なし\",\"トーン1\",キー割付!I520=\"トーン1\",\"トーン1\",キー割付!I520=\"トーン2\",\"トーン2\",キー割付!I520=\"トーン3\",\"トーン3\",キー割付!I520=\"トーン4\",\"トーン4\",キー割付!I520=\"トーン5\",\"トーン5\",キー割付!I520=\"トーン6\",\"トーン6\",キー割付!I520=\"トーン7\",\"トーン7\",キー割付!I520=\"トーン7\",\"トーン7\",キー割付!I520=\"無鳴動着信\",\"トーン8\",キー割付!I520=\"グリーンスリーブス\",\"メロディ1\",キー割付!I520=\"峠の我が家\",\"メロディ2\",キー割付!I520=\"カノン\",\"メロディ3\",キー割付!I520=\"春の歌\",\"メロディ4\",キー割付!I520=\"主よ人の望みの喜びよ\",\"メロディ5\",キー割付!I520=\"メヌエット\",\"メロディ6\",キー割付!I520=\"華麗なる大円舞曲\",\"メロディ7\",キー割付!I520=\"ハンガリア舞曲第5番\",\"メロディ8\",TRUE,\"トーン1\"))","v":"トーン1"},{"$f":"IF(E91=\"ZX-DECLDIV-IPコードレス電話機\",\"トーン1\",_xlfn.IFS(キー割付!D528=\"着信音なし\",\"トーン1\",キー割付!D528=\"トーン1\",\"トーン1\",キー割付!D528=\"トーン2\",\"トーン2\",キー割付!D528=\"トーン3\",\"トーン3\",キー割付!D528=\"トーン4\",\"トーン4\",キー割付!D528=\"トーン5\",\"トーン5\",キー割付!D528=\"トーン6\",\"トーン6\",キー割付!D528=\"トーン7\",\"トーン7\",キー割付!D528=\"トーン7\",\"トーン7\",キー割付!D528=\"無鳴動着信\",\"トーン8\",キー割付!D528=\"グリーンスリーブス\",\"メロディ1\",キー割付!D528=\"峠の我が家\",\"メロディ2\",キー割付!D528=\"カノン\",\"メロディ3\",キー割付!D528=\"春の歌\",\"メロディ4\",キー割付!D528=\"主よ人の望みの喜びよ\",\"メロディ5\",キー割付!D528=\"メヌエット\",\"メロディ6\",キー割付!D528=\"華麗なる大円舞曲\",\"メロディ7\",キー割付!D528=\"ハンガリア舞曲第5番\",\"メロディ8\",TRUE,\"トーン1\"))","v":"トーン1"},{"$f":"IF(E91=\"ZX-DECLDIV-IPコードレス電話機\",\"トーン1\",_xlfn.IFS(キー割付!E528=\"着信音なし\",\"トーン1\",キー割付!E528=\"トーン1\",\"トーン1\",キー割付!E528=\"トーン2\",\"トーン2\",キー割付!E528=\"トーン3\",\"トーン3\",キー割付!E528=\"トーン4\",\"トーン4\",キー割付!E528=\"トーン5\",\"トーン5\",キー割付!E528=\"トーン6\",\"トーン6\",キー割付!E528=\"トーン7\",\"トーン7\",キー割付!E528=\"トーン7\",\"トーン7\",キー割付!E528=\"無鳴動着信\",\"トーン8\",キー割付!E528=\"グリーンスリーブス\",\"メロディ1\",キー割付!E528=\"峠の我が家\",\"メロディ2\",キー割付!E528=\"カノン\",\"メロディ3\",キー割付!E528=\"春の歌\",\"メロディ4\",キー割付!E528=\"主よ人の望みの喜びよ\",\"メロディ5\",キー割付!E528=\"メヌエット\",\"メロディ6\",キー割付!E528=\"華麗なる大円舞曲\",\"メロディ7\",キー割付!E528=\"ハンガリア舞曲第5番\",\"メロディ8\",TRUE,\"トーン1\"))","v":"トーン1"},{"$f":"IF(E91=\"ZX-DECLDIV-IPコードレス電話機\",\"トーン1\",_xlfn.IFS(キー割付!F528=\"着信音なし\",\"トーン1\",キー割付!F528=\"トーン1\",\"トーン1\",キー割付!F528=\"トーン2\",\"トーン2\",キー割付!F528=\"トーン3\",\"トーン3\",キー割付!F528=\"トーン4\",\"トーン4\",キー割付!F528=\"トーン5\",\"トーン5\",キー割付!F528=\"トーン6\",\"トーン6\",キー割付!F528=\"トーン7\",\"トーン7\",キー割付!F528=\"トーン7\",\"トーン7\",キー割付!F528=\"無鳴動着信\",\"トーン8\",キー割付!F528=\"グリーンスリーブス\",\"メロディ1\",キー割付!F528=\"峠の我が家\",\"メロディ2\",キー割付!F528=\"カノン\",\"メロディ3\",キー割付!F528=\"春の歌\",\"メロディ4\",キー割付!F528=\"主よ人の望みの喜びよ\",\"メロディ5\",キー割付!F528=\"メヌエット\",\"メロディ6\",キー割付!F528=\"華麗なる大円舞曲\",\"メロディ7\",キー割付!F528=\"ハンガリア舞曲第5番\",\"メロディ8\",TRUE,\"トーン1\"))","v":"トーン1"},{"$f":"IF(E91=\"ZX-DECLDIV-IPコードレス電話機\",\"トーン1\",_xlfn.IFS(キー割付!G528=\"着信音なし\",\"トーン1\",キー割付!G528=\"トーン1\",\"トーン1\",キー割付!G528=\"トーン2\",\"トーン2\",キー割付!G528=\"トーン3\",\"トーン3\",キー割付!G528=\"トーン4\",\"トーン4\",キー割付!G528=\"トーン5\",\"トーン5\",キー割付!G528=\"トーン6\",\"トーン6\",キー割付!G528=\"トーン7\",\"トーン7\",キー割付!G528=\"トーン7\",\"トーン7\",キー割付!G528=\"無鳴動着信\",\"トーン8\",キー割付!G528=\"グリーンスリーブス\",\"メロディ1\",キー割付!G528=\"峠の我が家\",\"メロディ2\",キー割付!G528=\"カノン\",\"メロディ3\",キー割付!G528=\"春の歌\",\"メロディ4\",キー割付!G528=\"主よ人の望みの喜びよ\",\"メロディ5\",キー割付!G528=\"メヌエット\",\"メロディ6\",キー割付!G528=\"華麗なる大円舞曲\",\"メロディ7\",キー割付!G528=\"ハンガリア舞曲第5番\",\"メロディ8\",TRUE,\"トーン1\"))","v":"トーン1"},{"$f":"IF(E91=\"ZX-DECLDIV-IPコードレス電話機\",\"トーン1\",_xlfn.IFS(キー割付!H528=\"着信音なし\",\"トーン1\",キー割付!H528=\"トーン1\",\"トーン1\",キー割付!H528=\"トーン2\",\"トーン2\",キー割付!H528=\"トーン3\",\"トーン3\",キー割付!H528=\"トーン4\",\"トーン4\",キー割付!H528=\"トーン5\",\"トーン5\",キー割付!H528=\"トーン6\",\"トーン6\",キー割付!H528=\"トーン7\",\"トーン7\",キー割付!H528=\"トーン7\",\"トーン7\",キー割付!H528=\"無鳴動着信\",\"トーン8\",キー割付!H528=\"グリーンスリーブス\",\"メロディ1\",キー割付!H528=\"峠の我が家\",\"メロディ2\",キー割付!H528=\"カノン\",\"メロディ3\",キー割付!H528=\"春の歌\",\"メロディ4\",キー割付!H528=\"主よ人の望みの喜びよ\",\"メロディ5\",キー割付!H528=\"メヌエット\",\"メロディ6\",キー割付!H528=\"華麗なる大円舞曲\",\"メロディ7\",キー割付!H528=\"ハンガリア舞曲第5番\",\"メロディ8\",TRUE,\"トーン1\"))","v":"トーン1"},{"$f":"IF(E91=\"ZX-DECLDIV-IPコードレス電話機\",\"トーン1\",_xlfn.IFS(キー割付!I528=\"着信音なし\",\"トーン1\",キー割付!I528=\"トーン1\",\"トーン1\",キー割付!I528=\"トーン2\",\"トーン2\",キー割付!I528=\"トーン3\",\"トーン3\",キー割付!I528=\"トーン4\",\"トーン4\",キー割付!I528=\"トーン5\",\"トーン5\",キー割付!I528=\"トーン6\",\"トーン6\",キー割付!I528=\"トーン7\",\"トーン7\",キー割付!I528=\"トーン7\",\"トーン7\",キー割付!I528=\"無鳴動着信\",\"トーン8\",キー割付!I528=\"グリーンスリーブス\",\"メロディ1\",キー割付!I528=\"峠の我が家\",\"メロディ2\",キー割付!I528=\"カノン\",\"メロディ3\",キー割付!I528=\"春の歌\",\"メロディ4\",キー割付!I528=\"主よ人の望みの喜びよ\",\"メロディ5\",キー割付!I528=\"メヌエット\",\"メロディ6\",キー割付!I528=\"華麗なる大円舞曲\",\"メロディ7\",キー割付!I528=\"ハンガリア舞曲第5番\",\"メロディ8\",TRUE,\"トーン1\"))","v":"トーン1"},{"$f":"IF(E91=\"ZX-DECLDIV-IPコードレス電話機\",\"トーン1\",_xlfn.IFS(キー割付!D536=\"着信音なし\",\"トーン1\",キー割付!D536=\"トーン1\",\"トーン1\",キー割付!D536=\"トーン2\",\"トーン2\",キー割付!D536=\"トーン3\",\"トーン3\",キー割付!D536=\"トーン4\",\"トーン4\",キー割付!D536=\"トーン5\",\"トーン5\",キー割付!D536=\"トーン6\",\"トーン6\",キー割付!D536=\"トーン7\",\"トーン7\",キー割付!D536=\"トーン7\",\"トーン7\",キー割付!D536=\"無鳴動着信\",\"トーン8\",キー割付!D536=\"グリーンスリーブス\",\"メロディ1\",キー割付!D536=\"峠の我が家\",\"メロディ2\",キー割付!D536=\"カノン\",\"メロディ3\",キー割付!D536=\"春の歌\",\"メロディ4\",キー割付!D536=\"主よ人の望みの喜びよ\",\"メロディ5\",キー割付!D536=\"メヌエット\",\"メロディ6\",キー割付!D536=\"華麗なる大円舞曲\",\"メロディ7\",キー割付!D536=\"ハンガリア舞曲第5番\",\"メロディ8\",TRUE,\"トーン1\"))","v":"トーン1"},{"$f":"IF(E91=\"ZX-DECLDIV-IPコードレス電話機\",\"トーン1\",_xlfn.IFS(キー割付!E536=\"着信音なし\",\"トーン1\",キー割付!E536=\"トーン1\",\"トーン1\",キー割付!E536=\"トーン2\",\"トーン2\",キー割付!E536=\"トーン3\",\"トーン3\",キー割付!E536=\"トーン4\",\"トーン4\",キー割付!E536=\"トーン5\",\"トーン5\",キー割付!E536=\"トーン6\",\"トーン6\",キー割付!E536=\"トーン7\",\"トーン7\",キー割付!E536=\"トーン7\",\"トーン7\",キー割付!E536=\"無鳴動着信\",\"トーン8\",キー割付!E536=\"グリーンスリーブス\",\"メロディ1\",キー割付!E536=\"峠の我が家\",\"メロディ2\",キー割付!E536=\"カノン\",\"メロディ3\",キー割付!E536=\"春の歌\",\"メロディ4\",キー割付!E536=\"主よ人の望みの喜びよ\",\"メロディ5\",キー割付!E536=\"メヌエット\",\"メロディ6\",キー割付!E536=\"華麗なる大円舞曲\",\"メロディ7\",キー割付!E536=\"ハンガリア舞曲第5番\",\"メロディ8\",TRUE,\"トーン1\"))","v":"トーン1"},{"$f":"IF(E91=\"ZX-DECLDIV-IPコードレス電話機\",\"トーン1\",_xlfn.IFS(キー割付!F536=\"着信音なし\",\"トーン1\",キー割付!F536=\"トーン1\",\"トーン1\",キー割付!F536=\"トーン2\",\"トーン2\",キー割付!F536=\"トーン3\",\"トーン3\",キー割付!F536=\"トーン4\",\"トーン4\",キー割付!F536=\"トーン5\",\"トーン5\",キー割付!F536=\"トーン6\",\"トーン6\",キー割付!F536=\"トーン7\",\"トーン7\",キー割付!F536=\"トーン7\",\"トーン7\",キー割付!F536=\"無鳴動着信\",\"トーン8\",キー割付!F536=\"グリーンスリーブス\",\"メロディ1\",キー割付!F536=\"峠の我が家\",\"メロディ2\",キー割付!F536=\"カノン\",\"メロディ3\",キー割付!F536=\"春の歌\",\"メロディ4\",キー割付!F536=\"主よ人の望みの喜びよ\",\"メロディ5\",キー割付!F536=\"メヌエット\",\"メロディ6\",キー割付!F536=\"華麗なる大円舞曲\",\"メロディ7\",キー割付!F536=\"ハンガリア舞曲第5番\",\"メロディ8\",TRUE,\"トーン1\"))","v":"トーン1"},{"$f":"IF(E91=\"ZX-DECLDIV-IPコードレス電話機\",\"トーン1\",_xlfn.IFS(キー割付!G536=\"着信音なし\",\"トーン1\",キー割付!G536=\"トーン1\",\"トーン1\",キー割付!G536=\"トーン2\",\"トーン2\",キー割付!G536=\"トーン3\",\"トーン3\",キー割付!G536=\"トーン4\",\"トーン4\",キー割付!G536=\"トーン5\",\"トーン5\",キー割付!G536=\"トーン6\",\"トーン6\",キー割付!G536=\"トーン7\",\"トーン7\",キー割付!G536=\"トーン7\",\"トーン7\",キー割付!G536=\"無鳴動着信\",\"トーン8\",キー割付!G536=\"グリーンスリーブス\",\"メロディ1\",キー割付!G536=\"峠の我が家\",\"メロディ2\",キー割付!G536=\"カノン\",\"メロディ3\",キー割付!G536=\"春の歌\",\"メロディ4\",キー割付!G536=\"主よ人の望みの喜びよ\",\"メロディ5\",キー割付!G536=\"メヌエット\",\"メロディ6\",キー割付!G536=\"華麗なる大円舞曲\",\"メロディ7\",キー割付!G536=\"ハンガリア舞曲第5番\",\"メロディ8\",TRUE,\"トーン1\"))","v":"トーン1"},{"$f":"IF(E91=\"ZX-DECLDIV-IPコードレス電話機\",\"トーン1\",_xlfn.IFS(キー割付!H536=\"着信音なし\",\"トーン1\",キー割付!H536=\"トーン1\",\"トーン1\",キー割付!H536=\"トーン2\",\"トーン2\",キー割付!H536=\"トーン3\",\"トーン3\",キー割付!H536=\"トーン4\",\"トーン4\",キー割付!H536=\"トーン5\",\"トーン5\",キー割付!H536=\"トーン6\",\"トーン6\",キー割付!H536=\"トーン7\",\"トーン7\",キー割付!H536=\"トーン7\",\"トーン7\",キー割付!H536=\"無鳴動着信\",\"トーン8\",キー割付!H536=\"グリーンスリーブス\",\"メロディ1\",キー割付!H536=\"峠の我が家\",\"メロディ2\",キー割付!H536=\"カノン\",\"メロディ3\",キー割付!H536=\"春の歌\",\"メロディ4\",キー割付!H536=\"主よ人の望みの喜びよ\",\"メロディ5\",キー割付!H536=\"メヌエット\",\"メロディ6\",キー割付!H536=\"華麗なる大円舞曲\",\"メロディ7\",キー割付!H536=\"ハンガリア舞曲第5番\",\"メロディ8\",TRUE,\"トーン1\"))","v":"トーン1"},{"$f":"IF(E91=\"ZX-DECLDIV-IPコードレス電話機\",\"トーン1\",_xlfn.IFS(キー割付!I536=\"着信音なし\",\"トーン1\",キー割付!I536=\"トーン1\",\"トーン1\",キー割付!I536=\"トーン2\",\"トーン2\",キー割付!I536=\"トーン3\",\"トーン3\",キー割付!I536=\"トーン4\",\"トーン4\",キー割付!I536=\"トーン5\",\"トーン5\",キー割付!I536=\"トーン6\",\"トーン6\",キー割付!I536=\"トーン7\",\"トーン7\",キー割付!I536=\"トーン7\",\"トーン7\",キー割付!I536=\"無鳴動着信\",\"トーン8\",キー割付!I536=\"グリーンスリーブス\",\"メロディ1\",キー割付!I536=\"峠の我が家\",\"メロディ2\",キー割付!I536=\"カノン\",\"メロディ3\",キー割付!I536=\"春の歌\",\"メロディ4\",キー割付!I536=\"主よ人の望みの喜びよ\",\"メロディ5\",キー割付!I536=\"メヌエット\",\"メロディ6\",キー割付!I536=\"華麗なる大円舞曲\",\"メロディ7\",キー割付!I536=\"ハンガリア舞曲第5番\",\"メロディ8\",TRUE,\"トーン1\"))","v":"トーン1"}]
[null,null,null,null,null,{"$f":"_xlfn.IFS(キー割付!D513=\"昼夜休憩\",\"B\",キー割付!D513=\"－－－\",\"-\",キー割付!D513=\"昼－－\",\"H\",キー割付!D513=\"－夜－\",\"N\",キー割付!D513=\"－－休憩\",\"P\",キー割付!D513=\"昼夜－\",\"D\",キー割付!D513=\"昼－休憩\",\"F\",キー割付!D513=\"－夜休憩\",\"K\",TRUE,\"-\")","v":"-"},{"$f":"_xlfn.IFS(キー割付!E513=\"昼夜休憩\",\"B\",キー割付!E513=\"－－－\",\"-\",キー割付!E513=\"昼－－\",\"H\",キー割付!E513=\"－夜－\",\"N\",キー割付!E513=\"－－休憩\",\"P\",キー割付!E513=\"昼夜－\",\"D\",キー割付!E513=\"昼－休憩\",\"F\",キー割付!E513=\"－夜休憩\",\"K\",TRUE,\"-\")","v":"-"},{"$f":"_xlfn.IFS(キー割付!F513=\"昼夜休憩\",\"B\",キー割付!F513=\"－－－\",\"-\",キー割付!F513=\"昼－－\",\"H\",キー割付!F513=\"－夜－\",\"N\",キー割付!F513=\"－－休憩\",\"P\",キー割付!F513=\"昼夜－\",\"D\",キー割付!F513=\"昼－休憩\",\"F\",キー割付!F513=\"－夜休憩\",\"K\",TRUE,\"-\")","v":"-"},{"$f":"_xlfn.IFS(キー割付!G513=\"昼夜休憩\",\"B\",キー割付!G513=\"－－－\",\"-\",キー割付!G513=\"昼－－\",\"H\",キー割付!G513=\"－夜－\",\"N\",キー割付!G513=\"－－休憩\",\"P\",キー割付!G513=\"昼夜－\",\"D\",キー割付!G513=\"昼－休憩\",\"F\",キー割付!G513=\"－夜休憩\",\"K\",TRUE,\"-\")","v":"-"},{"$f":"_xlfn.IFS(キー割付!H513=\"昼夜休憩\",\"B\",キー割付!H513=\"－－－\",\"-\",キー割付!H513=\"昼－－\",\"H\",キー割付!H513=\"－夜－\",\"N\",キー割付!H513=\"－－休憩\",\"P\",キー割付!H513=\"昼夜－\",\"D\",キー割付!H513=\"昼－休憩\",\"F\",キー割付!H513=\"－夜休憩\",\"K\",TRUE,\"-\")","v":"-"},{"$f":"_xlfn.IFS(キー割付!I513=\"昼夜休憩\",\"B\",キー割付!I513=\"－－－\",\"-\",キー割付!I513=\"昼－－\",\"H\",キー割付!I513=\"－夜－\",\"N\",キー割付!I513=\"－－休憩\",\"P\",キー割付!I513=\"昼夜－\",\"D\",キー割付!I513=\"昼－休憩\",\"F\",キー割付!I513=\"－夜休憩\",\"K\",TRUE,\"-\")","v":"-"},{"$f":"_xlfn.IFS(キー割付!D521=\"昼夜休憩\",\"B\",キー割付!D521=\"－－－\",\"-\",キー割付!D521=\"昼－－\",\"H\",キー割付!D521=\"－夜－\",\"N\",キー割付!D521=\"－－休憩\",\"P\",キー割付!D521=\"昼夜－\",\"D\",キー割付!D521=\"昼－休憩\",\"F\",キー割付!D521=\"－夜休憩\",\"K\",TRUE,\"-\")","v":"-"},{"$f":"_xlfn.IFS(キー割付!E521=\"昼夜休憩\",\"B\",キー割付!E521=\"－－－\",\"-\",キー割付!E521=\"昼－－\",\"H\",キー割付!E521=\"－夜－\",\"N\",キー割付!E521=\"－－休憩\",\"P\",キー割付!E521=\"昼夜－\",\"D\",キー割付!E521=\"昼－休憩\",\"F\",キー割付!E521=\"－夜休憩\",\"K\",TRUE,\"-\")","v":"-"},{"$f":"IF(E91=\"ZX-DECLDIV-IPコードレス電話機\",\"-\",_xlfn.IFS(キー割付!F521=\"昼夜休憩\",\"B\",キー割付!F521=\"－－－\",\"-\",キー割付!F521=\"昼－－\",\"H\",キー割付!F521=\"－夜－\",\"N\",キー割付!F521=\"－－休憩\",\"P\",キー割付!F521=\"昼夜－\",\"D\",キー割付!F521=\"昼－休憩\",\"F\",キー割付!F521=\"－夜休憩\",\"K\",TRUE,\"-\"))","v":"-"},{"$f":"IF(E91=\"ZX-DECLDIV-IPコードレス電話機\",\"-\",_xlfn.IFS(キー割付!G521=\"昼夜休憩\",\"B\",キー割付!G521=\"－－－\",\"-\",キー割付!G521=\"昼－－\",\"H\",キー割付!G521=\"－夜－\",\"N\",キー割付!G521=\"－－休憩\",\"P\",キー割付!G521=\"昼夜－\",\"D\",キー割付!G521=\"昼－休憩\",\"F\",キー割付!G521=\"－夜休憩\",\"K\",TRUE,\"-\"))","v":"-"},{"$f":"IF(E91=\"ZX-DECLDIV-IPコードレス電話機\",\"-\",_xlfn.IFS(キー割付!H521=\"昼夜休憩\",\"B\",キー割付!H521=\"－－－\",\"-\",キー割付!H521=\"昼－－\",\"H\",キー割付!H521=\"－夜－\",\"N\",キー割付!H521=\"－－休憩\",\"P\",キー割付!H521=\"昼夜－\",\"D\",キー割付!H521=\"昼－休憩\",\"F\",キー割付!H521=\"－夜休憩\",\"K\",TRUE,\"-\"))","v":"-"},{"$f":"IF(E91=\"ZX-DECLDIV-IPコードレス電話機\",\"-\",_xlfn.IFS(キー割付!I521=\"昼夜休憩\",\"B\",キー割付!I521=\"－－－\",\"-\",キー割付!I521=\"昼－－\",\"H\",キー割付!I521=\"－夜－\",\"N\",キー割付!I521=\"－－休憩\",\"P\",キー割付!I521=\"昼夜－\",\"D\",キー割付!I521=\"昼－休憩\",\"F\",キー割付!I521=\"－夜休憩\",\"K\",TRUE,\"-\"))","v":"-"},{"$f":"IF(E91=\"ZX-DECLDIV-IPコードレス電話機\",\"-\",_xlfn.IFS(キー割付!D529=\"昼夜休憩\",\"B\",キー割付!D529=\"－－－\",\"-\",キー割付!D529=\"昼－－\",\"H\",キー割付!D529=\"－夜－\",\"N\",キー割付!D529=\"－－休憩\",\"P\",キー割付!D529=\"昼夜－\",\"D\",キー割付!D529=\"昼－休憩\",\"F\",キー割付!D529=\"－夜休憩\",\"K\",TRUE,\"-\"))","v":"-"},{"$f":"IF(E91=\"ZX-DECLDIV-IPコードレス電話機\",\"-\",_xlfn.IFS(キー割付!E529=\"昼夜休憩\",\"B\",キー割付!E529=\"－－－\",\"-\",キー割付!E529=\"昼－－\",\"H\",キー割付!E529=\"－夜－\",\"N\",キー割付!E529=\"－－休憩\",\"P\",キー割付!E529=\"昼夜－\",\"D\",キー割付!E529=\"昼－休憩\",\"F\",キー割付!E529=\"－夜休憩\",\"K\",TRUE,\"-\"))","v":"-"},{"$f":"IF(E91=\"ZX-DECLDIV-IPコードレス電話機\",\"-\",_xlfn.IFS(キー割付!F529=\"昼夜休憩\",\"B\",キー割付!F529=\"－－－\",\"-\",キー割付!F529=\"昼－－\",\"H\",キー割付!F529=\"－夜－\",\"N\",キー割付!F529=\"－－休憩\",\"P\",キー割付!F529=\"昼夜－\",\"D\",キー割付!F529=\"昼－休憩\",\"F\",キー割付!F529=\"－夜休憩\",\"K\",TRUE,\"-\"))","v":"-"},{"$f":"IF(E91=\"ZX-DECLDIV-IPコードレス電話機\",\"-\",_xlfn.IFS(キー割付!G529=\"昼夜休憩\",\"B\",キー割付!G529=\"－－－\",\"-\",キー割付!G529=\"昼－－\",\"H\",キー割付!G529=\"－夜－\",\"N\",キー割付!G529=\"－－休憩\",\"P\",キー割付!G529=\"昼夜－\",\"D\",キー割付!G529=\"昼－休憩\",\"F\",キー割付!G529=\"－夜休憩\",\"K\",TRUE,\"-\"))","v":"-"},{"$f":"IF(E91=\"ZX-DECLDIV-IPコードレス電話機\",\"-\",_xlfn.IFS(キー割付!H529=\"昼夜休憩\",\"B\",キー割付!H529=\"－－－\",\"-\",キー割付!H529=\"昼－－\",\"H\",キー割付!H529=\"－夜－\",\"N\",キー割付!H529=\"－－休憩\",\"P\",キー割付!H529=\"昼夜－\",\"D\",キー割付!H529=\"昼－休憩\",\"F\",キー割付!H529=\"－夜休憩\",\"K\",TRUE,\"-\"))","v":"-"},{"$f":"IF(E91=\"ZX-DECLDIV-IPコードレス電話機\",\"-\",_xlfn.IFS(キー割付!I529=\"昼夜休憩\",\"B\",キー割付!I529=\"－－－\",\"-\",キー割付!I529=\"昼－－\",\"H\",キー割付!I529=\"－夜－\",\"N\",キー割付!I529=\"－－休憩\",\"P\",キー割付!I529=\"昼夜－\",\"D\",キー割付!I529=\"昼－休憩\",\"F\",キー割付!I529=\"－夜休憩\",\"K\",TRUE,\"-\"))","v":"-"},{"$f":"IF(E91=\"ZX-DECLDIV-IPコードレス電話機\",\"-\",_xlfn.IFS(キー割付!D537=\"昼夜休憩\",\"B\",キー割付!D537=\"－－－\",\"-\",キー割付!D537=\"昼－－\",\"H\",キー割付!D537=\"－夜－\",\"N\",キー割付!D537=\"－－休憩\",\"P\",キー割付!D537=\"昼夜－\",\"D\",キー割付!D537=\"昼－休憩\",\"F\",キー割付!D537=\"－夜休憩\",\"K\",TRUE,\"-\"))","v":"-"},{"$f":"IF(E91=\"ZX-DECLDIV-IPコードレス電話機\",\"-\",_xlfn.IFS(キー割付!E537=\"昼夜休憩\",\"B\",キー割付!E537=\"－－－\",\"-\",キー割付!E537=\"昼－－\",\"H\",キー割付!E537=\"－夜－\",\"N\",キー割付!E537=\"－－休憩\",\"P\",キー割付!E537=\"昼夜－\",\"D\",キー割付!E537=\"昼－休憩\",\"F\",キー割付!E537=\"－夜休憩\",\"K\",TRUE,\"-\"))","v":"-"},{"$f":"IF(E91=\"ZX-DECLDIV-IPコードレス電話機\",\"-\",_xlfn.IFS(キー割付!F537=\"昼夜休憩\",\"B\",キー割付!F537=\"－－－\",\"-\",キー割付!F537=\"昼－－\",\"H\",キー割付!F537=\"－夜－\",\"N\",キー割付!F537=\"－－休憩\",\"P\",キー割付!F537=\"昼夜－\",\"D\",キー割付!F537=\"昼－休憩\",\"F\",キー割付!F537=\"－夜休憩\",\"K\",TRUE,\"-\"))","v":"-"},{"$f":"IF(E91=\"ZX-DECLDIV-IPコードレス電話機\",\"-\",_xlfn.IFS(キー割付!G537=\"昼夜休憩\",\"B\",キー割付!G537=\"－－－\",\"-\",キー割付!G537=\"昼－－\",\"H\",キー割付!G537=\"－夜－\",\"N\",キー割付!G537=\"－－休憩\",\"P\",キー割付!G537=\"昼夜－\",\"D\",キー割付!G537=\"昼－休憩\",\"F\",キー割付!G537=\"－夜休憩\",\"K\",TRUE,\"-\"))","v":"-"},{"$f":"IF(E91=\"ZX-DECLDIV-IPコードレス電話機\",\"-\",_xlfn.IFS(キー割付!H537=\"昼夜休憩\",\"B\",キー割付!H537=\"－－－\",\"-\",キー割付!H537=\"昼－－\",\"H\",キー割付!H537=\"－夜－\",\"N\",キー割付!H537=\"－－休憩\",\"P\",キー割付!H537=\"昼夜－\",\"D\",キー割付!H537=\"昼－休憩\",\"F\",キー割付!H537=\"－夜休憩\",\"K\",TRUE,\"-\"))","v":"-"},{"$f":"IF(E91=\"ZX-DECLDIV-IPコードレス電話機\",\"-\",_xlfn.IFS(キー割付!I537=\"昼夜休憩\",\"B\",キー割付!I537=\"－－－\",\"-\",キー割付!I537=\"昼－－\",\"H\",キー割付!I537=\"－夜－\",\"N\",キー割付!I537=\"－－休憩\",\"P\",キー割付!I537=\"昼夜－\",\"D\",キー割付!I537=\"昼－休憩\",\"F\",キー割付!I537=\"－夜休憩\",\"K\",TRUE,\"-\"))","v":"-"}]
[null,30,{"$f":"IF(IFERROR(VALUE(VLOOKUP(B94,内線_キー割用,2,FALSE)),\"\")=0,\"\",IFERROR(VALUE(VLOOKUP(B94,内線_キー割用,2,FALSE)),\"\"))","v":""},{"$f":"IF(IFERROR(VALUE(VLOOKUP(B94,内線_キー割用,4,FALSE)),\"\")=0,\"\",IFERROR(VALUE(VLOOKUP(B94,内線_キー割用,4,FALSE)),\"\"))","v":""},{"$f":"IF(IFERROR(VLOOKUP(B94,内線_キー割用,3,FALSE),\"\")=0,\"\",IFERROR(VLOOKUP(B94,内線_キー割用,3,FALSE),\"\"))","v":""},{"$f":"IF(キー割付!N511=\"\",\"未使用\",キー割付!N511)","v":"未使用"},{"$f":"IF(キー割付!O511=\"\",\"未使用\",キー割付!O511)","v":"未使用"},{"$f":"IF(キー割付!P511=\"\",\"未使用\",キー割付!P511)","v":"未使用"},{"$f":"IF(キー割付!Q511=\"\",\"未使用\",キー割付!Q511)","v":"未使用"},{"$f":"IF(キー割付!R511=\"\",\"未使用\",キー割付!R511)","v":"未使用"},{"$f":"IF(キー割付!S511=\"\",\"未使用\",キー割付!S511)","v":"未使用"},{"$f":"IF(キー割付!N519=\"\",\"未使用\",キー割付!N519)","v":"未使用"},{"$f":"IF(キー割付!O519=\"\",\"未使用\",キー割付!O519)","v":"未使用"},{"$f":"IF(E94=\"ZX-DECLDIV-IPコードレス電話機\",\"未使用\",IF(キー割付!P519=\"\",\"未使用\",キー割付!P519))","v":"未使用"},{"$f":"IF(E94=\"ZX-DECLDIV-IPコードレス電話機\",\"未使用\",IF(キー割付!Q519=\"\",\"未使用\",キー割付!Q519))","v":"未使用"},{"$f":"IF(E94=\"ZX-DECLDIV-IPコードレス電話機\",\"未使用\",IF(キー割付!R519=\"\",\"未使用\",キー割付!R519))","v":"未使用"},{"$f":"IF(E94=\"ZX-DECLDIV-IPコードレス電話機\",\"未使用\",IF(キー割付!S519=\"\",\"未使用\",キー割付!S519))","v":"未使用"},{"$f":"IF(E94=\"ZX-DECLDIV-IPコードレス電話機\",\"未使用\",IF(キー割付!N527=\"\",\"未使用\",キー割付!N527))","v":"未使用"},{"$f":"IF(E94=\"ZX-DECLDIV-IPコードレス電話機\",\"未使用\",IF(キー割付!O527=\"\",\"未使用\",キー割付!O527))","v":"未使用"},{"$f":"IF(E94=\"ZX-DECLDIV-IPコードレス電話機\",\"未使用\",IF(キー割付!P527=\"\",\"未使用\",キー割付!P527))","v":"未使用"},{"$f":"IF(E94=\"ZX-DECLDIV-IPコードレス電話機\",\"未使用\",IF(キー割付!Q527=\"\",\"未使用\",キー割付!Q527))","v":"未使用"},{"$f":"IF(E94=\"ZX-DECLDIV-IPコードレス電話機\",\"未使用\",IF(キー割付!R527=\"\",\"未使用\",キー割付!R527))","v":"未使用"},{"$f":"IF(E94=\"ZX-DECLDIV-IPコードレス電話機\",\"未使用\",IF(キー割付!S527=\"\",\"未使用\",キー割付!S527))","v":"未使用"},{"$f":"IF(E94=\"ZX-DECLDIV-IPコードレス電話機\",\"未使用\",IF(キー割付!N535=\"\",\"未使用\",キー割付!N535))","v":"未使用"},{"$f":"IF(E94=\"ZX-DECLDIV-IPコードレス電話機\",\"未使用\",IF(キー割付!O535=\"\",\"未使用\",キー割付!O535))","v":"未使用"},{"$f":"IF(E94=\"ZX-DECLDIV-IPコードレス電話機\",\"未使用\",IF(キー割付!P535=\"\",\"未使用\",キー割付!P535))","v":"未使用"},{"$f":"IF(E94=\"ZX-DECLDIV-IPコードレス電話機\",\"未使用\",IF(キー割付!Q535=\"\",\"未使用\",キー割付!Q535))","v":"未使用"},{"$f":"IF(E94=\"ZX-DECLDIV-IPコードレス電話機\",\"未使用\",IF(キー割付!R535=\"\",\"未使用\",キー割付!R535))","v":"未使用"},{"$f":"IF(E94=\"ZX-DECLDIV-IPコードレス電話機\",\"未使用\",IF(キー割付!S535=\"\",\"未使用\",キー割付!S535))","v":"未使用"}]
[null,null,null,null,null,{"$f":"_xlfn.IFS(キー割付!N512=\"着信音なし\",\"トーン1\",キー割付!N512=\"トーン1\",\"トーン1\",キー割付!N512=\"トーン2\",\"トーン2\",キー割付!N512=\"トーン3\",\"トーン3\",キー割付!N512=\"トーン4\",\"トーン4\",キー割付!N512=\"トーン5\",\"トーン5\",キー割付!N512=\"トーン6\",\"トーン6\",キー割付!N512=\"トーン7\",\"トーン7\",キー割付!N512=\"トーン7\",\"トーン7\",キー割付!N512=\"無鳴動着信\",\"トーン8\",キー割付!N512=\"グリーンスリーブス\",\"メロディ1\",キー割付!N512=\"峠の我が家\",\"メロディ2\",キー割付!N512=\"カノン\",\"メロディ3\",キー割付!N512=\"春の歌\",\"メロディ4\",キー割付!N512=\"主よ人の望みの喜びよ\",\"メロディ5\",キー割付!N512=\"メヌエット\",\"メロディ6\",キー割付!N512=\"華麗なる大円舞曲\",\"メロディ7\",キー割付!N512=\"ハンガリア舞曲第5番\",\"メロディ8\",TRUE,\"トーン1\")","v":"トーン1"},{"$f":"_xlfn.IFS(キー割付!O512=\"着信音なし\",\"トーン1\",キー割付!O512=\"トーン1\",\"トーン1\",キー割付!O512=\"トーン2\",\"トーン2\",キー割付!O512=\"トーン3\",\"トーン3\",キー割付!O512=\"トーン4\",\"トーン4\",キー割付!O512=\"トーン5\",\"トーン5\",キー割付!O512=\"トーン6\",\"トーン6\",キー割付!O512=\"トーン7\",\"トーン7\",キー割付!O512=\"トーン7\",\"トーン7\",キー割付!O512=\"無鳴動着信\",\"トーン8\",キー割付!O512=\"グリーンスリーブス\",\"メロディ1\",キー割付!O512=\"峠の我が家\",\"メロディ2\",キー割付!O512=\"カノン\",\"メロディ3\",キー割付!O512=\"春の歌\",\"メロディ4\",キー割付!O512=\"主よ人の望みの喜びよ\",\"メロディ5\",キー割付!O512=\"メヌエット\",\"メロディ6\",キー割付!O512=\"華麗なる大円舞曲\",\"メロディ7\",キー割付!O512=\"ハンガリア舞曲第5番\",\"メロディ8\",TRUE,\"トーン1\")","v":"トーン1"},{"$f":"_xlfn.IFS(キー割付!P512=\"着信音なし\",\"トーン1\",キー割付!P512=\"トーン1\",\"トーン1\",キー割付!P512=\"トーン2\",\"トーン2\",キー割付!P512=\"トーン3\",\"トーン3\",キー割付!P512=\"トーン4\",\"トーン4\",キー割付!P512=\"トーン5\",\"トーン5\",キー割付!P512=\"トーン6\",\"トーン6\",キー割付!P512=\"トーン7\",\"トーン7\",キー割付!P512=\"トーン7\",\"トーン7\",キー割付!P512=\"無鳴動着信\",\"トーン8\",キー割付!P512=\"グリーンスリーブス\",\"メロディ1\",キー割付!P512=\"峠の我が家\",\"メロディ2\",キー割付!P512=\"カノン\",\"メロディ3\",キー割付!P512=\"春の歌\",\"メロディ4\",キー割付!P512=\"主よ人の望みの喜びよ\",\"メロディ5\",キー割付!P512=\"メヌエット\",\"メロディ6\",キー割付!P512=\"華麗なる大円舞曲\",\"メロディ7\",キー割付!P512=\"ハンガリア舞曲第5番\",\"メロディ8\",TRUE,\"トーン1\")","v":"トーン1"},{"$f":"_xlfn.IFS(キー割付!Q512=\"着信音なし\",\"トーン1\",キー割付!Q512=\"トーン1\",\"トーン1\",キー割付!Q512=\"トーン2\",\"トーン2\",キー割付!Q512=\"トーン3\",\"トーン3\",キー割付!Q512=\"トーン4\",\"トーン4\",キー割付!Q512=\"トーン5\",\"トーン5\",キー割付!Q512=\"トーン6\",\"トーン6\",キー割付!Q512=\"トーン7\",\"トーン7\",キー割付!Q512=\"トーン7\",\"トーン7\",キー割付!Q512=\"無鳴動着信\",\"トーン8\",キー割付!Q512=\"グリーンスリーブス\",\"メロディ1\",キー割付!Q512=\"峠の我が家\",\"メロディ2\",キー割付!Q512=\"カノン\",\"メロディ3\",キー割付!Q512=\"春の歌\",\"メロディ4\",キー割付!Q512=\"主よ人の望みの喜びよ\",\"メロディ5\",キー割付!Q512=\"メヌエット\",\"メロディ6\",キー割付!Q512=\"華麗なる大円舞曲\",\"メロディ7\",キー割付!Q512=\"ハンガリア舞曲第5番\",\"メロディ8\",TRUE,\"トーン1\")","v":"トーン1"},{"$f":"_xlfn.IFS(キー割付!R512=\"着信音なし\",\"トーン1\",キー割付!R512=\"トーン1\",\"トーン1\",キー割付!R512=\"トーン2\",\"トーン2\",キー割付!R512=\"トーン3\",\"トーン3\",キー割付!R512=\"トーン4\",\"トーン4\",キー割付!R512=\"トーン5\",\"トーン5\",キー割付!R512=\"トーン6\",\"トーン6\",キー割付!R512=\"トーン7\",\"トーン7\",キー割付!R512=\"トーン7\",\"トーン7\",キー割付!R512=\"無鳴動着信\",\"トーン8\",キー割付!R512=\"グリーンスリーブス\",\"メロディ1\",キー割付!R512=\"峠の我が家\",\"メロディ2\",キー割付!R512=\"カノン\",\"メロディ3\",キー割付!R512=\"春の歌\",\"メロディ4\",キー割付!R512=\"主よ人の望みの喜びよ\",\"メロディ5\",キー割付!R512=\"メヌエット\",\"メロディ6\",キー割付!R512=\"華麗なる大円舞曲\",\"メロディ7\",キー割付!R512=\"ハンガリア舞曲第5番\",\"メロディ8\",TRUE,\"トーン1\")","v":"トーン1"},{"$f":"_xlfn.IFS(キー割付!S512=\"着信音なし\",\"トーン1\",キー割付!S512=\"トーン1\",\"トーン1\",キー割付!S512=\"トーン2\",\"トーン2\",キー割付!S512=\"トーン3\",\"トーン3\",キー割付!S512=\"トーン4\",\"トーン4\",キー割付!S512=\"トーン5\",\"トーン5\",キー割付!S512=\"トーン6\",\"トーン6\",キー割付!S512=\"トーン7\",\"トーン7\",キー割付!S512=\"トーン7\",\"トーン7\",キー割付!S512=\"無鳴動着信\",\"トーン8\",キー割付!S512=\"グリーンスリーブス\",\"メロディ1\",キー割付!S512=\"峠の我が家\",\"メロディ2\",キー割付!S512=\"カノン\",\"メロディ3\",キー割付!S512=\"春の歌\",\"メロディ4\",キー割付!S512=\"主よ人の望みの喜びよ\",\"メロディ5\",キー割付!S512=\"メヌエット\",\"メロディ6\",キー割付!S512=\"華麗なる大円舞曲\",\"メロディ7\",キー割付!S512=\"ハンガリア舞曲第5番\",\"メロディ8\",TRUE,\"トーン1\")","v":"トーン1"},{"$f":"_xlfn.IFS(キー割付!N520=\"着信音なし\",\"トーン1\",キー割付!N520=\"トーン1\",\"トーン1\",キー割付!N520=\"トーン2\",\"トーン2\",キー割付!N520=\"トーン3\",\"トーン3\",キー割付!N520=\"トーン4\",\"トーン4\",キー割付!N520=\"トーン5\",\"トーン5\",キー割付!N520=\"トーン6\",\"トーン6\",キー割付!N520=\"トーン7\",\"トーン7\",キー割付!N520=\"トーン7\",\"トーン7\",キー割付!N520=\"無鳴動着信\",\"トーン8\",キー割付!N520=\"グリーンスリーブス\",\"メロディ1\",キー割付!N520=\"峠の我が家\",\"メロディ2\",キー割付!N520=\"カノン\",\"メロディ3\",キー割付!N520=\"春の歌\",\"メロディ4\",キー割付!N520=\"主よ人の望みの喜びよ\",\"メロディ5\",キー割付!N520=\"メヌエット\",\"メロディ6\",キー割付!N520=\"華麗なる大円舞曲\",\"メロディ7\",キー割付!N520=\"ハンガリア舞曲第5番\",\"メロディ8\",TRUE,\"トーン1\")","v":"トーン1"},{"$f":"_xlfn.IFS(キー割付!O520=\"着信音なし\",\"トーン1\",キー割付!O520=\"トーン1\",\"トーン1\",キー割付!O520=\"トーン2\",\"トーン2\",キー割付!O520=\"トーン3\",\"トーン3\",キー割付!O520=\"トーン4\",\"トーン4\",キー割付!O520=\"トーン5\",\"トーン5\",キー割付!O520=\"トーン6\",\"トーン6\",キー割付!O520=\"トーン7\",\"トーン7\",キー割付!O520=\"トーン7\",\"トーン7\",キー割付!O520=\"無鳴動着信\",\"トーン8\",キー割付!O520=\"グリーンスリーブス\",\"メロディ1\",キー割付!O520=\"峠の我が家\",\"メロディ2\",キー割付!O520=\"カノン\",\"メロディ3\",キー割付!O520=\"春の歌\",\"メロディ4\",キー割付!O520=\"主よ人の望みの喜びよ\",\"メロディ5\",キー割付!O520=\"メヌエット\",\"メロディ6\",キー割付!O520=\"華麗なる大円舞曲\",\"メロディ7\",キー割付!O520=\"ハンガリア舞曲第5番\",\"メロディ8\",TRUE,\"トーン1\")","v":"トーン1"},{"$f":"IF(E94=\"ZX-DECLDIV-IPコードレス電話機\",\"トーン1\",_xlfn.IFS(キー割付!P520=\"着信音なし\",\"トーン1\",キー割付!P520=\"トーン1\",\"トーン1\",キー割付!P520=\"トーン2\",\"トーン2\",キー割付!P520=\"トーン3\",\"トーン3\",キー割付!P520=\"トーン4\",\"トーン4\",キー割付!P520=\"トーン5\",\"トーン5\",キー割付!P520=\"トーン6\",\"トーン6\",キー割付!P520=\"トーン7\",\"トーン7\",キー割付!P520=\"トーン7\",\"トーン7\",キー割付!P520=\"無鳴動着信\",\"トーン8\",キー割付!P520=\"グリーンスリーブス\",\"メロディ1\",キー割付!P520=\"峠の我が家\",\"メロディ2\",キー割付!P520=\"カノン\",\"メロディ3\",キー割付!P520=\"春の歌\",\"メロディ4\",キー割付!P520=\"主よ人の望みの喜びよ\",\"メロディ5\",キー割付!P520=\"メヌエット\",\"メロディ6\",キー割付!P520=\"華麗なる大円舞曲\",\"メロディ7\",キー割付!P520=\"ハンガリア舞曲第5番\",\"メロディ8\",TRUE,\"トーン1\"))","v":"トーン1"},{"$f":"IF(E94=\"ZX-DECLDIV-IPコードレス電話機\",\"トーン1\",_xlfn.IFS(キー割付!Q520=\"着信音なし\",\"トーン1\",キー割付!Q520=\"トーン1\",\"トーン1\",キー割付!Q520=\"トーン2\",\"トーン2\",キー割付!Q520=\"トーン3\",\"トーン3\",キー割付!Q520=\"トーン4\",\"トーン4\",キー割付!Q520=\"トーン5\",\"トーン5\",キー割付!Q520=\"トーン6\",\"トーン6\",キー割付!Q520=\"トーン7\",\"トーン7\",キー割付!Q520=\"トーン7\",\"トーン7\",キー割付!Q520=\"無鳴動着信\",\"トーン8\",キー割付!Q520=\"グリーンスリーブス\",\"メロディ1\",キー割付!Q520=\"峠の我が家\",\"メロディ2\",キー割付!Q520=\"カノン\",\"メロディ3\",キー割付!Q520=\"春の歌\",\"メロディ4\",キー割付!Q520=\"主よ人の望みの喜びよ\",\"メロディ5\",キー割付!Q520=\"メヌエット\",\"メロディ6\",キー割付!Q520=\"華麗なる大円舞曲\",\"メロディ7\",キー割付!Q520=\"ハンガリア舞曲第5番\",\"メロディ8\",TRUE,\"トーン1\"))","v":"トーン1"},{"$f":"IF(E94=\"ZX-DECLDIV-IPコードレス電話機\",\"トーン1\",_xlfn.IFS(キー割付!R520=\"着信音なし\",\"トーン1\",キー割付!R520=\"トーン1\",\"トーン1\",キー割付!R520=\"トーン2\",\"トーン2\",キー割付!R520=\"トーン3\",\"トーン3\",キー割付!R520=\"トーン4\",\"トーン4\",キー割付!R520=\"トーン5\",\"トーン5\",キー割付!R520=\"トーン6\",\"トーン6\",キー割付!R520=\"トーン7\",\"トーン7\",キー割付!R520=\"トーン7\",\"トーン7\",キー割付!R520=\"無鳴動着信\",\"トーン8\",キー割付!R520=\"グリーンスリーブス\",\"メロディ1\",キー割付!R520=\"峠の我が家\",\"メロディ2\",キー割付!R520=\"カノン\",\"メロディ3\",キー割付!R520=\"春の歌\",\"メロディ4\",キー割付!R520=\"主よ人の望みの喜びよ\",\"メロディ5\",キー割付!R520=\"メヌエット\",\"メロディ6\",キー割付!R520=\"華麗なる大円舞曲\",\"メロディ7\",キー割付!R520=\"ハンガリア舞曲第5番\",\"メロディ8\",TRUE,\"トーン1\"))","v":"トーン1"},{"$f":"IF(E94=\"ZX-DECLDIV-IPコードレス電話機\",\"トーン1\",_xlfn.IFS(キー割付!S520=\"着信音なし\",\"トーン1\",キー割付!S520=\"トーン1\",\"トーン1\",キー割付!S520=\"トーン2\",\"トーン2\",キー割付!S520=\"トーン3\",\"トーン3\",キー割付!S520=\"トーン4\",\"トーン4\",キー割付!S520=\"トーン5\",\"トーン5\",キー割付!S520=\"トーン6\",\"トーン6\",キー割付!S520=\"トーン7\",\"トーン7\",キー割付!S520=\"トーン7\",\"トーン7\",キー割付!S520=\"無鳴動着信\",\"トーン8\",キー割付!S520=\"グリーンスリーブス\",\"メロディ1\",キー割付!S520=\"峠の我が家\",\"メロディ2\",キー割付!S520=\"カノン\",\"メロディ3\",キー割付!S520=\"春の歌\",\"メロディ4\",キー割付!S520=\"主よ人の望みの喜びよ\",\"メロディ5\",キー割付!S520=\"メヌエット\",\"メロディ6\",キー割付!S520=\"華麗なる大円舞曲\",\"メロディ7\",キー割付!S520=\"ハンガリア舞曲第5番\",\"メロディ8\",TRUE,\"トーン1\"))","v":"トーン1"},{"$f":"IF(E94=\"ZX-DECLDIV-IPコードレス電話機\",\"トーン1\",_xlfn.IFS(キー割付!N528=\"着信音なし\",\"トーン1\",キー割付!N528=\"トーン1\",\"トーン1\",キー割付!N528=\"トーン2\",\"トーン2\",キー割付!N528=\"トーン3\",\"トーン3\",キー割付!N528=\"トーン4\",\"トーン4\",キー割付!N528=\"トーン5\",\"トーン5\",キー割付!N528=\"トーン6\",\"トーン6\",キー割付!N528=\"トーン7\",\"トーン7\",キー割付!N528=\"トーン7\",\"トーン7\",キー割付!N528=\"無鳴動着信\",\"トーン8\",キー割付!N528=\"グリーンスリーブス\",\"メロディ1\",キー割付!N528=\"峠の我が家\",\"メロディ2\",キー割付!N528=\"カノン\",\"メロディ3\",キー割付!N528=\"春の歌\",\"メロディ4\",キー割付!N528=\"主よ人の望みの喜びよ\",\"メロディ5\",キー割付!N528=\"メヌエット\",\"メロディ6\",キー割付!N528=\"華麗なる大円舞曲\",\"メロディ7\",キー割付!N528=\"ハンガリア舞曲第5番\",\"メロディ8\",TRUE,\"トーン1\"))","v":"トーン1"},{"$f":"IF(E94=\"ZX-DECLDIV-IPコードレス電話機\",\"トーン1\",_xlfn.IFS(キー割付!O528=\"着信音なし\",\"トーン1\",キー割付!O528=\"トーン1\",\"トーン1\",キー割付!O528=\"トーン2\",\"トーン2\",キー割付!O528=\"トーン3\",\"トーン3\",キー割付!O528=\"トーン4\",\"トーン4\",キー割付!O528=\"トーン5\",\"トーン5\",キー割付!O528=\"トーン6\",\"トーン6\",キー割付!O528=\"トーン7\",\"トーン7\",キー割付!O528=\"トーン7\",\"トーン7\",キー割付!O528=\"無鳴動着信\",\"トーン8\",キー割付!O528=\"グリーンスリーブス\",\"メロディ1\",キー割付!O528=\"峠の我が家\",\"メロディ2\",キー割付!O528=\"カノン\",\"メロディ3\",キー割付!O528=\"春の歌\",\"メロディ4\",キー割付!O528=\"主よ人の望みの喜びよ\",\"メロディ5\",キー割付!O528=\"メヌエット\",\"メロディ6\",キー割付!O528=\"華麗なる大円舞曲\",\"メロディ7\",キー割付!O528=\"ハンガリア舞曲第5番\",\"メロディ8\",TRUE,\"トーン1\"))","v":"トーン1"},{"$f":"IF(E94=\"ZX-DECLDIV-IPコードレス電話機\",\"トーン1\",_xlfn.IFS(キー割付!P528=\"着信音なし\",\"トーン1\",キー割付!P528=\"トーン1\",\"トーン1\",キー割付!P528=\"トーン2\",\"トーン2\",キー割付!P528=\"トーン3\",\"トーン3\",キー割付!P528=\"トーン4\",\"トーン4\",キー割付!P528=\"トーン5\",\"トーン5\",キー割付!P528=\"トーン6\",\"トーン6\",キー割付!P528=\"トーン7\",\"トーン7\",キー割付!P528=\"トーン7\",\"トーン7\",キー割付!P528=\"無鳴動着信\",\"トーン8\",キー割付!P528=\"グリーンスリーブス\",\"メロディ1\",キー割付!P528=\"峠の我が家\",\"メロディ2\",キー割付!P528=\"カノン\",\"メロディ3\",キー割付!P528=\"春の歌\",\"メロディ4\",キー割付!P528=\"主よ人の望みの喜びよ\",\"メロディ5\",キー割付!P528=\"メヌエット\",\"メロディ6\",キー割付!P528=\"華麗なる大円舞曲\",\"メロディ7\",キー割付!P528=\"ハンガリア舞曲第5番\",\"メロディ8\",TRUE,\"トーン1\"))","v":"トーン1"},{"$f":"IF(E94=\"ZX-DECLDIV-IPコードレス電話機\",\"トーン1\",_xlfn.IFS(キー割付!Q528=\"着信音なし\",\"トーン1\",キー割付!Q528=\"トーン1\",\"トーン1\",キー割付!Q528=\"トーン2\",\"トーン2\",キー割付!Q528=\"トーン3\",\"トーン3\",キー割付!Q528=\"トーン4\",\"トーン4\",キー割付!Q528=\"トーン5\",\"トーン5\",キー割付!Q528=\"トーン6\",\"トーン6\",キー割付!Q528=\"トーン7\",\"トーン7\",キー割付!Q528=\"トーン7\",\"トーン7\",キー割付!Q528=\"無鳴動着信\",\"トーン8\",キー割付!Q528=\"グリーンスリーブス\",\"メロディ1\",キー割付!Q528=\"峠の我が家\",\"メロディ2\",キー割付!Q528=\"カノン\",\"メロディ3\",キー割付!Q528=\"春の歌\",\"メロディ4\",キー割付!Q528=\"主よ人の望みの喜びよ\",\"メロディ5\",キー割付!Q528=\"メヌエット\",\"メロディ6\",キー割付!Q528=\"華麗なる大円舞曲\",\"メロディ7\",キー割付!Q528=\"ハンガリア舞曲第5番\",\"メロディ8\",TRUE,\"トーン1\"))","v":"トーン1"},{"$f":"IF(E94=\"ZX-DECLDIV-IPコードレス電話機\",\"トーン1\",_xlfn.IFS(キー割付!R528=\"着信音なし\",\"トーン1\",キー割付!R528=\"トーン1\",\"トーン1\",キー割付!R528=\"トーン2\",\"トーン2\",キー割付!R528=\"トーン3\",\"トーン3\",キー割付!R528=\"トーン4\",\"トーン4\",キー割付!R528=\"トーン5\",\"トーン5\",キー割付!R528=\"トーン6\",\"トーン6\",キー割付!R528=\"トーン7\",\"トーン7\",キー割付!R528=\"トーン7\",\"トーン7\",キー割付!R528=\"無鳴動着信\",\"トーン8\",キー割付!R528=\"グリーンスリーブス\",\"メロディ1\",キー割付!R528=\"峠の我が家\",\"メロディ2\",キー割付!R528=\"カノン\",\"メロディ3\",キー割付!R528=\"春の歌\",\"メロディ4\",キー割付!R528=\"主よ人の望みの喜びよ\",\"メロディ5\",キー割付!R528=\"メヌエット\",\"メロディ6\",キー割付!R528=\"華麗なる大円舞曲\",\"メロディ7\",キー割付!R528=\"ハンガリア舞曲第5番\",\"メロディ8\",TRUE,\"トーン1\"))","v":"トーン1"},{"$f":"IF(E94=\"ZX-DECLDIV-IPコードレス電話機\",\"トーン1\",_xlfn.IFS(キー割付!S528=\"着信音なし\",\"トーン1\",キー割付!S528=\"トーン1\",\"トーン1\",キー割付!S528=\"トーン2\",\"トーン2\",キー割付!S528=\"トーン3\",\"トーン3\",キー割付!S528=\"トーン4\",\"トーン4\",キー割付!S528=\"トーン5\",\"トーン5\",キー割付!S528=\"トーン6\",\"トーン6\",キー割付!S528=\"トーン7\",\"トーン7\",キー割付!S528=\"トーン7\",\"トーン7\",キー割付!S528=\"無鳴動着信\",\"トーン8\",キー割付!S528=\"グリーンスリーブス\",\"メロディ1\",キー割付!S528=\"峠の我が家\",\"メロディ2\",キー割付!S528=\"カノン\",\"メロディ3\",キー割付!S528=\"春の歌\",\"メロディ4\",キー割付!S528=\"主よ人の望みの喜びよ\",\"メロディ5\",キー割付!S528=\"メヌエット\",\"メロディ6\",キー割付!S528=\"華麗なる大円舞曲\",\"メロディ7\",キー割付!S528=\"ハンガリア舞曲第5番\",\"メロディ8\",TRUE,\"トーン1\"))","v":"トーン1"},{"$f":"IF(E94=\"ZX-DECLDIV-IPコードレス電話機\",\"トーン1\",_xlfn.IFS(キー割付!N536=\"着信音なし\",\"トーン1\",キー割付!N536=\"トーン1\",\"トーン1\",キー割付!N536=\"トーン2\",\"トーン2\",キー割付!N536=\"トーン3\",\"トーン3\",キー割付!N536=\"トーン4\",\"トーン4\",キー割付!N536=\"トーン5\",\"トーン5\",キー割付!N536=\"トーン6\",\"トーン6\",キー割付!N536=\"トーン7\",\"トーン7\",キー割付!N536=\"トーン7\",\"トーン7\",キー割付!N536=\"無鳴動着信\",\"トーン8\",キー割付!N536=\"グリーンスリーブス\",\"メロディ1\",キー割付!N536=\"峠の我が家\",\"メロディ2\",キー割付!N536=\"カノン\",\"メロディ3\",キー割付!N536=\"春の歌\",\"メロディ4\",キー割付!N536=\"主よ人の望みの喜びよ\",\"メロディ5\",キー割付!N536=\"メヌエット\",\"メロディ6\",キー割付!N536=\"華麗なる大円舞曲\",\"メロディ7\",キー割付!N536=\"ハンガリア舞曲第5番\",\"メロディ8\",TRUE,\"トーン1\"))","v":"トーン1"},{"$f":"IF(E94=\"ZX-DECLDIV-IPコードレス電話機\",\"トーン1\",_xlfn.IFS(キー割付!O536=\"着信音なし\",\"トーン1\",キー割付!O536=\"トーン1\",\"トーン1\",キー割付!O536=\"トーン2\",\"トーン2\",キー割付!O536=\"トーン3\",\"トーン3\",キー割付!O536=\"トーン4\",\"トーン4\",キー割付!O536=\"トーン5\",\"トーン5\",キー割付!O536=\"トーン6\",\"トーン6\",キー割付!O536=\"トーン7\",\"トーン7\",キー割付!O536=\"トーン7\",\"トーン7\",キー割付!O536=\"無鳴動着信\",\"トーン8\",キー割付!O536=\"グリーンスリーブス\",\"メロディ1\",キー割付!O536=\"峠の我が家\",\"メロディ2\",キー割付!O536=\"カノン\",\"メロディ3\",キー割付!O536=\"春の歌\",\"メロディ4\",キー割付!O536=\"主よ人の望みの喜びよ\",\"メロディ5\",キー割付!O536=\"メヌエット\",\"メロディ6\",キー割付!O536=\"華麗なる大円舞曲\",\"メロディ7\",キー割付!O536=\"ハンガリア舞曲第5番\",\"メロディ8\",TRUE,\"トーン1\"))","v":"トーン1"},{"$f":"IF(E94=\"ZX-DECLDIV-IPコードレス電話機\",\"トーン1\",_xlfn.IFS(キー割付!P536=\"着信音なし\",\"トーン1\",キー割付!P536=\"トーン1\",\"トーン1\",キー割付!P536=\"トーン2\",\"トーン2\",キー割付!P536=\"トーン3\",\"トーン3\",キー割付!P536=\"トーン4\",\"トーン4\",キー割付!P536=\"トーン5\",\"トーン5\",キー割付!P536=\"トーン6\",\"トーン6\",キー割付!P536=\"トーン7\",\"トーン7\",キー割付!P536=\"トーン7\",\"トーン7\",キー割付!P536=\"無鳴動着信\",\"トーン8\",キー割付!P536=\"グリーンスリーブス\",\"メロディ1\",キー割付!P536=\"峠の我が家\",\"メロディ2\",キー割付!P536=\"カノン\",\"メロディ3\",キー割付!P536=\"春の歌\",\"メロディ4\",キー割付!P536=\"主よ人の望みの喜びよ\",\"メロディ5\",キー割付!P536=\"メヌエット\",\"メロディ6\",キー割付!P536=\"華麗なる大円舞曲\",\"メロディ7\",キー割付!P536=\"ハンガリア舞曲第5番\",\"メロディ8\",TRUE,\"トーン1\"))","v":"トーン1"},{"$f":"IF(E94=\"ZX-DECLDIV-IPコードレス電話機\",\"トーン1\",_xlfn.IFS(キー割付!Q536=\"着信音なし\",\"トーン1\",キー割付!Q536=\"トーン1\",\"トーン1\",キー割付!Q536=\"トーン2\",\"トーン2\",キー割付!Q536=\"トーン3\",\"トーン3\",キー割付!Q536=\"トーン4\",\"トーン4\",キー割付!Q536=\"トーン5\",\"トーン5\",キー割付!Q536=\"トーン6\",\"トーン6\",キー割付!Q536=\"トーン7\",\"トーン7\",キー割付!Q536=\"トーン7\",\"トーン7\",キー割付!Q536=\"無鳴動着信\",\"トーン8\",キー割付!Q536=\"グリーンスリーブス\",\"メロディ1\",キー割付!Q536=\"峠の我が家\",\"メロディ2\",キー割付!Q536=\"カノン\",\"メロディ3\",キー割付!Q536=\"春の歌\",\"メロディ4\",キー割付!Q536=\"主よ人の望みの喜びよ\",\"メロディ5\",キー割付!Q536=\"メヌエット\",\"メロディ6\",キー割付!Q536=\"華麗なる大円舞曲\",\"メロディ7\",キー割付!Q536=\"ハンガリア舞曲第5番\",\"メロディ8\",TRUE,\"トーン1\"))","v":"トーン1"},{"$f":"IF(E94=\"ZX-DECLDIV-IPコードレス電話機\",\"トーン1\",_xlfn.IFS(キー割付!R536=\"着信音なし\",\"トーン1\",キー割付!R536=\"トーン1\",\"トーン1\",キー割付!R536=\"トーン2\",\"トーン2\",キー割付!R536=\"トーン3\",\"トーン3\",キー割付!R536=\"トーン4\",\"トーン4\",キー割付!R536=\"トーン5\",\"トーン5\",キー割付!R536=\"トーン6\",\"トーン6\",キー割付!R536=\"トーン7\",\"トーン7\",キー割付!R536=\"トーン7\",\"トーン7\",キー割付!R536=\"無鳴動着信\",\"トーン8\",キー割付!R536=\"グリーンスリーブス\",\"メロディ1\",キー割付!R536=\"峠の我が家\",\"メロディ2\",キー割付!R536=\"カノン\",\"メロディ3\",キー割付!R536=\"春の歌\",\"メロディ4\",キー割付!R536=\"主よ人の望みの喜びよ\",\"メロディ5\",キー割付!R536=\"メヌエット\",\"メロディ6\",キー割付!R536=\"華麗なる大円舞曲\",\"メロディ7\",キー割付!R536=\"ハンガリア舞曲第5番\",\"メロディ8\",TRUE,\"トーン1\"))","v":"トーン1"},{"$f":"IF(E94=\"ZX-DECLDIV-IPコードレス電話機\",\"トーン1\",_xlfn.IFS(キー割付!S536=\"着信音なし\",\"トーン1\",キー割付!S536=\"トーン1\",\"トーン1\",キー割付!S536=\"トーン2\",\"トーン2\",キー割付!S536=\"トーン3\",\"トーン3\",キー割付!S536=\"トーン4\",\"トーン4\",キー割付!S536=\"トーン5\",\"トーン5\",キー割付!S536=\"トーン6\",\"トーン6\",キー割付!S536=\"トーン7\",\"トーン7\",キー割付!S536=\"トーン7\",\"トーン7\",キー割付!S536=\"無鳴動着信\",\"トーン8\",キー割付!S536=\"グリーンスリーブス\",\"メロディ1\",キー割付!S536=\"峠の我が家\",\"メロディ2\",キー割付!S536=\"カノン\",\"メロディ3\",キー割付!S536=\"春の歌\",\"メロディ4\",キー割付!S536=\"主よ人の望みの喜びよ\",\"メロディ5\",キー割付!S536=\"メヌエット\",\"メロディ6\",キー割付!S536=\"華麗なる大円舞曲\",\"メロディ7\",キー割付!S536=\"ハンガリア舞曲第5番\",\"メロディ8\",TRUE,\"トーン1\"))","v":"トーン1"}]
[null,null,null,null,null,{"$f":"_xlfn.IFS(キー割付!N513=\"昼夜休憩\",\"B\",キー割付!N513=\"－－－\",\"-\",キー割付!N513=\"昼－－\",\"H\",キー割付!N513=\"－夜－\",\"N\",キー割付!N513=\"－－休憩\",\"P\",キー割付!N513=\"昼夜－\",\"N\",キー割付!N513=\"昼－休憩\",\"F\",キー割付!N513=\"－夜休憩\",\"K\",TRUE,\"-\")","v":"-"},{"$f":"_xlfn.IFS(キー割付!O513=\"昼夜休憩\",\"B\",キー割付!O513=\"－－－\",\"-\",キー割付!O513=\"昼－－\",\"H\",キー割付!O513=\"－夜－\",\"N\",キー割付!O513=\"－－休憩\",\"P\",キー割付!O513=\"昼夜－\",\"N\",キー割付!O513=\"昼－休憩\",\"F\",キー割付!O513=\"－夜休憩\",\"K\",TRUE,\"-\")","v":"-"},{"$f":"_xlfn.IFS(キー割付!P513=\"昼夜休憩\",\"B\",キー割付!P513=\"－－－\",\"-\",キー割付!P513=\"昼－－\",\"H\",キー割付!P513=\"－夜－\",\"N\",キー割付!P513=\"－－休憩\",\"P\",キー割付!P513=\"昼夜－\",\"N\",キー割付!P513=\"昼－休憩\",\"F\",キー割付!P513=\"－夜休憩\",\"K\",TRUE,\"-\")","v":"-"},{"$f":"_xlfn.IFS(キー割付!Q513=\"昼夜休憩\",\"B\",キー割付!Q513=\"－－－\",\"-\",キー割付!Q513=\"昼－－\",\"H\",キー割付!Q513=\"－夜－\",\"N\",キー割付!Q513=\"－－休憩\",\"P\",キー割付!Q513=\"昼夜－\",\"N\",キー割付!Q513=\"昼－休憩\",\"F\",キー割付!Q513=\"－夜休憩\",\"K\",TRUE,\"-\")","v":"-"},{"$f":"_xlfn.IFS(キー割付!R513=\"昼夜休憩\",\"B\",キー割付!R513=\"－－－\",\"-\",キー割付!R513=\"昼－－\",\"H\",キー割付!R513=\"－夜－\",\"N\",キー割付!R513=\"－－休憩\",\"P\",キー割付!R513=\"昼夜－\",\"N\",キー割付!R513=\"昼－休憩\",\"F\",キー割付!R513=\"－夜休憩\",\"K\",TRUE,\"-\")","v":"-"},{"$f":"_xlfn.IFS(キー割付!S513=\"昼夜休憩\",\"B\",キー割付!S513=\"－－－\",\"-\",キー割付!S513=\"昼－－\",\"H\",キー割付!S513=\"－夜－\",\"N\",キー割付!S513=\"－－休憩\",\"P\",キー割付!S513=\"昼夜－\",\"N\",キー割付!S513=\"昼－休憩\",\"F\",キー割付!S513=\"－夜休憩\",\"K\",TRUE,\"-\")","v":"-"},{"$f":"_xlfn.IFS(キー割付!N521=\"昼夜休憩\",\"B\",キー割付!N521=\"－－－\",\"-\",キー割付!N521=\"昼－－\",\"H\",キー割付!N521=\"－夜－\",\"N\",キー割付!N521=\"－－休憩\",\"P\",キー割付!N521=\"昼夜－\",\"N\",キー割付!N521=\"昼－休憩\",\"F\",キー割付!N521=\"－夜休憩\",\"K\",TRUE,\"-\")","v":"-"},{"$f":"_xlfn.IFS(キー割付!O521=\"昼夜休憩\",\"B\",キー割付!O521=\"－－－\",\"-\",キー割付!O521=\"昼－－\",\"H\",キー割付!O521=\"－夜－\",\"N\",キー割付!O521=\"－－休憩\",\"P\",キー割付!O521=\"昼夜－\",\"N\",キー割付!O521=\"昼－休憩\",\"F\",キー割付!O521=\"－夜休憩\",\"K\",TRUE,\"-\")","v":"-"},{"$f":"IF(E94=\"ZX-DECLDIV-IPコードレス電話機\",\"-\",_xlfn.IFS(キー割付!P521=\"昼夜休憩\",\"B\",キー割付!P521=\"－－－\",\"-\",キー割付!P521=\"昼－－\",\"H\",キー割付!P521=\"－夜－\",\"N\",キー割付!P521=\"－－休憩\",\"P\",キー割付!P521=\"昼夜－\",\"N\",キー割付!P521=\"昼－休憩\",\"F\",キー割付!P521=\"－夜休憩\",\"K\",TRUE,\"-\"))","v":"-"},{"$f":"IF(E94=\"ZX-DECLDIV-IPコードレス電話機\",\"-\",_xlfn.IFS(キー割付!Q521=\"昼夜休憩\",\"B\",キー割付!Q521=\"－－－\",\"-\",キー割付!Q521=\"昼－－\",\"H\",キー割付!Q521=\"－夜－\",\"N\",キー割付!Q521=\"－－休憩\",\"P\",キー割付!Q521=\"昼夜－\",\"N\",キー割付!Q521=\"昼－休憩\",\"F\",キー割付!Q521=\"－夜休憩\",\"K\",TRUE,\"-\"))","v":"-"},{"$f":"IF(E94=\"ZX-DECLDIV-IPコードレス電話機\",\"-\",_xlfn.IFS(キー割付!R521=\"昼夜休憩\",\"B\",キー割付!R521=\"－－－\",\"-\",キー割付!R521=\"昼－－\",\"H\",キー割付!R521=\"－夜－\",\"N\",キー割付!R521=\"－－休憩\",\"P\",キー割付!R521=\"昼夜－\",\"N\",キー割付!R521=\"昼－休憩\",\"F\",キー割付!R521=\"－夜休憩\",\"K\",TRUE,\"-\"))","v":"-"},{"$f":"IF(E94=\"ZX-DECLDIV-IPコードレス電話機\",\"-\",_xlfn.IFS(キー割付!S521=\"昼夜休憩\",\"B\",キー割付!S521=\"－－－\",\"-\",キー割付!S521=\"昼－－\",\"H\",キー割付!S521=\"－夜－\",\"N\",キー割付!S521=\"－－休憩\",\"P\",キー割付!S521=\"昼夜－\",\"N\",キー割付!S521=\"昼－休憩\",\"F\",キー割付!S521=\"－夜休憩\",\"K\",TRUE,\"-\"))","v":"-"},{"$f":"IF(E94=\"ZX-DECLDIV-IPコードレス電話機\",\"-\",_xlfn.IFS(キー割付!N529=\"昼夜休憩\",\"B\",キー割付!N529=\"－－－\",\"-\",キー割付!N529=\"昼－－\",\"H\",キー割付!N529=\"－夜－\",\"N\",キー割付!N529=\"－－休憩\",\"P\",キー割付!N529=\"昼夜－\",\"N\",キー割付!N529=\"昼－休憩\",\"F\",キー割付!N529=\"－夜休憩\",\"K\",TRUE,\"-\"))","v":"-"},{"$f":"IF(E94=\"ZX-DECLDIV-IPコードレス電話機\",\"-\",_xlfn.IFS(キー割付!O529=\"昼夜休憩\",\"B\",キー割付!O529=\"－－－\",\"-\",キー割付!O529=\"昼－－\",\"H\",キー割付!O529=\"－夜－\",\"N\",キー割付!O529=\"－－休憩\",\"P\",キー割付!O529=\"昼夜－\",\"N\",キー割付!O529=\"昼－休憩\",\"F\",キー割付!O529=\"－夜休憩\",\"K\",TRUE,\"-\"))","v":"-"},{"$f":"IF(E94=\"ZX-DECLDIV-IPコードレス電話機\",\"-\",_xlfn.IFS(キー割付!P529=\"昼夜休憩\",\"B\",キー割付!P529=\"－－－\",\"-\",キー割付!P529=\"昼－－\",\"H\",キー割付!P529=\"－夜－\",\"N\",キー割付!P529=\"－－休憩\",\"P\",キー割付!P529=\"昼夜－\",\"N\",キー割付!P529=\"昼－休憩\",\"F\",キー割付!P529=\"－夜休憩\",\"K\",TRUE,\"-\"))","v":"-"},{"$f":"IF(E94=\"ZX-DECLDIV-IPコードレス電話機\",\"-\",_xlfn.IFS(キー割付!Q529=\"昼夜休憩\",\"B\",キー割付!Q529=\"－－－\",\"-\",キー割付!Q529=\"昼－－\",\"H\",キー割付!Q529=\"－夜－\",\"N\",キー割付!Q529=\"－－休憩\",\"P\",キー割付!Q529=\"昼夜－\",\"N\",キー割付!Q529=\"昼－休憩\",\"F\",キー割付!Q529=\"－夜休憩\",\"K\",TRUE,\"-\"))","v":"-"},{"$f":"IF(E94=\"ZX-DECLDIV-IPコードレス電話機\",\"-\",_xlfn.IFS(キー割付!R529=\"昼夜休憩\",\"B\",キー割付!R529=\"－－－\",\"-\",キー割付!R529=\"昼－－\",\"H\",キー割付!R529=\"－夜－\",\"N\",キー割付!R529=\"－－休憩\",\"P\",キー割付!R529=\"昼夜－\",\"N\",キー割付!R529=\"昼－休憩\",\"F\",キー割付!R529=\"－夜休憩\",\"K\",TRUE,\"-\"))","v":"-"},{"$f":"IF(E94=\"ZX-DECLDIV-IPコードレス電話機\",\"-\",_xlfn.IFS(キー割付!S529=\"昼夜休憩\",\"B\",キー割付!S529=\"－－－\",\"-\",キー割付!S529=\"昼－－\",\"H\",キー割付!S529=\"－夜－\",\"N\",キー割付!S529=\"－－休憩\",\"P\",キー割付!S529=\"昼夜－\",\"N\",キー割付!S529=\"昼－休憩\",\"F\",キー割付!S529=\"－夜休憩\",\"K\",TRUE,\"-\"))","v":"-"},{"$f":"IF(E94=\"ZX-DECLDIV-IPコードレス電話機\",\"-\",_xlfn.IFS(キー割付!N537=\"昼夜休憩\",\"B\",キー割付!N537=\"－－－\",\"-\",キー割付!N537=\"昼－－\",\"H\",キー割付!N537=\"－夜－\",\"N\",キー割付!N537=\"－－休憩\",\"P\",キー割付!N537=\"昼夜－\",\"N\",キー割付!N537=\"昼－休憩\",\"F\",キー割付!N537=\"－夜休憩\",\"K\",TRUE,\"-\"))","v":"-"},{"$f":"IF(E94=\"ZX-DECLDIV-IPコードレス電話機\",\"-\",_xlfn.IFS(キー割付!O537=\"昼夜休憩\",\"B\",キー割付!O537=\"－－－\",\"-\",キー割付!O537=\"昼－－\",\"H\",キー割付!O537=\"－夜－\",\"N\",キー割付!O537=\"－－休憩\",\"P\",キー割付!O537=\"昼夜－\",\"N\",キー割付!O537=\"昼－休憩\",\"F\",キー割付!O537=\"－夜休憩\",\"K\",TRUE,\"-\"))","v":"-"},{"$f":"IF(E94=\"ZX-DECLDIV-IPコードレス電話機\",\"-\",_xlfn.IFS(キー割付!P537=\"昼夜休憩\",\"B\",キー割付!P537=\"－－－\",\"-\",キー割付!P537=\"昼－－\",\"H\",キー割付!P537=\"－夜－\",\"N\",キー割付!P537=\"－－休憩\",\"P\",キー割付!P537=\"昼夜－\",\"N\",キー割付!P537=\"昼－休憩\",\"F\",キー割付!P537=\"－夜休憩\",\"K\",TRUE,\"-\"))","v":"-"},{"$f":"IF(E94=\"ZX-DECLDIV-IPコードレス電話機\",\"-\",_xlfn.IFS(キー割付!Q537=\"昼夜休憩\",\"B\",キー割付!Q537=\"－－－\",\"-\",キー割付!Q537=\"昼－－\",\"H\",キー割付!Q537=\"－夜－\",\"N\",キー割付!Q537=\"－－休憩\",\"P\",キー割付!Q537=\"昼夜－\",\"N\",キー割付!Q537=\"昼－休憩\",\"F\",キー割付!Q537=\"－夜休憩\",\"K\",TRUE,\"-\"))","v":"-"},{"$f":"IF(E94=\"ZX-DECLDIV-IPコードレス電話機\",\"-\",_xlfn.IFS(キー割付!R537=\"昼夜休憩\",\"B\",キー割付!R537=\"－－－\",\"-\",キー割付!R537=\"昼－－\",\"H\",キー割付!R537=\"－夜－\",\"N\",キー割付!R537=\"－－休憩\",\"P\",キー割付!R537=\"昼夜－\",\"N\",キー割付!R537=\"昼－休憩\",\"F\",キー割付!R537=\"－夜休憩\",\"K\",TRUE,\"-\"))","v":"-"},{"$f":"IF(E94=\"ZX-DECLDIV-IPコードレス電話機\",\"-\",_xlfn.IFS(キー割付!S537=\"昼夜休憩\",\"B\",キー割付!S537=\"－－－\",\"-\",キー割付!S537=\"昼－－\",\"H\",キー割付!S537=\"－夜－\",\"N\",キー割付!S537=\"－－休憩\",\"P\",キー割付!S537=\"昼夜－\",\"N\",キー割付!S537=\"昼－休憩\",\"F\",キー割付!S537=\"－夜休憩\",\"K\",TRUE,\"-\"))","v":"-"}]
[null,31,{"$f":"IF(IFERROR(VALUE(VLOOKUP(B97,内線_キー割用,2,FALSE)),\"\")=0,\"\",IFERROR(VALUE(VLOOKUP(B97,内線_キー割用,2,FALSE)),\"\"))","v":""},{"$f":"IF(IFERROR(VALUE(VLOOKUP(B97,内線_キー割用,4,FALSE)),\"\")=0,\"\",IFERROR(VALUE(VLOOKUP(B97,内線_キー割用,4,FALSE)),\"\"))","v":""},{"$f":"IF(IFERROR(VLOOKUP(B97,内線_キー割用,3,FALSE),\"\")=0,\"\",IFERROR(VLOOKUP(B97,内線_キー割用,3,FALSE),\"\"))","v":""},{"$f":"IF(キー割付!D547=\"\",\"未使用\",キー割付!D547)","v":"未使用"},{"$f":"IF(キー割付!E547=\"\",\"未使用\",キー割付!E547)","v":"未使用"},{"$f":"IF(キー割付!F547=\"\",\"未使用\",キー割付!F547)","v":"未使用"},{"$f":"IF(キー割付!G547=\"\",\"未使用\",キー割付!G547)","v":"未使用"},{"$f":"IF(キー割付!H547=\"\",\"未使用\",キー割付!H547)","v":"未使用"},{"$f":"IF(キー割付!I547=\"\",\"未使用\",キー割付!I547)","v":"未使用"},{"$f":"IF(キー割付!D555=\"\",\"未使用\",キー割付!D555)","v":"未使用"},{"$f":"IF(キー割付!E555=\"\",\"未使用\",キー割付!E555)","v":"未使用"},{"$f":"IF(E97=\"ZX-DECLDIV-IPコードレス電話機\",\"未使用\",IF(キー割付!F555=\"\",\"未使用\",キー割付!F555))","v":"未使用"},{"$f":"IF(E97=\"ZX-DECLDIV-IPコードレス電話機\",\"未使用\",IF(キー割付!G555=\"\",\"未使用\",キー割付!G555))","v":"未使用"},{"$f":"IF(E97=\"ZX-DECLDIV-IPコードレス電話機\",\"未使用\",IF(キー割付!H555=\"\",\"未使用\",キー割付!H555))","v":"未使用"},{"$f":"IF(E97=\"ZX-DECLDIV-IPコードレス電話機\",\"未使用\",IF(キー割付!I555=\"\",\"未使用\",キー割付!I555))","v":"未使用"},{"$f":"IF(E97=\"ZX-DECLDIV-IPコードレス電話機\",\"未使用\",IF(キー割付!D563=\"\",\"未使用\",キー割付!D563))","v":"未使用"},{"$f":"IF(E97=\"ZX-DECLDIV-IPコードレス電話機\",\"未使用\",IF(キー割付!E563=\"\",\"未使用\",キー割付!E563))","v":"未使用"},{"$f":"IF(E97=\"ZX-DECLDIV-IPコードレス電話機\",\"未使用\",IF(キー割付!F563=\"\",\"未使用\",キー割付!F563))","v":"未使用"},{"$f":"IF(E97=\"ZX-DECLDIV-IPコードレス電話機\",\"未使用\",IF(キー割付!G563=\"\",\"未使用\",キー割付!G563))","v":"未使用"},{"$f":"IF(E97=\"ZX-DECLDIV-IPコードレス電話機\",\"未使用\",IF(キー割付!H563=\"\",\"未使用\",キー割付!H563))","v":"未使用"},{"$f":"IF(E97=\"ZX-DECLDIV-IPコードレス電話機\",\"未使用\",IF(キー割付!I563=\"\",\"未使用\",キー割付!I563))","v":"未使用"},{"$f":"IF(E97=\"ZX-DECLDIV-IPコードレス電話機\",\"未使用\",IF(キー割付!D571=\"\",\"未使用\",キー割付!D571))","v":"未使用"},{"$f":"IF(E97=\"ZX-DECLDIV-IPコードレス電話機\",\"未使用\",IF(キー割付!E571=\"\",\"未使用\",キー割付!E571))","v":"未使用"},{"$f":"IF(E97=\"ZX-DECLDIV-IPコードレス電話機\",\"未使用\",IF(キー割付!F571=\"\",\"未使用\",キー割付!F571))","v":"未使用"},{"$f":"IF(E97=\"ZX-DECLDIV-IPコードレス電話機\",\"未使用\",IF(キー割付!G571=\"\",\"未使用\",キー割付!G571))","v":"未使用"},{"$f":"IF(E97=\"ZX-DECLDIV-IPコードレス電話機\",\"未使用\",IF(キー割付!H571=\"\",\"未使用\",キー割付!H571))","v":"未使用"},{"$f":"IF(E97=\"ZX-DECLDIV-IPコードレス電話機\",\"未使用\",IF(キー割付!I571=\"\",\"未使用\",キー割付!I571))","v":"未使用"}]
[null,null,null,null,null,{"$f":"_xlfn.IFS(キー割付!D548=\"着信音なし\",\"トーン1\",キー割付!D548=\"トーン1\",\"トーン1\",キー割付!D548=\"トーン2\",\"トーン2\",キー割付!D548=\"トーン3\",\"トーン3\",キー割付!D548=\"トーン4\",\"トーン4\",キー割付!D548=\"トーン5\",\"トーン5\",キー割付!D548=\"トーン6\",\"トーン6\",キー割付!D548=\"トーン7\",\"トーン7\",キー割付!D548=\"トーン7\",\"トーン7\",キー割付!D548=\"無鳴動着信\",\"トーン8\",キー割付!D548=\"グリーンスリーブス\",\"メロディ1\",キー割付!D548=\"峠の我が家\",\"メロディ2\",キー割付!D548=\"カノン\",\"メロディ3\",キー割付!D548=\"春の歌\",\"メロディ4\",キー割付!D548=\"主よ人の望みの喜びよ\",\"メロディ5\",キー割付!D548=\"メヌエット\",\"メロディ6\",キー割付!D548=\"華麗なる大円舞曲\",\"メロディ7\",キー割付!D548=\"ハンガリア舞曲第5番\",\"メロディ8\",TRUE,\"トーン1\")","v":"トーン1"},{"$f":"_xlfn.IFS(キー割付!E548=\"着信音なし\",\"トーン1\",キー割付!E548=\"トーン1\",\"トーン1\",キー割付!E548=\"トーン2\",\"トーン2\",キー割付!E548=\"トーン3\",\"トーン3\",キー割付!E548=\"トーン4\",\"トーン4\",キー割付!E548=\"トーン5\",\"トーン5\",キー割付!E548=\"トーン6\",\"トーン6\",キー割付!E548=\"トーン7\",\"トーン7\",キー割付!E548=\"トーン7\",\"トーン7\",キー割付!E548=\"無鳴動着信\",\"トーン8\",キー割付!E548=\"グリーンスリーブス\",\"メロディ1\",キー割付!E548=\"峠の我が家\",\"メロディ2\",キー割付!E548=\"カノン\",\"メロディ3\",キー割付!E548=\"春の歌\",\"メロディ4\",キー割付!E548=\"主よ人の望みの喜びよ\",\"メロディ5\",キー割付!E548=\"メヌエット\",\"メロディ6\",キー割付!E548=\"華麗なる大円舞曲\",\"メロディ7\",キー割付!E548=\"ハンガリア舞曲第5番\",\"メロディ8\",TRUE,\"トーン1\")","v":"トーン1"},{"$f":"_xlfn.IFS(キー割付!F548=\"着信音なし\",\"トーン1\",キー割付!F548=\"トーン1\",\"トーン1\",キー割付!F548=\"トーン2\",\"トーン2\",キー割付!F548=\"トーン3\",\"トーン3\",キー割付!F548=\"トーン4\",\"トーン4\",キー割付!F548=\"トーン5\",\"トーン5\",キー割付!F548=\"トーン6\",\"トーン6\",キー割付!F548=\"トーン7\",\"トーン7\",キー割付!F548=\"トーン7\",\"トーン7\",キー割付!F548=\"無鳴動着信\",\"トーン8\",キー割付!F548=\"グリーンスリーブス\",\"メロディ1\",キー割付!F548=\"峠の我が家\",\"メロディ2\",キー割付!F548=\"カノン\",\"メロディ3\",キー割付!F548=\"春の歌\",\"メロディ4\",キー割付!F548=\"主よ人の望みの喜びよ\",\"メロディ5\",キー割付!F548=\"メヌエット\",\"メロディ6\",キー割付!F548=\"華麗なる大円舞曲\",\"メロディ7\",キー割付!F548=\"ハンガリア舞曲第5番\",\"メロディ8\",TRUE,\"トーン1\")","v":"トーン1"},{"$f":"_xlfn.IFS(キー割付!G548=\"着信音なし\",\"トーン1\",キー割付!G548=\"トーン1\",\"トーン1\",キー割付!G548=\"トーン2\",\"トーン2\",キー割付!G548=\"トーン3\",\"トーン3\",キー割付!G548=\"トーン4\",\"トーン4\",キー割付!G548=\"トーン5\",\"トーン5\",キー割付!G548=\"トーン6\",\"トーン6\",キー割付!G548=\"トーン7\",\"トーン7\",キー割付!G548=\"トーン7\",\"トーン7\",キー割付!G548=\"無鳴動着信\",\"トーン8\",キー割付!G548=\"グリーンスリーブス\",\"メロディ1\",キー割付!G548=\"峠の我が家\",\"メロディ2\",キー割付!G548=\"カノン\",\"メロディ3\",キー割付!G548=\"春の歌\",\"メロディ4\",キー割付!G548=\"主よ人の望みの喜びよ\",\"メロディ5\",キー割付!G548=\"メヌエット\",\"メロディ6\",キー割付!G548=\"華麗なる大円舞曲\",\"メロディ7\",キー割付!G548=\"ハンガリア舞曲第5番\",\"メロディ8\",TRUE,\"トーン1\")","v":"トーン1"},{"$f":"_xlfn.IFS(キー割付!H548=\"着信音なし\",\"トーン1\",キー割付!H548=\"トーン1\",\"トーン1\",キー割付!H548=\"トーン2\",\"トーン2\",キー割付!H548=\"トーン3\",\"トーン3\",キー割付!H548=\"トーン4\",\"トーン4\",キー割付!H548=\"トーン5\",\"トーン5\",キー割付!H548=\"トーン6\",\"トーン6\",キー割付!H548=\"トーン7\",\"トーン7\",キー割付!H548=\"トーン7\",\"トーン7\",キー割付!H548=\"無鳴動着信\",\"トーン8\",キー割付!H548=\"グリーンスリーブス\",\"メロディ1\",キー割付!H548=\"峠の我が家\",\"メロディ2\",キー割付!H548=\"カノン\",\"メロディ3\",キー割付!H548=\"春の歌\",\"メロディ4\",キー割付!H548=\"主よ人の望みの喜びよ\",\"メロディ5\",キー割付!H548=\"メヌエット\",\"メロディ6\",キー割付!H548=\"華麗なる大円舞曲\",\"メロディ7\",キー割付!H548=\"ハンガリア舞曲第5番\",\"メロディ8\",TRUE,\"トーン1\")","v":"トーン1"},{"$f":"_xlfn.IFS(キー割付!I548=\"着信音なし\",\"トーン1\",キー割付!I548=\"トーン1\",\"トーン1\",キー割付!I548=\"トーン2\",\"トーン2\",キー割付!I548=\"トーン3\",\"トーン3\",キー割付!I548=\"トーン4\",\"トーン4\",キー割付!I548=\"トーン5\",\"トーン5\",キー割付!I548=\"トーン6\",\"トーン6\",キー割付!I548=\"トーン7\",\"トーン7\",キー割付!I548=\"トーン7\",\"トーン7\",キー割付!I548=\"無鳴動着信\",\"トーン8\",キー割付!I548=\"グリーンスリーブス\",\"メロディ1\",キー割付!I548=\"峠の我が家\",\"メロディ2\",キー割付!I548=\"カノン\",\"メロディ3\",キー割付!I548=\"春の歌\",\"メロディ4\",キー割付!I548=\"主よ人の望みの喜びよ\",\"メロディ5\",キー割付!I548=\"メヌエット\",\"メロディ6\",キー割付!I548=\"華麗なる大円舞曲\",\"メロディ7\",キー割付!I548=\"ハンガリア舞曲第5番\",\"メロディ8\",TRUE,\"トーン1\")","v":"トーン1"},{"$f":"_xlfn.IFS(キー割付!D556=\"着信音なし\",\"トーン1\",キー割付!D556=\"トーン1\",\"トーン1\",キー割付!D556=\"トーン2\",\"トーン2\",キー割付!D556=\"トーン3\",\"トーン3\",キー割付!D556=\"トーン4\",\"トーン4\",キー割付!D556=\"トーン5\",\"トーン5\",キー割付!D556=\"トーン6\",\"トーン6\",キー割付!D556=\"トーン7\",\"トーン7\",キー割付!D556=\"トーン7\",\"トーン7\",キー割付!D556=\"無鳴動着信\",\"トーン8\",キー割付!D556=\"グリーンスリーブス\",\"メロディ1\",キー割付!D556=\"峠の我が家\",\"メロディ2\",キー割付!D556=\"カノン\",\"メロディ3\",キー割付!D556=\"春の歌\",\"メロディ4\",キー割付!D556=\"主よ人の望みの喜びよ\",\"メロディ5\",キー割付!D556=\"メヌエット\",\"メロディ6\",キー割付!D556=\"華麗なる大円舞曲\",\"メロディ7\",キー割付!D556=\"ハンガリア舞曲第5番\",\"メロディ8\",TRUE,\"トーン1\")","v":"トーン1"},{"$f":"_xlfn.IFS(キー割付!E556=\"着信音なし\",\"トーン1\",キー割付!E556=\"トーン1\",\"トーン1\",キー割付!E556=\"トーン2\",\"トーン2\",キー割付!E556=\"トーン3\",\"トーン3\",キー割付!E556=\"トーン4\",\"トーン4\",キー割付!E556=\"トーン5\",\"トーン5\",キー割付!E556=\"トーン6\",\"トーン6\",キー割付!E556=\"トーン7\",\"トーン7\",キー割付!E556=\"トーン7\",\"トーン7\",キー割付!E556=\"無鳴動着信\",\"トーン8\",キー割付!E556=\"グリーンスリーブス\",\"メロディ1\",キー割付!E556=\"峠の我が家\",\"メロディ2\",キー割付!E556=\"カノン\",\"メロディ3\",キー割付!E556=\"春の歌\",\"メロディ4\",キー割付!E556=\"主よ人の望みの喜びよ\",\"メロディ5\",キー割付!E556=\"メヌエット\",\"メロディ6\",キー割付!E556=\"華麗なる大円舞曲\",\"メロディ7\",キー割付!E556=\"ハンガリア舞曲第5番\",\"メロディ8\",TRUE,\"トーン1\")","v":"トーン1"},{"$f":"IF(E97=\"ZX-DECLDIV-IPコードレス電話機\",\"トーン1\",_xlfn.IFS(キー割付!F556=\"着信音なし\",\"トーン1\",キー割付!F556=\"トーン1\",\"トーン1\",キー割付!F556=\"トーン2\",\"トーン2\",キー割付!F556=\"トーン3\",\"トーン3\",キー割付!F556=\"トーン4\",\"トーン4\",キー割付!F556=\"トーン5\",\"トーン5\",キー割付!F556=\"トーン6\",\"トーン6\",キー割付!F556=\"トーン7\",\"トーン7\",キー割付!F556=\"トーン7\",\"トーン7\",キー割付!F556=\"無鳴動着信\",\"トーン8\",キー割付!F556=\"グリーンスリーブス\",\"メロディ1\",キー割付!F556=\"峠の我が家\",\"メロディ2\",キー割付!F556=\"カノン\",\"メロディ3\",キー割付!F556=\"春の歌\",\"メロディ4\",キー割付!F556=\"主よ人の望みの喜びよ\",\"メロディ5\",キー割付!F556=\"メヌエット\",\"メロディ6\",キー割付!F556=\"華麗なる大円舞曲\",\"メロディ7\",キー割付!F556=\"ハンガリア舞曲第5番\",\"メロディ8\",TRUE,\"トーン1\"))","v":"トーン1"},{"$f":"IF(E97=\"ZX-DECLDIV-IPコードレス電話機\",\"トーン1\",_xlfn.IFS(キー割付!G556=\"着信音なし\",\"トーン1\",キー割付!G556=\"トーン1\",\"トーン1\",キー割付!G556=\"トーン2\",\"トーン2\",キー割付!G556=\"トーン3\",\"トーン3\",キー割付!G556=\"トーン4\",\"トーン4\",キー割付!G556=\"トーン5\",\"トーン5\",キー割付!G556=\"トーン6\",\"トーン6\",キー割付!G556=\"トーン7\",\"トーン7\",キー割付!G556=\"トーン7\",\"トーン7\",キー割付!G556=\"無鳴動着信\",\"トーン8\",キー割付!G556=\"グリーンスリーブス\",\"メロディ1\",キー割付!G556=\"峠の我が家\",\"メロディ2\",キー割付!G556=\"カノン\",\"メロディ3\",キー割付!G556=\"春の歌\",\"メロディ4\",キー割付!G556=\"主よ人の望みの喜びよ\",\"メロディ5\",キー割付!G556=\"メヌエット\",\"メロディ6\",キー割付!G556=\"華麗なる大円舞曲\",\"メロディ7\",キー割付!G556=\"ハンガリア舞曲第5番\",\"メロディ8\",TRUE,\"トーン1\"))","v":"トーン1"},{"$f":"IF(E97=\"ZX-DECLDIV-IPコードレス電話機\",\"トーン1\",_xlfn.IFS(キー割付!H556=\"着信音なし\",\"トーン1\",キー割付!H556=\"トーン1\",\"トーン1\",キー割付!H556=\"トーン2\",\"トーン2\",キー割付!H556=\"トーン3\",\"トーン3\",キー割付!H556=\"トーン4\",\"トーン4\",キー割付!H556=\"トーン5\",\"トーン5\",キー割付!H556=\"トーン6\",\"トーン6\",キー割付!H556=\"トーン7\",\"トーン7\",キー割付!H556=\"トーン7\",\"トーン7\",キー割付!H556=\"無鳴動着信\",\"トーン8\",キー割付!H556=\"グリーンスリーブス\",\"メロディ1\",キー割付!H556=\"峠の我が家\",\"メロディ2\",キー割付!H556=\"カノン\",\"メロディ3\",キー割付!H556=\"春の歌\",\"メロディ4\",キー割付!H556=\"主よ人の望みの喜びよ\",\"メロディ5\",キー割付!H556=\"メヌエット\",\"メロディ6\",キー割付!H556=\"華麗なる大円舞曲\",\"メロディ7\",キー割付!H556=\"ハンガリア舞曲第5番\",\"メロディ8\",TRUE,\"トーン1\"))","v":"トーン1"},{"$f":"IF(E97=\"ZX-DECLDIV-IPコードレス電話機\",\"トーン1\",_xlfn.IFS(キー割付!I556=\"着信音なし\",\"トーン1\",キー割付!I556=\"トーン1\",\"トーン1\",キー割付!I556=\"トーン2\",\"トーン2\",キー割付!I556=\"トーン3\",\"トーン3\",キー割付!I556=\"トーン4\",\"トーン4\",キー割付!I556=\"トーン5\",\"トーン5\",キー割付!I556=\"トーン6\",\"トーン6\",キー割付!I556=\"トーン7\",\"トーン7\",キー割付!I556=\"トーン7\",\"トーン7\",キー割付!I556=\"無鳴動着信\",\"トーン8\",キー割付!I556=\"グリーンスリーブス\",\"メロディ1\",キー割付!I556=\"峠の我が家\",\"メロディ2\",キー割付!I556=\"カノン\",\"メロディ3\",キー割付!I556=\"春の歌\",\"メロディ4\",キー割付!I556=\"主よ人の望みの喜びよ\",\"メロディ5\",キー割付!I556=\"メヌエット\",\"メロディ6\",キー割付!I556=\"華麗なる大円舞曲\",\"メロディ7\",キー割付!I556=\"ハンガリア舞曲第5番\",\"メロディ8\",TRUE,\"トーン1\"))","v":"トーン1"},{"$f":"IF(E97=\"ZX-DECLDIV-IPコードレス電話機\",\"トーン1\",_xlfn.IFS(キー割付!D564=\"着信音なし\",\"トーン1\",キー割付!D564=\"トーン1\",\"トーン1\",キー割付!D564=\"トーン2\",\"トーン2\",キー割付!D564=\"トーン3\",\"トーン3\",キー割付!D564=\"トーン4\",\"トーン4\",キー割付!D564=\"トーン5\",\"トーン5\",キー割付!D564=\"トーン6\",\"トーン6\",キー割付!D564=\"トーン7\",\"トーン7\",キー割付!D564=\"トーン7\",\"トーン7\",キー割付!D564=\"無鳴動着信\",\"トーン8\",キー割付!D564=\"グリーンスリーブス\",\"メロディ1\",キー割付!D564=\"峠の我が家\",\"メロディ2\",キー割付!D564=\"カノン\",\"メロディ3\",キー割付!D564=\"春の歌\",\"メロディ4\",キー割付!D564=\"主よ人の望みの喜びよ\",\"メロディ5\",キー割付!D564=\"メヌエット\",\"メロディ6\",キー割付!D564=\"華麗なる大円舞曲\",\"メロディ7\",キー割付!D564=\"ハンガリア舞曲第5番\",\"メロディ8\",TRUE,\"トーン1\"))","v":"トーン1"},{"$f":"IF(E97=\"ZX-DECLDIV-IPコードレス電話機\",\"トーン1\",_xlfn.IFS(キー割付!E564=\"着信音なし\",\"トーン1\",キー割付!E564=\"トーン1\",\"トーン1\",キー割付!E564=\"トーン2\",\"トーン2\",キー割付!E564=\"トーン3\",\"トーン3\",キー割付!E564=\"トーン4\",\"トーン4\",キー割付!E564=\"トーン5\",\"トーン5\",キー割付!E564=\"トーン6\",\"トーン6\",キー割付!E564=\"トーン7\",\"トーン7\",キー割付!E564=\"トーン7\",\"トーン7\",キー割付!E564=\"無鳴動着信\",\"トーン8\",キー割付!E564=\"グリーンスリーブス\",\"メロディ1\",キー割付!E564=\"峠の我が家\",\"メロディ2\",キー割付!E564=\"カノン\",\"メロディ3\",キー割付!E564=\"春の歌\",\"メロディ4\",キー割付!E564=\"主よ人の望みの喜びよ\",\"メロディ5\",キー割付!E564=\"メヌエット\",\"メロディ6\",キー割付!E564=\"華麗なる大円舞曲\",\"メロディ7\",キー割付!E564=\"ハンガリア舞曲第5番\",\"メロディ8\",TRUE,\"トーン1\"))","v":"トーン1"},{"$f":"IF(E97=\"ZX-DECLDIV-IPコードレス電話機\",\"トーン1\",_xlfn.IFS(キー割付!F564=\"着信音なし\",\"トーン1\",キー割付!F564=\"トーン1\",\"トーン1\",キー割付!F564=\"トーン2\",\"トーン2\",キー割付!F564=\"トーン3\",\"トーン3\",キー割付!F564=\"トーン4\",\"トーン4\",キー割付!F564=\"トーン5\",\"トーン5\",キー割付!F564=\"トーン6\",\"トーン6\",キー割付!F564=\"トーン7\",\"トーン7\",キー割付!F564=\"トーン7\",\"トーン7\",キー割付!F564=\"無鳴動着信\",\"トーン8\",キー割付!F564=\"グリーンスリーブス\",\"メロディ1\",キー割付!F564=\"峠の我が家\",\"メロディ2\",キー割付!F564=\"カノン\",\"メロディ3\",キー割付!F564=\"春の歌\",\"メロディ4\",キー割付!F564=\"主よ人の望みの喜びよ\",\"メロディ5\",キー割付!F564=\"メヌエット\",\"メロディ6\",キー割付!F564=\"華麗なる大円舞曲\",\"メロディ7\",キー割付!F564=\"ハンガリア舞曲第5番\",\"メロディ8\",TRUE,\"トーン1\"))","v":"トーン1"},{"$f":"IF(E97=\"ZX-DECLDIV-IPコードレス電話機\",\"トーン1\",_xlfn.IFS(キー割付!G564=\"着信音なし\",\"トーン1\",キー割付!G564=\"トーン1\",\"トーン1\",キー割付!G564=\"トーン2\",\"トーン2\",キー割付!G564=\"トーン3\",\"トーン3\",キー割付!G564=\"トーン4\",\"トーン4\",キー割付!G564=\"トーン5\",\"トーン5\",キー割付!G564=\"トーン6\",\"トーン6\",キー割付!G564=\"トーン7\",\"トーン7\",キー割付!G564=\"トーン7\",\"トーン7\",キー割付!G564=\"無鳴動着信\",\"トーン8\",キー割付!G564=\"グリーンスリーブス\",\"メロディ1\",キー割付!G564=\"峠の我が家\",\"メロディ2\",キー割付!G564=\"カノン\",\"メロディ3\",キー割付!G564=\"春の歌\",\"メロディ4\",キー割付!G564=\"主よ人の望みの喜びよ\",\"メロディ5\",キー割付!G564=\"メヌエット\",\"メロディ6\",キー割付!G564=\"華麗なる大円舞曲\",\"メロディ7\",キー割付!G564=\"ハンガリア舞曲第5番\",\"メロディ8\",TRUE,\"トーン1\"))","v":"トーン1"},{"$f":"IF(E97=\"ZX-DECLDIV-IPコードレス電話機\",\"トーン1\",_xlfn.IFS(キー割付!H564=\"着信音なし\",\"トーン1\",キー割付!H564=\"トーン1\",\"トーン1\",キー割付!H564=\"トーン2\",\"トーン2\",キー割付!H564=\"トーン3\",\"トーン3\",キー割付!H564=\"トーン4\",\"トーン4\",キー割付!H564=\"トーン5\",\"トーン5\",キー割付!H564=\"トーン6\",\"トーン6\",キー割付!H564=\"トーン7\",\"トーン7\",キー割付!H564=\"トーン7\",\"トーン7\",キー割付!H564=\"無鳴動着信\",\"トーン8\",キー割付!H564=\"グリーンスリーブス\",\"メロディ1\",キー割付!H564=\"峠の我が家\",\"メロディ2\",キー割付!H564=\"カノン\",\"メロディ3\",キー割付!H564=\"春の歌\",\"メロディ4\",キー割付!H564=\"主よ人の望みの喜びよ\",\"メロディ5\",キー割付!H564=\"メヌエット\",\"メロディ6\",キー割付!H564=\"華麗なる大円舞曲\",\"メロディ7\",キー割付!H564=\"ハンガリア舞曲第5番\",\"メロディ8\",TRUE,\"トーン1\"))","v":"トーン1"},{"$f":"IF(E97=\"ZX-DECLDIV-IPコードレス電話機\",\"トーン1\",_xlfn.IFS(キー割付!I564=\"着信音なし\",\"トーン1\",キー割付!I564=\"トーン1\",\"トーン1\",キー割付!I564=\"トーン2\",\"トーン2\",キー割付!I564=\"トーン3\",\"トーン3\",キー割付!I564=\"トーン4\",\"トーン4\",キー割付!I564=\"トーン5\",\"トーン5\",キー割付!I564=\"トーン6\",\"トーン6\",キー割付!I564=\"トーン7\",\"トーン7\",キー割付!I564=\"トーン7\",\"トーン7\",キー割付!I564=\"無鳴動着信\",\"トーン8\",キー割付!I564=\"グリーンスリーブス\",\"メロディ1\",キー割付!I564=\"峠の我が家\",\"メロディ2\",キー割付!I564=\"カノン\",\"メロディ3\",キー割付!I564=\"春の歌\",\"メロディ4\",キー割付!I564=\"主よ人の望みの喜びよ\",\"メロディ5\",キー割付!I564=\"メヌエット\",\"メロディ6\",キー割付!I564=\"華麗なる大円舞曲\",\"メロディ7\",キー割付!I564=\"ハンガリア舞曲第5番\",\"メロディ8\",TRUE,\"トーン1\"))","v":"トーン1"},{"$f":"IF(E97=\"ZX-DECLDIV-IPコードレス電話機\",\"トーン1\",_xlfn.IFS(キー割付!D572=\"着信音なし\",\"トーン1\",キー割付!D572=\"トーン1\",\"トーン1\",キー割付!D572=\"トーン2\",\"トーン2\",キー割付!D572=\"トーン3\",\"トーン3\",キー割付!D572=\"トーン4\",\"トーン4\",キー割付!D572=\"トーン5\",\"トーン5\",キー割付!D572=\"トーン6\",\"トーン6\",キー割付!D572=\"トーン7\",\"トーン7\",キー割付!D572=\"トーン7\",\"トーン7\",キー割付!D572=\"無鳴動着信\",\"トーン8\",キー割付!D572=\"グリーンスリーブス\",\"メロディ1\",キー割付!D572=\"峠の我が家\",\"メロディ2\",キー割付!D572=\"カノン\",\"メロディ3\",キー割付!D572=\"春の歌\",\"メロディ4\",キー割付!D572=\"主よ人の望みの喜びよ\",\"メロディ5\",キー割付!D572=\"メヌエット\",\"メロディ6\",キー割付!D572=\"華麗なる大円舞曲\",\"メロディ7\",キー割付!D572=\"ハンガリア舞曲第5番\",\"メロディ8\",TRUE,\"トーン1\"))","v":"トーン1"},{"$f":"IF(E97=\"ZX-DECLDIV-IPコードレス電話機\",\"トーン1\",_xlfn.IFS(キー割付!E572=\"着信音なし\",\"トーン1\",キー割付!E572=\"トーン1\",\"トーン1\",キー割付!E572=\"トーン2\",\"トーン2\",キー割付!E572=\"トーン3\",\"トーン3\",キー割付!E572=\"トーン4\",\"トーン4\",キー割付!E572=\"トーン5\",\"トーン5\",キー割付!E572=\"トーン6\",\"トーン6\",キー割付!E572=\"トーン7\",\"トーン7\",キー割付!E572=\"トーン7\",\"トーン7\",キー割付!E572=\"無鳴動着信\",\"トーン8\",キー割付!E572=\"グリーンスリーブス\",\"メロディ1\",キー割付!E572=\"峠の我が家\",\"メロディ2\",キー割付!E572=\"カノン\",\"メロディ3\",キー割付!E572=\"春の歌\",\"メロディ4\",キー割付!E572=\"主よ人の望みの喜びよ\",\"メロディ5\",キー割付!E572=\"メヌエット\",\"メロディ6\",キー割付!E572=\"華麗なる大円舞曲\",\"メロディ7\",キー割付!E572=\"ハンガリア舞曲第5番\",\"メロディ8\",TRUE,\"トーン1\"))","v":"トーン1"},{"$f":"IF(E97=\"ZX-DECLDIV-IPコードレス電話機\",\"トーン1\",_xlfn.IFS(キー割付!F572=\"着信音なし\",\"トーン1\",キー割付!F572=\"トーン1\",\"トーン1\",キー割付!F572=\"トーン2\",\"トーン2\",キー割付!F572=\"トーン3\",\"トーン3\",キー割付!F572=\"トーン4\",\"トーン4\",キー割付!F572=\"トーン5\",\"トーン5\",キー割付!F572=\"トーン6\",\"トーン6\",キー割付!F572=\"トーン7\",\"トーン7\",キー割付!F572=\"トーン7\",\"トーン7\",キー割付!F572=\"無鳴動着信\",\"トーン8\",キー割付!F572=\"グリーンスリーブス\",\"メロディ1\",キー割付!F572=\"峠の我が家\",\"メロディ2\",キー割付!F572=\"カノン\",\"メロディ3\",キー割付!F572=\"春の歌\",\"メロディ4\",キー割付!F572=\"主よ人の望みの喜びよ\",\"メロディ5\",キー割付!F572=\"メヌエット\",\"メロディ6\",キー割付!F572=\"華麗なる大円舞曲\",\"メロディ7\",キー割付!F572=\"ハンガリア舞曲第5番\",\"メロディ8\",TRUE,\"トーン1\"))","v":"トーン1"},{"$f":"IF(E97=\"ZX-DECLDIV-IPコードレス電話機\",\"トーン1\",_xlfn.IFS(キー割付!G572=\"着信音なし\",\"トーン1\",キー割付!G572=\"トーン1\",\"トーン1\",キー割付!G572=\"トーン2\",\"トーン2\",キー割付!G572=\"トーン3\",\"トーン3\",キー割付!G572=\"トーン4\",\"トーン4\",キー割付!G572=\"トーン5\",\"トーン5\",キー割付!G572=\"トーン6\",\"トーン6\",キー割付!G572=\"トーン7\",\"トーン7\",キー割付!G572=\"トーン7\",\"トーン7\",キー割付!G572=\"無鳴動着信\",\"トーン8\",キー割付!G572=\"グリーンスリーブス\",\"メロディ1\",キー割付!G572=\"峠の我が家\",\"メロディ2\",キー割付!G572=\"カノン\",\"メロディ3\",キー割付!G572=\"春の歌\",\"メロディ4\",キー割付!G572=\"主よ人の望みの喜びよ\",\"メロディ5\",キー割付!G572=\"メヌエット\",\"メロディ6\",キー割付!G572=\"華麗なる大円舞曲\",\"メロディ7\",キー割付!G572=\"ハンガリア舞曲第5番\",\"メロディ8\",TRUE,\"トーン1\"))","v":"トーン1"},{"$f":"IF(E97=\"ZX-DECLDIV-IPコードレス電話機\",\"トーン1\",_xlfn.IFS(キー割付!H572=\"着信音なし\",\"トーン1\",キー割付!H572=\"トーン1\",\"トーン1\",キー割付!H572=\"トーン2\",\"トーン2\",キー割付!H572=\"トーン3\",\"トーン3\",キー割付!H572=\"トーン4\",\"トーン4\",キー割付!H572=\"トーン5\",\"トーン5\",キー割付!H572=\"トーン6\",\"トーン6\",キー割付!H572=\"トーン7\",\"トーン7\",キー割付!H572=\"トーン7\",\"トーン7\",キー割付!H572=\"無鳴動着信\",\"トーン8\",キー割付!H572=\"グリーンスリーブス\",\"メロディ1\",キー割付!H572=\"峠の我が家\",\"メロディ2\",キー割付!H572=\"カノン\",\"メロディ3\",キー割付!H572=\"春の歌\",\"メロディ4\",キー割付!H572=\"主よ人の望みの喜びよ\",\"メロディ5\",キー割付!H572=\"メヌエット\",\"メロディ6\",キー割付!H572=\"華麗なる大円舞曲\",\"メロディ7\",キー割付!H572=\"ハンガリア舞曲第5番\",\"メロディ8\",TRUE,\"トーン1\"))","v":"トーン1"},{"$f":"IF(E97=\"ZX-DECLDIV-IPコードレス電話機\",\"トーン1\",_xlfn.IFS(キー割付!I572=\"着信音なし\",\"トーン1\",キー割付!I572=\"トーン1\",\"トーン1\",キー割付!I572=\"トーン2\",\"トーン2\",キー割付!I572=\"トーン3\",\"トーン3\",キー割付!I572=\"トーン4\",\"トーン4\",キー割付!I572=\"トーン5\",\"トーン5\",キー割付!I572=\"トーン6\",\"トーン6\",キー割付!I572=\"トーン7\",\"トーン7\",キー割付!I572=\"トーン7\",\"トーン7\",キー割付!I572=\"無鳴動着信\",\"トーン8\",キー割付!I572=\"グリーンスリーブス\",\"メロディ1\",キー割付!I572=\"峠の我が家\",\"メロディ2\",キー割付!I572=\"カノン\",\"メロディ3\",キー割付!I572=\"春の歌\",\"メロディ4\",キー割付!I572=\"主よ人の望みの喜びよ\",\"メロディ5\",キー割付!I572=\"メヌエット\",\"メロディ6\",キー割付!I572=\"華麗なる大円舞曲\",\"メロディ7\",キー割付!I572=\"ハンガリア舞曲第5番\",\"メロディ8\",TRUE,\"トーン1\"))","v":"トーン1"}]
[null,null,null,null,null,{"$f":"_xlfn.IFS(キー割付!D549=\"昼夜休憩\",\"B\",キー割付!D549=\"－－－\",\"-\",キー割付!D549=\"昼－－\",\"H\",キー割付!D549=\"－夜－\",\"N\",キー割付!D549=\"－－休憩\",\"P\",キー割付!D549=\"昼夜－\",\"D\",キー割付!D549=\"昼－休憩\",\"F\",キー割付!D549=\"－夜休憩\",\"K\",TRUE,\"-\")","v":"-"},{"$f":"_xlfn.IFS(キー割付!E549=\"昼夜休憩\",\"B\",キー割付!E549=\"－－－\",\"-\",キー割付!E549=\"昼－－\",\"H\",キー割付!E549=\"－夜－\",\"N\",キー割付!E549=\"－－休憩\",\"P\",キー割付!E549=\"昼夜－\",\"D\",キー割付!E549=\"昼－休憩\",\"F\",キー割付!E549=\"－夜休憩\",\"K\",TRUE,\"-\")","v":"-"},{"$f":"_xlfn.IFS(キー割付!F549=\"昼夜休憩\",\"B\",キー割付!F549=\"－－－\",\"-\",キー割付!F549=\"昼－－\",\"H\",キー割付!F549=\"－夜－\",\"N\",キー割付!F549=\"－－休憩\",\"P\",キー割付!F549=\"昼夜－\",\"D\",キー割付!F549=\"昼－休憩\",\"F\",キー割付!F549=\"－夜休憩\",\"K\",TRUE,\"-\")","v":"-"},{"$f":"_xlfn.IFS(キー割付!G549=\"昼夜休憩\",\"B\",キー割付!G549=\"－－－\",\"-\",キー割付!G549=\"昼－－\",\"H\",キー割付!G549=\"－夜－\",\"N\",キー割付!G549=\"－－休憩\",\"P\",キー割付!G549=\"昼夜－\",\"D\",キー割付!G549=\"昼－休憩\",\"F\",キー割付!G549=\"－夜休憩\",\"K\",TRUE,\"-\")","v":"-"},{"$f":"_xlfn.IFS(キー割付!H549=\"昼夜休憩\",\"B\",キー割付!H549=\"－－－\",\"-\",キー割付!H549=\"昼－－\",\"H\",キー割付!H549=\"－夜－\",\"N\",キー割付!H549=\"－－休憩\",\"P\",キー割付!H549=\"昼夜－\",\"D\",キー割付!H549=\"昼－休憩\",\"F\",キー割付!H549=\"－夜休憩\",\"K\",TRUE,\"-\")","v":"-"},{"$f":"_xlfn.IFS(キー割付!I549=\"昼夜休憩\",\"B\",キー割付!I549=\"－－－\",\"-\",キー割付!I549=\"昼－－\",\"H\",キー割付!I549=\"－夜－\",\"N\",キー割付!I549=\"－－休憩\",\"P\",キー割付!I549=\"昼夜－\",\"D\",キー割付!I549=\"昼－休憩\",\"F\",キー割付!I549=\"－夜休憩\",\"K\",TRUE,\"-\")","v":"-"},{"$f":"_xlfn.IFS(キー割付!D557=\"昼夜休憩\",\"B\",キー割付!D557=\"－－－\",\"-\",キー割付!D557=\"昼－－\",\"H\",キー割付!D557=\"－夜－\",\"N\",キー割付!D557=\"－－休憩\",\"P\",キー割付!D557=\"昼夜－\",\"D\",キー割付!D557=\"昼－休憩\",\"F\",キー割付!D557=\"－夜休憩\",\"K\",TRUE,\"-\")","v":"-"},{"$f":"_xlfn.IFS(キー割付!E557=\"昼夜休憩\",\"B\",キー割付!E557=\"－－－\",\"-\",キー割付!E557=\"昼－－\",\"H\",キー割付!E557=\"－夜－\",\"N\",キー割付!E557=\"－－休憩\",\"P\",キー割付!E557=\"昼夜－\",\"D\",キー割付!E557=\"昼－休憩\",\"F\",キー割付!E557=\"－夜休憩\",\"K\",TRUE,\"-\")","v":"-"},{"$f":"IF(E97=\"ZX-DECLDIV-IPコードレス電話機\",\"-\",_xlfn.IFS(キー割付!F557=\"昼夜休憩\",\"B\",キー割付!F557=\"－－－\",\"-\",キー割付!F557=\"昼－－\",\"H\",キー割付!F557=\"－夜－\",\"N\",キー割付!F557=\"－－休憩\",\"P\",キー割付!F557=\"昼夜－\",\"D\",キー割付!F557=\"昼－休憩\",\"F\",キー割付!F557=\"－夜休憩\",\"K\",TRUE,\"-\"))","v":"-"},{"$f":"IF(E97=\"ZX-DECLDIV-IPコードレス電話機\",\"-\",_xlfn.IFS(キー割付!G557=\"昼夜休憩\",\"B\",キー割付!G557=\"－－－\",\"-\",キー割付!G557=\"昼－－\",\"H\",キー割付!G557=\"－夜－\",\"N\",キー割付!G557=\"－－休憩\",\"P\",キー割付!G557=\"昼夜－\",\"D\",キー割付!G557=\"昼－休憩\",\"F\",キー割付!G557=\"－夜休憩\",\"K\",TRUE,\"-\"))","v":"-"},{"$f":"IF(E97=\"ZX-DECLDIV-IPコードレス電話機\",\"-\",_xlfn.IFS(キー割付!H557=\"昼夜休憩\",\"B\",キー割付!H557=\"－－－\",\"-\",キー割付!H557=\"昼－－\",\"H\",キー割付!H557=\"－夜－\",\"N\",キー割付!H557=\"－－休憩\",\"P\",キー割付!H557=\"昼夜－\",\"D\",キー割付!H557=\"昼－休憩\",\"F\",キー割付!H557=\"－夜休憩\",\"K\",TRUE,\"-\"))","v":"-"},{"$f":"IF(E97=\"ZX-DECLDIV-IPコードレス電話機\",\"-\",_xlfn.IFS(キー割付!I557=\"昼夜休憩\",\"B\",キー割付!I557=\"－－－\",\"-\",キー割付!I557=\"昼－－\",\"H\",キー割付!I557=\"－夜－\",\"N\",キー割付!I557=\"－－休憩\",\"P\",キー割付!I557=\"昼夜－\",\"D\",キー割付!I557=\"昼－休憩\",\"F\",キー割付!I557=\"－夜休憩\",\"K\",TRUE,\"-\"))","v":"-"},{"$f":"IF(E97=\"ZX-DECLDIV-IPコードレス電話機\",\"-\",_xlfn.IFS(キー割付!D565=\"昼夜休憩\",\"B\",キー割付!D565=\"－－－\",\"-\",キー割付!D565=\"昼－－\",\"H\",キー割付!D565=\"－夜－\",\"N\",キー割付!D565=\"－－休憩\",\"P\",キー割付!D565=\"昼夜－\",\"D\",キー割付!D565=\"昼－休憩\",\"F\",キー割付!D565=\"－夜休憩\",\"K\",TRUE,\"-\"))","v":"-"},{"$f":"IF(E97=\"ZX-DECLDIV-IPコードレス電話機\",\"-\",_xlfn.IFS(キー割付!E565=\"昼夜休憩\",\"B\",キー割付!E565=\"－－－\",\"-\",キー割付!E565=\"昼－－\",\"H\",キー割付!E565=\"－夜－\",\"N\",キー割付!E565=\"－－休憩\",\"P\",キー割付!E565=\"昼夜－\",\"D\",キー割付!E565=\"昼－休憩\",\"F\",キー割付!E565=\"－夜休憩\",\"K\",TRUE,\"-\"))","v":"-"},{"$f":"IF(E97=\"ZX-DECLDIV-IPコードレス電話機\",\"-\",_xlfn.IFS(キー割付!F565=\"昼夜休憩\",\"B\",キー割付!F565=\"－－－\",\"-\",キー割付!F565=\"昼－－\",\"H\",キー割付!F565=\"－夜－\",\"N\",キー割付!F565=\"－－休憩\",\"P\",キー割付!F565=\"昼夜－\",\"D\",キー割付!F565=\"昼－休憩\",\"F\",キー割付!F565=\"－夜休憩\",\"K\",TRUE,\"-\"))","v":"-"},{"$f":"IF(E97=\"ZX-DECLDIV-IPコードレス電話機\",\"-\",_xlfn.IFS(キー割付!G565=\"昼夜休憩\",\"B\",キー割付!G565=\"－－－\",\"-\",キー割付!G565=\"昼－－\",\"H\",キー割付!G565=\"－夜－\",\"N\",キー割付!G565=\"－－休憩\",\"P\",キー割付!G565=\"昼夜－\",\"D\",キー割付!G565=\"昼－休憩\",\"F\",キー割付!G565=\"－夜休憩\",\"K\",TRUE,\"-\"))","v":"-"},{"$f":"IF(E97=\"ZX-DECLDIV-IPコードレス電話機\",\"-\",_xlfn.IFS(キー割付!H565=\"昼夜休憩\",\"B\",キー割付!H565=\"－－－\",\"-\",キー割付!H565=\"昼－－\",\"H\",キー割付!H565=\"－夜－\",\"N\",キー割付!H565=\"－－休憩\",\"P\",キー割付!H565=\"昼夜－\",\"D\",キー割付!H565=\"昼－休憩\",\"F\",キー割付!H565=\"－夜休憩\",\"K\",TRUE,\"-\"))","v":"-"},{"$f":"IF(E97=\"ZX-DECLDIV-IPコードレス電話機\",\"-\",_xlfn.IFS(キー割付!I565=\"昼夜休憩\",\"B\",キー割付!I565=\"－－－\",\"-\",キー割付!I565=\"昼－－\",\"H\",キー割付!I565=\"－夜－\",\"N\",キー割付!I565=\"－－休憩\",\"P\",キー割付!I565=\"昼夜－\",\"D\",キー割付!I565=\"昼－休憩\",\"F\",キー割付!I565=\"－夜休憩\",\"K\",TRUE,\"-\"))","v":"-"},{"$f":"IF(E97=\"ZX-DECLDIV-IPコードレス電話機\",\"-\",_xlfn.IFS(キー割付!D573=\"昼夜休憩\",\"B\",キー割付!D573=\"－－－\",\"-\",キー割付!D573=\"昼－－\",\"H\",キー割付!D573=\"－夜－\",\"N\",キー割付!D573=\"－－休憩\",\"P\",キー割付!D573=\"昼夜－\",\"D\",キー割付!D573=\"昼－休憩\",\"F\",キー割付!D573=\"－夜休憩\",\"K\",TRUE,\"-\"))","v":"-"},{"$f":"IF(E97=\"ZX-DECLDIV-IPコードレス電話機\",\"-\",_xlfn.IFS(キー割付!E573=\"昼夜休憩\",\"B\",キー割付!E573=\"－－－\",\"-\",キー割付!E573=\"昼－－\",\"H\",キー割付!E573=\"－夜－\",\"N\",キー割付!E573=\"－－休憩\",\"P\",キー割付!E573=\"昼夜－\",\"D\",キー割付!E573=\"昼－休憩\",\"F\",キー割付!E573=\"－夜休憩\",\"K\",TRUE,\"-\"))","v":"-"},{"$f":"IF(E97=\"ZX-DECLDIV-IPコードレス電話機\",\"-\",_xlfn.IFS(キー割付!F573=\"昼夜休憩\",\"B\",キー割付!F573=\"－－－\",\"-\",キー割付!F573=\"昼－－\",\"H\",キー割付!F573=\"－夜－\",\"N\",キー割付!F573=\"－－休憩\",\"P\",キー割付!F573=\"昼夜－\",\"D\",キー割付!F573=\"昼－休憩\",\"F\",キー割付!F573=\"－夜休憩\",\"K\",TRUE,\"-\"))","v":"-"},{"$f":"IF(E97=\"ZX-DECLDIV-IPコードレス電話機\",\"-\",_xlfn.IFS(キー割付!G573=\"昼夜休憩\",\"B\",キー割付!G573=\"－－－\",\"-\",キー割付!G573=\"昼－－\",\"H\",キー割付!G573=\"－夜－\",\"N\",キー割付!G573=\"－－休憩\",\"P\",キー割付!G573=\"昼夜－\",\"D\",キー割付!G573=\"昼－休憩\",\"F\",キー割付!G573=\"－夜休憩\",\"K\",TRUE,\"-\"))","v":"-"},{"$f":"IF(E97=\"ZX-DECLDIV-IPコードレス電話機\",\"-\",_xlfn.IFS(キー割付!H573=\"昼夜休憩\",\"B\",キー割付!H573=\"－－－\",\"-\",キー割付!H573=\"昼－－\",\"H\",キー割付!H573=\"－夜－\",\"N\",キー割付!H573=\"－－休憩\",\"P\",キー割付!H573=\"昼夜－\",\"D\",キー割付!H573=\"昼－休憩\",\"F\",キー割付!H573=\"－夜休憩\",\"K\",TRUE,\"-\"))","v":"-"},{"$f":"IF(E97=\"ZX-DECLDIV-IPコードレス電話機\",\"-\",_xlfn.IFS(キー割付!I573=\"昼夜休憩\",\"B\",キー割付!I573=\"－－－\",\"-\",キー割付!I573=\"昼－－\",\"H\",キー割付!I573=\"－夜－\",\"N\",キー割付!I573=\"－－休憩\",\"P\",キー割付!I573=\"昼夜－\",\"D\",キー割付!I573=\"昼－休憩\",\"F\",キー割付!I573=\"－夜休憩\",\"K\",TRUE,\"-\"))","v":"-"}]
[null,32,{"$f":"IF(IFERROR(VALUE(VLOOKUP(B100,内線_キー割用,2,FALSE)),\"\")=0,\"\",IFERROR(VALUE(VLOOKUP(B100,内線_キー割用,2,FALSE)),\"\"))","v":""},{"$f":"IF(IFERROR(VALUE(VLOOKUP(B100,内線_キー割用,4,FALSE)),\"\")=0,\"\",IFERROR(VALUE(VLOOKUP(B100,内線_キー割用,4,FALSE)),\"\"))","v":""},{"$f":"IF(IFERROR(VLOOKUP(B100,内線_キー割用,3,FALSE),\"\")=0,\"\",IFERROR(VLOOKUP(B100,内線_キー割用,3,FALSE),\"\"))","v":""},{"$f":"IF(キー割付!N547=\"\",\"未使用\",キー割付!N547)","v":"未使用"},{"$f":"IF(キー割付!O547=\"\",\"未使用\",キー割付!O547)","v":"未使用"},{"$f":"IF(キー割付!P547=\"\",\"未使用\",キー割付!P547)","v":"未使用"},{"$f":"IF(キー割付!Q547=\"\",\"未使用\",キー割付!Q547)","v":"未使用"},{"$f":"IF(キー割付!R547=\"\",\"未使用\",キー割付!R547)","v":"未使用"},{"$f":"IF(キー割付!S547=\"\",\"未使用\",キー割付!S547)","v":"未使用"},{"$f":"IF(キー割付!N555=\"\",\"未使用\",キー割付!N555)","v":"未使用"},{"$f":"IF(キー割付!O555=\"\",\"未使用\",キー割付!O555)","v":"未使用"},{"$f":"IF(E100=\"ZX-DECLDIV-IPコードレス電話機\",\"未使用\",IF(キー割付!P555=\"\",\"未使用\",キー割付!P555))","v":"未使用"},{"$f":"IF(E100=\"ZX-DECLDIV-IPコードレス電話機\",\"未使用\",IF(キー割付!Q555=\"\",\"未使用\",キー割付!Q555))","v":"未使用"},{"$f":"IF(E100=\"ZX-DECLDIV-IPコードレス電話機\",\"未使用\",IF(キー割付!R555=\"\",\"未使用\",キー割付!R555))","v":"未使用"},{"$f":"IF(E100=\"ZX-DECLDIV-IPコードレス電話機\",\"未使用\",IF(キー割付!S555=\"\",\"未使用\",キー割付!S555))","v":"未使用"},{"$f":"IF(E100=\"ZX-DECLDIV-IPコードレス電話機\",\"未使用\",IF(キー割付!N563=\"\",\"未使用\",キー割付!N563))","v":"未使用"},{"$f":"IF(E100=\"ZX-DECLDIV-IPコードレス電話機\",\"未使用\",IF(キー割付!O563=\"\",\"未使用\",キー割付!O563))","v":"未使用"},{"$f":"IF(E100=\"ZX-DECLDIV-IPコードレス電話機\",\"未使用\",IF(キー割付!P563=\"\",\"未使用\",キー割付!P563))","v":"未使用"},{"$f":"IF(E100=\"ZX-DECLDIV-IPコードレス電話機\",\"未使用\",IF(キー割付!Q563=\"\",\"未使用\",キー割付!Q563))","v":"未使用"},{"$f":"IF(E100=\"ZX-DECLDIV-IPコードレス電話機\",\"未使用\",IF(キー割付!R563=\"\",\"未使用\",キー割付!R563))","v":"未使用"},{"$f":"IF(E100=\"ZX-DECLDIV-IPコードレス電話機\",\"未使用\",IF(キー割付!S563=\"\",\"未使用\",キー割付!S563))","v":"未使用"},{"$f":"IF(E100=\"ZX-DECLDIV-IPコードレス電話機\",\"未使用\",IF(キー割付!N571=\"\",\"未使用\",キー割付!N571))","v":"未使用"},{"$f":"IF(E100=\"ZX-DECLDIV-IPコードレス電話機\",\"未使用\",IF(キー割付!O571=\"\",\"未使用\",キー割付!O571))","v":"未使用"},{"$f":"IF(E100=\"ZX-DECLDIV-IPコードレス電話機\",\"未使用\",IF(キー割付!P571=\"\",\"未使用\",キー割付!P571))","v":"未使用"},{"$f":"IF(E100=\"ZX-DECLDIV-IPコードレス電話機\",\"未使用\",IF(キー割付!Q571=\"\",\"未使用\",キー割付!Q571))","v":"未使用"},{"$f":"IF(E100=\"ZX-DECLDIV-IPコードレス電話機\",\"未使用\",IF(キー割付!R571=\"\",\"未使用\",キー割付!R571))","v":"未使用"},{"$f":"IF(E100=\"ZX-DECLDIV-IPコードレス電話機\",\"未使用\",IF(キー割付!S571=\"\",\"未使用\",キー割付!S571))","v":"未使用"}]
[null,null,null,null,null,{"$f":"_xlfn.IFS(キー割付!N548=\"着信音なし\",\"トーン1\",キー割付!N548=\"トーン1\",\"トーン1\",キー割付!N548=\"トーン2\",\"トーン2\",キー割付!N548=\"トーン3\",\"トーン3\",キー割付!N548=\"トーン4\",\"トーン4\",キー割付!N548=\"トーン5\",\"トーン5\",キー割付!N548=\"トーン6\",\"トーン6\",キー割付!N548=\"トーン7\",\"トーン7\",キー割付!N548=\"トーン7\",\"トーン7\",キー割付!N548=\"無鳴動着信\",\"トーン8\",キー割付!N548=\"グリーンスリーブス\",\"メロディ1\",キー割付!N548=\"峠の我が家\",\"メロディ2\",キー割付!N548=\"カノン\",\"メロディ3\",キー割付!N548=\"春の歌\",\"メロディ4\",キー割付!N548=\"主よ人の望みの喜びよ\",\"メロディ5\",キー割付!N548=\"メヌエット\",\"メロディ6\",キー割付!N548=\"華麗なる大円舞曲\",\"メロディ7\",キー割付!N548=\"ハンガリア舞曲第5番\",\"メロディ8\",TRUE,\"トーン1\")","v":"トーン1"},{"$f":"_xlfn.IFS(キー割付!O548=\"着信音なし\",\"トーン1\",キー割付!O548=\"トーン1\",\"トーン1\",キー割付!O548=\"トーン2\",\"トーン2\",キー割付!O548=\"トーン3\",\"トーン3\",キー割付!O548=\"トーン4\",\"トーン4\",キー割付!O548=\"トーン5\",\"トーン5\",キー割付!O548=\"トーン6\",\"トーン6\",キー割付!O548=\"トーン7\",\"トーン7\",キー割付!O548=\"トーン7\",\"トーン7\",キー割付!O548=\"無鳴動着信\",\"トーン8\",キー割付!O548=\"グリーンスリーブス\",\"メロディ1\",キー割付!O548=\"峠の我が家\",\"メロディ2\",キー割付!O548=\"カノン\",\"メロディ3\",キー割付!O548=\"春の歌\",\"メロディ4\",キー割付!O548=\"主よ人の望みの喜びよ\",\"メロディ5\",キー割付!O548=\"メヌエット\",\"メロディ6\",キー割付!O548=\"華麗なる大円舞曲\",\"メロディ7\",キー割付!O548=\"ハンガリア舞曲第5番\",\"メロディ8\",TRUE,\"トーン1\")","v":"トーン1"},{"$f":"_xlfn.IFS(キー割付!P548=\"着信音なし\",\"トーン1\",キー割付!P548=\"トーン1\",\"トーン1\",キー割付!P548=\"トーン2\",\"トーン2\",キー割付!P548=\"トーン3\",\"トーン3\",キー割付!P548=\"トーン4\",\"トーン4\",キー割付!P548=\"トーン5\",\"トーン5\",キー割付!P548=\"トーン6\",\"トーン6\",キー割付!P548=\"トーン7\",\"トーン7\",キー割付!P548=\"トーン7\",\"トーン7\",キー割付!P548=\"無鳴動着信\",\"トーン8\",キー割付!P548=\"グリーンスリーブス\",\"メロディ1\",キー割付!P548=\"峠の我が家\",\"メロディ2\",キー割付!P548=\"カノン\",\"メロディ3\",キー割付!P548=\"春の歌\",\"メロディ4\",キー割付!P548=\"主よ人の望みの喜びよ\",\"メロディ5\",キー割付!P548=\"メヌエット\",\"メロディ6\",キー割付!P548=\"華麗なる大円舞曲\",\"メロディ7\",キー割付!P548=\"ハンガリア舞曲第5番\",\"メロディ8\",TRUE,\"トーン1\")","v":"トーン1"},{"$f":"_xlfn.IFS(キー割付!Q548=\"着信音なし\",\"トーン1\",キー割付!Q548=\"トーン1\",\"トーン1\",キー割付!Q548=\"トーン2\",\"トーン2\",キー割付!Q548=\"トーン3\",\"トーン3\",キー割付!Q548=\"トーン4\",\"トーン4\",キー割付!Q548=\"トーン5\",\"トーン5\",キー割付!Q548=\"トーン6\",\"トーン6\",キー割付!Q548=\"トーン7\",\"トーン7\",キー割付!Q548=\"トーン7\",\"トーン7\",キー割付!Q548=\"無鳴動着信\",\"トーン8\",キー割付!Q548=\"グリーンスリーブス\",\"メロディ1\",キー割付!Q548=\"峠の我が家\",\"メロディ2\",キー割付!Q548=\"カノン\",\"メロディ3\",キー割付!Q548=\"春の歌\",\"メロディ4\",キー割付!Q548=\"主よ人の望みの喜びよ\",\"メロディ5\",キー割付!Q548=\"メヌエット\",\"メロディ6\",キー割付!Q548=\"華麗なる大円舞曲\",\"メロディ7\",キー割付!Q548=\"ハンガリア舞曲第5番\",\"メロディ8\",TRUE,\"トーン1\")","v":"トーン1"},{"$f":"_xlfn.IFS(キー割付!R548=\"着信音なし\",\"トーン1\",キー割付!R548=\"トーン1\",\"トーン1\",キー割付!R548=\"トーン2\",\"トーン2\",キー割付!R548=\"トーン3\",\"トーン3\",キー割付!R548=\"トーン4\",\"トーン4\",キー割付!R548=\"トーン5\",\"トーン5\",キー割付!R548=\"トーン6\",\"トーン6\",キー割付!R548=\"トーン7\",\"トーン7\",キー割付!R548=\"トーン7\",\"トーン7\",キー割付!R548=\"無鳴動着信\",\"トーン8\",キー割付!R548=\"グリーンスリーブス\",\"メロディ1\",キー割付!R548=\"峠の我が家\",\"メロディ2\",キー割付!R548=\"カノン\",\"メロディ3\",キー割付!R548=\"春の歌\",\"メロディ4\",キー割付!R548=\"主よ人の望みの喜びよ\",\"メロディ5\",キー割付!R548=\"メヌエット\",\"メロディ6\",キー割付!R548=\"華麗なる大円舞曲\",\"メロディ7\",キー割付!R548=\"ハンガリア舞曲第5番\",\"メロディ8\",TRUE,\"トーン1\")","v":"トーン1"},{"$f":"_xlfn.IFS(キー割付!S548=\"着信音なし\",\"トーン1\",キー割付!S548=\"トーン1\",\"トーン1\",キー割付!S548=\"トーン2\",\"トーン2\",キー割付!S548=\"トーン3\",\"トーン3\",キー割付!S548=\"トーン4\",\"トーン4\",キー割付!S548=\"トーン5\",\"トーン5\",キー割付!S548=\"トーン6\",\"トーン6\",キー割付!S548=\"トーン7\",\"トーン7\",キー割付!S548=\"トーン7\",\"トーン7\",キー割付!S548=\"無鳴動着信\",\"トーン8\",キー割付!S548=\"グリーンスリーブス\",\"メロディ1\",キー割付!S548=\"峠の我が家\",\"メロディ2\",キー割付!S548=\"カノン\",\"メロディ3\",キー割付!S548=\"春の歌\",\"メロディ4\",キー割付!S548=\"主よ人の望みの喜びよ\",\"メロディ5\",キー割付!S548=\"メヌエット\",\"メロディ6\",キー割付!S548=\"華麗なる大円舞曲\",\"メロディ7\",キー割付!S548=\"ハンガリア舞曲第5番\",\"メロディ8\",TRUE,\"トーン1\")","v":"トーン1"},{"$f":"_xlfn.IFS(キー割付!N556=\"着信音なし\",\"トーン1\",キー割付!N556=\"トーン1\",\"トーン1\",キー割付!N556=\"トーン2\",\"トーン2\",キー割付!N556=\"トーン3\",\"トーン3\",キー割付!N556=\"トーン4\",\"トーン4\",キー割付!N556=\"トーン5\",\"トーン5\",キー割付!N556=\"トーン6\",\"トーン6\",キー割付!N556=\"トーン7\",\"トーン7\",キー割付!N556=\"トーン7\",\"トーン7\",キー割付!N556=\"無鳴動着信\",\"トーン8\",キー割付!N556=\"グリーンスリーブス\",\"メロディ1\",キー割付!N556=\"峠の我が家\",\"メロディ2\",キー割付!N556=\"カノン\",\"メロディ3\",キー割付!N556=\"春の歌\",\"メロディ4\",キー割付!N556=\"主よ人の望みの喜びよ\",\"メロディ5\",キー割付!N556=\"メヌエット\",\"メロディ6\",キー割付!N556=\"華麗なる大円舞曲\",\"メロディ7\",キー割付!N556=\"ハンガリア舞曲第5番\",\"メロディ8\",TRUE,\"トーン1\")","v":"トーン1"},{"$f":"_xlfn.IFS(キー割付!O556=\"着信音なし\",\"トーン1\",キー割付!O556=\"トーン1\",\"トーン1\",キー割付!O556=\"トーン2\",\"トーン2\",キー割付!O556=\"トーン3\",\"トーン3\",キー割付!O556=\"トーン4\",\"トーン4\",キー割付!O556=\"トーン5\",\"トーン5\",キー割付!O556=\"トーン6\",\"トーン6\",キー割付!O556=\"トーン7\",\"トーン7\",キー割付!O556=\"トーン7\",\"トーン7\",キー割付!O556=\"無鳴動着信\",\"トーン8\",キー割付!O556=\"グリーンスリーブス\",\"メロディ1\",キー割付!O556=\"峠の我が家\",\"メロディ2\",キー割付!O556=\"カノン\",\"メロディ3\",キー割付!O556=\"春の歌\",\"メロディ4\",キー割付!O556=\"主よ人の望みの喜びよ\",\"メロディ5\",キー割付!O556=\"メヌエット\",\"メロディ6\",キー割付!O556=\"華麗なる大円舞曲\",\"メロディ7\",キー割付!O556=\"ハンガリア舞曲第5番\",\"メロディ8\",TRUE,\"トーン1\")","v":"トーン1"},{"$f":"IF(E100=\"ZX-DECLDIV-IPコードレス電話機\",\"トーン1\",_xlfn.IFS(キー割付!P556=\"着信音なし\",\"トーン1\",キー割付!P556=\"トーン1\",\"トーン1\",キー割付!P556=\"トーン2\",\"トーン2\",キー割付!P556=\"トーン3\",\"トーン3\",キー割付!P556=\"トーン4\",\"トーン4\",キー割付!P556=\"トーン5\",\"トーン5\",キー割付!P556=\"トーン6\",\"トーン6\",キー割付!P556=\"トーン7\",\"トーン7\",キー割付!P556=\"トーン7\",\"トーン7\",キー割付!P556=\"無鳴動着信\",\"トーン8\",キー割付!P556=\"グリーンスリーブス\",\"メロディ1\",キー割付!P556=\"峠の我が家\",\"メロディ2\",キー割付!P556=\"カノン\",\"メロディ3\",キー割付!P556=\"春の歌\",\"メロディ4\",キー割付!P556=\"主よ人の望みの喜びよ\",\"メロディ5\",キー割付!P556=\"メヌエット\",\"メロディ6\",キー割付!P556=\"華麗なる大円舞曲\",\"メロディ7\",キー割付!P556=\"ハンガリア舞曲第5番\",\"メロディ8\",TRUE,\"トーン1\"))","v":"トーン1"},{"$f":"IF(E100=\"ZX-DECLDIV-IPコードレス電話機\",\"トーン1\",_xlfn.IFS(キー割付!Q556=\"着信音なし\",\"トーン1\",キー割付!Q556=\"トーン1\",\"トーン1\",キー割付!Q556=\"トーン2\",\"トーン2\",キー割付!Q556=\"トーン3\",\"トーン3\",キー割付!Q556=\"トーン4\",\"トーン4\",キー割付!Q556=\"トーン5\",\"トーン5\",キー割付!Q556=\"トーン6\",\"トーン6\",キー割付!Q556=\"トーン7\",\"トーン7\",キー割付!Q556=\"トーン7\",\"トーン7\",キー割付!Q556=\"無鳴動着信\",\"トーン8\",キー割付!Q556=\"グリーンスリーブス\",\"メロディ1\",キー割付!Q556=\"峠の我が家\",\"メロディ2\",キー割付!Q556=\"カノン\",\"メロディ3\",キー割付!Q556=\"春の歌\",\"メロディ4\",キー割付!Q556=\"主よ人の望みの喜びよ\",\"メロディ5\",キー割付!Q556=\"メヌエット\",\"メロディ6\",キー割付!Q556=\"華麗なる大円舞曲\",\"メロディ7\",キー割付!Q556=\"ハンガリア舞曲第5番\",\"メロディ8\",TRUE,\"トーン1\"))","v":"トーン1"},{"$f":"IF(E100=\"ZX-DECLDIV-IPコードレス電話機\",\"トーン1\",_xlfn.IFS(キー割付!R556=\"着信音なし\",\"トーン1\",キー割付!R556=\"トーン1\",\"トーン1\",キー割付!R556=\"トーン2\",\"トーン2\",キー割付!R556=\"トーン3\",\"トーン3\",キー割付!R556=\"トーン4\",\"トーン4\",キー割付!R556=\"トーン5\",\"トーン5\",キー割付!R556=\"トーン6\",\"トーン6\",キー割付!R556=\"トーン7\",\"トーン7\",キー割付!R556=\"トーン7\",\"トーン7\",キー割付!R556=\"無鳴動着信\",\"トーン8\",キー割付!R556=\"グリーンスリーブス\",\"メロディ1\",キー割付!R556=\"峠の我が家\",\"メロディ2\",キー割付!R556=\"カノン\",\"メロディ3\",キー割付!R556=\"春の歌\",\"メロディ4\",キー割付!R556=\"主よ人の望みの喜びよ\",\"メロディ5\",キー割付!R556=\"メヌエット\",\"メロディ6\",キー割付!R556=\"華麗なる大円舞曲\",\"メロディ7\",キー割付!R556=\"ハンガリア舞曲第5番\",\"メロディ8\",TRUE,\"トーン1\"))","v":"トーン1"},{"$f":"IF(E100=\"ZX-DECLDIV-IPコードレス電話機\",\"トーン1\",_xlfn.IFS(キー割付!S556=\"着信音なし\",\"トーン1\",キー割付!S556=\"トーン1\",\"トーン1\",キー割付!S556=\"トーン2\",\"トーン2\",キー割付!S556=\"トーン3\",\"トーン3\",キー割付!S556=\"トーン4\",\"トーン4\",キー割付!S556=\"トーン5\",\"トーン5\",キー割付!S556=\"トーン6\",\"トーン6\",キー割付!S556=\"トーン7\",\"トーン7\",キー割付!S556=\"トーン7\",\"トーン7\",キー割付!S556=\"無鳴動着信\",\"トーン8\",キー割付!S556=\"グリーンスリーブス\",\"メロディ1\",キー割付!S556=\"峠の我が家\",\"メロディ2\",キー割付!S556=\"カノン\",\"メロディ3\",キー割付!S556=\"春の歌\",\"メロディ4\",キー割付!S556=\"主よ人の望みの喜びよ\",\"メロディ5\",キー割付!S556=\"メヌエット\",\"メロディ6\",キー割付!S556=\"華麗なる大円舞曲\",\"メロディ7\",キー割付!S556=\"ハンガリア舞曲第5番\",\"メロディ8\",TRUE,\"トーン1\"))","v":"トーン1"},{"$f":"IF(E100=\"ZX-DECLDIV-IPコードレス電話機\",\"トーン1\",_xlfn.IFS(キー割付!N564=\"着信音なし\",\"トーン1\",キー割付!N564=\"トーン1\",\"トーン1\",キー割付!N564=\"トーン2\",\"トーン2\",キー割付!N564=\"トーン3\",\"トーン3\",キー割付!N564=\"トーン4\",\"トーン4\",キー割付!N564=\"トーン5\",\"トーン5\",キー割付!N564=\"トーン6\",\"トーン6\",キー割付!N564=\"トーン7\",\"トーン7\",キー割付!N564=\"トーン7\",\"トーン7\",キー割付!N564=\"無鳴動着信\",\"トーン8\",キー割付!N564=\"グリーンスリーブス\",\"メロディ1\",キー割付!N564=\"峠の我が家\",\"メロディ2\",キー割付!N564=\"カノン\",\"メロディ3\",キー割付!N564=\"春の歌\",\"メロディ4\",キー割付!N564=\"主よ人の望みの喜びよ\",\"メロディ5\",キー割付!N564=\"メヌエット\",\"メロディ6\",キー割付!N564=\"華麗なる大円舞曲\",\"メロディ7\",キー割付!N564=\"ハンガリア舞曲第5番\",\"メロディ8\",TRUE,\"トーン1\"))","v":"トーン1"},{"$f":"IF(E100=\"ZX-DECLDIV-IPコードレス電話機\",\"トーン1\",_xlfn.IFS(キー割付!O564=\"着信音なし\",\"トーン1\",キー割付!O564=\"トーン1\",\"トーン1\",キー割付!O564=\"トーン2\",\"トーン2\",キー割付!O564=\"トーン3\",\"トーン3\",キー割付!O564=\"トーン4\",\"トーン4\",キー割付!O564=\"トーン5\",\"トーン5\",キー割付!O564=\"トーン6\",\"トーン6\",キー割付!O564=\"トーン7\",\"トーン7\",キー割付!O564=\"トーン7\",\"トーン7\",キー割付!O564=\"無鳴動着信\",\"トーン8\",キー割付!O564=\"グリーンスリーブス\",\"メロディ1\",キー割付!O564=\"峠の我が家\",\"メロディ2\",キー割付!O564=\"カノン\",\"メロディ3\",キー割付!O564=\"春の歌\",\"メロディ4\",キー割付!O564=\"主よ人の望みの喜びよ\",\"メロディ5\",キー割付!O564=\"メヌエット\",\"メロディ6\",キー割付!O564=\"華麗なる大円舞曲\",\"メロディ7\",キー割付!O564=\"ハンガリア舞曲第5番\",\"メロディ8\",TRUE,\"トーン1\"))","v":"トーン1"},{"$f":"IF(E100=\"ZX-DECLDIV-IPコードレス電話機\",\"トーン1\",_xlfn.IFS(キー割付!P564=\"着信音なし\",\"トーン1\",キー割付!P564=\"トーン1\",\"トーン1\",キー割付!P564=\"トーン2\",\"トーン2\",キー割付!P564=\"トーン3\",\"トーン3\",キー割付!P564=\"トーン4\",\"トーン4\",キー割付!P564=\"トーン5\",\"トーン5\",キー割付!P564=\"トーン6\",\"トーン6\",キー割付!P564=\"トーン7\",\"トーン7\",キー割付!P564=\"トーン7\",\"トーン7\",キー割付!P564=\"無鳴動着信\",\"トーン8\",キー割付!P564=\"グリーンスリーブス\",\"メロディ1\",キー割付!P564=\"峠の我が家\",\"メロディ2\",キー割付!P564=\"カノン\",\"メロディ3\",キー割付!P564=\"春の歌\",\"メロディ4\",キー割付!P564=\"主よ人の望みの喜びよ\",\"メロディ5\",キー割付!P564=\"メヌエット\",\"メロディ6\",キー割付!P564=\"華麗なる大円舞曲\",\"メロディ7\",キー割付!P564=\"ハンガリア舞曲第5番\",\"メロディ8\",TRUE,\"トーン1\"))","v":"トーン1"},{"$f":"IF(E100=\"ZX-DECLDIV-IPコードレス電話機\",\"トーン1\",_xlfn.IFS(キー割付!Q564=\"着信音なし\",\"トーン1\",キー割付!Q564=\"トーン1\",\"トーン1\",キー割付!Q564=\"トーン2\",\"トーン2\",キー割付!Q564=\"トーン3\",\"トーン3\",キー割付!Q564=\"トーン4\",\"トーン4\",キー割付!Q564=\"トーン5\",\"トーン5\",キー割付!Q564=\"トーン6\",\"トーン6\",キー割付!Q564=\"トーン7\",\"トーン7\",キー割付!Q564=\"トーン7\",\"トーン7\",キー割付!Q564=\"無鳴動着信\",\"トーン8\",キー割付!Q564=\"グリーンスリーブス\",\"メロディ1\",キー割付!Q564=\"峠の我が家\",\"メロディ2\",キー割付!Q564=\"カノン\",\"メロディ3\",キー割付!Q564=\"春の歌\",\"メロディ4\",キー割付!Q564=\"主よ人の望みの喜びよ\",\"メロディ5\",キー割付!Q564=\"メヌエット\",\"メロディ6\",キー割付!Q564=\"華麗なる大円舞曲\",\"メロディ7\",キー割付!Q564=\"ハンガリア舞曲第5番\",\"メロディ8\",TRUE,\"トーン1\"))","v":"トーン1"},{"$f":"IF(E100=\"ZX-DECLDIV-IPコードレス電話機\",\"トーン1\",_xlfn.IFS(キー割付!R564=\"着信音なし\",\"トーン1\",キー割付!R564=\"トーン1\",\"トーン1\",キー割付!R564=\"トーン2\",\"トーン2\",キー割付!R564=\"トーン3\",\"トーン3\",キー割付!R564=\"トーン4\",\"トーン4\",キー割付!R564=\"トーン5\",\"トーン5\",キー割付!R564=\"トーン6\",\"トーン6\",キー割付!R564=\"トーン7\",\"トーン7\",キー割付!R564=\"トーン7\",\"トーン7\",キー割付!R564=\"無鳴動着信\",\"トーン8\",キー割付!R564=\"グリーンスリーブス\",\"メロディ1\",キー割付!R564=\"峠の我が家\",\"メロディ2\",キー割付!R564=\"カノン\",\"メロディ3\",キー割付!R564=\"春の歌\",\"メロディ4\",キー割付!R564=\"主よ人の望みの喜びよ\",\"メロディ5\",キー割付!R564=\"メヌエット\",\"メロディ6\",キー割付!R564=\"華麗なる大円舞曲\",\"メロディ7\",キー割付!R564=\"ハンガリア舞曲第5番\",\"メロディ8\",TRUE,\"トーン1\"))","v":"トーン1"},{"$f":"IF(E100=\"ZX-DECLDIV-IPコードレス電話機\",\"トーン1\",_xlfn.IFS(キー割付!S564=\"着信音なし\",\"トーン1\",キー割付!S564=\"トーン1\",\"トーン1\",キー割付!S564=\"トーン2\",\"トーン2\",キー割付!S564=\"トーン3\",\"トーン3\",キー割付!S564=\"トーン4\",\"トーン4\",キー割付!S564=\"トーン5\",\"トーン5\",キー割付!S564=\"トーン6\",\"トーン6\",キー割付!S564=\"トーン7\",\"トーン7\",キー割付!S564=\"トーン7\",\"トーン7\",キー割付!S564=\"無鳴動着信\",\"トーン8\",キー割付!S564=\"グリーンスリーブス\",\"メロディ1\",キー割付!S564=\"峠の我が家\",\"メロディ2\",キー割付!S564=\"カノン\",\"メロディ3\",キー割付!S564=\"春の歌\",\"メロディ4\",キー割付!S564=\"主よ人の望みの喜びよ\",\"メロディ5\",キー割付!S564=\"メヌエット\",\"メロディ6\",キー割付!S564=\"華麗なる大円舞曲\",\"メロディ7\",キー割付!S564=\"ハンガリア舞曲第5番\",\"メロディ8\",TRUE,\"トーン1\"))","v":"トーン1"},{"$f":"IF(E100=\"ZX-DECLDIV-IPコードレス電話機\",\"トーン1\",_xlfn.IFS(キー割付!N572=\"着信音なし\",\"トーン1\",キー割付!N572=\"トーン1\",\"トーン1\",キー割付!N572=\"トーン2\",\"トーン2\",キー割付!N572=\"トーン3\",\"トーン3\",キー割付!N572=\"トーン4\",\"トーン4\",キー割付!N572=\"トーン5\",\"トーン5\",キー割付!N572=\"トーン6\",\"トーン6\",キー割付!N572=\"トーン7\",\"トーン7\",キー割付!N572=\"トーン7\",\"トーン7\",キー割付!N572=\"無鳴動着信\",\"トーン8\",キー割付!N572=\"グリーンスリーブス\",\"メロディ1\",キー割付!N572=\"峠の我が家\",\"メロディ2\",キー割付!N572=\"カノン\",\"メロディ3\",キー割付!N572=\"春の歌\",\"メロディ4\",キー割付!N572=\"主よ人の望みの喜びよ\",\"メロディ5\",キー割付!N572=\"メヌエット\",\"メロディ6\",キー割付!N572=\"華麗なる大円舞曲\",\"メロディ7\",キー割付!N572=\"ハンガリア舞曲第5番\",\"メロディ8\",TRUE,\"トーン1\"))","v":"トーン1"},{"$f":"IF(E100=\"ZX-DECLDIV-IPコードレス電話機\",\"トーン1\",_xlfn.IFS(キー割付!O572=\"着信音なし\",\"トーン1\",キー割付!O572=\"トーン1\",\"トーン1\",キー割付!O572=\"トーン2\",\"トーン2\",キー割付!O572=\"トーン3\",\"トーン3\",キー割付!O572=\"トーン4\",\"トーン4\",キー割付!O572=\"トーン5\",\"トーン5\",キー割付!O572=\"トーン6\",\"トーン6\",キー割付!O572=\"トーン7\",\"トーン7\",キー割付!O572=\"トーン7\",\"トーン7\",キー割付!O572=\"無鳴動着信\",\"トーン8\",キー割付!O572=\"グリーンスリーブス\",\"メロディ1\",キー割付!O572=\"峠の我が家\",\"メロディ2\",キー割付!O572=\"カノン\",\"メロディ3\",キー割付!O572=\"春の歌\",\"メロディ4\",キー割付!O572=\"主よ人の望みの喜びよ\",\"メロディ5\",キー割付!O572=\"メヌエット\",\"メロディ6\",キー割付!O572=\"華麗なる大円舞曲\",\"メロディ7\",キー割付!O572=\"ハンガリア舞曲第5番\",\"メロディ8\",TRUE,\"トーン1\"))","v":"トーン1"},{"$f":"IF(E100=\"ZX-DECLDIV-IPコードレス電話機\",\"トーン1\",_xlfn.IFS(キー割付!P572=\"着信音なし\",\"トーン1\",キー割付!P572=\"トーン1\",\"トーン1\",キー割付!P572=\"トーン2\",\"トーン2\",キー割付!P572=\"トーン3\",\"トーン3\",キー割付!P572=\"トーン4\",\"トーン4\",キー割付!P572=\"トーン5\",\"トーン5\",キー割付!P572=\"トーン6\",\"トーン6\",キー割付!P572=\"トーン7\",\"トーン7\",キー割付!P572=\"トーン7\",\"トーン7\",キー割付!P572=\"無鳴動着信\",\"トーン8\",キー割付!P572=\"グリーンスリーブス\",\"メロディ1\",キー割付!P572=\"峠の我が家\",\"メロディ2\",キー割付!P572=\"カノン\",\"メロディ3\",キー割付!P572=\"春の歌\",\"メロディ4\",キー割付!P572=\"主よ人の望みの喜びよ\",\"メロディ5\",キー割付!P572=\"メヌエット\",\"メロディ6\",キー割付!P572=\"華麗なる大円舞曲\",\"メロディ7\",キー割付!P572=\"ハンガリア舞曲第5番\",\"メロディ8\",TRUE,\"トーン1\"))","v":"トーン1"},{"$f":"IF(E100=\"ZX-DECLDIV-IPコードレス電話機\",\"トーン1\",_xlfn.IFS(キー割付!Q572=\"着信音なし\",\"トーン1\",キー割付!Q572=\"トーン1\",\"トーン1\",キー割付!Q572=\"トーン2\",\"トーン2\",キー割付!Q572=\"トーン3\",\"トーン3\",キー割付!Q572=\"トーン4\",\"トーン4\",キー割付!Q572=\"トーン5\",\"トーン5\",キー割付!Q572=\"トーン6\",\"トーン6\",キー割付!Q572=\"トーン7\",\"トーン7\",キー割付!Q572=\"トーン7\",\"トーン7\",キー割付!Q572=\"無鳴動着信\",\"トーン8\",キー割付!Q572=\"グリーンスリーブス\",\"メロディ1\",キー割付!Q572=\"峠の我が家\",\"メロディ2\",キー割付!Q572=\"カノン\",\"メロディ3\",キー割付!Q572=\"春の歌\",\"メロディ4\",キー割付!Q572=\"主よ人の望みの喜びよ\",\"メロディ5\",キー割付!Q572=\"メヌエット\",\"メロディ6\",キー割付!Q572=\"華麗なる大円舞曲\",\"メロディ7\",キー割付!Q572=\"ハンガリア舞曲第5番\",\"メロディ8\",TRUE,\"トーン1\"))","v":"トーン1"},{"$f":"IF(E100=\"ZX-DECLDIV-IPコードレス電話機\",\"トーン1\",_xlfn.IFS(キー割付!R572=\"着信音なし\",\"トーン1\",キー割付!R572=\"トーン1\",\"トーン1\",キー割付!R572=\"トーン2\",\"トーン2\",キー割付!R572=\"トーン3\",\"トーン3\",キー割付!R572=\"トーン4\",\"トーン4\",キー割付!R572=\"トーン5\",\"トーン5\",キー割付!R572=\"トーン6\",\"トーン6\",キー割付!R572=\"トーン7\",\"トーン7\",キー割付!R572=\"トーン7\",\"トーン7\",キー割付!R572=\"無鳴動着信\",\"トーン8\",キー割付!R572=\"グリーンスリーブス\",\"メロディ1\",キー割付!R572=\"峠の我が家\",\"メロディ2\",キー割付!R572=\"カノン\",\"メロディ3\",キー割付!R572=\"春の歌\",\"メロディ4\",キー割付!R572=\"主よ人の望みの喜びよ\",\"メロディ5\",キー割付!R572=\"メヌエット\",\"メロディ6\",キー割付!R572=\"華麗なる大円舞曲\",\"メロディ7\",キー割付!R572=\"ハンガリア舞曲第5番\",\"メロディ8\",TRUE,\"トーン1\"))","v":"トーン1"},{"$f":"IF(E100=\"ZX-DECLDIV-IPコードレス電話機\",\"トーン1\",_xlfn.IFS(キー割付!S572=\"着信音なし\",\"トーン1\",キー割付!S572=\"トーン1\",\"トーン1\",キー割付!S572=\"トーン2\",\"トーン2\",キー割付!S572=\"トーン3\",\"トーン3\",キー割付!S572=\"トーン4\",\"トーン4\",キー割付!S572=\"トーン5\",\"トーン5\",キー割付!S572=\"トーン6\",\"トーン6\",キー割付!S572=\"トーン7\",\"トーン7\",キー割付!S572=\"トーン7\",\"トーン7\",キー割付!S572=\"無鳴動着信\",\"トーン8\",キー割付!S572=\"グリーンスリーブス\",\"メロディ1\",キー割付!S572=\"峠の我が家\",\"メロディ2\",キー割付!S572=\"カノン\",\"メロディ3\",キー割付!S572=\"春の歌\",\"メロディ4\",キー割付!S572=\"主よ人の望みの喜びよ\",\"メロディ5\",キー割付!S572=\"メヌエット\",\"メロディ6\",キー割付!S572=\"華麗なる大円舞曲\",\"メロディ7\",キー割付!S572=\"ハンガリア舞曲第5番\",\"メロディ8\",TRUE,\"トーン1\"))","v":"トーン1"}]
[null,null,null,null,null,{"$f":"_xlfn.IFS(キー割付!N549=\"昼夜休憩\",\"B\",キー割付!N549=\"－－－\",\"-\",キー割付!N549=\"昼－－\",\"H\",キー割付!N549=\"－夜－\",\"N\",キー割付!N549=\"－－休憩\",\"P\",キー割付!N549=\"昼夜－\",\"N\",キー割付!N549=\"昼－休憩\",\"F\",キー割付!N549=\"－夜休憩\",\"K\",TRUE,\"-\")","v":"-"},{"$f":"_xlfn.IFS(キー割付!O549=\"昼夜休憩\",\"B\",キー割付!O549=\"－－－\",\"-\",キー割付!O549=\"昼－－\",\"H\",キー割付!O549=\"－夜－\",\"N\",キー割付!O549=\"－－休憩\",\"P\",キー割付!O549=\"昼夜－\",\"N\",キー割付!O549=\"昼－休憩\",\"F\",キー割付!O549=\"－夜休憩\",\"K\",TRUE,\"-\")","v":"-"},{"$f":"_xlfn.IFS(キー割付!P549=\"昼夜休憩\",\"B\",キー割付!P549=\"－－－\",\"-\",キー割付!P549=\"昼－－\",\"H\",キー割付!P549=\"－夜－\",\"N\",キー割付!P549=\"－－休憩\",\"P\",キー割付!P549=\"昼夜－\",\"N\",キー割付!P549=\"昼－休憩\",\"F\",キー割付!P549=\"－夜休憩\",\"K\",TRUE,\"-\")","v":"-"},{"$f":"_xlfn.IFS(キー割付!Q549=\"昼夜休憩\",\"B\",キー割付!Q549=\"－－－\",\"-\",キー割付!Q549=\"昼－－\",\"H\",キー割付!Q549=\"－夜－\",\"N\",キー割付!Q549=\"－－休憩\",\"P\",キー割付!Q549=\"昼夜－\",\"N\",キー割付!Q549=\"昼－休憩\",\"F\",キー割付!Q549=\"－夜休憩\",\"K\",TRUE,\"-\")","v":"-"},{"$f":"_xlfn.IFS(キー割付!R549=\"昼夜休憩\",\"B\",キー割付!R549=\"－－－\",\"-\",キー割付!R549=\"昼－－\",\"H\",キー割付!R549=\"－夜－\",\"N\",キー割付!R549=\"－－休憩\",\"P\",キー割付!R549=\"昼夜－\",\"N\",キー割付!R549=\"昼－休憩\",\"F\",キー割付!R549=\"－夜休憩\",\"K\",TRUE,\"-\")","v":"-"},{"$f":"_xlfn.IFS(キー割付!S549=\"昼夜休憩\",\"B\",キー割付!S549=\"－－－\",\"-\",キー割付!S549=\"昼－－\",\"H\",キー割付!S549=\"－夜－\",\"N\",キー割付!S549=\"－－休憩\",\"P\",キー割付!S549=\"昼夜－\",\"N\",キー割付!S549=\"昼－休憩\",\"F\",キー割付!S549=\"－夜休憩\",\"K\",TRUE,\"-\")","v":"-"},{"$f":"_xlfn.IFS(キー割付!N557=\"昼夜休憩\",\"B\",キー割付!N557=\"－－－\",\"-\",キー割付!N557=\"昼－－\",\"H\",キー割付!N557=\"－夜－\",\"N\",キー割付!N557=\"－－休憩\",\"P\",キー割付!N557=\"昼夜－\",\"N\",キー割付!N557=\"昼－休憩\",\"F\",キー割付!N557=\"－夜休憩\",\"K\",TRUE,\"-\")","v":"-"},{"$f":"_xlfn.IFS(キー割付!O557=\"昼夜休憩\",\"B\",キー割付!O557=\"－－－\",\"-\",キー割付!O557=\"昼－－\",\"H\",キー割付!O557=\"－夜－\",\"N\",キー割付!O557=\"－－休憩\",\"P\",キー割付!O557=\"昼夜－\",\"N\",キー割付!O557=\"昼－休憩\",\"F\",キー割付!O557=\"－夜休憩\",\"K\",TRUE,\"-\")","v":"-"},{"$f":"IF(E100=\"ZX-DECLDIV-IPコードレス電話機\",\"-\",_xlfn.IFS(キー割付!P557=\"昼夜休憩\",\"B\",キー割付!P557=\"－－－\",\"-\",キー割付!P557=\"昼－－\",\"H\",キー割付!P557=\"－夜－\",\"N\",キー割付!P557=\"－－休憩\",\"P\",キー割付!P557=\"昼夜－\",\"N\",キー割付!P557=\"昼－休憩\",\"F\",キー割付!P557=\"－夜休憩\",\"K\",TRUE,\"-\"))","v":"-"},{"$f":"IF(E100=\"ZX-DECLDIV-IPコードレス電話機\",\"-\",_xlfn.IFS(キー割付!Q557=\"昼夜休憩\",\"B\",キー割付!Q557=\"－－－\",\"-\",キー割付!Q557=\"昼－－\",\"H\",キー割付!Q557=\"－夜－\",\"N\",キー割付!Q557=\"－－休憩\",\"P\",キー割付!Q557=\"昼夜－\",\"N\",キー割付!Q557=\"昼－休憩\",\"F\",キー割付!Q557=\"－夜休憩\",\"K\",TRUE,\"-\"))","v":"-"},{"$f":"IF(E100=\"ZX-DECLDIV-IPコードレス電話機\",\"-\",_xlfn.IFS(キー割付!R557=\"昼夜休憩\",\"B\",キー割付!R557=\"－－－\",\"-\",キー割付!R557=\"昼－－\",\"H\",キー割付!R557=\"－夜－\",\"N\",キー割付!R557=\"－－休憩\",\"P\",キー割付!R557=\"昼夜－\",\"N\",キー割付!R557=\"昼－休憩\",\"F\",キー割付!R557=\"－夜休憩\",\"K\",TRUE,\"-\"))","v":"-"},{"$f":"IF(E100=\"ZX-DECLDIV-IPコードレス電話機\",\"-\",_xlfn.IFS(キー割付!S557=\"昼夜休憩\",\"B\",キー割付!S557=\"－－－\",\"-\",キー割付!S557=\"昼－－\",\"H\",キー割付!S557=\"－夜－\",\"N\",キー割付!S557=\"－－休憩\",\"P\",キー割付!S557=\"昼夜－\",\"N\",キー割付!S557=\"昼－休憩\",\"F\",キー割付!S557=\"－夜休憩\",\"K\",TRUE,\"-\"))","v":"-"},{"$f":"IF(E100=\"ZX-DECLDIV-IPコードレス電話機\",\"-\",_xlfn.IFS(キー割付!N565=\"昼夜休憩\",\"B\",キー割付!N565=\"－－－\",\"-\",キー割付!N565=\"昼－－\",\"H\",キー割付!N565=\"－夜－\",\"N\",キー割付!N565=\"－－休憩\",\"P\",キー割付!N565=\"昼夜－\",\"N\",キー割付!N565=\"昼－休憩\",\"F\",キー割付!N565=\"－夜休憩\",\"K\",TRUE,\"-\"))","v":"-"},{"$f":"IF(E100=\"ZX-DECLDIV-IPコードレス電話機\",\"-\",_xlfn.IFS(キー割付!O565=\"昼夜休憩\",\"B\",キー割付!O565=\"－－－\",\"-\",キー割付!O565=\"昼－－\",\"H\",キー割付!O565=\"－夜－\",\"N\",キー割付!O565=\"－－休憩\",\"P\",キー割付!O565=\"昼夜－\",\"N\",キー割付!O565=\"昼－休憩\",\"F\",キー割付!O565=\"－夜休憩\",\"K\",TRUE,\"-\"))","v":"-"},{"$f":"IF(E100=\"ZX-DECLDIV-IPコードレス電話機\",\"-\",_xlfn.IFS(キー割付!P565=\"昼夜休憩\",\"B\",キー割付!P565=\"－－－\",\"-\",キー割付!P565=\"昼－－\",\"H\",キー割付!P565=\"－夜－\",\"N\",キー割付!P565=\"－－休憩\",\"P\",キー割付!P565=\"昼夜－\",\"N\",キー割付!P565=\"昼－休憩\",\"F\",キー割付!P565=\"－夜休憩\",\"K\",TRUE,\"-\"))","v":"-"},{"$f":"IF(E100=\"ZX-DECLDIV-IPコードレス電話機\",\"-\",_xlfn.IFS(キー割付!Q565=\"昼夜休憩\",\"B\",キー割付!Q565=\"－－－\",\"-\",キー割付!Q565=\"昼－－\",\"H\",キー割付!Q565=\"－夜－\",\"N\",キー割付!Q565=\"－－休憩\",\"P\",キー割付!Q565=\"昼夜－\",\"N\",キー割付!Q565=\"昼－休憩\",\"F\",キー割付!Q565=\"－夜休憩\",\"K\",TRUE,\"-\"))","v":"-"},{"$f":"IF(E100=\"ZX-DECLDIV-IPコードレス電話機\",\"-\",_xlfn.IFS(キー割付!R565=\"昼夜休憩\",\"B\",キー割付!R565=\"－－－\",\"-\",キー割付!R565=\"昼－－\",\"H\",キー割付!R565=\"－夜－\",\"N\",キー割付!R565=\"－－休憩\",\"P\",キー割付!R565=\"昼夜－\",\"N\",キー割付!R565=\"昼－休憩\",\"F\",キー割付!R565=\"－夜休憩\",\"K\",TRUE,\"-\"))","v":"-"},{"$f":"IF(E100=\"ZX-DECLDIV-IPコードレス電話機\",\"-\",_xlfn.IFS(キー割付!S565=\"昼夜休憩\",\"B\",キー割付!S565=\"－－－\",\"-\",キー割付!S565=\"昼－－\",\"H\",キー割付!S565=\"－夜－\",\"N\",キー割付!S565=\"－－休憩\",\"P\",キー割付!S565=\"昼夜－\",\"N\",キー割付!S565=\"昼－休憩\",\"F\",キー割付!S565=\"－夜休憩\",\"K\",TRUE,\"-\"))","v":"-"},{"$f":"IF(E100=\"ZX-DECLDIV-IPコードレス電話機\",\"-\",_xlfn.IFS(キー割付!N573=\"昼夜休憩\",\"B\",キー割付!N573=\"－－－\",\"-\",キー割付!N573=\"昼－－\",\"H\",キー割付!N573=\"－夜－\",\"N\",キー割付!N573=\"－－休憩\",\"P\",キー割付!N573=\"昼夜－\",\"N\",キー割付!N573=\"昼－休憩\",\"F\",キー割付!N573=\"－夜休憩\",\"K\",TRUE,\"-\"))","v":"-"},{"$f":"IF(E100=\"ZX-DECLDIV-IPコードレス電話機\",\"-\",_xlfn.IFS(キー割付!O573=\"昼夜休憩\",\"B\",キー割付!O573=\"－－－\",\"-\",キー割付!O573=\"昼－－\",\"H\",キー割付!O573=\"－夜－\",\"N\",キー割付!O573=\"－－休憩\",\"P\",キー割付!O573=\"昼夜－\",\"N\",キー割付!O573=\"昼－休憩\",\"F\",キー割付!O573=\"－夜休憩\",\"K\",TRUE,\"-\"))","v":"-"},{"$f":"IF(E100=\"ZX-DECLDIV-IPコードレス電話機\",\"-\",_xlfn.IFS(キー割付!P573=\"昼夜休憩\",\"B\",キー割付!P573=\"－－－\",\"-\",キー割付!P573=\"昼－－\",\"H\",キー割付!P573=\"－夜－\",\"N\",キー割付!P573=\"－－休憩\",\"P\",キー割付!P573=\"昼夜－\",\"N\",キー割付!P573=\"昼－休憩\",\"F\",キー割付!P573=\"－夜休憩\",\"K\",TRUE,\"-\"))","v":"-"},{"$f":"IF(E100=\"ZX-DECLDIV-IPコードレス電話機\",\"-\",_xlfn.IFS(キー割付!Q573=\"昼夜休憩\",\"B\",キー割付!Q573=\"－－－\",\"-\",キー割付!Q573=\"昼－－\",\"H\",キー割付!Q573=\"－夜－\",\"N\",キー割付!Q573=\"－－休憩\",\"P\",キー割付!Q573=\"昼夜－\",\"N\",キー割付!Q573=\"昼－休憩\",\"F\",キー割付!Q573=\"－夜休憩\",\"K\",TRUE,\"-\"))","v":"-"},{"$f":"IF(E100=\"ZX-DECLDIV-IPコードレス電話機\",\"-\",_xlfn.IFS(キー割付!R573=\"昼夜休憩\",\"B\",キー割付!R573=\"－－－\",\"-\",キー割付!R573=\"昼－－\",\"H\",キー割付!R573=\"－夜－\",\"N\",キー割付!R573=\"－－休憩\",\"P\",キー割付!R573=\"昼夜－\",\"N\",キー割付!R573=\"昼－休憩\",\"F\",キー割付!R573=\"－夜休憩\",\"K\",TRUE,\"-\"))","v":"-"},{"$f":"IF(E100=\"ZX-DECLDIV-IPコードレス電話機\",\"-\",_xlfn.IFS(キー割付!S573=\"昼夜休憩\",\"B\",キー割付!S573=\"－－－\",\"-\",キー割付!S573=\"昼－－\",\"H\",キー割付!S573=\"－夜－\",\"N\",キー割付!S573=\"－－休憩\",\"P\",キー割付!S573=\"昼夜－\",\"N\",キー割付!S573=\"昼－休憩\",\"F\",キー割付!S573=\"－夜休憩\",\"K\",TRUE,\"-\"))","v":"-"}]
[null,33,{"$f":"IF(IFERROR(VALUE(VLOOKUP(B103,内線_キー割用,2,FALSE)),\"\")=0,\"\",IFERROR(VALUE(VLOOKUP(B103,内線_キー割用,2,FALSE)),\"\"))","v":""},{"$f":"IF(IFERROR(VALUE(VLOOKUP(B103,内線_キー割用,4,FALSE)),\"\")=0,\"\",IFERROR(VALUE(VLOOKUP(B103,内線_キー割用,4,FALSE)),\"\"))","v":""},{"$f":"IF(IFERROR(VLOOKUP(B103,内線_キー割用,3,FALSE),\"\")=0,\"\",IFERROR(VLOOKUP(B103,内線_キー割用,3,FALSE),\"\"))","v":""},{"$f":"IF(キー割付!D583=\"\",\"未使用\",キー割付!D583)","v":"未使用"},{"$f":"IF(キー割付!E583=\"\",\"未使用\",キー割付!E583)","v":"未使用"},{"$f":"IF(キー割付!F583=\"\",\"未使用\",キー割付!F583)","v":"未使用"},{"$f":"IF(キー割付!G583=\"\",\"未使用\",キー割付!G583)","v":"未使用"},{"$f":"IF(キー割付!H583=\"\",\"未使用\",キー割付!H583)","v":"未使用"},{"$f":"IF(キー割付!I583=\"\",\"未使用\",キー割付!I583)","v":"未使用"},{"$f":"IF(キー割付!D591=\"\",\"未使用\",キー割付!D591)","v":"未使用"},{"$f":"IF(キー割付!E591=\"\",\"未使用\",キー割付!E591)","v":"未使用"},{"$f":"IF(E103=\"ZX-DECLDIV-IPコードレス電話機\",\"未使用\",IF(キー割付!F591=\"\",\"未使用\",キー割付!F591))","v":"未使用"},{"$f":"IF(E103=\"ZX-DECLDIV-IPコードレス電話機\",\"未使用\",IF(キー割付!G591=\"\",\"未使用\",キー割付!G591))","v":"未使用"},{"$f":"IF(E103=\"ZX-DECLDIV-IPコードレス電話機\",\"未使用\",IF(キー割付!H591=\"\",\"未使用\",キー割付!H591))","v":"未使用"},{"$f":"IF(E103=\"ZX-DECLDIV-IPコードレス電話機\",\"未使用\",IF(キー割付!I591=\"\",\"未使用\",キー割付!I591))","v":"未使用"},{"$f":"IF(E103=\"ZX-DECLDIV-IPコードレス電話機\",\"未使用\",IF(キー割付!D599=\"\",\"未使用\",キー割付!D599))","v":"未使用"},{"$f":"IF(E103=\"ZX-DECLDIV-IPコードレス電話機\",\"未使用\",IF(キー割付!E599=\"\",\"未使用\",キー割付!E599))","v":"未使用"},{"$f":"IF(E103=\"ZX-DECLDIV-IPコードレス電話機\",\"未使用\",IF(キー割付!F599=\"\",\"未使用\",キー割付!F599))","v":"未使用"},{"$f":"IF(E103=\"ZX-DECLDIV-IPコードレス電話機\",\"未使用\",IF(キー割付!G599=\"\",\"未使用\",キー割付!G599))","v":"未使用"},{"$f":"IF(E103=\"ZX-DECLDIV-IPコードレス電話機\",\"未使用\",IF(キー割付!H599=\"\",\"未使用\",キー割付!H599))","v":"未使用"},{"$f":"IF(E103=\"ZX-DECLDIV-IPコードレス電話機\",\"未使用\",IF(キー割付!I599=\"\",\"未使用\",キー割付!I599))","v":"未使用"},{"$f":"IF(E103=\"ZX-DECLDIV-IPコードレス電話機\",\"未使用\",IF(キー割付!D607=\"\",\"未使用\",キー割付!D607))","v":"未使用"},{"$f":"IF(E103=\"ZX-DECLDIV-IPコードレス電話機\",\"未使用\",IF(キー割付!E607=\"\",\"未使用\",キー割付!E607))","v":"未使用"},{"$f":"IF(E103=\"ZX-DECLDIV-IPコードレス電話機\",\"未使用\",IF(キー割付!F607=\"\",\"未使用\",キー割付!F607))","v":"未使用"},{"$f":"IF(E103=\"ZX-DECLDIV-IPコードレス電話機\",\"未使用\",IF(キー割付!G607=\"\",\"未使用\",キー割付!G607))","v":"未使用"},{"$f":"IF(E103=\"ZX-DECLDIV-IPコードレス電話機\",\"未使用\",IF(キー割付!H607=\"\",\"未使用\",キー割付!H607))","v":"未使用"},{"$f":"IF(E103=\"ZX-DECLDIV-IPコードレス電話機\",\"未使用\",IF(キー割付!I607=\"\",\"未使用\",キー割付!I607))","v":"未使用"}]
[null,null,null,null,null,{"$f":"_xlfn.IFS(キー割付!D584=\"着信音なし\",\"トーン1\",キー割付!D584=\"トーン1\",\"トーン1\",キー割付!D584=\"トーン2\",\"トーン2\",キー割付!D584=\"トーン3\",\"トーン3\",キー割付!D584=\"トーン4\",\"トーン4\",キー割付!D584=\"トーン5\",\"トーン5\",キー割付!D584=\"トーン6\",\"トーン6\",キー割付!D584=\"トーン7\",\"トーン7\",キー割付!D584=\"トーン7\",\"トーン7\",キー割付!D584=\"無鳴動着信\",\"トーン8\",キー割付!D584=\"グリーンスリーブス\",\"メロディ1\",キー割付!D584=\"峠の我が家\",\"メロディ2\",キー割付!D584=\"カノン\",\"メロディ3\",キー割付!D584=\"春の歌\",\"メロディ4\",キー割付!D584=\"主よ人の望みの喜びよ\",\"メロディ5\",キー割付!D584=\"メヌエット\",\"メロディ6\",キー割付!D584=\"華麗なる大円舞曲\",\"メロディ7\",キー割付!D584=\"ハンガリア舞曲第5番\",\"メロディ8\",TRUE,\"トーン1\")","v":"トーン1"},{"$f":"_xlfn.IFS(キー割付!E584=\"着信音なし\",\"トーン1\",キー割付!E584=\"トーン1\",\"トーン1\",キー割付!E584=\"トーン2\",\"トーン2\",キー割付!E584=\"トーン3\",\"トーン3\",キー割付!E584=\"トーン4\",\"トーン4\",キー割付!E584=\"トーン5\",\"トーン5\",キー割付!E584=\"トーン6\",\"トーン6\",キー割付!E584=\"トーン7\",\"トーン7\",キー割付!E584=\"トーン7\",\"トーン7\",キー割付!E584=\"無鳴動着信\",\"トーン8\",キー割付!E584=\"グリーンスリーブス\",\"メロディ1\",キー割付!E584=\"峠の我が家\",\"メロディ2\",キー割付!E584=\"カノン\",\"メロディ3\",キー割付!E584=\"春の歌\",\"メロディ4\",キー割付!E584=\"主よ人の望みの喜びよ\",\"メロディ5\",キー割付!E584=\"メヌエット\",\"メロディ6\",キー割付!E584=\"華麗なる大円舞曲\",\"メロディ7\",キー割付!E584=\"ハンガリア舞曲第5番\",\"メロディ8\",TRUE,\"トーン1\")","v":"トーン1"},{"$f":"_xlfn.IFS(キー割付!F584=\"着信音なし\",\"トーン1\",キー割付!F584=\"トーン1\",\"トーン1\",キー割付!F584=\"トーン2\",\"トーン2\",キー割付!F584=\"トーン3\",\"トーン3\",キー割付!F584=\"トーン4\",\"トーン4\",キー割付!F584=\"トーン5\",\"トーン5\",キー割付!F584=\"トーン6\",\"トーン6\",キー割付!F584=\"トーン7\",\"トーン7\",キー割付!F584=\"トーン7\",\"トーン7\",キー割付!F584=\"無鳴動着信\",\"トーン8\",キー割付!F584=\"グリーンスリーブス\",\"メロディ1\",キー割付!F584=\"峠の我が家\",\"メロディ2\",キー割付!F584=\"カノン\",\"メロディ3\",キー割付!F584=\"春の歌\",\"メロディ4\",キー割付!F584=\"主よ人の望みの喜びよ\",\"メロディ5\",キー割付!F584=\"メヌエット\",\"メロディ6\",キー割付!F584=\"華麗なる大円舞曲\",\"メロディ7\",キー割付!F584=\"ハンガリア舞曲第5番\",\"メロディ8\",TRUE,\"トーン1\")","v":"トーン1"},{"$f":"_xlfn.IFS(キー割付!G584=\"着信音なし\",\"トーン1\",キー割付!G584=\"トーン1\",\"トーン1\",キー割付!G584=\"トーン2\",\"トーン2\",キー割付!G584=\"トーン3\",\"トーン3\",キー割付!G584=\"トーン4\",\"トーン4\",キー割付!G584=\"トーン5\",\"トーン5\",キー割付!G584=\"トーン6\",\"トーン6\",キー割付!G584=\"トーン7\",\"トーン7\",キー割付!G584=\"トーン7\",\"トーン7\",キー割付!G584=\"無鳴動着信\",\"トーン8\",キー割付!G584=\"グリーンスリーブス\",\"メロディ1\",キー割付!G584=\"峠の我が家\",\"メロディ2\",キー割付!G584=\"カノン\",\"メロディ3\",キー割付!G584=\"春の歌\",\"メロディ4\",キー割付!G584=\"主よ人の望みの喜びよ\",\"メロディ5\",キー割付!G584=\"メヌエット\",\"メロディ6\",キー割付!G584=\"華麗なる大円舞曲\",\"メロディ7\",キー割付!G584=\"ハンガリア舞曲第5番\",\"メロディ8\",TRUE,\"トーン1\")","v":"トーン1"},{"$f":"_xlfn.IFS(キー割付!H584=\"着信音なし\",\"トーン1\",キー割付!H584=\"トーン1\",\"トーン1\",キー割付!H584=\"トーン2\",\"トーン2\",キー割付!H584=\"トーン3\",\"トーン3\",キー割付!H584=\"トーン4\",\"トーン4\",キー割付!H584=\"トーン5\",\"トーン5\",キー割付!H584=\"トーン6\",\"トーン6\",キー割付!H584=\"トーン7\",\"トーン7\",キー割付!H584=\"トーン7\",\"トーン7\",キー割付!H584=\"無鳴動着信\",\"トーン8\",キー割付!H584=\"グリーンスリーブス\",\"メロディ1\",キー割付!H584=\"峠の我が家\",\"メロディ2\",キー割付!H584=\"カノン\",\"メロディ3\",キー割付!H584=\"春の歌\",\"メロディ4\",キー割付!H584=\"主よ人の望みの喜びよ\",\"メロディ5\",キー割付!H584=\"メヌエット\",\"メロディ6\",キー割付!H584=\"華麗なる大円舞曲\",\"メロディ7\",キー割付!H584=\"ハンガリア舞曲第5番\",\"メロディ8\",TRUE,\"トーン1\")","v":"トーン1"},{"$f":"_xlfn.IFS(キー割付!I584=\"着信音なし\",\"トーン1\",キー割付!I584=\"トーン1\",\"トーン1\",キー割付!I584=\"トーン2\",\"トーン2\",キー割付!I584=\"トーン3\",\"トーン3\",キー割付!I584=\"トーン4\",\"トーン4\",キー割付!I584=\"トーン5\",\"トーン5\",キー割付!I584=\"トーン6\",\"トーン6\",キー割付!I584=\"トーン7\",\"トーン7\",キー割付!I584=\"トーン7\",\"トーン7\",キー割付!I584=\"無鳴動着信\",\"トーン8\",キー割付!I584=\"グリーンスリーブス\",\"メロディ1\",キー割付!I584=\"峠の我が家\",\"メロディ2\",キー割付!I584=\"カノン\",\"メロディ3\",キー割付!I584=\"春の歌\",\"メロディ4\",キー割付!I584=\"主よ人の望みの喜びよ\",\"メロディ5\",キー割付!I584=\"メヌエット\",\"メロディ6\",キー割付!I584=\"華麗なる大円舞曲\",\"メロディ7\",キー割付!I584=\"ハンガリア舞曲第5番\",\"メロディ8\",TRUE,\"トーン1\")","v":"トーン1"},{"$f":"_xlfn.IFS(キー割付!D592=\"着信音なし\",\"トーン1\",キー割付!D592=\"トーン1\",\"トーン1\",キー割付!D592=\"トーン2\",\"トーン2\",キー割付!D592=\"トーン3\",\"トーン3\",キー割付!D592=\"トーン4\",\"トーン4\",キー割付!D592=\"トーン5\",\"トーン5\",キー割付!D592=\"トーン6\",\"トーン6\",キー割付!D592=\"トーン7\",\"トーン7\",キー割付!D592=\"トーン7\",\"トーン7\",キー割付!D592=\"無鳴動着信\",\"トーン8\",キー割付!D592=\"グリーンスリーブス\",\"メロディ1\",キー割付!D592=\"峠の我が家\",\"メロディ2\",キー割付!D592=\"カノン\",\"メロディ3\",キー割付!D592=\"春の歌\",\"メロディ4\",キー割付!D592=\"主よ人の望みの喜びよ\",\"メロディ5\",キー割付!D592=\"メヌエット\",\"メロディ6\",キー割付!D592=\"華麗なる大円舞曲\",\"メロディ7\",キー割付!D592=\"ハンガリア舞曲第5番\",\"メロディ8\",TRUE,\"トーン1\")","v":"トーン1"},{"$f":"_xlfn.IFS(キー割付!E592=\"着信音なし\",\"トーン1\",キー割付!E592=\"トーン1\",\"トーン1\",キー割付!E592=\"トーン2\",\"トーン2\",キー割付!E592=\"トーン3\",\"トーン3\",キー割付!E592=\"トーン4\",\"トーン4\",キー割付!E592=\"トーン5\",\"トーン5\",キー割付!E592=\"トーン6\",\"トーン6\",キー割付!E592=\"トーン7\",\"トーン7\",キー割付!E592=\"トーン7\",\"トーン7\",キー割付!E592=\"無鳴動着信\",\"トーン8\",キー割付!E592=\"グリーンスリーブス\",\"メロディ1\",キー割付!E592=\"峠の我が家\",\"メロディ2\",キー割付!E592=\"カノン\",\"メロディ3\",キー割付!E592=\"春の歌\",\"メロディ4\",キー割付!E592=\"主よ人の望みの喜びよ\",\"メロディ5\",キー割付!E592=\"メヌエット\",\"メロディ6\",キー割付!E592=\"華麗なる大円舞曲\",\"メロディ7\",キー割付!E592=\"ハンガリア舞曲第5番\",\"メロディ8\",TRUE,\"トーン1\")","v":"トーン1"},{"$f":"IF(E103=\"ZX-DECLDIV-IPコードレス電話機\",\"トーン1\",_xlfn.IFS(キー割付!F592=\"着信音なし\",\"トーン1\",キー割付!F592=\"トーン1\",\"トーン1\",キー割付!F592=\"トーン2\",\"トーン2\",キー割付!F592=\"トーン3\",\"トーン3\",キー割付!F592=\"トーン4\",\"トーン4\",キー割付!F592=\"トーン5\",\"トーン5\",キー割付!F592=\"トーン6\",\"トーン6\",キー割付!F592=\"トーン7\",\"トーン7\",キー割付!F592=\"トーン7\",\"トーン7\",キー割付!F592=\"無鳴動着信\",\"トーン8\",キー割付!F592=\"グリーンスリーブス\",\"メロディ1\",キー割付!F592=\"峠の我が家\",\"メロディ2\",キー割付!F592=\"カノン\",\"メロディ3\",キー割付!F592=\"春の歌\",\"メロディ4\",キー割付!F592=\"主よ人の望みの喜びよ\",\"メロディ5\",キー割付!F592=\"メヌエット\",\"メロディ6\",キー割付!F592=\"華麗なる大円舞曲\",\"メロディ7\",キー割付!F592=\"ハンガリア舞曲第5番\",\"メロディ8\",TRUE,\"トーン1\"))","v":"トーン1"},{"$f":"IF(E103=\"ZX-DECLDIV-IPコードレス電話機\",\"トーン1\",_xlfn.IFS(キー割付!G592=\"着信音なし\",\"トーン1\",キー割付!G592=\"トーン1\",\"トーン1\",キー割付!G592=\"トーン2\",\"トーン2\",キー割付!G592=\"トーン3\",\"トーン3\",キー割付!G592=\"トーン4\",\"トーン4\",キー割付!G592=\"トーン5\",\"トーン5\",キー割付!G592=\"トーン6\",\"トーン6\",キー割付!G592=\"トーン7\",\"トーン7\",キー割付!G592=\"トーン7\",\"トーン7\",キー割付!G592=\"無鳴動着信\",\"トーン8\",キー割付!G592=\"グリーンスリーブス\",\"メロディ1\",キー割付!G592=\"峠の我が家\",\"メロディ2\",キー割付!G592=\"カノン\",\"メロディ3\",キー割付!G592=\"春の歌\",\"メロディ4\",キー割付!G592=\"主よ人の望みの喜びよ\",\"メロディ5\",キー割付!G592=\"メヌエット\",\"メロディ6\",キー割付!G592=\"華麗なる大円舞曲\",\"メロディ7\",キー割付!G592=\"ハンガリア舞曲第5番\",\"メロディ8\",TRUE,\"トーン1\"))","v":"トーン1"},{"$f":"IF(E103=\"ZX-DECLDIV-IPコードレス電話機\",\"トーン1\",_xlfn.IFS(キー割付!H592=\"着信音なし\",\"トーン1\",キー割付!H592=\"トーン1\",\"トーン1\",キー割付!H592=\"トーン2\",\"トーン2\",キー割付!H592=\"トーン3\",\"トーン3\",キー割付!H592=\"トーン4\",\"トーン4\",キー割付!H592=\"トーン5\",\"トーン5\",キー割付!H592=\"トーン6\",\"トーン6\",キー割付!H592=\"トーン7\",\"トーン7\",キー割付!H592=\"トーン7\",\"トーン7\",キー割付!H592=\"無鳴動着信\",\"トーン8\",キー割付!H592=\"グリーンスリーブス\",\"メロディ1\",キー割付!H592=\"峠の我が家\",\"メロディ2\",キー割付!H592=\"カノン\",\"メロディ3\",キー割付!H592=\"春の歌\",\"メロディ4\",キー割付!H592=\"主よ人の望みの喜びよ\",\"メロディ5\",キー割付!H592=\"メヌエット\",\"メロディ6\",キー割付!H592=\"華麗なる大円舞曲\",\"メロディ7\",キー割付!H592=\"ハンガリア舞曲第5番\",\"メロディ8\",TRUE,\"トーン1\"))","v":"トーン1"},{"$f":"IF(E103=\"ZX-DECLDIV-IPコードレス電話機\",\"トーン1\",_xlfn.IFS(キー割付!I592=\"着信音なし\",\"トーン1\",キー割付!I592=\"トーン1\",\"トーン1\",キー割付!I592=\"トーン2\",\"トーン2\",キー割付!I592=\"トーン3\",\"トーン3\",キー割付!I592=\"トーン4\",\"トーン4\",キー割付!I592=\"トーン5\",\"トーン5\",キー割付!I592=\"トーン6\",\"トーン6\",キー割付!I592=\"トーン7\",\"トーン7\",キー割付!I592=\"トーン7\",\"トーン7\",キー割付!I592=\"無鳴動着信\",\"トーン8\",キー割付!I592=\"グリーンスリーブス\",\"メロディ1\",キー割付!I592=\"峠の我が家\",\"メロディ2\",キー割付!I592=\"カノン\",\"メロディ3\",キー割付!I592=\"春の歌\",\"メロディ4\",キー割付!I592=\"主よ人の望みの喜びよ\",\"メロディ5\",キー割付!I592=\"メヌエット\",\"メロディ6\",キー割付!I592=\"華麗なる大円舞曲\",\"メロディ7\",キー割付!I592=\"ハンガリア舞曲第5番\",\"メロディ8\",TRUE,\"トーン1\"))","v":"トーン1"},{"$f":"IF(E103=\"ZX-DECLDIV-IPコードレス電話機\",\"トーン1\",_xlfn.IFS(キー割付!D600=\"着信音なし\",\"トーン1\",キー割付!D600=\"トーン1\",\"トーン1\",キー割付!D600=\"トーン2\",\"トーン2\",キー割付!D600=\"トーン3\",\"トーン3\",キー割付!D600=\"トーン4\",\"トーン4\",キー割付!D600=\"トーン5\",\"トーン5\",キー割付!D600=\"トーン6\",\"トーン6\",キー割付!D600=\"トーン7\",\"トーン7\",キー割付!D600=\"トーン7\",\"トーン7\",キー割付!D600=\"無鳴動着信\",\"トーン8\",キー割付!D600=\"グリーンスリーブス\",\"メロディ1\",キー割付!D600=\"峠の我が家\",\"メロディ2\",キー割付!D600=\"カノン\",\"メロディ3\",キー割付!D600=\"春の歌\",\"メロディ4\",キー割付!D600=\"主よ人の望みの喜びよ\",\"メロディ5\",キー割付!D600=\"メヌエット\",\"メロディ6\",キー割付!D600=\"華麗なる大円舞曲\",\"メロディ7\",キー割付!D600=\"ハンガリア舞曲第5番\",\"メロディ8\",TRUE,\"トーン1\"))","v":"トーン1"},{"$f":"IF(E103=\"ZX-DECLDIV-IPコードレス電話機\",\"トーン1\",_xlfn.IFS(キー割付!E600=\"着信音なし\",\"トーン1\",キー割付!E600=\"トーン1\",\"トーン1\",キー割付!E600=\"トーン2\",\"トーン2\",キー割付!E600=\"トーン3\",\"トーン3\",キー割付!E600=\"トーン4\",\"トーン4\",キー割付!E600=\"トーン5\",\"トーン5\",キー割付!E600=\"トーン6\",\"トーン6\",キー割付!E600=\"トーン7\",\"トーン7\",キー割付!E600=\"トーン7\",\"トーン7\",キー割付!E600=\"無鳴動着信\",\"トーン8\",キー割付!E600=\"グリーンスリーブス\",\"メロディ1\",キー割付!E600=\"峠の我が家\",\"メロディ2\",キー割付!E600=\"カノン\",\"メロディ3\",キー割付!E600=\"春の歌\",\"メロディ4\",キー割付!E600=\"主よ人の望みの喜びよ\",\"メロディ5\",キー割付!E600=\"メヌエット\",\"メロディ6\",キー割付!E600=\"華麗なる大円舞曲\",\"メロディ7\",キー割付!E600=\"ハンガリア舞曲第5番\",\"メロディ8\",TRUE,\"トーン1\"))","v":"トーン1"},{"$f":"IF(E103=\"ZX-DECLDIV-IPコードレス電話機\",\"トーン1\",_xlfn.IFS(キー割付!F600=\"着信音なし\",\"トーン1\",キー割付!F600=\"トーン1\",\"トーン1\",キー割付!F600=\"トーン2\",\"トーン2\",キー割付!F600=\"トーン3\",\"トーン3\",キー割付!F600=\"トーン4\",\"トーン4\",キー割付!F600=\"トーン5\",\"トーン5\",キー割付!F600=\"トーン6\",\"トーン6\",キー割付!F600=\"トーン7\",\"トーン7\",キー割付!F600=\"トーン7\",\"トーン7\",キー割付!F600=\"無鳴動着信\",\"トーン8\",キー割付!F600=\"グリーンスリーブス\",\"メロディ1\",キー割付!F600=\"峠の我が家\",\"メロディ2\",キー割付!F600=\"カノン\",\"メロディ3\",キー割付!F600=\"春の歌\",\"メロディ4\",キー割付!F600=\"主よ人の望みの喜びよ\",\"メロディ5\",キー割付!F600=\"メヌエット\",\"メロディ6\",キー割付!F600=\"華麗なる大円舞曲\",\"メロディ7\",キー割付!F600=\"ハンガリア舞曲第5番\",\"メロディ8\",TRUE,\"トーン1\"))","v":"トーン1"},{"$f":"IF(E103=\"ZX-DECLDIV-IPコードレス電話機\",\"トーン1\",_xlfn.IFS(キー割付!G600=\"着信音なし\",\"トーン1\",キー割付!G600=\"トーン1\",\"トーン1\",キー割付!G600=\"トーン2\",\"トーン2\",キー割付!G600=\"トーン3\",\"トーン3\",キー割付!G600=\"トーン4\",\"トーン4\",キー割付!G600=\"トーン5\",\"トーン5\",キー割付!G600=\"トーン6\",\"トーン6\",キー割付!G600=\"トーン7\",\"トーン7\",キー割付!G600=\"トーン7\",\"トーン7\",キー割付!G600=\"無鳴動着信\",\"トーン8\",キー割付!G600=\"グリーンスリーブス\",\"メロディ1\",キー割付!G600=\"峠の我が家\",\"メロディ2\",キー割付!G600=\"カノン\",\"メロディ3\",キー割付!G600=\"春の歌\",\"メロディ4\",キー割付!G600=\"主よ人の望みの喜びよ\",\"メロディ5\",キー割付!G600=\"メヌエット\",\"メロディ6\",キー割付!G600=\"華麗なる大円舞曲\",\"メロディ7\",キー割付!G600=\"ハンガリア舞曲第5番\",\"メロディ8\",TRUE,\"トーン1\"))","v":"トーン1"},{"$f":"IF(E103=\"ZX-DECLDIV-IPコードレス電話機\",\"トーン1\",_xlfn.IFS(キー割付!H600=\"着信音なし\",\"トーン1\",キー割付!H600=\"トーン1\",\"トーン1\",キー割付!H600=\"トーン2\",\"トーン2\",キー割付!H600=\"トーン3\",\"トーン3\",キー割付!H600=\"トーン4\",\"トーン4\",キー割付!H600=\"トーン5\",\"トーン5\",キー割付!H600=\"トーン6\",\"トーン6\",キー割付!H600=\"トーン7\",\"トーン7\",キー割付!H600=\"トーン7\",\"トーン7\",キー割付!H600=\"無鳴動着信\",\"トーン8\",キー割付!H600=\"グリーンスリーブス\",\"メロディ1\",キー割付!H600=\"峠の我が家\",\"メロディ2\",キー割付!H600=\"カノン\",\"メロディ3\",キー割付!H600=\"春の歌\",\"メロディ4\",キー割付!H600=\"主よ人の望みの喜びよ\",\"メロディ5\",キー割付!H600=\"メヌエット\",\"メロディ6\",キー割付!H600=\"華麗なる大円舞曲\",\"メロディ7\",キー割付!H600=\"ハンガリア舞曲第5番\",\"メロディ8\",TRUE,\"トーン1\"))","v":"トーン1"},{"$f":"IF(E103=\"ZX-DECLDIV-IPコードレス電話機\",\"トーン1\",_xlfn.IFS(キー割付!I600=\"着信音なし\",\"トーン1\",キー割付!I600=\"トーン1\",\"トーン1\",キー割付!I600=\"トーン2\",\"トーン2\",キー割付!I600=\"トーン3\",\"トーン3\",キー割付!I600=\"トーン4\",\"トーン4\",キー割付!I600=\"トーン5\",\"トーン5\",キー割付!I600=\"トーン6\",\"トーン6\",キー割付!I600=\"トーン7\",\"トーン7\",キー割付!I600=\"トーン7\",\"トーン7\",キー割付!I600=\"無鳴動着信\",\"トーン8\",キー割付!I600=\"グリーンスリーブス\",\"メロディ1\",キー割付!I600=\"峠の我が家\",\"メロディ2\",キー割付!I600=\"カノン\",\"メロディ3\",キー割付!I600=\"春の歌\",\"メロディ4\",キー割付!I600=\"主よ人の望みの喜びよ\",\"メロディ5\",キー割付!I600=\"メヌエット\",\"メロディ6\",キー割付!I600=\"華麗なる大円舞曲\",\"メロディ7\",キー割付!I600=\"ハンガリア舞曲第5番\",\"メロディ8\",TRUE,\"トーン1\"))","v":"トーン1"},{"$f":"IF(E103=\"ZX-DECLDIV-IPコードレス電話機\",\"トーン1\",_xlfn.IFS(キー割付!D608=\"着信音なし\",\"トーン1\",キー割付!D608=\"トーン1\",\"トーン1\",キー割付!D608=\"トーン2\",\"トーン2\",キー割付!D608=\"トーン3\",\"トーン3\",キー割付!D608=\"トーン4\",\"トーン4\",キー割付!D608=\"トーン5\",\"トーン5\",キー割付!D608=\"トーン6\",\"トーン6\",キー割付!D608=\"トーン7\",\"トーン7\",キー割付!D608=\"トーン7\",\"トーン7\",キー割付!D608=\"無鳴動着信\",\"トーン8\",キー割付!D608=\"グリーンスリーブス\",\"メロディ1\",キー割付!D608=\"峠の我が家\",\"メロディ2\",キー割付!D608=\"カノン\",\"メロディ3\",キー割付!D608=\"春の歌\",\"メロディ4\",キー割付!D608=\"主よ人の望みの喜びよ\",\"メロディ5\",キー割付!D608=\"メヌエット\",\"メロディ6\",キー割付!D608=\"華麗なる大円舞曲\",\"メロディ7\",キー割付!D608=\"ハンガリア舞曲第5番\",\"メロディ8\",TRUE,\"トーン1\"))","v":"トーン1"},{"$f":"IF(E103=\"ZX-DECLDIV-IPコードレス電話機\",\"トーン1\",_xlfn.IFS(キー割付!E608=\"着信音なし\",\"トーン1\",キー割付!E608=\"トーン1\",\"トーン1\",キー割付!E608=\"トーン2\",\"トーン2\",キー割付!E608=\"トーン3\",\"トーン3\",キー割付!E608=\"トーン4\",\"トーン4\",キー割付!E608=\"トーン5\",\"トーン5\",キー割付!E608=\"トーン6\",\"トーン6\",キー割付!E608=\"トーン7\",\"トーン7\",キー割付!E608=\"トーン7\",\"トーン7\",キー割付!E608=\"無鳴動着信\",\"トーン8\",キー割付!E608=\"グリーンスリーブス\",\"メロディ1\",キー割付!E608=\"峠の我が家\",\"メロディ2\",キー割付!E608=\"カノン\",\"メロディ3\",キー割付!E608=\"春の歌\",\"メロディ4\",キー割付!E608=\"主よ人の望みの喜びよ\",\"メロディ5\",キー割付!E608=\"メヌエット\",\"メロディ6\",キー割付!E608=\"華麗なる大円舞曲\",\"メロディ7\",キー割付!E608=\"ハンガリア舞曲第5番\",\"メロディ8\",TRUE,\"トーン1\"))","v":"トーン1"},{"$f":"IF(E103=\"ZX-DECLDIV-IPコードレス電話機\",\"トーン1\",_xlfn.IFS(キー割付!F608=\"着信音なし\",\"トーン1\",キー割付!F608=\"トーン1\",\"トーン1\",キー割付!F608=\"トーン2\",\"トーン2\",キー割付!F608=\"トーン3\",\"トーン3\",キー割付!F608=\"トーン4\",\"トーン4\",キー割付!F608=\"トーン5\",\"トーン5\",キー割付!F608=\"トーン6\",\"トーン6\",キー割付!F608=\"トーン7\",\"トーン7\",キー割付!F608=\"トーン7\",\"トーン7\",キー割付!F608=\"無鳴動着信\",\"トーン8\",キー割付!F608=\"グリーンスリーブス\",\"メロディ1\",キー割付!F608=\"峠の我が家\",\"メロディ2\",キー割付!F608=\"カノン\",\"メロディ3\",キー割付!F608=\"春の歌\",\"メロディ4\",キー割付!F608=\"主よ人の望みの喜びよ\",\"メロディ5\",キー割付!F608=\"メヌエット\",\"メロディ6\",キー割付!F608=\"華麗なる大円舞曲\",\"メロディ7\",キー割付!F608=\"ハンガリア舞曲第5番\",\"メロディ8\",TRUE,\"トーン1\"))","v":"トーン1"},{"$f":"IF(E103=\"ZX-DECLDIV-IPコードレス電話機\",\"トーン1\",_xlfn.IFS(キー割付!G608=\"着信音なし\",\"トーン1\",キー割付!G608=\"トーン1\",\"トーン1\",キー割付!G608=\"トーン2\",\"トーン2\",キー割付!G608=\"トーン3\",\"トーン3\",キー割付!G608=\"トーン4\",\"トーン4\",キー割付!G608=\"トーン5\",\"トーン5\",キー割付!G608=\"トーン6\",\"トーン6\",キー割付!G608=\"トーン7\",\"トーン7\",キー割付!G608=\"トーン7\",\"トーン7\",キー割付!G608=\"無鳴動着信\",\"トーン8\",キー割付!G608=\"グリーンスリーブス\",\"メロディ1\",キー割付!G608=\"峠の我が家\",\"メロディ2\",キー割付!G608=\"カノン\",\"メロディ3\",キー割付!G608=\"春の歌\",\"メロディ4\",キー割付!G608=\"主よ人の望みの喜びよ\",\"メロディ5\",キー割付!G608=\"メヌエット\",\"メロディ6\",キー割付!G608=\"華麗なる大円舞曲\",\"メロディ7\",キー割付!G608=\"ハンガリア舞曲第5番\",\"メロディ8\",TRUE,\"トーン1\"))","v":"トーン1"},{"$f":"IF(E103=\"ZX-DECLDIV-IPコードレス電話機\",\"トーン1\",_xlfn.IFS(キー割付!H608=\"着信音なし\",\"トーン1\",キー割付!H608=\"トーン1\",\"トーン1\",キー割付!H608=\"トーン2\",\"トーン2\",キー割付!H608=\"トーン3\",\"トーン3\",キー割付!H608=\"トーン4\",\"トーン4\",キー割付!H608=\"トーン5\",\"トーン5\",キー割付!H608=\"トーン6\",\"トーン6\",キー割付!H608=\"トーン7\",\"トーン7\",キー割付!H608=\"トーン7\",\"トーン7\",キー割付!H608=\"無鳴動着信\",\"トーン8\",キー割付!H608=\"グリーンスリーブス\",\"メロディ1\",キー割付!H608=\"峠の我が家\",\"メロディ2\",キー割付!H608=\"カノン\",\"メロディ3\",キー割付!H608=\"春の歌\",\"メロディ4\",キー割付!H608=\"主よ人の望みの喜びよ\",\"メロディ5\",キー割付!H608=\"メヌエット\",\"メロディ6\",キー割付!H608=\"華麗なる大円舞曲\",\"メロディ7\",キー割付!H608=\"ハンガリア舞曲第5番\",\"メロディ8\",TRUE,\"トーン1\"))","v":"トーン1"},{"$f":"IF(E103=\"ZX-DECLDIV-IPコードレス電話機\",\"トーン1\",_xlfn.IFS(キー割付!I608=\"着信音なし\",\"トーン1\",キー割付!I608=\"トーン1\",\"トーン1\",キー割付!I608=\"トーン2\",\"トーン2\",キー割付!I608=\"トーン3\",\"トーン3\",キー割付!I608=\"トーン4\",\"トーン4\",キー割付!I608=\"トーン5\",\"トーン5\",キー割付!I608=\"トーン6\",\"トーン6\",キー割付!I608=\"トーン7\",\"トーン7\",キー割付!I608=\"トーン7\",\"トーン7\",キー割付!I608=\"無鳴動着信\",\"トーン8\",キー割付!I608=\"グリーンスリーブス\",\"メロディ1\",キー割付!I608=\"峠の我が家\",\"メロディ2\",キー割付!I608=\"カノン\",\"メロディ3\",キー割付!I608=\"春の歌\",\"メロディ4\",キー割付!I608=\"主よ人の望みの喜びよ\",\"メロディ5\",キー割付!I608=\"メヌエット\",\"メロディ6\",キー割付!I608=\"華麗なる大円舞曲\",\"メロディ7\",キー割付!I608=\"ハンガリア舞曲第5番\",\"メロディ8\",TRUE,\"トーン1\"))","v":"トーン1"}]
[null,null,null,null,null,{"$f":"_xlfn.IFS(キー割付!D585=\"昼夜休憩\",\"B\",キー割付!D585=\"－－－\",\"-\",キー割付!D585=\"昼－－\",\"H\",キー割付!D585=\"－夜－\",\"N\",キー割付!D585=\"－－休憩\",\"P\",キー割付!D585=\"昼夜－\",\"D\",キー割付!D585=\"昼－休憩\",\"F\",キー割付!D585=\"－夜休憩\",\"K\",TRUE,\"-\")","v":"-"},{"$f":"_xlfn.IFS(キー割付!E585=\"昼夜休憩\",\"B\",キー割付!E585=\"－－－\",\"-\",キー割付!E585=\"昼－－\",\"H\",キー割付!E585=\"－夜－\",\"N\",キー割付!E585=\"－－休憩\",\"P\",キー割付!E585=\"昼夜－\",\"D\",キー割付!E585=\"昼－休憩\",\"F\",キー割付!E585=\"－夜休憩\",\"K\",TRUE,\"-\")","v":"-"},{"$f":"_xlfn.IFS(キー割付!F585=\"昼夜休憩\",\"B\",キー割付!F585=\"－－－\",\"-\",キー割付!F585=\"昼－－\",\"H\",キー割付!F585=\"－夜－\",\"N\",キー割付!F585=\"－－休憩\",\"P\",キー割付!F585=\"昼夜－\",\"D\",キー割付!F585=\"昼－休憩\",\"F\",キー割付!F585=\"－夜休憩\",\"K\",TRUE,\"-\")","v":"-"},{"$f":"_xlfn.IFS(キー割付!G585=\"昼夜休憩\",\"B\",キー割付!G585=\"－－－\",\"-\",キー割付!G585=\"昼－－\",\"H\",キー割付!G585=\"－夜－\",\"N\",キー割付!G585=\"－－休憩\",\"P\",キー割付!G585=\"昼夜－\",\"D\",キー割付!G585=\"昼－休憩\",\"F\",キー割付!G585=\"－夜休憩\",\"K\",TRUE,\"-\")","v":"-"},{"$f":"_xlfn.IFS(キー割付!H585=\"昼夜休憩\",\"B\",キー割付!H585=\"－－－\",\"-\",キー割付!H585=\"昼－－\",\"H\",キー割付!H585=\"－夜－\",\"N\",キー割付!H585=\"－－休憩\",\"P\",キー割付!H585=\"昼夜－\",\"D\",キー割付!H585=\"昼－休憩\",\"F\",キー割付!H585=\"－夜休憩\",\"K\",TRUE,\"-\")","v":"-"},{"$f":"_xlfn.IFS(キー割付!I585=\"昼夜休憩\",\"B\",キー割付!I585=\"－－－\",\"-\",キー割付!I585=\"昼－－\",\"H\",キー割付!I585=\"－夜－\",\"N\",キー割付!I585=\"－－休憩\",\"P\",キー割付!I585=\"昼夜－\",\"D\",キー割付!I585=\"昼－休憩\",\"F\",キー割付!I585=\"－夜休憩\",\"K\",TRUE,\"-\")","v":"-"},{"$f":"_xlfn.IFS(キー割付!D593=\"昼夜休憩\",\"B\",キー割付!D593=\"－－－\",\"-\",キー割付!D593=\"昼－－\",\"H\",キー割付!D593=\"－夜－\",\"N\",キー割付!D593=\"－－休憩\",\"P\",キー割付!D593=\"昼夜－\",\"D\",キー割付!D593=\"昼－休憩\",\"F\",キー割付!D593=\"－夜休憩\",\"K\",TRUE,\"-\")","v":"-"},{"$f":"_xlfn.IFS(キー割付!E593=\"昼夜休憩\",\"B\",キー割付!E593=\"－－－\",\"-\",キー割付!E593=\"昼－－\",\"H\",キー割付!E593=\"－夜－\",\"N\",キー割付!E593=\"－－休憩\",\"P\",キー割付!E593=\"昼夜－\",\"D\",キー割付!E593=\"昼－休憩\",\"F\",キー割付!E593=\"－夜休憩\",\"K\",TRUE,\"-\")","v":"-"},{"$f":"IF(E103=\"ZX-DECLDIV-IPコードレス電話機\",\"-\",_xlfn.IFS(キー割付!F593=\"昼夜休憩\",\"B\",キー割付!F593=\"－－－\",\"-\",キー割付!F593=\"昼－－\",\"H\",キー割付!F593=\"－夜－\",\"N\",キー割付!F593=\"－－休憩\",\"P\",キー割付!F593=\"昼夜－\",\"D\",キー割付!F593=\"昼－休憩\",\"F\",キー割付!F593=\"－夜休憩\",\"K\",TRUE,\"-\"))","v":"-"},{"$f":"IF(E103=\"ZX-DECLDIV-IPコードレス電話機\",\"-\",_xlfn.IFS(キー割付!G593=\"昼夜休憩\",\"B\",キー割付!G593=\"－－－\",\"-\",キー割付!G593=\"昼－－\",\"H\",キー割付!G593=\"－夜－\",\"N\",キー割付!G593=\"－－休憩\",\"P\",キー割付!G593=\"昼夜－\",\"D\",キー割付!G593=\"昼－休憩\",\"F\",キー割付!G593=\"－夜休憩\",\"K\",TRUE,\"-\"))","v":"-"},{"$f":"IF(E103=\"ZX-DECLDIV-IPコードレス電話機\",\"-\",_xlfn.IFS(キー割付!H593=\"昼夜休憩\",\"B\",キー割付!H593=\"－－－\",\"-\",キー割付!H593=\"昼－－\",\"H\",キー割付!H593=\"－夜－\",\"N\",キー割付!H593=\"－－休憩\",\"P\",キー割付!H593=\"昼夜－\",\"D\",キー割付!H593=\"昼－休憩\",\"F\",キー割付!H593=\"－夜休憩\",\"K\",TRUE,\"-\"))","v":"-"},{"$f":"IF(E103=\"ZX-DECLDIV-IPコードレス電話機\",\"-\",_xlfn.IFS(キー割付!I593=\"昼夜休憩\",\"B\",キー割付!I593=\"－－－\",\"-\",キー割付!I593=\"昼－－\",\"H\",キー割付!I593=\"－夜－\",\"N\",キー割付!I593=\"－－休憩\",\"P\",キー割付!I593=\"昼夜－\",\"D\",キー割付!I593=\"昼－休憩\",\"F\",キー割付!I593=\"－夜休憩\",\"K\",TRUE,\"-\"))","v":"-"},{"$f":"IF(E103=\"ZX-DECLDIV-IPコードレス電話機\",\"-\",_xlfn.IFS(キー割付!D601=\"昼夜休憩\",\"B\",キー割付!D601=\"－－－\",\"-\",キー割付!D601=\"昼－－\",\"H\",キー割付!D601=\"－夜－\",\"N\",キー割付!D601=\"－－休憩\",\"P\",キー割付!D601=\"昼夜－\",\"D\",キー割付!D601=\"昼－休憩\",\"F\",キー割付!D601=\"－夜休憩\",\"K\",TRUE,\"-\"))","v":"-"},{"$f":"IF(E103=\"ZX-DECLDIV-IPコードレス電話機\",\"-\",_xlfn.IFS(キー割付!E601=\"昼夜休憩\",\"B\",キー割付!E601=\"－－－\",\"-\",キー割付!E601=\"昼－－\",\"H\",キー割付!E601=\"－夜－\",\"N\",キー割付!E601=\"－－休憩\",\"P\",キー割付!E601=\"昼夜－\",\"D\",キー割付!E601=\"昼－休憩\",\"F\",キー割付!E601=\"－夜休憩\",\"K\",TRUE,\"-\"))","v":"-"},{"$f":"IF(E103=\"ZX-DECLDIV-IPコードレス電話機\",\"-\",_xlfn.IFS(キー割付!F601=\"昼夜休憩\",\"B\",キー割付!F601=\"－－－\",\"-\",キー割付!F601=\"昼－－\",\"H\",キー割付!F601=\"－夜－\",\"N\",キー割付!F601=\"－－休憩\",\"P\",キー割付!F601=\"昼夜－\",\"D\",キー割付!F601=\"昼－休憩\",\"F\",キー割付!F601=\"－夜休憩\",\"K\",TRUE,\"-\"))","v":"-"},{"$f":"IF(E103=\"ZX-DECLDIV-IPコードレス電話機\",\"-\",_xlfn.IFS(キー割付!G601=\"昼夜休憩\",\"B\",キー割付!G601=\"－－－\",\"-\",キー割付!G601=\"昼－－\",\"H\",キー割付!G601=\"－夜－\",\"N\",キー割付!G601=\"－－休憩\",\"P\",キー割付!G601=\"昼夜－\",\"D\",キー割付!G601=\"昼－休憩\",\"F\",キー割付!G601=\"－夜休憩\",\"K\",TRUE,\"-\"))","v":"-"},{"$f":"IF(E103=\"ZX-DECLDIV-IPコードレス電話機\",\"-\",_xlfn.IFS(キー割付!H601=\"昼夜休憩\",\"B\",キー割付!H601=\"－－－\",\"-\",キー割付!H601=\"昼－－\",\"H\",キー割付!H601=\"－夜－\",\"N\",キー割付!H601=\"－－休憩\",\"P\",キー割付!H601=\"昼夜－\",\"D\",キー割付!H601=\"昼－休憩\",\"F\",キー割付!H601=\"－夜休憩\",\"K\",TRUE,\"-\"))","v":"-"},{"$f":"IF(E103=\"ZX-DECLDIV-IPコードレス電話機\",\"-\",_xlfn.IFS(キー割付!I601=\"昼夜休憩\",\"B\",キー割付!I601=\"－－－\",\"-\",キー割付!I601=\"昼－－\",\"H\",キー割付!I601=\"－夜－\",\"N\",キー割付!I601=\"－－休憩\",\"P\",キー割付!I601=\"昼夜－\",\"D\",キー割付!I601=\"昼－休憩\",\"F\",キー割付!I601=\"－夜休憩\",\"K\",TRUE,\"-\"))","v":"-"},{"$f":"IF(E103=\"ZX-DECLDIV-IPコードレス電話機\",\"-\",_xlfn.IFS(キー割付!D609=\"昼夜休憩\",\"B\",キー割付!D609=\"－－－\",\"-\",キー割付!D609=\"昼－－\",\"H\",キー割付!D609=\"－夜－\",\"N\",キー割付!D609=\"－－休憩\",\"P\",キー割付!D609=\"昼夜－\",\"D\",キー割付!D609=\"昼－休憩\",\"F\",キー割付!D609=\"－夜休憩\",\"K\",TRUE,\"-\"))","v":"-"},{"$f":"IF(E103=\"ZX-DECLDIV-IPコードレス電話機\",\"-\",_xlfn.IFS(キー割付!E609=\"昼夜休憩\",\"B\",キー割付!E609=\"－－－\",\"-\",キー割付!E609=\"昼－－\",\"H\",キー割付!E609=\"－夜－\",\"N\",キー割付!E609=\"－－休憩\",\"P\",キー割付!E609=\"昼夜－\",\"D\",キー割付!E609=\"昼－休憩\",\"F\",キー割付!E609=\"－夜休憩\",\"K\",TRUE,\"-\"))","v":"-"},{"$f":"IF(E103=\"ZX-DECLDIV-IPコードレス電話機\",\"-\",_xlfn.IFS(キー割付!F609=\"昼夜休憩\",\"B\",キー割付!F609=\"－－－\",\"-\",キー割付!F609=\"昼－－\",\"H\",キー割付!F609=\"－夜－\",\"N\",キー割付!F609=\"－－休憩\",\"P\",キー割付!F609=\"昼夜－\",\"D\",キー割付!F609=\"昼－休憩\",\"F\",キー割付!F609=\"－夜休憩\",\"K\",TRUE,\"-\"))","v":"-"},{"$f":"IF(E103=\"ZX-DECLDIV-IPコードレス電話機\",\"-\",_xlfn.IFS(キー割付!G609=\"昼夜休憩\",\"B\",キー割付!G609=\"－－－\",\"-\",キー割付!G609=\"昼－－\",\"H\",キー割付!G609=\"－夜－\",\"N\",キー割付!G609=\"－－休憩\",\"P\",キー割付!G609=\"昼夜－\",\"D\",キー割付!G609=\"昼－休憩\",\"F\",キー割付!G609=\"－夜休憩\",\"K\",TRUE,\"-\"))","v":"-"},{"$f":"IF(E103=\"ZX-DECLDIV-IPコードレス電話機\",\"-\",_xlfn.IFS(キー割付!H609=\"昼夜休憩\",\"B\",キー割付!H609=\"－－－\",\"-\",キー割付!H609=\"昼－－\",\"H\",キー割付!H609=\"－夜－\",\"N\",キー割付!H609=\"－－休憩\",\"P\",キー割付!H609=\"昼夜－\",\"D\",キー割付!H609=\"昼－休憩\",\"F\",キー割付!H609=\"－夜休憩\",\"K\",TRUE,\"-\"))","v":"-"},{"$f":"IF(E103=\"ZX-DECLDIV-IPコードレス電話機\",\"-\",_xlfn.IFS(キー割付!I609=\"昼夜休憩\",\"B\",キー割付!I609=\"－－－\",\"-\",キー割付!I609=\"昼－－\",\"H\",キー割付!I609=\"－夜－\",\"N\",キー割付!I609=\"－－休憩\",\"P\",キー割付!I609=\"昼夜－\",\"D\",キー割付!I609=\"昼－休憩\",\"F\",キー割付!I609=\"－夜休憩\",\"K\",TRUE,\"-\"))","v":"-"}]
[null,34,{"$f":"IF(IFERROR(VALUE(VLOOKUP(B106,内線_キー割用,2,FALSE)),\"\")=0,\"\",IFERROR(VALUE(VLOOKUP(B106,内線_キー割用,2,FALSE)),\"\"))","v":""},{"$f":"IF(IFERROR(VALUE(VLOOKUP(B106,内線_キー割用,4,FALSE)),\"\")=0,\"\",IFERROR(VALUE(VLOOKUP(B106,内線_キー割用,4,FALSE)),\"\"))","v":""},{"$f":"IF(IFERROR(VLOOKUP(B106,内線_キー割用,3,FALSE),\"\")=0,\"\",IFERROR(VLOOKUP(B106,内線_キー割用,3,FALSE),\"\"))","v":""},{"$f":"IF(キー割付!N583=\"\",\"未使用\",キー割付!N583)","v":"未使用"},{"$f":"IF(キー割付!O583=\"\",\"未使用\",キー割付!O583)","v":"未使用"},{"$f":"IF(キー割付!P583=\"\",\"未使用\",キー割付!P583)","v":"未使用"},{"$f":"IF(キー割付!Q583=\"\",\"未使用\",キー割付!Q583)","v":"未使用"},{"$f":"IF(キー割付!R583=\"\",\"未使用\",キー割付!R583)","v":"未使用"},{"$f":"IF(キー割付!S583=\"\",\"未使用\",キー割付!S583)","v":"未使用"},{"$f":"IF(キー割付!N591=\"\",\"未使用\",キー割付!N591)","v":"未使用"},{"$f":"IF(キー割付!O591=\"\",\"未使用\",キー割付!O591)","v":"未使用"},{"$f":"IF(E106=\"ZX-DECLDIV-IPコードレス電話機\",\"未使用\",IF(キー割付!P591=\"\",\"未使用\",キー割付!P591))","v":"未使用"},{"$f":"IF(E106=\"ZX-DECLDIV-IPコードレス電話機\",\"未使用\",IF(キー割付!Q591=\"\",\"未使用\",キー割付!Q591))","v":"未使用"},{"$f":"IF(E106=\"ZX-DECLDIV-IPコードレス電話機\",\"未使用\",IF(キー割付!R591=\"\",\"未使用\",キー割付!R591))","v":"未使用"},{"$f":"IF(E106=\"ZX-DECLDIV-IPコードレス電話機\",\"未使用\",IF(キー割付!S591=\"\",\"未使用\",キー割付!S591))","v":"未使用"},{"$f":"IF(E106=\"ZX-DECLDIV-IPコードレス電話機\",\"未使用\",IF(キー割付!N599=\"\",\"未使用\",キー割付!N599))","v":"未使用"},{"$f":"IF(E106=\"ZX-DECLDIV-IPコードレス電話機\",\"未使用\",IF(キー割付!O599=\"\",\"未使用\",キー割付!O599))","v":"未使用"},{"$f":"IF(E106=\"ZX-DECLDIV-IPコードレス電話機\",\"未使用\",IF(キー割付!P599=\"\",\"未使用\",キー割付!P599))","v":"未使用"},{"$f":"IF(E106=\"ZX-DECLDIV-IPコードレス電話機\",\"未使用\",IF(キー割付!Q599=\"\",\"未使用\",キー割付!Q599))","v":"未使用"},{"$f":"IF(E106=\"ZX-DECLDIV-IPコードレス電話機\",\"未使用\",IF(キー割付!R599=\"\",\"未使用\",キー割付!R599))","v":"未使用"},{"$f":"IF(E106=\"ZX-DECLDIV-IPコードレス電話機\",\"未使用\",IF(キー割付!S599=\"\",\"未使用\",キー割付!S599))","v":"未使用"},{"$f":"IF(E106=\"ZX-DECLDIV-IPコードレス電話機\",\"未使用\",IF(キー割付!N607=\"\",\"未使用\",キー割付!N607))","v":"未使用"},{"$f":"IF(E106=\"ZX-DECLDIV-IPコードレス電話機\",\"未使用\",IF(キー割付!O607=\"\",\"未使用\",キー割付!O607))","v":"未使用"},{"$f":"IF(E106=\"ZX-DECLDIV-IPコードレス電話機\",\"未使用\",IF(キー割付!P607=\"\",\"未使用\",キー割付!P607))","v":"未使用"},{"$f":"IF(E106=\"ZX-DECLDIV-IPコードレス電話機\",\"未使用\",IF(キー割付!Q607=\"\",\"未使用\",キー割付!Q607))","v":"未使用"},{"$f":"IF(E106=\"ZX-DECLDIV-IPコードレス電話機\",\"未使用\",IF(キー割付!R607=\"\",\"未使用\",キー割付!R607))","v":"未使用"},{"$f":"IF(E106=\"ZX-DECLDIV-IPコードレス電話機\",\"未使用\",IF(キー割付!S607=\"\",\"未使用\",キー割付!S607))","v":"未使用"}]
[null,null,null,null,null,{"$f":"_xlfn.IFS(キー割付!N584=\"着信音なし\",\"トーン1\",キー割付!N584=\"トーン1\",\"トーン1\",キー割付!N584=\"トーン2\",\"トーン2\",キー割付!N584=\"トーン3\",\"トーン3\",キー割付!N584=\"トーン4\",\"トーン4\",キー割付!N584=\"トーン5\",\"トーン5\",キー割付!N584=\"トーン6\",\"トーン6\",キー割付!N584=\"トーン7\",\"トーン7\",キー割付!N584=\"トーン7\",\"トーン7\",キー割付!N584=\"無鳴動着信\",\"トーン8\",キー割付!N584=\"グリーンスリーブス\",\"メロディ1\",キー割付!N584=\"峠の我が家\",\"メロディ2\",キー割付!N584=\"カノン\",\"メロディ3\",キー割付!N584=\"春の歌\",\"メロディ4\",キー割付!N584=\"主よ人の望みの喜びよ\",\"メロディ5\",キー割付!N584=\"メヌエット\",\"メロディ6\",キー割付!N584=\"華麗なる大円舞曲\",\"メロディ7\",キー割付!N584=\"ハンガリア舞曲第5番\",\"メロディ8\",TRUE,\"トーン1\")","v":"トーン1"},{"$f":"_xlfn.IFS(キー割付!O584=\"着信音なし\",\"トーン1\",キー割付!O584=\"トーン1\",\"トーン1\",キー割付!O584=\"トーン2\",\"トーン2\",キー割付!O584=\"トーン3\",\"トーン3\",キー割付!O584=\"トーン4\",\"トーン4\",キー割付!O584=\"トーン5\",\"トーン5\",キー割付!O584=\"トーン6\",\"トーン6\",キー割付!O584=\"トーン7\",\"トーン7\",キー割付!O584=\"トーン7\",\"トーン7\",キー割付!O584=\"無鳴動着信\",\"トーン8\",キー割付!O584=\"グリーンスリーブス\",\"メロディ1\",キー割付!O584=\"峠の我が家\",\"メロディ2\",キー割付!O584=\"カノン\",\"メロディ3\",キー割付!O584=\"春の歌\",\"メロディ4\",キー割付!O584=\"主よ人の望みの喜びよ\",\"メロディ5\",キー割付!O584=\"メヌエット\",\"メロディ6\",キー割付!O584=\"華麗なる大円舞曲\",\"メロディ7\",キー割付!O584=\"ハンガリア舞曲第5番\",\"メロディ8\",TRUE,\"トーン1\")","v":"トーン1"},{"$f":"_xlfn.IFS(キー割付!P584=\"着信音なし\",\"トーン1\",キー割付!P584=\"トーン1\",\"トーン1\",キー割付!P584=\"トーン2\",\"トーン2\",キー割付!P584=\"トーン3\",\"トーン3\",キー割付!P584=\"トーン4\",\"トーン4\",キー割付!P584=\"トーン5\",\"トーン5\",キー割付!P584=\"トーン6\",\"トーン6\",キー割付!P584=\"トーン7\",\"トーン7\",キー割付!P584=\"トーン7\",\"トーン7\",キー割付!P584=\"無鳴動着信\",\"トーン8\",キー割付!P584=\"グリーンスリーブス\",\"メロディ1\",キー割付!P584=\"峠の我が家\",\"メロディ2\",キー割付!P584=\"カノン\",\"メロディ3\",キー割付!P584=\"春の歌\",\"メロディ4\",キー割付!P584=\"主よ人の望みの喜びよ\",\"メロディ5\",キー割付!P584=\"メヌエット\",\"メロディ6\",キー割付!P584=\"華麗なる大円舞曲\",\"メロディ7\",キー割付!P584=\"ハンガリア舞曲第5番\",\"メロディ8\",TRUE,\"トーン1\")","v":"トーン1"},{"$f":"_xlfn.IFS(キー割付!Q584=\"着信音なし\",\"トーン1\",キー割付!Q584=\"トーン1\",\"トーン1\",キー割付!Q584=\"トーン2\",\"トーン2\",キー割付!Q584=\"トーン3\",\"トーン3\",キー割付!Q584=\"トーン4\",\"トーン4\",キー割付!Q584=\"トーン5\",\"トーン5\",キー割付!Q584=\"トーン6\",\"トーン6\",キー割付!Q584=\"トーン7\",\"トーン7\",キー割付!Q584=\"トーン7\",\"トーン7\",キー割付!Q584=\"無鳴動着信\",\"トーン8\",キー割付!Q584=\"グリーンスリーブス\",\"メロディ1\",キー割付!Q584=\"峠の我が家\",\"メロディ2\",キー割付!Q584=\"カノン\",\"メロディ3\",キー割付!Q584=\"春の歌\",\"メロディ4\",キー割付!Q584=\"主よ人の望みの喜びよ\",\"メロディ5\",キー割付!Q584=\"メヌエット\",\"メロディ6\",キー割付!Q584=\"華麗なる大円舞曲\",\"メロディ7\",キー割付!Q584=\"ハンガリア舞曲第5番\",\"メロディ8\",TRUE,\"トーン1\")","v":"トーン1"},{"$f":"_xlfn.IFS(キー割付!R584=\"着信音なし\",\"トーン1\",キー割付!R584=\"トーン1\",\"トーン1\",キー割付!R584=\"トーン2\",\"トーン2\",キー割付!R584=\"トーン3\",\"トーン3\",キー割付!R584=\"トーン4\",\"トーン4\",キー割付!R584=\"トーン5\",\"トーン5\",キー割付!R584=\"トーン6\",\"トーン6\",キー割付!R584=\"トーン7\",\"トーン7\",キー割付!R584=\"トーン7\",\"トーン7\",キー割付!R584=\"無鳴動着信\",\"トーン8\",キー割付!R584=\"グリーンスリーブス\",\"メロディ1\",キー割付!R584=\"峠の我が家\",\"メロディ2\",キー割付!R584=\"カノン\",\"メロディ3\",キー割付!R584=\"春の歌\",\"メロディ4\",キー割付!R584=\"主よ人の望みの喜びよ\",\"メロディ5\",キー割付!R584=\"メヌエット\",\"メロディ6\",キー割付!R584=\"華麗なる大円舞曲\",\"メロディ7\",キー割付!R584=\"ハンガリア舞曲第5番\",\"メロディ8\",TRUE,\"トーン1\")","v":"トーン1"},{"$f":"_xlfn.IFS(キー割付!S584=\"着信音なし\",\"トーン1\",キー割付!S584=\"トーン1\",\"トーン1\",キー割付!S584=\"トーン2\",\"トーン2\",キー割付!S584=\"トーン3\",\"トーン3\",キー割付!S584=\"トーン4\",\"トーン4\",キー割付!S584=\"トーン5\",\"トーン5\",キー割付!S584=\"トーン6\",\"トーン6\",キー割付!S584=\"トーン7\",\"トーン7\",キー割付!S584=\"トーン7\",\"トーン7\",キー割付!S584=\"無鳴動着信\",\"トーン8\",キー割付!S584=\"グリーンスリーブス\",\"メロディ1\",キー割付!S584=\"峠の我が家\",\"メロディ2\",キー割付!S584=\"カノン\",\"メロディ3\",キー割付!S584=\"春の歌\",\"メロディ4\",キー割付!S584=\"主よ人の望みの喜びよ\",\"メロディ5\",キー割付!S584=\"メヌエット\",\"メロディ6\",キー割付!S584=\"華麗なる大円舞曲\",\"メロディ7\",キー割付!S584=\"ハンガリア舞曲第5番\",\"メロディ8\",TRUE,\"トーン1\")","v":"トーン1"},{"$f":"_xlfn.IFS(キー割付!N592=\"着信音なし\",\"トーン1\",キー割付!N592=\"トーン1\",\"トーン1\",キー割付!N592=\"トーン2\",\"トーン2\",キー割付!N592=\"トーン3\",\"トーン3\",キー割付!N592=\"トーン4\",\"トーン4\",キー割付!N592=\"トーン5\",\"トーン5\",キー割付!N592=\"トーン6\",\"トーン6\",キー割付!N592=\"トーン7\",\"トーン7\",キー割付!N592=\"トーン7\",\"トーン7\",キー割付!N592=\"無鳴動着信\",\"トーン8\",キー割付!N592=\"グリーンスリーブス\",\"メロディ1\",キー割付!N592=\"峠の我が家\",\"メロディ2\",キー割付!N592=\"カノン\",\"メロディ3\",キー割付!N592=\"春の歌\",\"メロディ4\",キー割付!N592=\"主よ人の望みの喜びよ\",\"メロディ5\",キー割付!N592=\"メヌエット\",\"メロディ6\",キー割付!N592=\"華麗なる大円舞曲\",\"メロディ7\",キー割付!N592=\"ハンガリア舞曲第5番\",\"メロディ8\",TRUE,\"トーン1\")","v":"トーン1"},{"$f":"_xlfn.IFS(キー割付!O592=\"着信音なし\",\"トーン1\",キー割付!O592=\"トーン1\",\"トーン1\",キー割付!O592=\"トーン2\",\"トーン2\",キー割付!O592=\"トーン3\",\"トーン3\",キー割付!O592=\"トーン4\",\"トーン4\",キー割付!O592=\"トーン5\",\"トーン5\",キー割付!O592=\"トーン6\",\"トーン6\",キー割付!O592=\"トーン7\",\"トーン7\",キー割付!O592=\"トーン7\",\"トーン7\",キー割付!O592=\"無鳴動着信\",\"トーン8\",キー割付!O592=\"グリーンスリーブス\",\"メロディ1\",キー割付!O592=\"峠の我が家\",\"メロディ2\",キー割付!O592=\"カノン\",\"メロディ3\",キー割付!O592=\"春の歌\",\"メロディ4\",キー割付!O592=\"主よ人の望みの喜びよ\",\"メロディ5\",キー割付!O592=\"メヌエット\",\"メロディ6\",キー割付!O592=\"華麗なる大円舞曲\",\"メロディ7\",キー割付!O592=\"ハンガリア舞曲第5番\",\"メロディ8\",TRUE,\"トーン1\")","v":"トーン1"},{"$f":"IF(E106=\"ZX-DECLDIV-IPコードレス電話機\",\"トーン1\",_xlfn.IFS(キー割付!P592=\"着信音なし\",\"トーン1\",キー割付!P592=\"トーン1\",\"トーン1\",キー割付!P592=\"トーン2\",\"トーン2\",キー割付!P592=\"トーン3\",\"トーン3\",キー割付!P592=\"トーン4\",\"トーン4\",キー割付!P592=\"トーン5\",\"トーン5\",キー割付!P592=\"トーン6\",\"トーン6\",キー割付!P592=\"トーン7\",\"トーン7\",キー割付!P592=\"トーン7\",\"トーン7\",キー割付!P592=\"無鳴動着信\",\"トーン8\",キー割付!P592=\"グリーンスリーブス\",\"メロディ1\",キー割付!P592=\"峠の我が家\",\"メロディ2\",キー割付!P592=\"カノン\",\"メロディ3\",キー割付!P592=\"春の歌\",\"メロディ4\",キー割付!P592=\"主よ人の望みの喜びよ\",\"メロディ5\",キー割付!P592=\"メヌエット\",\"メロディ6\",キー割付!P592=\"華麗なる大円舞曲\",\"メロディ7\",キー割付!P592=\"ハンガリア舞曲第5番\",\"メロディ8\",TRUE,\"トーン1\"))","v":"トーン1"},{"$f":"IF(E106=\"ZX-DECLDIV-IPコードレス電話機\",\"トーン1\",_xlfn.IFS(キー割付!Q592=\"着信音なし\",\"トーン1\",キー割付!Q592=\"トーン1\",\"トーン1\",キー割付!Q592=\"トーン2\",\"トーン2\",キー割付!Q592=\"トーン3\",\"トーン3\",キー割付!Q592=\"トーン4\",\"トーン4\",キー割付!Q592=\"トーン5\",\"トーン5\",キー割付!Q592=\"トーン6\",\"トーン6\",キー割付!Q592=\"トーン7\",\"トーン7\",キー割付!Q592=\"トーン7\",\"トーン7\",キー割付!Q592=\"無鳴動着信\",\"トーン8\",キー割付!Q592=\"グリーンスリーブス\",\"メロディ1\",キー割付!Q592=\"峠の我が家\",\"メロディ2\",キー割付!Q592=\"カノン\",\"メロディ3\",キー割付!Q592=\"春の歌\",\"メロディ4\",キー割付!Q592=\"主よ人の望みの喜びよ\",\"メロディ5\",キー割付!Q592=\"メヌエット\",\"メロディ6\",キー割付!Q592=\"華麗なる大円舞曲\",\"メロディ7\",キー割付!Q592=\"ハンガリア舞曲第5番\",\"メロディ8\",TRUE,\"トーン1\"))","v":"トーン1"},{"$f":"IF(E106=\"ZX-DECLDIV-IPコードレス電話機\",\"トーン1\",_xlfn.IFS(キー割付!R592=\"着信音なし\",\"トーン1\",キー割付!R592=\"トーン1\",\"トーン1\",キー割付!R592=\"トーン2\",\"トーン2\",キー割付!R592=\"トーン3\",\"トーン3\",キー割付!R592=\"トーン4\",\"トーン4\",キー割付!R592=\"トーン5\",\"トーン5\",キー割付!R592=\"トーン6\",\"トーン6\",キー割付!R592=\"トーン7\",\"トーン7\",キー割付!R592=\"トーン7\",\"トーン7\",キー割付!R592=\"無鳴動着信\",\"トーン8\",キー割付!R592=\"グリーンスリーブス\",\"メロディ1\",キー割付!R592=\"峠の我が家\",\"メロディ2\",キー割付!R592=\"カノン\",\"メロディ3\",キー割付!R592=\"春の歌\",\"メロディ4\",キー割付!R592=\"主よ人の望みの喜びよ\",\"メロディ5\",キー割付!R592=\"メヌエット\",\"メロディ6\",キー割付!R592=\"華麗なる大円舞曲\",\"メロディ7\",キー割付!R592=\"ハンガリア舞曲第5番\",\"メロディ8\",TRUE,\"トーン1\"))","v":"トーン1"},{"$f":"IF(E106=\"ZX-DECLDIV-IPコードレス電話機\",\"トーン1\",_xlfn.IFS(キー割付!S592=\"着信音なし\",\"トーン1\",キー割付!S592=\"トーン1\",\"トーン1\",キー割付!S592=\"トーン2\",\"トーン2\",キー割付!S592=\"トーン3\",\"トーン3\",キー割付!S592=\"トーン4\",\"トーン4\",キー割付!S592=\"トーン5\",\"トーン5\",キー割付!S592=\"トーン6\",\"トーン6\",キー割付!S592=\"トーン7\",\"トーン7\",キー割付!S592=\"トーン7\",\"トーン7\",キー割付!S592=\"無鳴動着信\",\"トーン8\",キー割付!S592=\"グリーンスリーブス\",\"メロディ1\",キー割付!S592=\"峠の我が家\",\"メロディ2\",キー割付!S592=\"カノン\",\"メロディ3\",キー割付!S592=\"春の歌\",\"メロディ4\",キー割付!S592=\"主よ人の望みの喜びよ\",\"メロディ5\",キー割付!S592=\"メヌエット\",\"メロディ6\",キー割付!S592=\"華麗なる大円舞曲\",\"メロディ7\",キー割付!S592=\"ハンガリア舞曲第5番\",\"メロディ8\",TRUE,\"トーン1\"))","v":"トーン1"},{"$f":"IF(E106=\"ZX-DECLDIV-IPコードレス電話機\",\"トーン1\",_xlfn.IFS(キー割付!N600=\"着信音なし\",\"トーン1\",キー割付!N600=\"トーン1\",\"トーン1\",キー割付!N600=\"トーン2\",\"トーン2\",キー割付!N600=\"トーン3\",\"トーン3\",キー割付!N600=\"トーン4\",\"トーン4\",キー割付!N600=\"トーン5\",\"トーン5\",キー割付!N600=\"トーン6\",\"トーン6\",キー割付!N600=\"トーン7\",\"トーン7\",キー割付!N600=\"トーン7\",\"トーン7\",キー割付!N600=\"無鳴動着信\",\"トーン8\",キー割付!N600=\"グリーンスリーブス\",\"メロディ1\",キー割付!N600=\"峠の我が家\",\"メロディ2\",キー割付!N600=\"カノン\",\"メロディ3\",キー割付!N600=\"春の歌\",\"メロディ4\",キー割付!N600=\"主よ人の望みの喜びよ\",\"メロディ5\",キー割付!N600=\"メヌエット\",\"メロディ6\",キー割付!N600=\"華麗なる大円舞曲\",\"メロディ7\",キー割付!N600=\"ハンガリア舞曲第5番\",\"メロディ8\",TRUE,\"トーン1\"))","v":"トーン1"},{"$f":"IF(E106=\"ZX-DECLDIV-IPコードレス電話機\",\"トーン1\",_xlfn.IFS(キー割付!O600=\"着信音なし\",\"トーン1\",キー割付!O600=\"トーン1\",\"トーン1\",キー割付!O600=\"トーン2\",\"トーン2\",キー割付!O600=\"トーン3\",\"トーン3\",キー割付!O600=\"トーン4\",\"トーン4\",キー割付!O600=\"トーン5\",\"トーン5\",キー割付!O600=\"トーン6\",\"トーン6\",キー割付!O600=\"トーン7\",\"トーン7\",キー割付!O600=\"トーン7\",\"トーン7\",キー割付!O600=\"無鳴動着信\",\"トーン8\",キー割付!O600=\"グリーンスリーブス\",\"メロディ1\",キー割付!O600=\"峠の我が家\",\"メロディ2\",キー割付!O600=\"カノン\",\"メロディ3\",キー割付!O600=\"春の歌\",\"メロディ4\",キー割付!O600=\"主よ人の望みの喜びよ\",\"メロディ5\",キー割付!O600=\"メヌエット\",\"メロディ6\",キー割付!O600=\"華麗なる大円舞曲\",\"メロディ7\",キー割付!O600=\"ハンガリア舞曲第5番\",\"メロディ8\",TRUE,\"トーン1\"))","v":"トーン1"},{"$f":"IF(E106=\"ZX-DECLDIV-IPコードレス電話機\",\"トーン1\",_xlfn.IFS(キー割付!P600=\"着信音なし\",\"トーン1\",キー割付!P600=\"トーン1\",\"トーン1\",キー割付!P600=\"トーン2\",\"トーン2\",キー割付!P600=\"トーン3\",\"トーン3\",キー割付!P600=\"トーン4\",\"トーン4\",キー割付!P600=\"トーン5\",\"トーン5\",キー割付!P600=\"トーン6\",\"トーン6\",キー割付!P600=\"トーン7\",\"トーン7\",キー割付!P600=\"トーン7\",\"トーン7\",キー割付!P600=\"無鳴動着信\",\"トーン8\",キー割付!P600=\"グリーンスリーブス\",\"メロディ1\",キー割付!P600=\"峠の我が家\",\"メロディ2\",キー割付!P600=\"カノン\",\"メロディ3\",キー割付!P600=\"春の歌\",\"メロディ4\",キー割付!P600=\"主よ人の望みの喜びよ\",\"メロディ5\",キー割付!P600=\"メヌエット\",\"メロディ6\",キー割付!P600=\"華麗なる大円舞曲\",\"メロディ7\",キー割付!P600=\"ハンガリア舞曲第5番\",\"メロディ8\",TRUE,\"トーン1\"))","v":"トーン1"},{"$f":"IF(E106=\"ZX-DECLDIV-IPコードレス電話機\",\"トーン1\",_xlfn.IFS(キー割付!Q600=\"着信音なし\",\"トーン1\",キー割付!Q600=\"トーン1\",\"トーン1\",キー割付!Q600=\"トーン2\",\"トーン2\",キー割付!Q600=\"トーン3\",\"トーン3\",キー割付!Q600=\"トーン4\",\"トーン4\",キー割付!Q600=\"トーン5\",\"トーン5\",キー割付!Q600=\"トーン6\",\"トーン6\",キー割付!Q600=\"トーン7\",\"トーン7\",キー割付!Q600=\"トーン7\",\"トーン7\",キー割付!Q600=\"無鳴動着信\",\"トーン8\",キー割付!Q600=\"グリーンスリーブス\",\"メロディ1\",キー割付!Q600=\"峠の我が家\",\"メロディ2\",キー割付!Q600=\"カノン\",\"メロディ3\",キー割付!Q600=\"春の歌\",\"メロディ4\",キー割付!Q600=\"主よ人の望みの喜びよ\",\"メロディ5\",キー割付!Q600=\"メヌエット\",\"メロディ6\",キー割付!Q600=\"華麗なる大円舞曲\",\"メロディ7\",キー割付!Q600=\"ハンガリア舞曲第5番\",\"メロディ8\",TRUE,\"トーン1\"))","v":"トーン1"},{"$f":"IF(E106=\"ZX-DECLDIV-IPコードレス電話機\",\"トーン1\",_xlfn.IFS(キー割付!R600=\"着信音なし\",\"トーン1\",キー割付!R600=\"トーン1\",\"トーン1\",キー割付!R600=\"トーン2\",\"トーン2\",キー割付!R600=\"トーン3\",\"トーン3\",キー割付!R600=\"トーン4\",\"トーン4\",キー割付!R600=\"トーン5\",\"トーン5\",キー割付!R600=\"トーン6\",\"トーン6\",キー割付!R600=\"トーン7\",\"トーン7\",キー割付!R600=\"トーン7\",\"トーン7\",キー割付!R600=\"無鳴動着信\",\"トーン8\",キー割付!R600=\"グリーンスリーブス\",\"メロディ1\",キー割付!R600=\"峠の我が家\",\"メロディ2\",キー割付!R600=\"カノン\",\"メロディ3\",キー割付!R600=\"春の歌\",\"メロディ4\",キー割付!R600=\"主よ人の望みの喜びよ\",\"メロディ5\",キー割付!R600=\"メヌエット\",\"メロディ6\",キー割付!R600=\"華麗なる大円舞曲\",\"メロディ7\",キー割付!R600=\"ハンガリア舞曲第5番\",\"メロディ8\",TRUE,\"トーン1\"))","v":"トーン1"},{"$f":"IF(E106=\"ZX-DECLDIV-IPコードレス電話機\",\"トーン1\",_xlfn.IFS(キー割付!S600=\"着信音なし\",\"トーン1\",キー割付!S600=\"トーン1\",\"トーン1\",キー割付!S600=\"トーン2\",\"トーン2\",キー割付!S600=\"トーン3\",\"トーン3\",キー割付!S600=\"トーン4\",\"トーン4\",キー割付!S600=\"トーン5\",\"トーン5\",キー割付!S600=\"トーン6\",\"トーン6\",キー割付!S600=\"トーン7\",\"トーン7\",キー割付!S600=\"トーン7\",\"トーン7\",キー割付!S600=\"無鳴動着信\",\"トーン8\",キー割付!S600=\"グリーンスリーブス\",\"メロディ1\",キー割付!S600=\"峠の我が家\",\"メロディ2\",キー割付!S600=\"カノン\",\"メロディ3\",キー割付!S600=\"春の歌\",\"メロディ4\",キー割付!S600=\"主よ人の望みの喜びよ\",\"メロディ5\",キー割付!S600=\"メヌエット\",\"メロディ6\",キー割付!S600=\"華麗なる大円舞曲\",\"メロディ7\",キー割付!S600=\"ハンガリア舞曲第5番\",\"メロディ8\",TRUE,\"トーン1\"))","v":"トーン1"},{"$f":"IF(E106=\"ZX-DECLDIV-IPコードレス電話機\",\"トーン1\",_xlfn.IFS(キー割付!N608=\"着信音なし\",\"トーン1\",キー割付!N608=\"トーン1\",\"トーン1\",キー割付!N608=\"トーン2\",\"トーン2\",キー割付!N608=\"トーン3\",\"トーン3\",キー割付!N608=\"トーン4\",\"トーン4\",キー割付!N608=\"トーン5\",\"トーン5\",キー割付!N608=\"トーン6\",\"トーン6\",キー割付!N608=\"トーン7\",\"トーン7\",キー割付!N608=\"トーン7\",\"トーン7\",キー割付!N608=\"無鳴動着信\",\"トーン8\",キー割付!N608=\"グリーンスリーブス\",\"メロディ1\",キー割付!N608=\"峠の我が家\",\"メロディ2\",キー割付!N608=\"カノン\",\"メロディ3\",キー割付!N608=\"春の歌\",\"メロディ4\",キー割付!N608=\"主よ人の望みの喜びよ\",\"メロディ5\",キー割付!N608=\"メヌエット\",\"メロディ6\",キー割付!N608=\"華麗なる大円舞曲\",\"メロディ7\",キー割付!N608=\"ハンガリア舞曲第5番\",\"メロディ8\",TRUE,\"トーン1\"))","v":"トーン1"},{"$f":"IF(E106=\"ZX-DECLDIV-IPコードレス電話機\",\"トーン1\",_xlfn.IFS(キー割付!O608=\"着信音なし\",\"トーン1\",キー割付!O608=\"トーン1\",\"トーン1\",キー割付!O608=\"トーン2\",\"トーン2\",キー割付!O608=\"トーン3\",\"トーン3\",キー割付!O608=\"トーン4\",\"トーン4\",キー割付!O608=\"トーン5\",\"トーン5\",キー割付!O608=\"トーン6\",\"トーン6\",キー割付!O608=\"トーン7\",\"トーン7\",キー割付!O608=\"トーン7\",\"トーン7\",キー割付!O608=\"無鳴動着信\",\"トーン8\",キー割付!O608=\"グリーンスリーブス\",\"メロディ1\",キー割付!O608=\"峠の我が家\",\"メロディ2\",キー割付!O608=\"カノン\",\"メロディ3\",キー割付!O608=\"春の歌\",\"メロディ4\",キー割付!O608=\"主よ人の望みの喜びよ\",\"メロディ5\",キー割付!O608=\"メヌエット\",\"メロディ6\",キー割付!O608=\"華麗なる大円舞曲\",\"メロディ7\",キー割付!O608=\"ハンガリア舞曲第5番\",\"メロディ8\",TRUE,\"トーン1\"))","v":"トーン1"},{"$f":"IF(E106=\"ZX-DECLDIV-IPコードレス電話機\",\"トーン1\",_xlfn.IFS(キー割付!P608=\"着信音なし\",\"トーン1\",キー割付!P608=\"トーン1\",\"トーン1\",キー割付!P608=\"トーン2\",\"トーン2\",キー割付!P608=\"トーン3\",\"トーン3\",キー割付!P608=\"トーン4\",\"トーン4\",キー割付!P608=\"トーン5\",\"トーン5\",キー割付!P608=\"トーン6\",\"トーン6\",キー割付!P608=\"トーン7\",\"トーン7\",キー割付!P608=\"トーン7\",\"トーン7\",キー割付!P608=\"無鳴動着信\",\"トーン8\",キー割付!P608=\"グリーンスリーブス\",\"メロディ1\",キー割付!P608=\"峠の我が家\",\"メロディ2\",キー割付!P608=\"カノン\",\"メロディ3\",キー割付!P608=\"春の歌\",\"メロディ4\",キー割付!P608=\"主よ人の望みの喜びよ\",\"メロディ5\",キー割付!P608=\"メヌエット\",\"メロディ6\",キー割付!P608=\"華麗なる大円舞曲\",\"メロディ7\",キー割付!P608=\"ハンガリア舞曲第5番\",\"メロディ8\",TRUE,\"トーン1\"))","v":"トーン1"},{"$f":"IF(E106=\"ZX-DECLDIV-IPコードレス電話機\",\"トーン1\",_xlfn.IFS(キー割付!Q608=\"着信音なし\",\"トーン1\",キー割付!Q608=\"トーン1\",\"トーン1\",キー割付!Q608=\"トーン2\",\"トーン2\",キー割付!Q608=\"トーン3\",\"トーン3\",キー割付!Q608=\"トーン4\",\"トーン4\",キー割付!Q608=\"トーン5\",\"トーン5\",キー割付!Q608=\"トーン6\",\"トーン6\",キー割付!Q608=\"トーン7\",\"トーン7\",キー割付!Q608=\"トーン7\",\"トーン7\",キー割付!Q608=\"無鳴動着信\",\"トーン8\",キー割付!Q608=\"グリーンスリーブス\",\"メロディ1\",キー割付!Q608=\"峠の我が家\",\"メロディ2\",キー割付!Q608=\"カノン\",\"メロディ3\",キー割付!Q608=\"春の歌\",\"メロディ4\",キー割付!Q608=\"主よ人の望みの喜びよ\",\"メロディ5\",キー割付!Q608=\"メヌエット\",\"メロディ6\",キー割付!Q608=\"華麗なる大円舞曲\",\"メロディ7\",キー割付!Q608=\"ハンガリア舞曲第5番\",\"メロディ8\",TRUE,\"トーン1\"))","v":"トーン1"},{"$f":"IF(E106=\"ZX-DECLDIV-IPコードレス電話機\",\"トーン1\",_xlfn.IFS(キー割付!R608=\"着信音なし\",\"トーン1\",キー割付!R608=\"トーン1\",\"トーン1\",キー割付!R608=\"トーン2\",\"トーン2\",キー割付!R608=\"トーン3\",\"トーン3\",キー割付!R608=\"トーン4\",\"トーン4\",キー割付!R608=\"トーン5\",\"トーン5\",キー割付!R608=\"トーン6\",\"トーン6\",キー割付!R608=\"トーン7\",\"トーン7\",キー割付!R608=\"トーン7\",\"トーン7\",キー割付!R608=\"無鳴動着信\",\"トーン8\",キー割付!R608=\"グリーンスリーブス\",\"メロディ1\",キー割付!R608=\"峠の我が家\",\"メロディ2\",キー割付!R608=\"カノン\",\"メロディ3\",キー割付!R608=\"春の歌\",\"メロディ4\",キー割付!R608=\"主よ人の望みの喜びよ\",\"メロディ5\",キー割付!R608=\"メヌエット\",\"メロディ6\",キー割付!R608=\"華麗なる大円舞曲\",\"メロディ7\",キー割付!R608=\"ハンガリア舞曲第5番\",\"メロディ8\",TRUE,\"トーン1\"))","v":"トーン1"},{"$f":"IF(E106=\"ZX-DECLDIV-IPコードレス電話機\",\"トーン1\",_xlfn.IFS(キー割付!S608=\"着信音なし\",\"トーン1\",キー割付!S608=\"トーン1\",\"トーン1\",キー割付!S608=\"トーン2\",\"トーン2\",キー割付!S608=\"トーン3\",\"トーン3\",キー割付!S608=\"トーン4\",\"トーン4\",キー割付!S608=\"トーン5\",\"トーン5\",キー割付!S608=\"トーン6\",\"トーン6\",キー割付!S608=\"トーン7\",\"トーン7\",キー割付!S608=\"トーン7\",\"トーン7\",キー割付!S608=\"無鳴動着信\",\"トーン8\",キー割付!S608=\"グリーンスリーブス\",\"メロディ1\",キー割付!S608=\"峠の我が家\",\"メロディ2\",キー割付!S608=\"カノン\",\"メロディ3\",キー割付!S608=\"春の歌\",\"メロディ4\",キー割付!S608=\"主よ人の望みの喜びよ\",\"メロディ5\",キー割付!S608=\"メヌエット\",\"メロディ6\",キー割付!S608=\"華麗なる大円舞曲\",\"メロディ7\",キー割付!S608=\"ハンガリア舞曲第5番\",\"メロディ8\",TRUE,\"トーン1\"))","v":"トーン1"}]
[null,null,null,null,null,{"$f":"_xlfn.IFS(キー割付!N585=\"昼夜休憩\",\"B\",キー割付!N585=\"－－－\",\"-\",キー割付!N585=\"昼－－\",\"H\",キー割付!N585=\"－夜－\",\"N\",キー割付!N585=\"－－休憩\",\"P\",キー割付!N585=\"昼夜－\",\"N\",キー割付!N585=\"昼－休憩\",\"F\",キー割付!N585=\"－夜休憩\",\"K\",TRUE,\"-\")","v":"-"},{"$f":"_xlfn.IFS(キー割付!O585=\"昼夜休憩\",\"B\",キー割付!O585=\"－－－\",\"-\",キー割付!O585=\"昼－－\",\"H\",キー割付!O585=\"－夜－\",\"N\",キー割付!O585=\"－－休憩\",\"P\",キー割付!O585=\"昼夜－\",\"N\",キー割付!O585=\"昼－休憩\",\"F\",キー割付!O585=\"－夜休憩\",\"K\",TRUE,\"-\")","v":"-"},{"$f":"_xlfn.IFS(キー割付!P585=\"昼夜休憩\",\"B\",キー割付!P585=\"－－－\",\"-\",キー割付!P585=\"昼－－\",\"H\",キー割付!P585=\"－夜－\",\"N\",キー割付!P585=\"－－休憩\",\"P\",キー割付!P585=\"昼夜－\",\"N\",キー割付!P585=\"昼－休憩\",\"F\",キー割付!P585=\"－夜休憩\",\"K\",TRUE,\"-\")","v":"-"},{"$f":"_xlfn.IFS(キー割付!Q585=\"昼夜休憩\",\"B\",キー割付!Q585=\"－－－\",\"-\",キー割付!Q585=\"昼－－\",\"H\",キー割付!Q585=\"－夜－\",\"N\",キー割付!Q585=\"－－休憩\",\"P\",キー割付!Q585=\"昼夜－\",\"N\",キー割付!Q585=\"昼－休憩\",\"F\",キー割付!Q585=\"－夜休憩\",\"K\",TRUE,\"-\")","v":"-"},{"$f":"_xlfn.IFS(キー割付!R585=\"昼夜休憩\",\"B\",キー割付!R585=\"－－－\",\"-\",キー割付!R585=\"昼－－\",\"H\",キー割付!R585=\"－夜－\",\"N\",キー割付!R585=\"－－休憩\",\"P\",キー割付!R585=\"昼夜－\",\"N\",キー割付!R585=\"昼－休憩\",\"F\",キー割付!R585=\"－夜休憩\",\"K\",TRUE,\"-\")","v":"-"},{"$f":"_xlfn.IFS(キー割付!S585=\"昼夜休憩\",\"B\",キー割付!S585=\"－－－\",\"-\",キー割付!S585=\"昼－－\",\"H\",キー割付!S585=\"－夜－\",\"N\",キー割付!S585=\"－－休憩\",\"P\",キー割付!S585=\"昼夜－\",\"N\",キー割付!S585=\"昼－休憩\",\"F\",キー割付!S585=\"－夜休憩\",\"K\",TRUE,\"-\")","v":"-"},{"$f":"_xlfn.IFS(キー割付!N593=\"昼夜休憩\",\"B\",キー割付!N593=\"－－－\",\"-\",キー割付!N593=\"昼－－\",\"H\",キー割付!N593=\"－夜－\",\"N\",キー割付!N593=\"－－休憩\",\"P\",キー割付!N593=\"昼夜－\",\"N\",キー割付!N593=\"昼－休憩\",\"F\",キー割付!N593=\"－夜休憩\",\"K\",TRUE,\"-\")","v":"-"},{"$f":"_xlfn.IFS(キー割付!O593=\"昼夜休憩\",\"B\",キー割付!O593=\"－－－\",\"-\",キー割付!O593=\"昼－－\",\"H\",キー割付!O593=\"－夜－\",\"N\",キー割付!O593=\"－－休憩\",\"P\",キー割付!O593=\"昼夜－\",\"N\",キー割付!O593=\"昼－休憩\",\"F\",キー割付!O593=\"－夜休憩\",\"K\",TRUE,\"-\")","v":"-"},{"$f":"IF(E106=\"ZX-DECLDIV-IPコードレス電話機\",\"-\",_xlfn.IFS(キー割付!P593=\"昼夜休憩\",\"B\",キー割付!P593=\"－－－\",\"-\",キー割付!P593=\"昼－－\",\"H\",キー割付!P593=\"－夜－\",\"N\",キー割付!P593=\"－－休憩\",\"P\",キー割付!P593=\"昼夜－\",\"N\",キー割付!P593=\"昼－休憩\",\"F\",キー割付!P593=\"－夜休憩\",\"K\",TRUE,\"-\"))","v":"-"},{"$f":"IF(E106=\"ZX-DECLDIV-IPコードレス電話機\",\"-\",_xlfn.IFS(キー割付!Q593=\"昼夜休憩\",\"B\",キー割付!Q593=\"－－－\",\"-\",キー割付!Q593=\"昼－－\",\"H\",キー割付!Q593=\"－夜－\",\"N\",キー割付!Q593=\"－－休憩\",\"P\",キー割付!Q593=\"昼夜－\",\"N\",キー割付!Q593=\"昼－休憩\",\"F\",キー割付!Q593=\"－夜休憩\",\"K\",TRUE,\"-\"))","v":"-"},{"$f":"IF(E106=\"ZX-DECLDIV-IPコードレス電話機\",\"-\",_xlfn.IFS(キー割付!R593=\"昼夜休憩\",\"B\",キー割付!R593=\"－－－\",\"-\",キー割付!R593=\"昼－－\",\"H\",キー割付!R593=\"－夜－\",\"N\",キー割付!R593=\"－－休憩\",\"P\",キー割付!R593=\"昼夜－\",\"N\",キー割付!R593=\"昼－休憩\",\"F\",キー割付!R593=\"－夜休憩\",\"K\",TRUE,\"-\"))","v":"-"},{"$f":"IF(E106=\"ZX-DECLDIV-IPコードレス電話機\",\"-\",_xlfn.IFS(キー割付!S593=\"昼夜休憩\",\"B\",キー割付!S593=\"－－－\",\"-\",キー割付!S593=\"昼－－\",\"H\",キー割付!S593=\"－夜－\",\"N\",キー割付!S593=\"－－休憩\",\"P\",キー割付!S593=\"昼夜－\",\"N\",キー割付!S593=\"昼－休憩\",\"F\",キー割付!S593=\"－夜休憩\",\"K\",TRUE,\"-\"))","v":"-"},{"$f":"IF(E106=\"ZX-DECLDIV-IPコードレス電話機\",\"-\",_xlfn.IFS(キー割付!N601=\"昼夜休憩\",\"B\",キー割付!N601=\"－－－\",\"-\",キー割付!N601=\"昼－－\",\"H\",キー割付!N601=\"－夜－\",\"N\",キー割付!N601=\"－－休憩\",\"P\",キー割付!N601=\"昼夜－\",\"N\",キー割付!N601=\"昼－休憩\",\"F\",キー割付!N601=\"－夜休憩\",\"K\",TRUE,\"-\"))","v":"-"},{"$f":"IF(E106=\"ZX-DECLDIV-IPコードレス電話機\",\"-\",_xlfn.IFS(キー割付!O601=\"昼夜休憩\",\"B\",キー割付!O601=\"－－－\",\"-\",キー割付!O601=\"昼－－\",\"H\",キー割付!O601=\"－夜－\",\"N\",キー割付!O601=\"－－休憩\",\"P\",キー割付!O601=\"昼夜－\",\"N\",キー割付!O601=\"昼－休憩\",\"F\",キー割付!O601=\"－夜休憩\",\"K\",TRUE,\"-\"))","v":"-"},{"$f":"IF(E106=\"ZX-DECLDIV-IPコードレス電話機\",\"-\",_xlfn.IFS(キー割付!P601=\"昼夜休憩\",\"B\",キー割付!P601=\"－－－\",\"-\",キー割付!P601=\"昼－－\",\"H\",キー割付!P601=\"－夜－\",\"N\",キー割付!P601=\"－－休憩\",\"P\",キー割付!P601=\"昼夜－\",\"N\",キー割付!P601=\"昼－休憩\",\"F\",キー割付!P601=\"－夜休憩\",\"K\",TRUE,\"-\"))","v":"-"},{"$f":"IF(E106=\"ZX-DECLDIV-IPコードレス電話機\",\"-\",_xlfn.IFS(キー割付!Q601=\"昼夜休憩\",\"B\",キー割付!Q601=\"－－－\",\"-\",キー割付!Q601=\"昼－－\",\"H\",キー割付!Q601=\"－夜－\",\"N\",キー割付!Q601=\"－－休憩\",\"P\",キー割付!Q601=\"昼夜－\",\"N\",キー割付!Q601=\"昼－休憩\",\"F\",キー割付!Q601=\"－夜休憩\",\"K\",TRUE,\"-\"))","v":"-"},{"$f":"IF(E106=\"ZX-DECLDIV-IPコードレス電話機\",\"-\",_xlfn.IFS(キー割付!R601=\"昼夜休憩\",\"B\",キー割付!R601=\"－－－\",\"-\",キー割付!R601=\"昼－－\",\"H\",キー割付!R601=\"－夜－\",\"N\",キー割付!R601=\"－－休憩\",\"P\",キー割付!R601=\"昼夜－\",\"N\",キー割付!R601=\"昼－休憩\",\"F\",キー割付!R601=\"－夜休憩\",\"K\",TRUE,\"-\"))","v":"-"},{"$f":"IF(E106=\"ZX-DECLDIV-IPコードレス電話機\",\"-\",_xlfn.IFS(キー割付!S601=\"昼夜休憩\",\"B\",キー割付!S601=\"－－－\",\"-\",キー割付!S601=\"昼－－\",\"H\",キー割付!S601=\"－夜－\",\"N\",キー割付!S601=\"－－休憩\",\"P\",キー割付!S601=\"昼夜－\",\"N\",キー割付!S601=\"昼－休憩\",\"F\",キー割付!S601=\"－夜休憩\",\"K\",TRUE,\"-\"))","v":"-"},{"$f":"IF(E106=\"ZX-DECLDIV-IPコードレス電話機\",\"-\",_xlfn.IFS(キー割付!N609=\"昼夜休憩\",\"B\",キー割付!N609=\"－－－\",\"-\",キー割付!N609=\"昼－－\",\"H\",キー割付!N609=\"－夜－\",\"N\",キー割付!N609=\"－－休憩\",\"P\",キー割付!N609=\"昼夜－\",\"N\",キー割付!N609=\"昼－休憩\",\"F\",キー割付!N609=\"－夜休憩\",\"K\",TRUE,\"-\"))","v":"-"},{"$f":"IF(E106=\"ZX-DECLDIV-IPコードレス電話機\",\"-\",_xlfn.IFS(キー割付!O609=\"昼夜休憩\",\"B\",キー割付!O609=\"－－－\",\"-\",キー割付!O609=\"昼－－\",\"H\",キー割付!O609=\"－夜－\",\"N\",キー割付!O609=\"－－休憩\",\"P\",キー割付!O609=\"昼夜－\",\"N\",キー割付!O609=\"昼－休憩\",\"F\",キー割付!O609=\"－夜休憩\",\"K\",TRUE,\"-\"))","v":"-"},{"$f":"IF(E106=\"ZX-DECLDIV-IPコードレス電話機\",\"-\",_xlfn.IFS(キー割付!P609=\"昼夜休憩\",\"B\",キー割付!P609=\"－－－\",\"-\",キー割付!P609=\"昼－－\",\"H\",キー割付!P609=\"－夜－\",\"N\",キー割付!P609=\"－－休憩\",\"P\",キー割付!P609=\"昼夜－\",\"N\",キー割付!P609=\"昼－休憩\",\"F\",キー割付!P609=\"－夜休憩\",\"K\",TRUE,\"-\"))","v":"-"},{"$f":"IF(E106=\"ZX-DECLDIV-IPコードレス電話機\",\"-\",_xlfn.IFS(キー割付!Q609=\"昼夜休憩\",\"B\",キー割付!Q609=\"－－－\",\"-\",キー割付!Q609=\"昼－－\",\"H\",キー割付!Q609=\"－夜－\",\"N\",キー割付!Q609=\"－－休憩\",\"P\",キー割付!Q609=\"昼夜－\",\"N\",キー割付!Q609=\"昼－休憩\",\"F\",キー割付!Q609=\"－夜休憩\",\"K\",TRUE,\"-\"))","v":"-"},{"$f":"IF(E106=\"ZX-DECLDIV-IPコードレス電話機\",\"-\",_xlfn.IFS(キー割付!R609=\"昼夜休憩\",\"B\",キー割付!R609=\"－－－\",\"-\",キー割付!R609=\"昼－－\",\"H\",キー割付!R609=\"－夜－\",\"N\",キー割付!R609=\"－－休憩\",\"P\",キー割付!R609=\"昼夜－\",\"N\",キー割付!R609=\"昼－休憩\",\"F\",キー割付!R609=\"－夜休憩\",\"K\",TRUE,\"-\"))","v":"-"},{"$f":"IF(E106=\"ZX-DECLDIV-IPコードレス電話機\",\"-\",_xlfn.IFS(キー割付!S609=\"昼夜休憩\",\"B\",キー割付!S609=\"－－－\",\"-\",キー割付!S609=\"昼－－\",\"H\",キー割付!S609=\"－夜－\",\"N\",キー割付!S609=\"－－休憩\",\"P\",キー割付!S609=\"昼夜－\",\"N\",キー割付!S609=\"昼－休憩\",\"F\",キー割付!S609=\"－夜休憩\",\"K\",TRUE,\"-\"))","v":"-"}]
[null,35,{"$f":"IF(IFERROR(VALUE(VLOOKUP(B109,内線_キー割用,2,FALSE)),\"\")=0,\"\",IFERROR(VALUE(VLOOKUP(B109,内線_キー割用,2,FALSE)),\"\"))","v":""},{"$f":"IF(IFERROR(VALUE(VLOOKUP(B109,内線_キー割用,4,FALSE)),\"\")=0,\"\",IFERROR(VALUE(VLOOKUP(B109,内線_キー割用,4,FALSE)),\"\"))","v":""},{"$f":"IF(IFERROR(VLOOKUP(B109,内線_キー割用,3,FALSE),\"\")=0,\"\",IFERROR(VLOOKUP(B109,内線_キー割用,3,FALSE),\"\"))","v":""},{"$f":"IF(キー割付!D619=\"\",\"未使用\",キー割付!D619)","v":"未使用"},{"$f":"IF(キー割付!E619=\"\",\"未使用\",キー割付!E619)","v":"未使用"},{"$f":"IF(キー割付!F619=\"\",\"未使用\",キー割付!F619)","v":"未使用"},{"$f":"IF(キー割付!G619=\"\",\"未使用\",キー割付!G619)","v":"未使用"},{"$f":"IF(キー割付!H619=\"\",\"未使用\",キー割付!H619)","v":"未使用"},{"$f":"IF(キー割付!I619=\"\",\"未使用\",キー割付!I619)","v":"未使用"},{"$f":"IF(キー割付!D627=\"\",\"未使用\",キー割付!D627)","v":"未使用"},{"$f":"IF(キー割付!E627=\"\",\"未使用\",キー割付!E627)","v":"未使用"},{"$f":"IF(E109=\"ZX-DECLDIV-IPコードレス電話機\",\"未使用\",IF(キー割付!F627=\"\",\"未使用\",キー割付!F627))","v":"未使用"},{"$f":"IF(E109=\"ZX-DECLDIV-IPコードレス電話機\",\"未使用\",IF(キー割付!G627=\"\",\"未使用\",キー割付!G627))","v":"未使用"},{"$f":"IF(E109=\"ZX-DECLDIV-IPコードレス電話機\",\"未使用\",IF(キー割付!H627=\"\",\"未使用\",キー割付!H627))","v":"未使用"},{"$f":"IF(E109=\"ZX-DECLDIV-IPコードレス電話機\",\"未使用\",IF(キー割付!I627=\"\",\"未使用\",キー割付!I627))","v":"未使用"},{"$f":"IF(E109=\"ZX-DECLDIV-IPコードレス電話機\",\"未使用\",IF(キー割付!D635=\"\",\"未使用\",キー割付!D635))","v":"未使用"},{"$f":"IF(E109=\"ZX-DECLDIV-IPコードレス電話機\",\"未使用\",IF(キー割付!E635=\"\",\"未使用\",キー割付!E635))","v":"未使用"},{"$f":"IF(E109=\"ZX-DECLDIV-IPコードレス電話機\",\"未使用\",IF(キー割付!F635=\"\",\"未使用\",キー割付!F635))","v":"未使用"},{"$f":"IF(E109=\"ZX-DECLDIV-IPコードレス電話機\",\"未使用\",IF(キー割付!G635=\"\",\"未使用\",キー割付!G635))","v":"未使用"},{"$f":"IF(E109=\"ZX-DECLDIV-IPコードレス電話機\",\"未使用\",IF(キー割付!H635=\"\",\"未使用\",キー割付!H635))","v":"未使用"},{"$f":"IF(E109=\"ZX-DECLDIV-IPコードレス電話機\",\"未使用\",IF(キー割付!I635=\"\",\"未使用\",キー割付!I635))","v":"未使用"},{"$f":"IF(E109=\"ZX-DECLDIV-IPコードレス電話機\",\"未使用\",IF(キー割付!D643=\"\",\"未使用\",キー割付!D643))","v":"未使用"},{"$f":"IF(E109=\"ZX-DECLDIV-IPコードレス電話機\",\"未使用\",IF(キー割付!E643=\"\",\"未使用\",キー割付!E643))","v":"未使用"},{"$f":"IF(E109=\"ZX-DECLDIV-IPコードレス電話機\",\"未使用\",IF(キー割付!F643=\"\",\"未使用\",キー割付!F643))","v":"未使用"},{"$f":"IF(E109=\"ZX-DECLDIV-IPコードレス電話機\",\"未使用\",IF(キー割付!G643=\"\",\"未使用\",キー割付!G643))","v":"未使用"},{"$f":"IF(E109=\"ZX-DECLDIV-IPコードレス電話機\",\"未使用\",IF(キー割付!H643=\"\",\"未使用\",キー割付!H643))","v":"未使用"},{"$f":"IF(E109=\"ZX-DECLDIV-IPコードレス電話機\",\"未使用\",IF(キー割付!I643=\"\",\"未使用\",キー割付!I643))","v":"未使用"}]
[null,null,null,null,null,{"$f":"_xlfn.IFS(キー割付!D620=\"着信音なし\",\"トーン1\",キー割付!D620=\"トーン1\",\"トーン1\",キー割付!D620=\"トーン2\",\"トーン2\",キー割付!D620=\"トーン3\",\"トーン3\",キー割付!D620=\"トーン4\",\"トーン4\",キー割付!D620=\"トーン5\",\"トーン5\",キー割付!D620=\"トーン6\",\"トーン6\",キー割付!D620=\"トーン7\",\"トーン7\",キー割付!D620=\"トーン7\",\"トーン7\",キー割付!D620=\"無鳴動着信\",\"トーン8\",キー割付!D620=\"グリーンスリーブス\",\"メロディ1\",キー割付!D620=\"峠の我が家\",\"メロディ2\",キー割付!D620=\"カノン\",\"メロディ3\",キー割付!D620=\"春の歌\",\"メロディ4\",キー割付!D620=\"主よ人の望みの喜びよ\",\"メロディ5\",キー割付!D620=\"メヌエット\",\"メロディ6\",キー割付!D620=\"華麗なる大円舞曲\",\"メロディ7\",キー割付!D620=\"ハンガリア舞曲第5番\",\"メロディ8\",TRUE,\"トーン1\")","v":"トーン1"},{"$f":"_xlfn.IFS(キー割付!E620=\"着信音なし\",\"トーン1\",キー割付!E620=\"トーン1\",\"トーン1\",キー割付!E620=\"トーン2\",\"トーン2\",キー割付!E620=\"トーン3\",\"トーン3\",キー割付!E620=\"トーン4\",\"トーン4\",キー割付!E620=\"トーン5\",\"トーン5\",キー割付!E620=\"トーン6\",\"トーン6\",キー割付!E620=\"トーン7\",\"トーン7\",キー割付!E620=\"トーン7\",\"トーン7\",キー割付!E620=\"無鳴動着信\",\"トーン8\",キー割付!E620=\"グリーンスリーブス\",\"メロディ1\",キー割付!E620=\"峠の我が家\",\"メロディ2\",キー割付!E620=\"カノン\",\"メロディ3\",キー割付!E620=\"春の歌\",\"メロディ4\",キー割付!E620=\"主よ人の望みの喜びよ\",\"メロディ5\",キー割付!E620=\"メヌエット\",\"メロディ6\",キー割付!E620=\"華麗なる大円舞曲\",\"メロディ7\",キー割付!E620=\"ハンガリア舞曲第5番\",\"メロディ8\",TRUE,\"トーン1\")","v":"トーン1"},{"$f":"_xlfn.IFS(キー割付!F620=\"着信音なし\",\"トーン1\",キー割付!F620=\"トーン1\",\"トーン1\",キー割付!F620=\"トーン2\",\"トーン2\",キー割付!F620=\"トーン3\",\"トーン3\",キー割付!F620=\"トーン4\",\"トーン4\",キー割付!F620=\"トーン5\",\"トーン5\",キー割付!F620=\"トーン6\",\"トーン6\",キー割付!F620=\"トーン7\",\"トーン7\",キー割付!F620=\"トーン7\",\"トーン7\",キー割付!F620=\"無鳴動着信\",\"トーン8\",キー割付!F620=\"グリーンスリーブス\",\"メロディ1\",キー割付!F620=\"峠の我が家\",\"メロディ2\",キー割付!F620=\"カノン\",\"メロディ3\",キー割付!F620=\"春の歌\",\"メロディ4\",キー割付!F620=\"主よ人の望みの喜びよ\",\"メロディ5\",キー割付!F620=\"メヌエット\",\"メロディ6\",キー割付!F620=\"華麗なる大円舞曲\",\"メロディ7\",キー割付!F620=\"ハンガリア舞曲第5番\",\"メロディ8\",TRUE,\"トーン1\")","v":"トーン1"},{"$f":"_xlfn.IFS(キー割付!G620=\"着信音なし\",\"トーン1\",キー割付!G620=\"トーン1\",\"トーン1\",キー割付!G620=\"トーン2\",\"トーン2\",キー割付!G620=\"トーン3\",\"トーン3\",キー割付!G620=\"トーン4\",\"トーン4\",キー割付!G620=\"トーン5\",\"トーン5\",キー割付!G620=\"トーン6\",\"トーン6\",キー割付!G620=\"トーン7\",\"トーン7\",キー割付!G620=\"トーン7\",\"トーン7\",キー割付!G620=\"無鳴動着信\",\"トーン8\",キー割付!G620=\"グリーンスリーブス\",\"メロディ1\",キー割付!G620=\"峠の我が家\",\"メロディ2\",キー割付!G620=\"カノン\",\"メロディ3\",キー割付!G620=\"春の歌\",\"メロディ4\",キー割付!G620=\"主よ人の望みの喜びよ\",\"メロディ5\",キー割付!G620=\"メヌエット\",\"メロディ6\",キー割付!G620=\"華麗なる大円舞曲\",\"メロディ7\",キー割付!G620=\"ハンガリア舞曲第5番\",\"メロディ8\",TRUE,\"トーン1\")","v":"トーン1"},{"$f":"_xlfn.IFS(キー割付!H620=\"着信音なし\",\"トーン1\",キー割付!H620=\"トーン1\",\"トーン1\",キー割付!H620=\"トーン2\",\"トーン2\",キー割付!H620=\"トーン3\",\"トーン3\",キー割付!H620=\"トーン4\",\"トーン4\",キー割付!H620=\"トーン5\",\"トーン5\",キー割付!H620=\"トーン6\",\"トーン6\",キー割付!H620=\"トーン7\",\"トーン7\",キー割付!H620=\"トーン7\",\"トーン7\",キー割付!H620=\"無鳴動着信\",\"トーン8\",キー割付!H620=\"グリーンスリーブス\",\"メロディ1\",キー割付!H620=\"峠の我が家\",\"メロディ2\",キー割付!H620=\"カノン\",\"メロディ3\",キー割付!H620=\"春の歌\",\"メロディ4\",キー割付!H620=\"主よ人の望みの喜びよ\",\"メロディ5\",キー割付!H620=\"メヌエット\",\"メロディ6\",キー割付!H620=\"華麗なる大円舞曲\",\"メロディ7\",キー割付!H620=\"ハンガリア舞曲第5番\",\"メロディ8\",TRUE,\"トーン1\")","v":"トーン1"},{"$f":"_xlfn.IFS(キー割付!I620=\"着信音なし\",\"トーン1\",キー割付!I620=\"トーン1\",\"トーン1\",キー割付!I620=\"トーン2\",\"トーン2\",キー割付!I620=\"トーン3\",\"トーン3\",キー割付!I620=\"トーン4\",\"トーン4\",キー割付!I620=\"トーン5\",\"トーン5\",キー割付!I620=\"トーン6\",\"トーン6\",キー割付!I620=\"トーン7\",\"トーン7\",キー割付!I620=\"トーン7\",\"トーン7\",キー割付!I620=\"無鳴動着信\",\"トーン8\",キー割付!I620=\"グリーンスリーブス\",\"メロディ1\",キー割付!I620=\"峠の我が家\",\"メロディ2\",キー割付!I620=\"カノン\",\"メロディ3\",キー割付!I620=\"春の歌\",\"メロディ4\",キー割付!I620=\"主よ人の望みの喜びよ\",\"メロディ5\",キー割付!I620=\"メヌエット\",\"メロディ6\",キー割付!I620=\"華麗なる大円舞曲\",\"メロディ7\",キー割付!I620=\"ハンガリア舞曲第5番\",\"メロディ8\",TRUE,\"トーン1\")","v":"トーン1"},{"$f":"_xlfn.IFS(キー割付!D628=\"着信音なし\",\"トーン1\",キー割付!D628=\"トーン1\",\"トーン1\",キー割付!D628=\"トーン2\",\"トーン2\",キー割付!D628=\"トーン3\",\"トーン3\",キー割付!D628=\"トーン4\",\"トーン4\",キー割付!D628=\"トーン5\",\"トーン5\",キー割付!D628=\"トーン6\",\"トーン6\",キー割付!D628=\"トーン7\",\"トーン7\",キー割付!D628=\"トーン7\",\"トーン7\",キー割付!D628=\"無鳴動着信\",\"トーン8\",キー割付!D628=\"グリーンスリーブス\",\"メロディ1\",キー割付!D628=\"峠の我が家\",\"メロディ2\",キー割付!D628=\"カノン\",\"メロディ3\",キー割付!D628=\"春の歌\",\"メロディ4\",キー割付!D628=\"主よ人の望みの喜びよ\",\"メロディ5\",キー割付!D628=\"メヌエット\",\"メロディ6\",キー割付!D628=\"華麗なる大円舞曲\",\"メロディ7\",キー割付!D628=\"ハンガリア舞曲第5番\",\"メロディ8\",TRUE,\"トーン1\")","v":"トーン1"},{"$f":"_xlfn.IFS(キー割付!E628=\"着信音なし\",\"トーン1\",キー割付!E628=\"トーン1\",\"トーン1\",キー割付!E628=\"トーン2\",\"トーン2\",キー割付!E628=\"トーン3\",\"トーン3\",キー割付!E628=\"トーン4\",\"トーン4\",キー割付!E628=\"トーン5\",\"トーン5\",キー割付!E628=\"トーン6\",\"トーン6\",キー割付!E628=\"トーン7\",\"トーン7\",キー割付!E628=\"トーン7\",\"トーン7\",キー割付!E628=\"無鳴動着信\",\"トーン8\",キー割付!E628=\"グリーンスリーブス\",\"メロディ1\",キー割付!E628=\"峠の我が家\",\"メロディ2\",キー割付!E628=\"カノン\",\"メロディ3\",キー割付!E628=\"春の歌\",\"メロディ4\",キー割付!E628=\"主よ人の望みの喜びよ\",\"メロディ5\",キー割付!E628=\"メヌエット\",\"メロディ6\",キー割付!E628=\"華麗なる大円舞曲\",\"メロディ7\",キー割付!E628=\"ハンガリア舞曲第5番\",\"メロディ8\",TRUE,\"トーン1\")","v":"トーン1"},{"$f":"IF(E109=\"ZX-DECLDIV-IPコードレス電話機\",\"トーン1\",_xlfn.IFS(キー割付!F628=\"着信音なし\",\"トーン1\",キー割付!F628=\"トーン1\",\"トーン1\",キー割付!F628=\"トーン2\",\"トーン2\",キー割付!F628=\"トーン3\",\"トーン3\",キー割付!F628=\"トーン4\",\"トーン4\",キー割付!F628=\"トーン5\",\"トーン5\",キー割付!F628=\"トーン6\",\"トーン6\",キー割付!F628=\"トーン7\",\"トーン7\",キー割付!F628=\"トーン7\",\"トーン7\",キー割付!F628=\"無鳴動着信\",\"トーン8\",キー割付!F628=\"グリーンスリーブス\",\"メロディ1\",キー割付!F628=\"峠の我が家\",\"メロディ2\",キー割付!F628=\"カノン\",\"メロディ3\",キー割付!F628=\"春の歌\",\"メロディ4\",キー割付!F628=\"主よ人の望みの喜びよ\",\"メロディ5\",キー割付!F628=\"メヌエット\",\"メロディ6\",キー割付!F628=\"華麗なる大円舞曲\",\"メロディ7\",キー割付!F628=\"ハンガリア舞曲第5番\",\"メロディ8\",TRUE,\"トーン1\"))","v":"トーン1"},{"$f":"IF(E109=\"ZX-DECLDIV-IPコードレス電話機\",\"トーン1\",_xlfn.IFS(キー割付!G628=\"着信音なし\",\"トーン1\",キー割付!G628=\"トーン1\",\"トーン1\",キー割付!G628=\"トーン2\",\"トーン2\",キー割付!G628=\"トーン3\",\"トーン3\",キー割付!G628=\"トーン4\",\"トーン4\",キー割付!G628=\"トーン5\",\"トーン5\",キー割付!G628=\"トーン6\",\"トーン6\",キー割付!G628=\"トーン7\",\"トーン7\",キー割付!G628=\"トーン7\",\"トーン7\",キー割付!G628=\"無鳴動着信\",\"トーン8\",キー割付!G628=\"グリーンスリーブス\",\"メロディ1\",キー割付!G628=\"峠の我が家\",\"メロディ2\",キー割付!G628=\"カノン\",\"メロディ3\",キー割付!G628=\"春の歌\",\"メロディ4\",キー割付!G628=\"主よ人の望みの喜びよ\",\"メロディ5\",キー割付!G628=\"メヌエット\",\"メロディ6\",キー割付!G628=\"華麗なる大円舞曲\",\"メロディ7\",キー割付!G628=\"ハンガリア舞曲第5番\",\"メロディ8\",TRUE,\"トーン1\"))","v":"トーン1"},{"$f":"IF(E109=\"ZX-DECLDIV-IPコードレス電話機\",\"トーン1\",_xlfn.IFS(キー割付!H628=\"着信音なし\",\"トーン1\",キー割付!H628=\"トーン1\",\"トーン1\",キー割付!H628=\"トーン2\",\"トーン2\",キー割付!H628=\"トーン3\",\"トーン3\",キー割付!H628=\"トーン4\",\"トーン4\",キー割付!H628=\"トーン5\",\"トーン5\",キー割付!H628=\"トーン6\",\"トーン6\",キー割付!H628=\"トーン7\",\"トーン7\",キー割付!H628=\"トーン7\",\"トーン7\",キー割付!H628=\"無鳴動着信\",\"トーン8\",キー割付!H628=\"グリーンスリーブス\",\"メロディ1\",キー割付!H628=\"峠の我が家\",\"メロディ2\",キー割付!H628=\"カノン\",\"メロディ3\",キー割付!H628=\"春の歌\",\"メロディ4\",キー割付!H628=\"主よ人の望みの喜びよ\",\"メロディ5\",キー割付!H628=\"メヌエット\",\"メロディ6\",キー割付!H628=\"華麗なる大円舞曲\",\"メロディ7\",キー割付!H628=\"ハンガリア舞曲第5番\",\"メロディ8\",TRUE,\"トーン1\"))","v":"トーン1"},{"$f":"IF(E109=\"ZX-DECLDIV-IPコードレス電話機\",\"トーン1\",_xlfn.IFS(キー割付!I628=\"着信音なし\",\"トーン1\",キー割付!I628=\"トーン1\",\"トーン1\",キー割付!I628=\"トーン2\",\"トーン2\",キー割付!I628=\"トーン3\",\"トーン3\",キー割付!I628=\"トーン4\",\"トーン4\",キー割付!I628=\"トーン5\",\"トーン5\",キー割付!I628=\"トーン6\",\"トーン6\",キー割付!I628=\"トーン7\",\"トーン7\",キー割付!I628=\"トーン7\",\"トーン7\",キー割付!I628=\"無鳴動着信\",\"トーン8\",キー割付!I628=\"グリーンスリーブス\",\"メロディ1\",キー割付!I628=\"峠の我が家\",\"メロディ2\",キー割付!I628=\"カノン\",\"メロディ3\",キー割付!I628=\"春の歌\",\"メロディ4\",キー割付!I628=\"主よ人の望みの喜びよ\",\"メロディ5\",キー割付!I628=\"メヌエット\",\"メロディ6\",キー割付!I628=\"華麗なる大円舞曲\",\"メロディ7\",キー割付!I628=\"ハンガリア舞曲第5番\",\"メロディ8\",TRUE,\"トーン1\"))","v":"トーン1"},{"$f":"IF(E109=\"ZX-DECLDIV-IPコードレス電話機\",\"トーン1\",_xlfn.IFS(キー割付!D636=\"着信音なし\",\"トーン1\",キー割付!D636=\"トーン1\",\"トーン1\",キー割付!D636=\"トーン2\",\"トーン2\",キー割付!D636=\"トーン3\",\"トーン3\",キー割付!D636=\"トーン4\",\"トーン4\",キー割付!D636=\"トーン5\",\"トーン5\",キー割付!D636=\"トーン6\",\"トーン6\",キー割付!D636=\"トーン7\",\"トーン7\",キー割付!D636=\"トーン7\",\"トーン7\",キー割付!D636=\"無鳴動着信\",\"トーン8\",キー割付!D636=\"グリーンスリーブス\",\"メロディ1\",キー割付!D636=\"峠の我が家\",\"メロディ2\",キー割付!D636=\"カノン\",\"メロディ3\",キー割付!D636=\"春の歌\",\"メロディ4\",キー割付!D636=\"主よ人の望みの喜びよ\",\"メロディ5\",キー割付!D636=\"メヌエット\",\"メロディ6\",キー割付!D636=\"華麗なる大円舞曲\",\"メロディ7\",キー割付!D636=\"ハンガリア舞曲第5番\",\"メロディ8\",TRUE,\"トーン1\"))","v":"トーン1"},{"$f":"IF(E109=\"ZX-DECLDIV-IPコードレス電話機\",\"トーン1\",_xlfn.IFS(キー割付!E636=\"着信音なし\",\"トーン1\",キー割付!E636=\"トーン1\",\"トーン1\",キー割付!E636=\"トーン2\",\"トーン2\",キー割付!E636=\"トーン3\",\"トーン3\",キー割付!E636=\"トーン4\",\"トーン4\",キー割付!E636=\"トーン5\",\"トーン5\",キー割付!E636=\"トーン6\",\"トーン6\",キー割付!E636=\"トーン7\",\"トーン7\",キー割付!E636=\"トーン7\",\"トーン7\",キー割付!E636=\"無鳴動着信\",\"トーン8\",キー割付!E636=\"グリーンスリーブス\",\"メロディ1\",キー割付!E636=\"峠の我が家\",\"メロディ2\",キー割付!E636=\"カノン\",\"メロディ3\",キー割付!E636=\"春の歌\",\"メロディ4\",キー割付!E636=\"主よ人の望みの喜びよ\",\"メロディ5\",キー割付!E636=\"メヌエット\",\"メロディ6\",キー割付!E636=\"華麗なる大円舞曲\",\"メロディ7\",キー割付!E636=\"ハンガリア舞曲第5番\",\"メロディ8\",TRUE,\"トーン1\"))","v":"トーン1"},{"$f":"IF(E109=\"ZX-DECLDIV-IPコードレス電話機\",\"トーン1\",_xlfn.IFS(キー割付!F636=\"着信音なし\",\"トーン1\",キー割付!F636=\"トーン1\",\"トーン1\",キー割付!F636=\"トーン2\",\"トーン2\",キー割付!F636=\"トーン3\",\"トーン3\",キー割付!F636=\"トーン4\",\"トーン4\",キー割付!F636=\"トーン5\",\"トーン5\",キー割付!F636=\"トーン6\",\"トーン6\",キー割付!F636=\"トーン7\",\"トーン7\",キー割付!F636=\"トーン7\",\"トーン7\",キー割付!F636=\"無鳴動着信\",\"トーン8\",キー割付!F636=\"グリーンスリーブス\",\"メロディ1\",キー割付!F636=\"峠の我が家\",\"メロディ2\",キー割付!F636=\"カノン\",\"メロディ3\",キー割付!F636=\"春の歌\",\"メロディ4\",キー割付!F636=\"主よ人の望みの喜びよ\",\"メロディ5\",キー割付!F636=\"メヌエット\",\"メロディ6\",キー割付!F636=\"華麗なる大円舞曲\",\"メロディ7\",キー割付!F636=\"ハンガリア舞曲第5番\",\"メロディ8\",TRUE,\"トーン1\"))","v":"トーン1"},{"$f":"IF(E109=\"ZX-DECLDIV-IPコードレス電話機\",\"トーン1\",_xlfn.IFS(キー割付!G636=\"着信音なし\",\"トーン1\",キー割付!G636=\"トーン1\",\"トーン1\",キー割付!G636=\"トーン2\",\"トーン2\",キー割付!G636=\"トーン3\",\"トーン3\",キー割付!G636=\"トーン4\",\"トーン4\",キー割付!G636=\"トーン5\",\"トーン5\",キー割付!G636=\"トーン6\",\"トーン6\",キー割付!G636=\"トーン7\",\"トーン7\",キー割付!G636=\"トーン7\",\"トーン7\",キー割付!G636=\"無鳴動着信\",\"トーン8\",キー割付!G636=\"グリーンスリーブス\",\"メロディ1\",キー割付!G636=\"峠の我が家\",\"メロディ2\",キー割付!G636=\"カノン\",\"メロディ3\",キー割付!G636=\"春の歌\",\"メロディ4\",キー割付!G636=\"主よ人の望みの喜びよ\",\"メロディ5\",キー割付!G636=\"メヌエット\",\"メロディ6\",キー割付!G636=\"華麗なる大円舞曲\",\"メロディ7\",キー割付!G636=\"ハンガリア舞曲第5番\",\"メロディ8\",TRUE,\"トーン1\"))","v":"トーン1"},{"$f":"IF(E109=\"ZX-DECLDIV-IPコードレス電話機\",\"トーン1\",_xlfn.IFS(キー割付!H636=\"着信音なし\",\"トーン1\",キー割付!H636=\"トーン1\",\"トーン1\",キー割付!H636=\"トーン2\",\"トーン2\",キー割付!H636=\"トーン3\",\"トーン3\",キー割付!H636=\"トーン4\",\"トーン4\",キー割付!H636=\"トーン5\",\"トーン5\",キー割付!H636=\"トーン6\",\"トーン6\",キー割付!H636=\"トーン7\",\"トーン7\",キー割付!H636=\"トーン7\",\"トーン7\",キー割付!H636=\"無鳴動着信\",\"トーン8\",キー割付!H636=\"グリーンスリーブス\",\"メロディ1\",キー割付!H636=\"峠の我が家\",\"メロディ2\",キー割付!H636=\"カノン\",\"メロディ3\",キー割付!H636=\"春の歌\",\"メロディ4\",キー割付!H636=\"主よ人の望みの喜びよ\",\"メロディ5\",キー割付!H636=\"メヌエット\",\"メロディ6\",キー割付!H636=\"華麗なる大円舞曲\",\"メロディ7\",キー割付!H636=\"ハンガリア舞曲第5番\",\"メロディ8\",TRUE,\"トーン1\"))","v":"トーン1"},{"$f":"IF(E109=\"ZX-DECLDIV-IPコードレス電話機\",\"トーン1\",_xlfn.IFS(キー割付!I636=\"着信音なし\",\"トーン1\",キー割付!I636=\"トーン1\",\"トーン1\",キー割付!I636=\"トーン2\",\"トーン2\",キー割付!I636=\"トーン3\",\"トーン3\",キー割付!I636=\"トーン4\",\"トーン4\",キー割付!I636=\"トーン5\",\"トーン5\",キー割付!I636=\"トーン6\",\"トーン6\",キー割付!I636=\"トーン7\",\"トーン7\",キー割付!I636=\"トーン7\",\"トーン7\",キー割付!I636=\"無鳴動着信\",\"トーン8\",キー割付!I636=\"グリーンスリーブス\",\"メロディ1\",キー割付!I636=\"峠の我が家\",\"メロディ2\",キー割付!I636=\"カノン\",\"メロディ3\",キー割付!I636=\"春の歌\",\"メロディ4\",キー割付!I636=\"主よ人の望みの喜びよ\",\"メロディ5\",キー割付!I636=\"メヌエット\",\"メロディ6\",キー割付!I636=\"華麗なる大円舞曲\",\"メロディ7\",キー割付!I636=\"ハンガリア舞曲第5番\",\"メロディ8\",TRUE,\"トーン1\"))","v":"トーン1"},{"$f":"IF(E109=\"ZX-DECLDIV-IPコードレス電話機\",\"トーン1\",_xlfn.IFS(キー割付!D644=\"着信音なし\",\"トーン1\",キー割付!D644=\"トーン1\",\"トーン1\",キー割付!D644=\"トーン2\",\"トーン2\",キー割付!D644=\"トーン3\",\"トーン3\",キー割付!D644=\"トーン4\",\"トーン4\",キー割付!D644=\"トーン5\",\"トーン5\",キー割付!D644=\"トーン6\",\"トーン6\",キー割付!D644=\"トーン7\",\"トーン7\",キー割付!D644=\"トーン7\",\"トーン7\",キー割付!D644=\"無鳴動着信\",\"トーン8\",キー割付!D644=\"グリーンスリーブス\",\"メロディ1\",キー割付!D644=\"峠の我が家\",\"メロディ2\",キー割付!D644=\"カノン\",\"メロディ3\",キー割付!D644=\"春の歌\",\"メロディ4\",キー割付!D644=\"主よ人の望みの喜びよ\",\"メロディ5\",キー割付!D644=\"メヌエット\",\"メロディ6\",キー割付!D644=\"華麗なる大円舞曲\",\"メロディ7\",キー割付!D644=\"ハンガリア舞曲第5番\",\"メロディ8\",TRUE,\"トーン1\"))","v":"トーン1"},{"$f":"IF(E109=\"ZX-DECLDIV-IPコードレス電話機\",\"トーン1\",_xlfn.IFS(キー割付!E644=\"着信音なし\",\"トーン1\",キー割付!E644=\"トーン1\",\"トーン1\",キー割付!E644=\"トーン2\",\"トーン2\",キー割付!E644=\"トーン3\",\"トーン3\",キー割付!E644=\"トーン4\",\"トーン4\",キー割付!E644=\"トーン5\",\"トーン5\",キー割付!E644=\"トーン6\",\"トーン6\",キー割付!E644=\"トーン7\",\"トーン7\",キー割付!E644=\"トーン7\",\"トーン7\",キー割付!E644=\"無鳴動着信\",\"トーン8\",キー割付!E644=\"グリーンスリーブス\",\"メロディ1\",キー割付!E644=\"峠の我が家\",\"メロディ2\",キー割付!E644=\"カノン\",\"メロディ3\",キー割付!E644=\"春の歌\",\"メロディ4\",キー割付!E644=\"主よ人の望みの喜びよ\",\"メロディ5\",キー割付!E644=\"メヌエット\",\"メロディ6\",キー割付!E644=\"華麗なる大円舞曲\",\"メロディ7\",キー割付!E644=\"ハンガリア舞曲第5番\",\"メロディ8\",TRUE,\"トーン1\"))","v":"トーン1"},{"$f":"IF(E109=\"ZX-DECLDIV-IPコードレス電話機\",\"トーン1\",_xlfn.IFS(キー割付!F644=\"着信音なし\",\"トーン1\",キー割付!F644=\"トーン1\",\"トーン1\",キー割付!F644=\"トーン2\",\"トーン2\",キー割付!F644=\"トーン3\",\"トーン3\",キー割付!F644=\"トーン4\",\"トーン4\",キー割付!F644=\"トーン5\",\"トーン5\",キー割付!F644=\"トーン6\",\"トーン6\",キー割付!F644=\"トーン7\",\"トーン7\",キー割付!F644=\"トーン7\",\"トーン7\",キー割付!F644=\"無鳴動着信\",\"トーン8\",キー割付!F644=\"グリーンスリーブス\",\"メロディ1\",キー割付!F644=\"峠の我が家\",\"メロディ2\",キー割付!F644=\"カノン\",\"メロディ3\",キー割付!F644=\"春の歌\",\"メロディ4\",キー割付!F644=\"主よ人の望みの喜びよ\",\"メロディ5\",キー割付!F644=\"メヌエット\",\"メロディ6\",キー割付!F644=\"華麗なる大円舞曲\",\"メロディ7\",キー割付!F644=\"ハンガリア舞曲第5番\",\"メロディ8\",TRUE,\"トーン1\"))","v":"トーン1"},{"$f":"IF(E109=\"ZX-DECLDIV-IPコードレス電話機\",\"トーン1\",_xlfn.IFS(キー割付!G644=\"着信音なし\",\"トーン1\",キー割付!G644=\"トーン1\",\"トーン1\",キー割付!G644=\"トーン2\",\"トーン2\",キー割付!G644=\"トーン3\",\"トーン3\",キー割付!G644=\"トーン4\",\"トーン4\",キー割付!G644=\"トーン5\",\"トーン5\",キー割付!G644=\"トーン6\",\"トーン6\",キー割付!G644=\"トーン7\",\"トーン7\",キー割付!G644=\"トーン7\",\"トーン7\",キー割付!G644=\"無鳴動着信\",\"トーン8\",キー割付!G644=\"グリーンスリーブス\",\"メロディ1\",キー割付!G644=\"峠の我が家\",\"メロディ2\",キー割付!G644=\"カノン\",\"メロディ3\",キー割付!G644=\"春の歌\",\"メロディ4\",キー割付!G644=\"主よ人の望みの喜びよ\",\"メロディ5\",キー割付!G644=\"メヌエット\",\"メロディ6\",キー割付!G644=\"華麗なる大円舞曲\",\"メロディ7\",キー割付!G644=\"ハンガリア舞曲第5番\",\"メロディ8\",TRUE,\"トーン1\"))","v":"トーン1"},{"$f":"IF(E109=\"ZX-DECLDIV-IPコードレス電話機\",\"トーン1\",_xlfn.IFS(キー割付!H644=\"着信音なし\",\"トーン1\",キー割付!H644=\"トーン1\",\"トーン1\",キー割付!H644=\"トーン2\",\"トーン2\",キー割付!H644=\"トーン3\",\"トーン3\",キー割付!H644=\"トーン4\",\"トーン4\",キー割付!H644=\"トーン5\",\"トーン5\",キー割付!H644=\"トーン6\",\"トーン6\",キー割付!H644=\"トーン7\",\"トーン7\",キー割付!H644=\"トーン7\",\"トーン7\",キー割付!H644=\"無鳴動着信\",\"トーン8\",キー割付!H644=\"グリーンスリーブス\",\"メロディ1\",キー割付!H644=\"峠の我が家\",\"メロディ2\",キー割付!H644=\"カノン\",\"メロディ3\",キー割付!H644=\"春の歌\",\"メロディ4\",キー割付!H644=\"主よ人の望みの喜びよ\",\"メロディ5\",キー割付!H644=\"メヌエット\",\"メロディ6\",キー割付!H644=\"華麗なる大円舞曲\",\"メロディ7\",キー割付!H644=\"ハンガリア舞曲第5番\",\"メロディ8\",TRUE,\"トーン1\"))","v":"トーン1"},{"$f":"IF(E109=\"ZX-DECLDIV-IPコードレス電話機\",\"トーン1\",_xlfn.IFS(キー割付!I644=\"着信音なし\",\"トーン1\",キー割付!I644=\"トーン1\",\"トーン1\",キー割付!I644=\"トーン2\",\"トーン2\",キー割付!I644=\"トーン3\",\"トーン3\",キー割付!I644=\"トーン4\",\"トーン4\",キー割付!I644=\"トーン5\",\"トーン5\",キー割付!I644=\"トーン6\",\"トーン6\",キー割付!I644=\"トーン7\",\"トーン7\",キー割付!I644=\"トーン7\",\"トーン7\",キー割付!I644=\"無鳴動着信\",\"トーン8\",キー割付!I644=\"グリーンスリーブス\",\"メロディ1\",キー割付!I644=\"峠の我が家\",\"メロディ2\",キー割付!I644=\"カノン\",\"メロディ3\",キー割付!I644=\"春の歌\",\"メロディ4\",キー割付!I644=\"主よ人の望みの喜びよ\",\"メロディ5\",キー割付!I644=\"メヌエット\",\"メロディ6\",キー割付!I644=\"華麗なる大円舞曲\",\"メロディ7\",キー割付!I644=\"ハンガリア舞曲第5番\",\"メロディ8\",TRUE,\"トーン1\"))","v":"トーン1"}]
[null,null,null,null,null,{"$f":"_xlfn.IFS(キー割付!D621=\"昼夜休憩\",\"B\",キー割付!D621=\"－－－\",\"-\",キー割付!D621=\"昼－－\",\"H\",キー割付!D621=\"－夜－\",\"N\",キー割付!D621=\"－－休憩\",\"P\",キー割付!D621=\"昼夜－\",\"D\",キー割付!D621=\"昼－休憩\",\"F\",キー割付!D621=\"－夜休憩\",\"K\",TRUE,\"-\")","v":"-"},{"$f":"_xlfn.IFS(キー割付!E621=\"昼夜休憩\",\"B\",キー割付!E621=\"－－－\",\"-\",キー割付!E621=\"昼－－\",\"H\",キー割付!E621=\"－夜－\",\"N\",キー割付!E621=\"－－休憩\",\"P\",キー割付!E621=\"昼夜－\",\"D\",キー割付!E621=\"昼－休憩\",\"F\",キー割付!E621=\"－夜休憩\",\"K\",TRUE,\"-\")","v":"-"},{"$f":"_xlfn.IFS(キー割付!F621=\"昼夜休憩\",\"B\",キー割付!F621=\"－－－\",\"-\",キー割付!F621=\"昼－－\",\"H\",キー割付!F621=\"－夜－\",\"N\",キー割付!F621=\"－－休憩\",\"P\",キー割付!F621=\"昼夜－\",\"D\",キー割付!F621=\"昼－休憩\",\"F\",キー割付!F621=\"－夜休憩\",\"K\",TRUE,\"-\")","v":"-"},{"$f":"_xlfn.IFS(キー割付!G621=\"昼夜休憩\",\"B\",キー割付!G621=\"－－－\",\"-\",キー割付!G621=\"昼－－\",\"H\",キー割付!G621=\"－夜－\",\"N\",キー割付!G621=\"－－休憩\",\"P\",キー割付!G621=\"昼夜－\",\"D\",キー割付!G621=\"昼－休憩\",\"F\",キー割付!G621=\"－夜休憩\",\"K\",TRUE,\"-\")","v":"-"},{"$f":"_xlfn.IFS(キー割付!H621=\"昼夜休憩\",\"B\",キー割付!H621=\"－－－\",\"-\",キー割付!H621=\"昼－－\",\"H\",キー割付!H621=\"－夜－\",\"N\",キー割付!H621=\"－－休憩\",\"P\",キー割付!H621=\"昼夜－\",\"D\",キー割付!H621=\"昼－休憩\",\"F\",キー割付!H621=\"－夜休憩\",\"K\",TRUE,\"-\")","v":"-"},{"$f":"_xlfn.IFS(キー割付!I621=\"昼夜休憩\",\"B\",キー割付!I621=\"－－－\",\"-\",キー割付!I621=\"昼－－\",\"H\",キー割付!I621=\"－夜－\",\"N\",キー割付!I621=\"－－休憩\",\"P\",キー割付!I621=\"昼夜－\",\"D\",キー割付!I621=\"昼－休憩\",\"F\",キー割付!I621=\"－夜休憩\",\"K\",TRUE,\"-\")","v":"-"},{"$f":"_xlfn.IFS(キー割付!D629=\"昼夜休憩\",\"B\",キー割付!D629=\"－－－\",\"-\",キー割付!D629=\"昼－－\",\"H\",キー割付!D629=\"－夜－\",\"N\",キー割付!D629=\"－－休憩\",\"P\",キー割付!D629=\"昼夜－\",\"D\",キー割付!D629=\"昼－休憩\",\"F\",キー割付!D629=\"－夜休憩\",\"K\",TRUE,\"-\")","v":"-"},{"$f":"_xlfn.IFS(キー割付!E629=\"昼夜休憩\",\"B\",キー割付!E629=\"－－－\",\"-\",キー割付!E629=\"昼－－\",\"H\",キー割付!E629=\"－夜－\",\"N\",キー割付!E629=\"－－休憩\",\"P\",キー割付!E629=\"昼夜－\",\"D\",キー割付!E629=\"昼－休憩\",\"F\",キー割付!E629=\"－夜休憩\",\"K\",TRUE,\"-\")","v":"-"},{"$f":"IF(E109=\"ZX-DECLDIV-IPコードレス電話機\",\"-\",_xlfn.IFS(キー割付!F629=\"昼夜休憩\",\"B\",キー割付!F629=\"－－－\",\"-\",キー割付!F629=\"昼－－\",\"H\",キー割付!F629=\"－夜－\",\"N\",キー割付!F629=\"－－休憩\",\"P\",キー割付!F629=\"昼夜－\",\"D\",キー割付!F629=\"昼－休憩\",\"F\",キー割付!F629=\"－夜休憩\",\"K\",TRUE,\"-\"))","v":"-"},{"$f":"IF(E109=\"ZX-DECLDIV-IPコードレス電話機\",\"-\",_xlfn.IFS(キー割付!G629=\"昼夜休憩\",\"B\",キー割付!G629=\"－－－\",\"-\",キー割付!G629=\"昼－－\",\"H\",キー割付!G629=\"－夜－\",\"N\",キー割付!G629=\"－－休憩\",\"P\",キー割付!G629=\"昼夜－\",\"D\",キー割付!G629=\"昼－休憩\",\"F\",キー割付!G629=\"－夜休憩\",\"K\",TRUE,\"-\"))","v":"-"},{"$f":"IF(E109=\"ZX-DECLDIV-IPコードレス電話機\",\"-\",_xlfn.IFS(キー割付!H629=\"昼夜休憩\",\"B\",キー割付!H629=\"－－－\",\"-\",キー割付!H629=\"昼－－\",\"H\",キー割付!H629=\"－夜－\",\"N\",キー割付!H629=\"－－休憩\",\"P\",キー割付!H629=\"昼夜－\",\"D\",キー割付!H629=\"昼－休憩\",\"F\",キー割付!H629=\"－夜休憩\",\"K\",TRUE,\"-\"))","v":"-"},{"$f":"IF(E109=\"ZX-DECLDIV-IPコードレス電話機\",\"-\",_xlfn.IFS(キー割付!I629=\"昼夜休憩\",\"B\",キー割付!I629=\"－－－\",\"-\",キー割付!I629=\"昼－－\",\"H\",キー割付!I629=\"－夜－\",\"N\",キー割付!I629=\"－－休憩\",\"P\",キー割付!I629=\"昼夜－\",\"D\",キー割付!I629=\"昼－休憩\",\"F\",キー割付!I629=\"－夜休憩\",\"K\",TRUE,\"-\"))","v":"-"},{"$f":"IF(E109=\"ZX-DECLDIV-IPコードレス電話機\",\"-\",_xlfn.IFS(キー割付!D637=\"昼夜休憩\",\"B\",キー割付!D637=\"－－－\",\"-\",キー割付!D637=\"昼－－\",\"H\",キー割付!D637=\"－夜－\",\"N\",キー割付!D637=\"－－休憩\",\"P\",キー割付!D637=\"昼夜－\",\"D\",キー割付!D637=\"昼－休憩\",\"F\",キー割付!D637=\"－夜休憩\",\"K\",TRUE,\"-\"))","v":"-"},{"$f":"IF(E109=\"ZX-DECLDIV-IPコードレス電話機\",\"-\",_xlfn.IFS(キー割付!E637=\"昼夜休憩\",\"B\",キー割付!E637=\"－－－\",\"-\",キー割付!E637=\"昼－－\",\"H\",キー割付!E637=\"－夜－\",\"N\",キー割付!E637=\"－－休憩\",\"P\",キー割付!E637=\"昼夜－\",\"D\",キー割付!E637=\"昼－休憩\",\"F\",キー割付!E637=\"－夜休憩\",\"K\",TRUE,\"-\"))","v":"-"},{"$f":"IF(E109=\"ZX-DECLDIV-IPコードレス電話機\",\"-\",_xlfn.IFS(キー割付!F637=\"昼夜休憩\",\"B\",キー割付!F637=\"－－－\",\"-\",キー割付!F637=\"昼－－\",\"H\",キー割付!F637=\"－夜－\",\"N\",キー割付!F637=\"－－休憩\",\"P\",キー割付!F637=\"昼夜－\",\"D\",キー割付!F637=\"昼－休憩\",\"F\",キー割付!F637=\"－夜休憩\",\"K\",TRUE,\"-\"))","v":"-"},{"$f":"IF(E109=\"ZX-DECLDIV-IPコードレス電話機\",\"-\",_xlfn.IFS(キー割付!G637=\"昼夜休憩\",\"B\",キー割付!G637=\"－－－\",\"-\",キー割付!G637=\"昼－－\",\"H\",キー割付!G637=\"－夜－\",\"N\",キー割付!G637=\"－－休憩\",\"P\",キー割付!G637=\"昼夜－\",\"D\",キー割付!G637=\"昼－休憩\",\"F\",キー割付!G637=\"－夜休憩\",\"K\",TRUE,\"-\"))","v":"-"},{"$f":"IF(E109=\"ZX-DECLDIV-IPコードレス電話機\",\"-\",_xlfn.IFS(キー割付!H637=\"昼夜休憩\",\"B\",キー割付!H637=\"－－－\",\"-\",キー割付!H637=\"昼－－\",\"H\",キー割付!H637=\"－夜－\",\"N\",キー割付!H637=\"－－休憩\",\"P\",キー割付!H637=\"昼夜－\",\"D\",キー割付!H637=\"昼－休憩\",\"F\",キー割付!H637=\"－夜休憩\",\"K\",TRUE,\"-\"))","v":"-"},{"$f":"IF(E109=\"ZX-DECLDIV-IPコードレス電話機\",\"-\",_xlfn.IFS(キー割付!I637=\"昼夜休憩\",\"B\",キー割付!I637=\"－－－\",\"-\",キー割付!I637=\"昼－－\",\"H\",キー割付!I637=\"－夜－\",\"N\",キー割付!I637=\"－－休憩\",\"P\",キー割付!I637=\"昼夜－\",\"D\",キー割付!I637=\"昼－休憩\",\"F\",キー割付!I637=\"－夜休憩\",\"K\",TRUE,\"-\"))","v":"-"},{"$f":"IF(E109=\"ZX-DECLDIV-IPコードレス電話機\",\"-\",_xlfn.IFS(キー割付!D645=\"昼夜休憩\",\"B\",キー割付!D645=\"－－－\",\"-\",キー割付!D645=\"昼－－\",\"H\",キー割付!D645=\"－夜－\",\"N\",キー割付!D645=\"－－休憩\",\"P\",キー割付!D645=\"昼夜－\",\"D\",キー割付!D645=\"昼－休憩\",\"F\",キー割付!D645=\"－夜休憩\",\"K\",TRUE,\"-\"))","v":"-"},{"$f":"IF(E109=\"ZX-DECLDIV-IPコードレス電話機\",\"-\",_xlfn.IFS(キー割付!E645=\"昼夜休憩\",\"B\",キー割付!E645=\"－－－\",\"-\",キー割付!E645=\"昼－－\",\"H\",キー割付!E645=\"－夜－\",\"N\",キー割付!E645=\"－－休憩\",\"P\",キー割付!E645=\"昼夜－\",\"D\",キー割付!E645=\"昼－休憩\",\"F\",キー割付!E645=\"－夜休憩\",\"K\",TRUE,\"-\"))","v":"-"},{"$f":"IF(E109=\"ZX-DECLDIV-IPコードレス電話機\",\"-\",_xlfn.IFS(キー割付!F645=\"昼夜休憩\",\"B\",キー割付!F645=\"－－－\",\"-\",キー割付!F645=\"昼－－\",\"H\",キー割付!F645=\"－夜－\",\"N\",キー割付!F645=\"－－休憩\",\"P\",キー割付!F645=\"昼夜－\",\"D\",キー割付!F645=\"昼－休憩\",\"F\",キー割付!F645=\"－夜休憩\",\"K\",TRUE,\"-\"))","v":"-"},{"$f":"IF(E109=\"ZX-DECLDIV-IPコードレス電話機\",\"-\",_xlfn.IFS(キー割付!G645=\"昼夜休憩\",\"B\",キー割付!G645=\"－－－\",\"-\",キー割付!G645=\"昼－－\",\"H\",キー割付!G645=\"－夜－\",\"N\",キー割付!G645=\"－－休憩\",\"P\",キー割付!G645=\"昼夜－\",\"D\",キー割付!G645=\"昼－休憩\",\"F\",キー割付!G645=\"－夜休憩\",\"K\",TRUE,\"-\"))","v":"-"},{"$f":"IF(E109=\"ZX-DECLDIV-IPコードレス電話機\",\"-\",_xlfn.IFS(キー割付!H645=\"昼夜休憩\",\"B\",キー割付!H645=\"－－－\",\"-\",キー割付!H645=\"昼－－\",\"H\",キー割付!H645=\"－夜－\",\"N\",キー割付!H645=\"－－休憩\",\"P\",キー割付!H645=\"昼夜－\",\"D\",キー割付!H645=\"昼－休憩\",\"F\",キー割付!H645=\"－夜休憩\",\"K\",TRUE,\"-\"))","v":"-"},{"$f":"IF(E109=\"ZX-DECLDIV-IPコードレス電話機\",\"-\",_xlfn.IFS(キー割付!I645=\"昼夜休憩\",\"B\",キー割付!I645=\"－－－\",\"-\",キー割付!I645=\"昼－－\",\"H\",キー割付!I645=\"－夜－\",\"N\",キー割付!I645=\"－－休憩\",\"P\",キー割付!I645=\"昼夜－\",\"D\",キー割付!I645=\"昼－休憩\",\"F\",キー割付!I645=\"－夜休憩\",\"K\",TRUE,\"-\"))","v":"-"}]
[null,36,{"$f":"IF(IFERROR(VALUE(VLOOKUP(B112,内線_キー割用,2,FALSE)),\"\")=0,\"\",IFERROR(VALUE(VLOOKUP(B112,内線_キー割用,2,FALSE)),\"\"))","v":""},{"$f":"IF(IFERROR(VALUE(VLOOKUP(B112,内線_キー割用,4,FALSE)),\"\")=0,\"\",IFERROR(VALUE(VLOOKUP(B112,内線_キー割用,4,FALSE)),\"\"))","v":""},{"$f":"IF(IFERROR(VLOOKUP(B112,内線_キー割用,3,FALSE),\"\")=0,\"\",IFERROR(VLOOKUP(B112,内線_キー割用,3,FALSE),\"\"))","v":""},{"$f":"IF(キー割付!N619=\"\",\"未使用\",キー割付!N619)","v":"未使用"},{"$f":"IF(キー割付!O619=\"\",\"未使用\",キー割付!O619)","v":"未使用"},{"$f":"IF(キー割付!P619=\"\",\"未使用\",キー割付!P619)","v":"未使用"},{"$f":"IF(キー割付!Q619=\"\",\"未使用\",キー割付!Q619)","v":"未使用"},{"$f":"IF(キー割付!R619=\"\",\"未使用\",キー割付!R619)","v":"未使用"},{"$f":"IF(キー割付!S619=\"\",\"未使用\",キー割付!S619)","v":"未使用"},{"$f":"IF(キー割付!N627=\"\",\"未使用\",キー割付!N627)","v":"未使用"},{"$f":"IF(キー割付!O627=\"\",\"未使用\",キー割付!O627)","v":"未使用"},{"$f":"IF(E112=\"ZX-DECLDIV-IPコードレス電話機\",\"未使用\",IF(キー割付!P627=\"\",\"未使用\",キー割付!P627))","v":"未使用"},{"$f":"IF(E112=\"ZX-DECLDIV-IPコードレス電話機\",\"未使用\",IF(キー割付!Q627=\"\",\"未使用\",キー割付!Q627))","v":"未使用"},{"$f":"IF(E112=\"ZX-DECLDIV-IPコードレス電話機\",\"未使用\",IF(キー割付!R627=\"\",\"未使用\",キー割付!R627))","v":"未使用"},{"$f":"IF(E112=\"ZX-DECLDIV-IPコードレス電話機\",\"未使用\",IF(キー割付!S627=\"\",\"未使用\",キー割付!S627))","v":"未使用"},{"$f":"IF(E112=\"ZX-DECLDIV-IPコードレス電話機\",\"未使用\",IF(キー割付!N635=\"\",\"未使用\",キー割付!N635))","v":"未使用"},{"$f":"IF(E112=\"ZX-DECLDIV-IPコードレス電話機\",\"未使用\",IF(キー割付!O635=\"\",\"未使用\",キー割付!O635))","v":"未使用"},{"$f":"IF(E112=\"ZX-DECLDIV-IPコードレス電話機\",\"未使用\",IF(キー割付!P635=\"\",\"未使用\",キー割付!P635))","v":"未使用"},{"$f":"IF(E112=\"ZX-DECLDIV-IPコードレス電話機\",\"未使用\",IF(キー割付!Q635=\"\",\"未使用\",キー割付!Q635))","v":"未使用"},{"$f":"IF(E112=\"ZX-DECLDIV-IPコードレス電話機\",\"未使用\",IF(キー割付!R635=\"\",\"未使用\",キー割付!R635))","v":"未使用"},{"$f":"IF(E112=\"ZX-DECLDIV-IPコードレス電話機\",\"未使用\",IF(キー割付!S635=\"\",\"未使用\",キー割付!S635))","v":"未使用"},{"$f":"IF(E112=\"ZX-DECLDIV-IPコードレス電話機\",\"未使用\",IF(キー割付!N643=\"\",\"未使用\",キー割付!N643))","v":"未使用"},{"$f":"IF(E112=\"ZX-DECLDIV-IPコードレス電話機\",\"未使用\",IF(キー割付!O643=\"\",\"未使用\",キー割付!O643))","v":"未使用"},{"$f":"IF(E112=\"ZX-DECLDIV-IPコードレス電話機\",\"未使用\",IF(キー割付!P643=\"\",\"未使用\",キー割付!P643))","v":"未使用"},{"$f":"IF(E112=\"ZX-DECLDIV-IPコードレス電話機\",\"未使用\",IF(キー割付!Q643=\"\",\"未使用\",キー割付!Q643))","v":"未使用"},{"$f":"IF(E112=\"ZX-DECLDIV-IPコードレス電話機\",\"未使用\",IF(キー割付!R643=\"\",\"未使用\",キー割付!R643))","v":"未使用"},{"$f":"IF(E112=\"ZX-DECLDIV-IPコードレス電話機\",\"未使用\",IF(キー割付!S643=\"\",\"未使用\",キー割付!S643))","v":"未使用"}]
[null,null,null,null,null,{"$f":"_xlfn.IFS(キー割付!N620=\"着信音なし\",\"トーン1\",キー割付!N620=\"トーン1\",\"トーン1\",キー割付!N620=\"トーン2\",\"トーン2\",キー割付!N620=\"トーン3\",\"トーン3\",キー割付!N620=\"トーン4\",\"トーン4\",キー割付!N620=\"トーン5\",\"トーン5\",キー割付!N620=\"トーン6\",\"トーン6\",キー割付!N620=\"トーン7\",\"トーン7\",キー割付!N620=\"トーン7\",\"トーン7\",キー割付!N620=\"無鳴動着信\",\"トーン8\",キー割付!N620=\"グリーンスリーブス\",\"メロディ1\",キー割付!N620=\"峠の我が家\",\"メロディ2\",キー割付!N620=\"カノン\",\"メロディ3\",キー割付!N620=\"春の歌\",\"メロディ4\",キー割付!N620=\"主よ人の望みの喜びよ\",\"メロディ5\",キー割付!N620=\"メヌエット\",\"メロディ6\",キー割付!N620=\"華麗なる大円舞曲\",\"メロディ7\",キー割付!N620=\"ハンガリア舞曲第5番\",\"メロディ8\",TRUE,\"トーン1\")","v":"トーン1"},{"$f":"_xlfn.IFS(キー割付!O620=\"着信音なし\",\"トーン1\",キー割付!O620=\"トーン1\",\"トーン1\",キー割付!O620=\"トーン2\",\"トーン2\",キー割付!O620=\"トーン3\",\"トーン3\",キー割付!O620=\"トーン4\",\"トーン4\",キー割付!O620=\"トーン5\",\"トーン5\",キー割付!O620=\"トーン6\",\"トーン6\",キー割付!O620=\"トーン7\",\"トーン7\",キー割付!O620=\"トーン7\",\"トーン7\",キー割付!O620=\"無鳴動着信\",\"トーン8\",キー割付!O620=\"グリーンスリーブス\",\"メロディ1\",キー割付!O620=\"峠の我が家\",\"メロディ2\",キー割付!O620=\"カノン\",\"メロディ3\",キー割付!O620=\"春の歌\",\"メロディ4\",キー割付!O620=\"主よ人の望みの喜びよ\",\"メロディ5\",キー割付!O620=\"メヌエット\",\"メロディ6\",キー割付!O620=\"華麗なる大円舞曲\",\"メロディ7\",キー割付!O620=\"ハンガリア舞曲第5番\",\"メロディ8\",TRUE,\"トーン1\")","v":"トーン1"},{"$f":"_xlfn.IFS(キー割付!P620=\"着信音なし\",\"トーン1\",キー割付!P620=\"トーン1\",\"トーン1\",キー割付!P620=\"トーン2\",\"トーン2\",キー割付!P620=\"トーン3\",\"トーン3\",キー割付!P620=\"トーン4\",\"トーン4\",キー割付!P620=\"トーン5\",\"トーン5\",キー割付!P620=\"トーン6\",\"トーン6\",キー割付!P620=\"トーン7\",\"トーン7\",キー割付!P620=\"トーン7\",\"トーン7\",キー割付!P620=\"無鳴動着信\",\"トーン8\",キー割付!P620=\"グリーンスリーブス\",\"メロディ1\",キー割付!P620=\"峠の我が家\",\"メロディ2\",キー割付!P620=\"カノン\",\"メロディ3\",キー割付!P620=\"春の歌\",\"メロディ4\",キー割付!P620=\"主よ人の望みの喜びよ\",\"メロディ5\",キー割付!P620=\"メヌエット\",\"メロディ6\",キー割付!P620=\"華麗なる大円舞曲\",\"メロディ7\",キー割付!P620=\"ハンガリア舞曲第5番\",\"メロディ8\",TRUE,\"トーン1\")","v":"トーン1"},{"$f":"_xlfn.IFS(キー割付!Q620=\"着信音なし\",\"トーン1\",キー割付!Q620=\"トーン1\",\"トーン1\",キー割付!Q620=\"トーン2\",\"トーン2\",キー割付!Q620=\"トーン3\",\"トーン3\",キー割付!Q620=\"トーン4\",\"トーン4\",キー割付!Q620=\"トーン5\",\"トーン5\",キー割付!Q620=\"トーン6\",\"トーン6\",キー割付!Q620=\"トーン7\",\"トーン7\",キー割付!Q620=\"トーン7\",\"トーン7\",キー割付!Q620=\"無鳴動着信\",\"トーン8\",キー割付!Q620=\"グリーンスリーブス\",\"メロディ1\",キー割付!Q620=\"峠の我が家\",\"メロディ2\",キー割付!Q620=\"カノン\",\"メロディ3\",キー割付!Q620=\"春の歌\",\"メロディ4\",キー割付!Q620=\"主よ人の望みの喜びよ\",\"メロディ5\",キー割付!Q620=\"メヌエット\",\"メロディ6\",キー割付!Q620=\"華麗なる大円舞曲\",\"メロディ7\",キー割付!Q620=\"ハンガリア舞曲第5番\",\"メロディ8\",TRUE,\"トーン1\")","v":"トーン1"},{"$f":"_xlfn.IFS(キー割付!R620=\"着信音なし\",\"トーン1\",キー割付!R620=\"トーン1\",\"トーン1\",キー割付!R620=\"トーン2\",\"トーン2\",キー割付!R620=\"トーン3\",\"トーン3\",キー割付!R620=\"トーン4\",\"トーン4\",キー割付!R620=\"トーン5\",\"トーン5\",キー割付!R620=\"トーン6\",\"トーン6\",キー割付!R620=\"トーン7\",\"トーン7\",キー割付!R620=\"トーン7\",\"トーン7\",キー割付!R620=\"無鳴動着信\",\"トーン8\",キー割付!R620=\"グリーンスリーブス\",\"メロディ1\",キー割付!R620=\"峠の我が家\",\"メロディ2\",キー割付!R620=\"カノン\",\"メロディ3\",キー割付!R620=\"春の歌\",\"メロディ4\",キー割付!R620=\"主よ人の望みの喜びよ\",\"メロディ5\",キー割付!R620=\"メヌエット\",\"メロディ6\",キー割付!R620=\"華麗なる大円舞曲\",\"メロディ7\",キー割付!R620=\"ハンガリア舞曲第5番\",\"メロディ8\",TRUE,\"トーン1\")","v":"トーン1"},{"$f":"_xlfn.IFS(キー割付!S620=\"着信音なし\",\"トーン1\",キー割付!S620=\"トーン1\",\"トーン1\",キー割付!S620=\"トーン2\",\"トーン2\",キー割付!S620=\"トーン3\",\"トーン3\",キー割付!S620=\"トーン4\",\"トーン4\",キー割付!S620=\"トーン5\",\"トーン5\",キー割付!S620=\"トーン6\",\"トーン6\",キー割付!S620=\"トーン7\",\"トーン7\",キー割付!S620=\"トーン7\",\"トーン7\",キー割付!S620=\"無鳴動着信\",\"トーン8\",キー割付!S620=\"グリーンスリーブス\",\"メロディ1\",キー割付!S620=\"峠の我が家\",\"メロディ2\",キー割付!S620=\"カノン\",\"メロディ3\",キー割付!S620=\"春の歌\",\"メロディ4\",キー割付!S620=\"主よ人の望みの喜びよ\",\"メロディ5\",キー割付!S620=\"メヌエット\",\"メロディ6\",キー割付!S620=\"華麗なる大円舞曲\",\"メロディ7\",キー割付!S620=\"ハンガリア舞曲第5番\",\"メロディ8\",TRUE,\"トーン1\")","v":"トーン1"},{"$f":"_xlfn.IFS(キー割付!N628=\"着信音なし\",\"トーン1\",キー割付!N628=\"トーン1\",\"トーン1\",キー割付!N628=\"トーン2\",\"トーン2\",キー割付!N628=\"トーン3\",\"トーン3\",キー割付!N628=\"トーン4\",\"トーン4\",キー割付!N628=\"トーン5\",\"トーン5\",キー割付!N628=\"トーン6\",\"トーン6\",キー割付!N628=\"トーン7\",\"トーン7\",キー割付!N628=\"トーン7\",\"トーン7\",キー割付!N628=\"無鳴動着信\",\"トーン8\",キー割付!N628=\"グリーンスリーブス\",\"メロディ1\",キー割付!N628=\"峠の我が家\",\"メロディ2\",キー割付!N628=\"カノン\",\"メロディ3\",キー割付!N628=\"春の歌\",\"メロディ4\",キー割付!N628=\"主よ人の望みの喜びよ\",\"メロディ5\",キー割付!N628=\"メヌエット\",\"メロディ6\",キー割付!N628=\"華麗なる大円舞曲\",\"メロディ7\",キー割付!N628=\"ハンガリア舞曲第5番\",\"メロディ8\",TRUE,\"トーン1\")","v":"トーン1"},{"$f":"_xlfn.IFS(キー割付!O628=\"着信音なし\",\"トーン1\",キー割付!O628=\"トーン1\",\"トーン1\",キー割付!O628=\"トーン2\",\"トーン2\",キー割付!O628=\"トーン3\",\"トーン3\",キー割付!O628=\"トーン4\",\"トーン4\",キー割付!O628=\"トーン5\",\"トーン5\",キー割付!O628=\"トーン6\",\"トーン6\",キー割付!O628=\"トーン7\",\"トーン7\",キー割付!O628=\"トーン7\",\"トーン7\",キー割付!O628=\"無鳴動着信\",\"トーン8\",キー割付!O628=\"グリーンスリーブス\",\"メロディ1\",キー割付!O628=\"峠の我が家\",\"メロディ2\",キー割付!O628=\"カノン\",\"メロディ3\",キー割付!O628=\"春の歌\",\"メロディ4\",キー割付!O628=\"主よ人の望みの喜びよ\",\"メロディ5\",キー割付!O628=\"メヌエット\",\"メロディ6\",キー割付!O628=\"華麗なる大円舞曲\",\"メロディ7\",キー割付!O628=\"ハンガリア舞曲第5番\",\"メロディ8\",TRUE,\"トーン1\")","v":"トーン1"},{"$f":"IF(E112=\"ZX-DECLDIV-IPコードレス電話機\",\"トーン1\",_xlfn.IFS(キー割付!P628=\"着信音なし\",\"トーン1\",キー割付!P628=\"トーン1\",\"トーン1\",キー割付!P628=\"トーン2\",\"トーン2\",キー割付!P628=\"トーン3\",\"トーン3\",キー割付!P628=\"トーン4\",\"トーン4\",キー割付!P628=\"トーン5\",\"トーン5\",キー割付!P628=\"トーン6\",\"トーン6\",キー割付!P628=\"トーン7\",\"トーン7\",キー割付!P628=\"トーン7\",\"トーン7\",キー割付!P628=\"無鳴動着信\",\"トーン8\",キー割付!P628=\"グリーンスリーブス\",\"メロディ1\",キー割付!P628=\"峠の我が家\",\"メロディ2\",キー割付!P628=\"カノン\",\"メロディ3\",キー割付!P628=\"春の歌\",\"メロディ4\",キー割付!P628=\"主よ人の望みの喜びよ\",\"メロディ5\",キー割付!P628=\"メヌエット\",\"メロディ6\",キー割付!P628=\"華麗なる大円舞曲\",\"メロディ7\",キー割付!P628=\"ハンガリア舞曲第5番\",\"メロディ8\",TRUE,\"トーン1\"))","v":"トーン1"},{"$f":"IF(E112=\"ZX-DECLDIV-IPコードレス電話機\",\"トーン1\",_xlfn.IFS(キー割付!Q628=\"着信音なし\",\"トーン1\",キー割付!Q628=\"トーン1\",\"トーン1\",キー割付!Q628=\"トーン2\",\"トーン2\",キー割付!Q628=\"トーン3\",\"トーン3\",キー割付!Q628=\"トーン4\",\"トーン4\",キー割付!Q628=\"トーン5\",\"トーン5\",キー割付!Q628=\"トーン6\",\"トーン6\",キー割付!Q628=\"トーン7\",\"トーン7\",キー割付!Q628=\"トーン7\",\"トーン7\",キー割付!Q628=\"無鳴動着信\",\"トーン8\",キー割付!Q628=\"グリーンスリーブス\",\"メロディ1\",キー割付!Q628=\"峠の我が家\",\"メロディ2\",キー割付!Q628=\"カノン\",\"メロディ3\",キー割付!Q628=\"春の歌\",\"メロディ4\",キー割付!Q628=\"主よ人の望みの喜びよ\",\"メロディ5\",キー割付!Q628=\"メヌエット\",\"メロディ6\",キー割付!Q628=\"華麗なる大円舞曲\",\"メロディ7\",キー割付!Q628=\"ハンガリア舞曲第5番\",\"メロディ8\",TRUE,\"トーン1\"))","v":"トーン1"},{"$f":"IF(E112=\"ZX-DECLDIV-IPコードレス電話機\",\"トーン1\",_xlfn.IFS(キー割付!R628=\"着信音なし\",\"トーン1\",キー割付!R628=\"トーン1\",\"トーン1\",キー割付!R628=\"トーン2\",\"トーン2\",キー割付!R628=\"トーン3\",\"トーン3\",キー割付!R628=\"トーン4\",\"トーン4\",キー割付!R628=\"トーン5\",\"トーン5\",キー割付!R628=\"トーン6\",\"トーン6\",キー割付!R628=\"トーン7\",\"トーン7\",キー割付!R628=\"トーン7\",\"トーン7\",キー割付!R628=\"無鳴動着信\",\"トーン8\",キー割付!R628=\"グリーンスリーブス\",\"メロディ1\",キー割付!R628=\"峠の我が家\",\"メロディ2\",キー割付!R628=\"カノン\",\"メロディ3\",キー割付!R628=\"春の歌\",\"メロディ4\",キー割付!R628=\"主よ人の望みの喜びよ\",\"メロディ5\",キー割付!R628=\"メヌエット\",\"メロディ6\",キー割付!R628=\"華麗なる大円舞曲\",\"メロディ7\",キー割付!R628=\"ハンガリア舞曲第5番\",\"メロディ8\",TRUE,\"トーン1\"))","v":"トーン1"},{"$f":"IF(E112=\"ZX-DECLDIV-IPコードレス電話機\",\"トーン1\",_xlfn.IFS(キー割付!S628=\"着信音なし\",\"トーン1\",キー割付!S628=\"トーン1\",\"トーン1\",キー割付!S628=\"トーン2\",\"トーン2\",キー割付!S628=\"トーン3\",\"トーン3\",キー割付!S628=\"トーン4\",\"トーン4\",キー割付!S628=\"トーン5\",\"トーン5\",キー割付!S628=\"トーン6\",\"トーン6\",キー割付!S628=\"トーン7\",\"トーン7\",キー割付!S628=\"トーン7\",\"トーン7\",キー割付!S628=\"無鳴動着信\",\"トーン8\",キー割付!S628=\"グリーンスリーブス\",\"メロディ1\",キー割付!S628=\"峠の我が家\",\"メロディ2\",キー割付!S628=\"カノン\",\"メロディ3\",キー割付!S628=\"春の歌\",\"メロディ4\",キー割付!S628=\"主よ人の望みの喜びよ\",\"メロディ5\",キー割付!S628=\"メヌエット\",\"メロディ6\",キー割付!S628=\"華麗なる大円舞曲\",\"メロディ7\",キー割付!S628=\"ハンガリア舞曲第5番\",\"メロディ8\",TRUE,\"トーン1\"))","v":"トーン1"},{"$f":"IF(E112=\"ZX-DECLDIV-IPコードレス電話機\",\"トーン1\",_xlfn.IFS(キー割付!N636=\"着信音なし\",\"トーン1\",キー割付!N636=\"トーン1\",\"トーン1\",キー割付!N636=\"トーン2\",\"トーン2\",キー割付!N636=\"トーン3\",\"トーン3\",キー割付!N636=\"トーン4\",\"トーン4\",キー割付!N636=\"トーン5\",\"トーン5\",キー割付!N636=\"トーン6\",\"トーン6\",キー割付!N636=\"トーン7\",\"トーン7\",キー割付!N636=\"トーン7\",\"トーン7\",キー割付!N636=\"無鳴動着信\",\"トーン8\",キー割付!N636=\"グリーンスリーブス\",\"メロディ1\",キー割付!N636=\"峠の我が家\",\"メロディ2\",キー割付!N636=\"カノン\",\"メロディ3\",キー割付!N636=\"春の歌\",\"メロディ4\",キー割付!N636=\"主よ人の望みの喜びよ\",\"メロディ5\",キー割付!N636=\"メヌエット\",\"メロディ6\",キー割付!N636=\"華麗なる大円舞曲\",\"メロディ7\",キー割付!N636=\"ハンガリア舞曲第5番\",\"メロディ8\",TRUE,\"トーン1\"))","v":"トーン1"},{"$f":"IF(E112=\"ZX-DECLDIV-IPコードレス電話機\",\"トーン1\",_xlfn.IFS(キー割付!O636=\"着信音なし\",\"トーン1\",キー割付!O636=\"トーン1\",\"トーン1\",キー割付!O636=\"トーン2\",\"トーン2\",キー割付!O636=\"トーン3\",\"トーン3\",キー割付!O636=\"トーン4\",\"トーン4\",キー割付!O636=\"トーン5\",\"トーン5\",キー割付!O636=\"トーン6\",\"トーン6\",キー割付!O636=\"トーン7\",\"トーン7\",キー割付!O636=\"トーン7\",\"トーン7\",キー割付!O636=\"無鳴動着信\",\"トーン8\",キー割付!O636=\"グリーンスリーブス\",\"メロディ1\",キー割付!O636=\"峠の我が家\",\"メロディ2\",キー割付!O636=\"カノン\",\"メロディ3\",キー割付!O636=\"春の歌\",\"メロディ4\",キー割付!O636=\"主よ人の望みの喜びよ\",\"メロディ5\",キー割付!O636=\"メヌエット\",\"メロディ6\",キー割付!O636=\"華麗なる大円舞曲\",\"メロディ7\",キー割付!O636=\"ハンガリア舞曲第5番\",\"メロディ8\",TRUE,\"トーン1\"))","v":"トーン1"},{"$f":"IF(E112=\"ZX-DECLDIV-IPコードレス電話機\",\"トーン1\",_xlfn.IFS(キー割付!P636=\"着信音なし\",\"トーン1\",キー割付!P636=\"トーン1\",\"トーン1\",キー割付!P636=\"トーン2\",\"トーン2\",キー割付!P636=\"トーン3\",\"トーン3\",キー割付!P636=\"トーン4\",\"トーン4\",キー割付!P636=\"トーン5\",\"トーン5\",キー割付!P636=\"トーン6\",\"トーン6\",キー割付!P636=\"トーン7\",\"トーン7\",キー割付!P636=\"トーン7\",\"トーン7\",キー割付!P636=\"無鳴動着信\",\"トーン8\",キー割付!P636=\"グリーンスリーブス\",\"メロディ1\",キー割付!P636=\"峠の我が家\",\"メロディ2\",キー割付!P636=\"カノン\",\"メロディ3\",キー割付!P636=\"春の歌\",\"メロディ4\",キー割付!P636=\"主よ人の望みの喜びよ\",\"メロディ5\",キー割付!P636=\"メヌエット\",\"メロディ6\",キー割付!P636=\"華麗なる大円舞曲\",\"メロディ7\",キー割付!P636=\"ハンガリア舞曲第5番\",\"メロディ8\",TRUE,\"トーン1\"))","v":"トーン1"},{"$f":"IF(E112=\"ZX-DECLDIV-IPコードレス電話機\",\"トーン1\",_xlfn.IFS(キー割付!Q636=\"着信音なし\",\"トーン1\",キー割付!Q636=\"トーン1\",\"トーン1\",キー割付!Q636=\"トーン2\",\"トーン2\",キー割付!Q636=\"トーン3\",\"トーン3\",キー割付!Q636=\"トーン4\",\"トーン4\",キー割付!Q636=\"トーン5\",\"トーン5\",キー割付!Q636=\"トーン6\",\"トーン6\",キー割付!Q636=\"トーン7\",\"トーン7\",キー割付!Q636=\"トーン7\",\"トーン7\",キー割付!Q636=\"無鳴動着信\",\"トーン8\",キー割付!Q636=\"グリーンスリーブス\",\"メロディ1\",キー割付!Q636=\"峠の我が家\",\"メロディ2\",キー割付!Q636=\"カノン\",\"メロディ3\",キー割付!Q636=\"春の歌\",\"メロディ4\",キー割付!Q636=\"主よ人の望みの喜びよ\",\"メロディ5\",キー割付!Q636=\"メヌエット\",\"メロディ6\",キー割付!Q636=\"華麗なる大円舞曲\",\"メロディ7\",キー割付!Q636=\"ハンガリア舞曲第5番\",\"メロディ8\",TRUE,\"トーン1\"))","v":"トーン1"},{"$f":"IF(E112=\"ZX-DECLDIV-IPコードレス電話機\",\"トーン1\",_xlfn.IFS(キー割付!R636=\"着信音なし\",\"トーン1\",キー割付!R636=\"トーン1\",\"トーン1\",キー割付!R636=\"トーン2\",\"トーン2\",キー割付!R636=\"トーン3\",\"トーン3\",キー割付!R636=\"トーン4\",\"トーン4\",キー割付!R636=\"トーン5\",\"トーン5\",キー割付!R636=\"トーン6\",\"トーン6\",キー割付!R636=\"トーン7\",\"トーン7\",キー割付!R636=\"トーン7\",\"トーン7\",キー割付!R636=\"無鳴動着信\",\"トーン8\",キー割付!R636=\"グリーンスリーブス\",\"メロディ1\",キー割付!R636=\"峠の我が家\",\"メロディ2\",キー割付!R636=\"カノン\",\"メロディ3\",キー割付!R636=\"春の歌\",\"メロディ4\",キー割付!R636=\"主よ人の望みの喜びよ\",\"メロディ5\",キー割付!R636=\"メヌエット\",\"メロディ6\",キー割付!R636=\"華麗なる大円舞曲\",\"メロディ7\",キー割付!R636=\"ハンガリア舞曲第5番\",\"メロディ8\",TRUE,\"トーン1\"))","v":"トーン1"},{"$f":"IF(E112=\"ZX-DECLDIV-IPコードレス電話機\",\"トーン1\",_xlfn.IFS(キー割付!S636=\"着信音なし\",\"トーン1\",キー割付!S636=\"トーン1\",\"トーン1\",キー割付!S636=\"トーン2\",\"トーン2\",キー割付!S636=\"トーン3\",\"トーン3\",キー割付!S636=\"トーン4\",\"トーン4\",キー割付!S636=\"トーン5\",\"トーン5\",キー割付!S636=\"トーン6\",\"トーン6\",キー割付!S636=\"トーン7\",\"トーン7\",キー割付!S636=\"トーン7\",\"トーン7\",キー割付!S636=\"無鳴動着信\",\"トーン8\",キー割付!S636=\"グリーンスリーブス\",\"メロディ1\",キー割付!S636=\"峠の我が家\",\"メロディ2\",キー割付!S636=\"カノン\",\"メロディ3\",キー割付!S636=\"春の歌\",\"メロディ4\",キー割付!S636=\"主よ人の望みの喜びよ\",\"メロディ5\",キー割付!S636=\"メヌエット\",\"メロディ6\",キー割付!S636=\"華麗なる大円舞曲\",\"メロディ7\",キー割付!S636=\"ハンガリア舞曲第5番\",\"メロディ8\",TRUE,\"トーン1\"))","v":"トーン1"},{"$f":"IF(E112=\"ZX-DECLDIV-IPコードレス電話機\",\"トーン1\",_xlfn.IFS(キー割付!N644=\"着信音なし\",\"トーン1\",キー割付!N644=\"トーン1\",\"トーン1\",キー割付!N644=\"トーン2\",\"トーン2\",キー割付!N644=\"トーン3\",\"トーン3\",キー割付!N644=\"トーン4\",\"トーン4\",キー割付!N644=\"トーン5\",\"トーン5\",キー割付!N644=\"トーン6\",\"トーン6\",キー割付!N644=\"トーン7\",\"トーン7\",キー割付!N644=\"トーン7\",\"トーン7\",キー割付!N644=\"無鳴動着信\",\"トーン8\",キー割付!N644=\"グリーンスリーブス\",\"メロディ1\",キー割付!N644=\"峠の我が家\",\"メロディ2\",キー割付!N644=\"カノン\",\"メロディ3\",キー割付!N644=\"春の歌\",\"メロディ4\",キー割付!N644=\"主よ人の望みの喜びよ\",\"メロディ5\",キー割付!N644=\"メヌエット\",\"メロディ6\",キー割付!N644=\"華麗なる大円舞曲\",\"メロディ7\",キー割付!N644=\"ハンガリア舞曲第5番\",\"メロディ8\",TRUE,\"トーン1\"))","v":"トーン1"},{"$f":"IF(E112=\"ZX-DECLDIV-IPコードレス電話機\",\"トーン1\",_xlfn.IFS(キー割付!O644=\"着信音なし\",\"トーン1\",キー割付!O644=\"トーン1\",\"トーン1\",キー割付!O644=\"トーン2\",\"トーン2\",キー割付!O644=\"トーン3\",\"トーン3\",キー割付!O644=\"トーン4\",\"トーン4\",キー割付!O644=\"トーン5\",\"トーン5\",キー割付!O644=\"トーン6\",\"トーン6\",キー割付!O644=\"トーン7\",\"トーン7\",キー割付!O644=\"トーン7\",\"トーン7\",キー割付!O644=\"無鳴動着信\",\"トーン8\",キー割付!O644=\"グリーンスリーブス\",\"メロディ1\",キー割付!O644=\"峠の我が家\",\"メロディ2\",キー割付!O644=\"カノン\",\"メロディ3\",キー割付!O644=\"春の歌\",\"メロディ4\",キー割付!O644=\"主よ人の望みの喜びよ\",\"メロディ5\",キー割付!O644=\"メヌエット\",\"メロディ6\",キー割付!O644=\"華麗なる大円舞曲\",\"メロディ7\",キー割付!O644=\"ハンガリア舞曲第5番\",\"メロディ8\",TRUE,\"トーン1\"))","v":"トーン1"},{"$f":"IF(E112=\"ZX-DECLDIV-IPコードレス電話機\",\"トーン1\",_xlfn.IFS(キー割付!P644=\"着信音なし\",\"トーン1\",キー割付!P644=\"トーン1\",\"トーン1\",キー割付!P644=\"トーン2\",\"トーン2\",キー割付!P644=\"トーン3\",\"トーン3\",キー割付!P644=\"トーン4\",\"トーン4\",キー割付!P644=\"トーン5\",\"トーン5\",キー割付!P644=\"トーン6\",\"トーン6\",キー割付!P644=\"トーン7\",\"トーン7\",キー割付!P644=\"トーン7\",\"トーン7\",キー割付!P644=\"無鳴動着信\",\"トーン8\",キー割付!P644=\"グリーンスリーブス\",\"メロディ1\",キー割付!P644=\"峠の我が家\",\"メロディ2\",キー割付!P644=\"カノン\",\"メロディ3\",キー割付!P644=\"春の歌\",\"メロディ4\",キー割付!P644=\"主よ人の望みの喜びよ\",\"メロディ5\",キー割付!P644=\"メヌエット\",\"メロディ6\",キー割付!P644=\"華麗なる大円舞曲\",\"メロディ7\",キー割付!P644=\"ハンガリア舞曲第5番\",\"メロディ8\",TRUE,\"トーン1\"))","v":"トーン1"},{"$f":"IF(E112=\"ZX-DECLDIV-IPコードレス電話機\",\"トーン1\",_xlfn.IFS(キー割付!Q644=\"着信音なし\",\"トーン1\",キー割付!Q644=\"トーン1\",\"トーン1\",キー割付!Q644=\"トーン2\",\"トーン2\",キー割付!Q644=\"トーン3\",\"トーン3\",キー割付!Q644=\"トーン4\",\"トーン4\",キー割付!Q644=\"トーン5\",\"トーン5\",キー割付!Q644=\"トーン6\",\"トーン6\",キー割付!Q644=\"トーン7\",\"トーン7\",キー割付!Q644=\"トーン7\",\"トーン7\",キー割付!Q644=\"無鳴動着信\",\"トーン8\",キー割付!Q644=\"グリーンスリーブス\",\"メロディ1\",キー割付!Q644=\"峠の我が家\",\"メロディ2\",キー割付!Q644=\"カノン\",\"メロディ3\",キー割付!Q644=\"春の歌\",\"メロディ4\",キー割付!Q644=\"主よ人の望みの喜びよ\",\"メロディ5\",キー割付!Q644=\"メヌエット\",\"メロディ6\",キー割付!Q644=\"華麗なる大円舞曲\",\"メロディ7\",キー割付!Q644=\"ハンガリア舞曲第5番\",\"メロディ8\",TRUE,\"トーン1\"))","v":"トーン1"},{"$f":"IF(E112=\"ZX-DECLDIV-IPコードレス電話機\",\"トーン1\",_xlfn.IFS(キー割付!R644=\"着信音なし\",\"トーン1\",キー割付!R644=\"トーン1\",\"トーン1\",キー割付!R644=\"トーン2\",\"トーン2\",キー割付!R644=\"トーン3\",\"トーン3\",キー割付!R644=\"トーン4\",\"トーン4\",キー割付!R644=\"トーン5\",\"トーン5\",キー割付!R644=\"トーン6\",\"トーン6\",キー割付!R644=\"トーン7\",\"トーン7\",キー割付!R644=\"トーン7\",\"トーン7\",キー割付!R644=\"無鳴動着信\",\"トーン8\",キー割付!R644=\"グリーンスリーブス\",\"メロディ1\",キー割付!R644=\"峠の我が家\",\"メロディ2\",キー割付!R644=\"カノン\",\"メロディ3\",キー割付!R644=\"春の歌\",\"メロディ4\",キー割付!R644=\"主よ人の望みの喜びよ\",\"メロディ5\",キー割付!R644=\"メヌエット\",\"メロディ6\",キー割付!R644=\"華麗なる大円舞曲\",\"メロディ7\",キー割付!R644=\"ハンガリア舞曲第5番\",\"メロディ8\",TRUE,\"トーン1\"))","v":"トーン1"},{"$f":"IF(E112=\"ZX-DECLDIV-IPコードレス電話機\",\"トーン1\",_xlfn.IFS(キー割付!S644=\"着信音なし\",\"トーン1\",キー割付!S644=\"トーン1\",\"トーン1\",キー割付!S644=\"トーン2\",\"トーン2\",キー割付!S644=\"トーン3\",\"トーン3\",キー割付!S644=\"トーン4\",\"トーン4\",キー割付!S644=\"トーン5\",\"トーン5\",キー割付!S644=\"トーン6\",\"トーン6\",キー割付!S644=\"トーン7\",\"トーン7\",キー割付!S644=\"トーン7\",\"トーン7\",キー割付!S644=\"無鳴動着信\",\"トーン8\",キー割付!S644=\"グリーンスリーブス\",\"メロディ1\",キー割付!S644=\"峠の我が家\",\"メロディ2\",キー割付!S644=\"カノン\",\"メロディ3\",キー割付!S644=\"春の歌\",\"メロディ4\",キー割付!S644=\"主よ人の望みの喜びよ\",\"メロディ5\",キー割付!S644=\"メヌエット\",\"メロディ6\",キー割付!S644=\"華麗なる大円舞曲\",\"メロディ7\",キー割付!S644=\"ハンガリア舞曲第5番\",\"メロディ8\",TRUE,\"トーン1\"))","v":"トーン1"}]
[null,null,null,null,null,{"$f":"_xlfn.IFS(キー割付!N621=\"昼夜休憩\",\"B\",キー割付!N621=\"－－－\",\"-\",キー割付!N621=\"昼－－\",\"H\",キー割付!N621=\"－夜－\",\"N\",キー割付!N621=\"－－休憩\",\"P\",キー割付!N621=\"昼夜－\",\"N\",キー割付!N621=\"昼－休憩\",\"F\",キー割付!N621=\"－夜休憩\",\"K\",TRUE,\"-\")","v":"-"},{"$f":"_xlfn.IFS(キー割付!O621=\"昼夜休憩\",\"B\",キー割付!O621=\"－－－\",\"-\",キー割付!O621=\"昼－－\",\"H\",キー割付!O621=\"－夜－\",\"N\",キー割付!O621=\"－－休憩\",\"P\",キー割付!O621=\"昼夜－\",\"N\",キー割付!O621=\"昼－休憩\",\"F\",キー割付!O621=\"－夜休憩\",\"K\",TRUE,\"-\")","v":"-"},{"$f":"_xlfn.IFS(キー割付!P621=\"昼夜休憩\",\"B\",キー割付!P621=\"－－－\",\"-\",キー割付!P621=\"昼－－\",\"H\",キー割付!P621=\"－夜－\",\"N\",キー割付!P621=\"－－休憩\",\"P\",キー割付!P621=\"昼夜－\",\"N\",キー割付!P621=\"昼－休憩\",\"F\",キー割付!P621=\"－夜休憩\",\"K\",TRUE,\"-\")","v":"-"},{"$f":"_xlfn.IFS(キー割付!Q621=\"昼夜休憩\",\"B\",キー割付!Q621=\"－－－\",\"-\",キー割付!Q621=\"昼－－\",\"H\",キー割付!Q621=\"－夜－\",\"N\",キー割付!Q621=\"－－休憩\",\"P\",キー割付!Q621=\"昼夜－\",\"N\",キー割付!Q621=\"昼－休憩\",\"F\",キー割付!Q621=\"－夜休憩\",\"K\",TRUE,\"-\")","v":"-"},{"$f":"_xlfn.IFS(キー割付!R621=\"昼夜休憩\",\"B\",キー割付!R621=\"－－－\",\"-\",キー割付!R621=\"昼－－\",\"H\",キー割付!R621=\"－夜－\",\"N\",キー割付!R621=\"－－休憩\",\"P\",キー割付!R621=\"昼夜－\",\"N\",キー割付!R621=\"昼－休憩\",\"F\",キー割付!R621=\"－夜休憩\",\"K\",TRUE,\"-\")","v":"-"},{"$f":"_xlfn.IFS(キー割付!S621=\"昼夜休憩\",\"B\",キー割付!S621=\"－－－\",\"-\",キー割付!S621=\"昼－－\",\"H\",キー割付!S621=\"－夜－\",\"N\",キー割付!S621=\"－－休憩\",\"P\",キー割付!S621=\"昼夜－\",\"N\",キー割付!S621=\"昼－休憩\",\"F\",キー割付!S621=\"－夜休憩\",\"K\",TRUE,\"-\")","v":"-"},{"$f":"_xlfn.IFS(キー割付!N629=\"昼夜休憩\",\"B\",キー割付!N629=\"－－－\",\"-\",キー割付!N629=\"昼－－\",\"H\",キー割付!N629=\"－夜－\",\"N\",キー割付!N629=\"－－休憩\",\"P\",キー割付!N629=\"昼夜－\",\"N\",キー割付!N629=\"昼－休憩\",\"F\",キー割付!N629=\"－夜休憩\",\"K\",TRUE,\"-\")","v":"-"},{"$f":"_xlfn.IFS(キー割付!O629=\"昼夜休憩\",\"B\",キー割付!O629=\"－－－\",\"-\",キー割付!O629=\"昼－－\",\"H\",キー割付!O629=\"－夜－\",\"N\",キー割付!O629=\"－－休憩\",\"P\",キー割付!O629=\"昼夜－\",\"N\",キー割付!O629=\"昼－休憩\",\"F\",キー割付!O629=\"－夜休憩\",\"K\",TRUE,\"-\")","v":"-"},{"$f":"IF(E112=\"ZX-DECLDIV-IPコードレス電話機\",\"-\",_xlfn.IFS(キー割付!P629=\"昼夜休憩\",\"B\",キー割付!P629=\"－－－\",\"-\",キー割付!P629=\"昼－－\",\"H\",キー割付!P629=\"－夜－\",\"N\",キー割付!P629=\"－－休憩\",\"P\",キー割付!P629=\"昼夜－\",\"N\",キー割付!P629=\"昼－休憩\",\"F\",キー割付!P629=\"－夜休憩\",\"K\",TRUE,\"-\"))","v":"-"},{"$f":"IF(E112=\"ZX-DECLDIV-IPコードレス電話機\",\"-\",_xlfn.IFS(キー割付!Q629=\"昼夜休憩\",\"B\",キー割付!Q629=\"－－－\",\"-\",キー割付!Q629=\"昼－－\",\"H\",キー割付!Q629=\"－夜－\",\"N\",キー割付!Q629=\"－－休憩\",\"P\",キー割付!Q629=\"昼夜－\",\"N\",キー割付!Q629=\"昼－休憩\",\"F\",キー割付!Q629=\"－夜休憩\",\"K\",TRUE,\"-\"))","v":"-"},{"$f":"IF(E112=\"ZX-DECLDIV-IPコードレス電話機\",\"-\",_xlfn.IFS(キー割付!R629=\"昼夜休憩\",\"B\",キー割付!R629=\"－－－\",\"-\",キー割付!R629=\"昼－－\",\"H\",キー割付!R629=\"－夜－\",\"N\",キー割付!R629=\"－－休憩\",\"P\",キー割付!R629=\"昼夜－\",\"N\",キー割付!R629=\"昼－休憩\",\"F\",キー割付!R629=\"－夜休憩\",\"K\",TRUE,\"-\"))","v":"-"},{"$f":"IF(E112=\"ZX-DECLDIV-IPコードレス電話機\",\"-\",_xlfn.IFS(キー割付!S629=\"昼夜休憩\",\"B\",キー割付!S629=\"－－－\",\"-\",キー割付!S629=\"昼－－\",\"H\",キー割付!S629=\"－夜－\",\"N\",キー割付!S629=\"－－休憩\",\"P\",キー割付!S629=\"昼夜－\",\"N\",キー割付!S629=\"昼－休憩\",\"F\",キー割付!S629=\"－夜休憩\",\"K\",TRUE,\"-\"))","v":"-"},{"$f":"IF(E112=\"ZX-DECLDIV-IPコードレス電話機\",\"-\",_xlfn.IFS(キー割付!N637=\"昼夜休憩\",\"B\",キー割付!N637=\"－－－\",\"-\",キー割付!N637=\"昼－－\",\"H\",キー割付!N637=\"－夜－\",\"N\",キー割付!N637=\"－－休憩\",\"P\",キー割付!N637=\"昼夜－\",\"N\",キー割付!N637=\"昼－休憩\",\"F\",キー割付!N637=\"－夜休憩\",\"K\",TRUE,\"-\"))","v":"-"},{"$f":"IF(E112=\"ZX-DECLDIV-IPコードレス電話機\",\"-\",_xlfn.IFS(キー割付!O637=\"昼夜休憩\",\"B\",キー割付!O637=\"－－－\",\"-\",キー割付!O637=\"昼－－\",\"H\",キー割付!O637=\"－夜－\",\"N\",キー割付!O637=\"－－休憩\",\"P\",キー割付!O637=\"昼夜－\",\"N\",キー割付!O637=\"昼－休憩\",\"F\",キー割付!O637=\"－夜休憩\",\"K\",TRUE,\"-\"))","v":"-"},{"$f":"IF(E112=\"ZX-DECLDIV-IPコードレス電話機\",\"-\",_xlfn.IFS(キー割付!P637=\"昼夜休憩\",\"B\",キー割付!P637=\"－－－\",\"-\",キー割付!P637=\"昼－－\",\"H\",キー割付!P637=\"－夜－\",\"N\",キー割付!P637=\"－－休憩\",\"P\",キー割付!P637=\"昼夜－\",\"N\",キー割付!P637=\"昼－休憩\",\"F\",キー割付!P637=\"－夜休憩\",\"K\",TRUE,\"-\"))","v":"-"},{"$f":"IF(E112=\"ZX-DECLDIV-IPコードレス電話機\",\"-\",_xlfn.IFS(キー割付!Q637=\"昼夜休憩\",\"B\",キー割付!Q637=\"－－－\",\"-\",キー割付!Q637=\"昼－－\",\"H\",キー割付!Q637=\"－夜－\",\"N\",キー割付!Q637=\"－－休憩\",\"P\",キー割付!Q637=\"昼夜－\",\"N\",キー割付!Q637=\"昼－休憩\",\"F\",キー割付!Q637=\"－夜休憩\",\"K\",TRUE,\"-\"))","v":"-"},{"$f":"IF(E112=\"ZX-DECLDIV-IPコードレス電話機\",\"-\",_xlfn.IFS(キー割付!R637=\"昼夜休憩\",\"B\",キー割付!R637=\"－－－\",\"-\",キー割付!R637=\"昼－－\",\"H\",キー割付!R637=\"－夜－\",\"N\",キー割付!R637=\"－－休憩\",\"P\",キー割付!R637=\"昼夜－\",\"N\",キー割付!R637=\"昼－休憩\",\"F\",キー割付!R637=\"－夜休憩\",\"K\",TRUE,\"-\"))","v":"-"},{"$f":"IF(E112=\"ZX-DECLDIV-IPコードレス電話機\",\"-\",_xlfn.IFS(キー割付!S637=\"昼夜休憩\",\"B\",キー割付!S637=\"－－－\",\"-\",キー割付!S637=\"昼－－\",\"H\",キー割付!S637=\"－夜－\",\"N\",キー割付!S637=\"－－休憩\",\"P\",キー割付!S637=\"昼夜－\",\"N\",キー割付!S637=\"昼－休憩\",\"F\",キー割付!S637=\"－夜休憩\",\"K\",TRUE,\"-\"))","v":"-"},{"$f":"IF(E112=\"ZX-DECLDIV-IPコードレス電話機\",\"-\",_xlfn.IFS(キー割付!N645=\"昼夜休憩\",\"B\",キー割付!N645=\"－－－\",\"-\",キー割付!N645=\"昼－－\",\"H\",キー割付!N645=\"－夜－\",\"N\",キー割付!N645=\"－－休憩\",\"P\",キー割付!N645=\"昼夜－\",\"N\",キー割付!N645=\"昼－休憩\",\"F\",キー割付!N645=\"－夜休憩\",\"K\",TRUE,\"-\"))","v":"-"},{"$f":"IF(E112=\"ZX-DECLDIV-IPコードレス電話機\",\"-\",_xlfn.IFS(キー割付!O645=\"昼夜休憩\",\"B\",キー割付!O645=\"－－－\",\"-\",キー割付!O645=\"昼－－\",\"H\",キー割付!O645=\"－夜－\",\"N\",キー割付!O645=\"－－休憩\",\"P\",キー割付!O645=\"昼夜－\",\"N\",キー割付!O645=\"昼－休憩\",\"F\",キー割付!O645=\"－夜休憩\",\"K\",TRUE,\"-\"))","v":"-"},{"$f":"IF(E112=\"ZX-DECLDIV-IPコードレス電話機\",\"-\",_xlfn.IFS(キー割付!P645=\"昼夜休憩\",\"B\",キー割付!P645=\"－－－\",\"-\",キー割付!P645=\"昼－－\",\"H\",キー割付!P645=\"－夜－\",\"N\",キー割付!P645=\"－－休憩\",\"P\",キー割付!P645=\"昼夜－\",\"N\",キー割付!P645=\"昼－休憩\",\"F\",キー割付!P645=\"－夜休憩\",\"K\",TRUE,\"-\"))","v":"-"},{"$f":"IF(E112=\"ZX-DECLDIV-IPコードレス電話機\",\"-\",_xlfn.IFS(キー割付!Q645=\"昼夜休憩\",\"B\",キー割付!Q645=\"－－－\",\"-\",キー割付!Q645=\"昼－－\",\"H\",キー割付!Q645=\"－夜－\",\"N\",キー割付!Q645=\"－－休憩\",\"P\",キー割付!Q645=\"昼夜－\",\"N\",キー割付!Q645=\"昼－休憩\",\"F\",キー割付!Q645=\"－夜休憩\",\"K\",TRUE,\"-\"))","v":"-"},{"$f":"IF(E112=\"ZX-DECLDIV-IPコードレス電話機\",\"-\",_xlfn.IFS(キー割付!R645=\"昼夜休憩\",\"B\",キー割付!R645=\"－－－\",\"-\",キー割付!R645=\"昼－－\",\"H\",キー割付!R645=\"－夜－\",\"N\",キー割付!R645=\"－－休憩\",\"P\",キー割付!R645=\"昼夜－\",\"N\",キー割付!R645=\"昼－休憩\",\"F\",キー割付!R645=\"－夜休憩\",\"K\",TRUE,\"-\"))","v":"-"},{"$f":"IF(E112=\"ZX-DECLDIV-IPコードレス電話機\",\"-\",_xlfn.IFS(キー割付!S645=\"昼夜休憩\",\"B\",キー割付!S645=\"－－－\",\"-\",キー割付!S645=\"昼－－\",\"H\",キー割付!S645=\"－夜－\",\"N\",キー割付!S645=\"－－休憩\",\"P\",キー割付!S645=\"昼夜－\",\"N\",キー割付!S645=\"昼－休憩\",\"F\",キー割付!S645=\"－夜休憩\",\"K\",TRUE,\"-\"))","v":"-"}]
[null,37,{"$f":"IF(IFERROR(VALUE(VLOOKUP(B115,内線_キー割用,2,FALSE)),\"\")=0,\"\",IFERROR(VALUE(VLOOKUP(B115,内線_キー割用,2,FALSE)),\"\"))","v":""},{"$f":"IF(IFERROR(VALUE(VLOOKUP(B115,内線_キー割用,4,FALSE)),\"\")=0,\"\",IFERROR(VALUE(VLOOKUP(B115,内線_キー割用,4,FALSE)),\"\"))","v":""},{"$f":"IF(IFERROR(VLOOKUP(B115,内線_キー割用,3,FALSE),\"\")=0,\"\",IFERROR(VLOOKUP(B115,内線_キー割用,3,FALSE),\"\"))","v":""},{"$f":"IF(キー割付!D655=\"\",\"未使用\",キー割付!D655)","v":"未使用"},{"$f":"IF(キー割付!E655=\"\",\"未使用\",キー割付!E655)","v":"未使用"},{"$f":"IF(キー割付!F655=\"\",\"未使用\",キー割付!F655)","v":"未使用"},{"$f":"IF(キー割付!G655=\"\",\"未使用\",キー割付!G655)","v":"未使用"},{"$f":"IF(キー割付!H655=\"\",\"未使用\",キー割付!H655)","v":"未使用"},{"$f":"IF(キー割付!I655=\"\",\"未使用\",キー割付!I655)","v":"未使用"},{"$f":"IF(キー割付!D663=\"\",\"未使用\",キー割付!D663)","v":"未使用"},{"$f":"IF(キー割付!E663=\"\",\"未使用\",キー割付!E663)","v":"未使用"},{"$f":"IF(E115=\"ZX-DECLDIV-IPコードレス電話機\",\"未使用\",IF(キー割付!F663=\"\",\"未使用\",キー割付!F663))","v":"未使用"},{"$f":"IF(E115=\"ZX-DECLDIV-IPコードレス電話機\",\"未使用\",IF(キー割付!G663=\"\",\"未使用\",キー割付!G663))","v":"未使用"},{"$f":"IF(E115=\"ZX-DECLDIV-IPコードレス電話機\",\"未使用\",IF(キー割付!H663=\"\",\"未使用\",キー割付!H663))","v":"未使用"},{"$f":"IF(E115=\"ZX-DECLDIV-IPコードレス電話機\",\"未使用\",IF(キー割付!I663=\"\",\"未使用\",キー割付!I663))","v":"未使用"},{"$f":"IF(E115=\"ZX-DECLDIV-IPコードレス電話機\",\"未使用\",IF(キー割付!D671=\"\",\"未使用\",キー割付!D671))","v":"未使用"},{"$f":"IF(E115=\"ZX-DECLDIV-IPコードレス電話機\",\"未使用\",IF(キー割付!E671=\"\",\"未使用\",キー割付!E671))","v":"未使用"},{"$f":"IF(E115=\"ZX-DECLDIV-IPコードレス電話機\",\"未使用\",IF(キー割付!F671=\"\",\"未使用\",キー割付!F671))","v":"未使用"},{"$f":"IF(E115=\"ZX-DECLDIV-IPコードレス電話機\",\"未使用\",IF(キー割付!G671=\"\",\"未使用\",キー割付!G671))","v":"未使用"},{"$f":"IF(E115=\"ZX-DECLDIV-IPコードレス電話機\",\"未使用\",IF(キー割付!H671=\"\",\"未使用\",キー割付!H671))","v":"未使用"},{"$f":"IF(E115=\"ZX-DECLDIV-IPコードレス電話機\",\"未使用\",IF(キー割付!I671=\"\",\"未使用\",キー割付!I671))","v":"未使用"},{"$f":"IF(E115=\"ZX-DECLDIV-IPコードレス電話機\",\"未使用\",IF(キー割付!D679=\"\",\"未使用\",キー割付!D679))","v":"未使用"},{"$f":"IF(E115=\"ZX-DECLDIV-IPコードレス電話機\",\"未使用\",IF(キー割付!E679=\"\",\"未使用\",キー割付!E679))","v":"未使用"},{"$f":"IF(E115=\"ZX-DECLDIV-IPコードレス電話機\",\"未使用\",IF(キー割付!F679=\"\",\"未使用\",キー割付!F679))","v":"未使用"},{"$f":"IF(E115=\"ZX-DECLDIV-IPコードレス電話機\",\"未使用\",IF(キー割付!G679=\"\",\"未使用\",キー割付!G679))","v":"未使用"},{"$f":"IF(E115=\"ZX-DECLDIV-IPコードレス電話機\",\"未使用\",IF(キー割付!H679=\"\",\"未使用\",キー割付!H679))","v":"未使用"},{"$f":"IF(E115=\"ZX-DECLDIV-IPコードレス電話機\",\"未使用\",IF(キー割付!I679=\"\",\"未使用\",キー割付!I679))","v":"未使用"}]
[null,null,null,null,null,{"$f":"_xlfn.IFS(キー割付!D656=\"着信音なし\",\"トーン1\",キー割付!D656=\"トーン1\",\"トーン1\",キー割付!D656=\"トーン2\",\"トーン2\",キー割付!D656=\"トーン3\",\"トーン3\",キー割付!D656=\"トーン4\",\"トーン4\",キー割付!D656=\"トーン5\",\"トーン5\",キー割付!D656=\"トーン6\",\"トーン6\",キー割付!D656=\"トーン7\",\"トーン7\",キー割付!D656=\"トーン7\",\"トーン7\",キー割付!D656=\"無鳴動着信\",\"トーン8\",キー割付!D656=\"グリーンスリーブス\",\"メロディ1\",キー割付!D656=\"峠の我が家\",\"メロディ2\",キー割付!D656=\"カノン\",\"メロディ3\",キー割付!D656=\"春の歌\",\"メロディ4\",キー割付!D656=\"主よ人の望みの喜びよ\",\"メロディ5\",キー割付!D656=\"メヌエット\",\"メロディ6\",キー割付!D656=\"華麗なる大円舞曲\",\"メロディ7\",キー割付!D656=\"ハンガリア舞曲第5番\",\"メロディ8\",TRUE,\"トーン1\")","v":"トーン1"},{"$f":"_xlfn.IFS(キー割付!E656=\"着信音なし\",\"トーン1\",キー割付!E656=\"トーン1\",\"トーン1\",キー割付!E656=\"トーン2\",\"トーン2\",キー割付!E656=\"トーン3\",\"トーン3\",キー割付!E656=\"トーン4\",\"トーン4\",キー割付!E656=\"トーン5\",\"トーン5\",キー割付!E656=\"トーン6\",\"トーン6\",キー割付!E656=\"トーン7\",\"トーン7\",キー割付!E656=\"トーン7\",\"トーン7\",キー割付!E656=\"無鳴動着信\",\"トーン8\",キー割付!E656=\"グリーンスリーブス\",\"メロディ1\",キー割付!E656=\"峠の我が家\",\"メロディ2\",キー割付!E656=\"カノン\",\"メロディ3\",キー割付!E656=\"春の歌\",\"メロディ4\",キー割付!E656=\"主よ人の望みの喜びよ\",\"メロディ5\",キー割付!E656=\"メヌエット\",\"メロディ6\",キー割付!E656=\"華麗なる大円舞曲\",\"メロディ7\",キー割付!E656=\"ハンガリア舞曲第5番\",\"メロディ8\",TRUE,\"トーン1\")","v":"トーン1"},{"$f":"_xlfn.IFS(キー割付!F656=\"着信音なし\",\"トーン1\",キー割付!F656=\"トーン1\",\"トーン1\",キー割付!F656=\"トーン2\",\"トーン2\",キー割付!F656=\"トーン3\",\"トーン3\",キー割付!F656=\"トーン4\",\"トーン4\",キー割付!F656=\"トーン5\",\"トーン5\",キー割付!F656=\"トーン6\",\"トーン6\",キー割付!F656=\"トーン7\",\"トーン7\",キー割付!F656=\"トーン7\",\"トーン7\",キー割付!F656=\"無鳴動着信\",\"トーン8\",キー割付!F656=\"グリーンスリーブス\",\"メロディ1\",キー割付!F656=\"峠の我が家\",\"メロディ2\",キー割付!F656=\"カノン\",\"メロディ3\",キー割付!F656=\"春の歌\",\"メロディ4\",キー割付!F656=\"主よ人の望みの喜びよ\",\"メロディ5\",キー割付!F656=\"メヌエット\",\"メロディ6\",キー割付!F656=\"華麗なる大円舞曲\",\"メロディ7\",キー割付!F656=\"ハンガリア舞曲第5番\",\"メロディ8\",TRUE,\"トーン1\")","v":"トーン1"},{"$f":"_xlfn.IFS(キー割付!G656=\"着信音なし\",\"トーン1\",キー割付!G656=\"トーン1\",\"トーン1\",キー割付!G656=\"トーン2\",\"トーン2\",キー割付!G656=\"トーン3\",\"トーン3\",キー割付!G656=\"トーン4\",\"トーン4\",キー割付!G656=\"トーン5\",\"トーン5\",キー割付!G656=\"トーン6\",\"トーン6\",キー割付!G656=\"トーン7\",\"トーン7\",キー割付!G656=\"トーン7\",\"トーン7\",キー割付!G656=\"無鳴動着信\",\"トーン8\",キー割付!G656=\"グリーンスリーブス\",\"メロディ1\",キー割付!G656=\"峠の我が家\",\"メロディ2\",キー割付!G656=\"カノン\",\"メロディ3\",キー割付!G656=\"春の歌\",\"メロディ4\",キー割付!G656=\"主よ人の望みの喜びよ\",\"メロディ5\",キー割付!G656=\"メヌエット\",\"メロディ6\",キー割付!G656=\"華麗なる大円舞曲\",\"メロディ7\",キー割付!G656=\"ハンガリア舞曲第5番\",\"メロディ8\",TRUE,\"トーン1\")","v":"トーン1"},{"$f":"_xlfn.IFS(キー割付!H656=\"着信音なし\",\"トーン1\",キー割付!H656=\"トーン1\",\"トーン1\",キー割付!H656=\"トーン2\",\"トーン2\",キー割付!H656=\"トーン3\",\"トーン3\",キー割付!H656=\"トーン4\",\"トーン4\",キー割付!H656=\"トーン5\",\"トーン5\",キー割付!H656=\"トーン6\",\"トーン6\",キー割付!H656=\"トーン7\",\"トーン7\",キー割付!H656=\"トーン7\",\"トーン7\",キー割付!H656=\"無鳴動着信\",\"トーン8\",キー割付!H656=\"グリーンスリーブス\",\"メロディ1\",キー割付!H656=\"峠の我が家\",\"メロディ2\",キー割付!H656=\"カノン\",\"メロディ3\",キー割付!H656=\"春の歌\",\"メロディ4\",キー割付!H656=\"主よ人の望みの喜びよ\",\"メロディ5\",キー割付!H656=\"メヌエット\",\"メロディ6\",キー割付!H656=\"華麗なる大円舞曲\",\"メロディ7\",キー割付!H656=\"ハンガリア舞曲第5番\",\"メロディ8\",TRUE,\"トーン1\")","v":"トーン1"},{"$f":"_xlfn.IFS(キー割付!I656=\"着信音なし\",\"トーン1\",キー割付!I656=\"トーン1\",\"トーン1\",キー割付!I656=\"トーン2\",\"トーン2\",キー割付!I656=\"トーン3\",\"トーン3\",キー割付!I656=\"トーン4\",\"トーン4\",キー割付!I656=\"トーン5\",\"トーン5\",キー割付!I656=\"トーン6\",\"トーン6\",キー割付!I656=\"トーン7\",\"トーン7\",キー割付!I656=\"トーン7\",\"トーン7\",キー割付!I656=\"無鳴動着信\",\"トーン8\",キー割付!I656=\"グリーンスリーブス\",\"メロディ1\",キー割付!I656=\"峠の我が家\",\"メロディ2\",キー割付!I656=\"カノン\",\"メロディ3\",キー割付!I656=\"春の歌\",\"メロディ4\",キー割付!I656=\"主よ人の望みの喜びよ\",\"メロディ5\",キー割付!I656=\"メヌエット\",\"メロディ6\",キー割付!I656=\"華麗なる大円舞曲\",\"メロディ7\",キー割付!I656=\"ハンガリア舞曲第5番\",\"メロディ8\",TRUE,\"トーン1\")","v":"トーン1"},{"$f":"_xlfn.IFS(キー割付!D664=\"着信音なし\",\"トーン1\",キー割付!D664=\"トーン1\",\"トーン1\",キー割付!D664=\"トーン2\",\"トーン2\",キー割付!D664=\"トーン3\",\"トーン3\",キー割付!D664=\"トーン4\",\"トーン4\",キー割付!D664=\"トーン5\",\"トーン5\",キー割付!D664=\"トーン6\",\"トーン6\",キー割付!D664=\"トーン7\",\"トーン7\",キー割付!D664=\"トーン7\",\"トーン7\",キー割付!D664=\"無鳴動着信\",\"トーン8\",キー割付!D664=\"グリーンスリーブス\",\"メロディ1\",キー割付!D664=\"峠の我が家\",\"メロディ2\",キー割付!D664=\"カノン\",\"メロディ3\",キー割付!D664=\"春の歌\",\"メロディ4\",キー割付!D664=\"主よ人の望みの喜びよ\",\"メロディ5\",キー割付!D664=\"メヌエット\",\"メロディ6\",キー割付!D664=\"華麗なる大円舞曲\",\"メロディ7\",キー割付!D664=\"ハンガリア舞曲第5番\",\"メロディ8\",TRUE,\"トーン1\")","v":"トーン1"},{"$f":"_xlfn.IFS(キー割付!E664=\"着信音なし\",\"トーン1\",キー割付!E664=\"トーン1\",\"トーン1\",キー割付!E664=\"トーン2\",\"トーン2\",キー割付!E664=\"トーン3\",\"トーン3\",キー割付!E664=\"トーン4\",\"トーン4\",キー割付!E664=\"トーン5\",\"トーン5\",キー割付!E664=\"トーン6\",\"トーン6\",キー割付!E664=\"トーン7\",\"トーン7\",キー割付!E664=\"トーン7\",\"トーン7\",キー割付!E664=\"無鳴動着信\",\"トーン8\",キー割付!E664=\"グリーンスリーブス\",\"メロディ1\",キー割付!E664=\"峠の我が家\",\"メロディ2\",キー割付!E664=\"カノン\",\"メロディ3\",キー割付!E664=\"春の歌\",\"メロディ4\",キー割付!E664=\"主よ人の望みの喜びよ\",\"メロディ5\",キー割付!E664=\"メヌエット\",\"メロディ6\",キー割付!E664=\"華麗なる大円舞曲\",\"メロディ7\",キー割付!E664=\"ハンガリア舞曲第5番\",\"メロディ8\",TRUE,\"トーン1\")","v":"トーン1"},{"$f":"IF(E115=\"ZX-DECLDIV-IPコードレス電話機\",\"トーン1\",_xlfn.IFS(キー割付!F664=\"着信音なし\",\"トーン1\",キー割付!F664=\"トーン1\",\"トーン1\",キー割付!F664=\"トーン2\",\"トーン2\",キー割付!F664=\"トーン3\",\"トーン3\",キー割付!F664=\"トーン4\",\"トーン4\",キー割付!F664=\"トーン5\",\"トーン5\",キー割付!F664=\"トーン6\",\"トーン6\",キー割付!F664=\"トーン7\",\"トーン7\",キー割付!F664=\"トーン7\",\"トーン7\",キー割付!F664=\"無鳴動着信\",\"トーン8\",キー割付!F664=\"グリーンスリーブス\",\"メロディ1\",キー割付!F664=\"峠の我が家\",\"メロディ2\",キー割付!F664=\"カノン\",\"メロディ3\",キー割付!F664=\"春の歌\",\"メロディ4\",キー割付!F664=\"主よ人の望みの喜びよ\",\"メロディ5\",キー割付!F664=\"メヌエット\",\"メロディ6\",キー割付!F664=\"華麗なる大円舞曲\",\"メロディ7\",キー割付!F664=\"ハンガリア舞曲第5番\",\"メロディ8\",TRUE,\"トーン1\"))","v":"トーン1"},{"$f":"IF(E115=\"ZX-DECLDIV-IPコードレス電話機\",\"トーン1\",_xlfn.IFS(キー割付!G664=\"着信音なし\",\"トーン1\",キー割付!G664=\"トーン1\",\"トーン1\",キー割付!G664=\"トーン2\",\"トーン2\",キー割付!G664=\"トーン3\",\"トーン3\",キー割付!G664=\"トーン4\",\"トーン4\",キー割付!G664=\"トーン5\",\"トーン5\",キー割付!G664=\"トーン6\",\"トーン6\",キー割付!G664=\"トーン7\",\"トーン7\",キー割付!G664=\"トーン7\",\"トーン7\",キー割付!G664=\"無鳴動着信\",\"トーン8\",キー割付!G664=\"グリーンスリーブス\",\"メロディ1\",キー割付!G664=\"峠の我が家\",\"メロディ2\",キー割付!G664=\"カノン\",\"メロディ3\",キー割付!G664=\"春の歌\",\"メロディ4\",キー割付!G664=\"主よ人の望みの喜びよ\",\"メロディ5\",キー割付!G664=\"メヌエット\",\"メロディ6\",キー割付!G664=\"華麗なる大円舞曲\",\"メロディ7\",キー割付!G664=\"ハンガリア舞曲第5番\",\"メロディ8\",TRUE,\"トーン1\"))","v":"トーン1"},{"$f":"IF(E115=\"ZX-DECLDIV-IPコードレス電話機\",\"トーン1\",_xlfn.IFS(キー割付!H664=\"着信音なし\",\"トーン1\",キー割付!H664=\"トーン1\",\"トーン1\",キー割付!H664=\"トーン2\",\"トーン2\",キー割付!H664=\"トーン3\",\"トーン3\",キー割付!H664=\"トーン4\",\"トーン4\",キー割付!H664=\"トーン5\",\"トーン5\",キー割付!H664=\"トーン6\",\"トーン6\",キー割付!H664=\"トーン7\",\"トーン7\",キー割付!H664=\"トーン7\",\"トーン7\",キー割付!H664=\"無鳴動着信\",\"トーン8\",キー割付!H664=\"グリーンスリーブス\",\"メロディ1\",キー割付!H664=\"峠の我が家\",\"メロディ2\",キー割付!H664=\"カノン\",\"メロディ3\",キー割付!H664=\"春の歌\",\"メロディ4\",キー割付!H664=\"主よ人の望みの喜びよ\",\"メロディ5\",キー割付!H664=\"メヌエット\",\"メロディ6\",キー割付!H664=\"華麗なる大円舞曲\",\"メロディ7\",キー割付!H664=\"ハンガリア舞曲第5番\",\"メロディ8\",TRUE,\"トーン1\"))","v":"トーン1"},{"$f":"IF(E115=\"ZX-DECLDIV-IPコードレス電話機\",\"トーン1\",_xlfn.IFS(キー割付!I664=\"着信音なし\",\"トーン1\",キー割付!I664=\"トーン1\",\"トーン1\",キー割付!I664=\"トーン2\",\"トーン2\",キー割付!I664=\"トーン3\",\"トーン3\",キー割付!I664=\"トーン4\",\"トーン4\",キー割付!I664=\"トーン5\",\"トーン5\",キー割付!I664=\"トーン6\",\"トーン6\",キー割付!I664=\"トーン7\",\"トーン7\",キー割付!I664=\"トーン7\",\"トーン7\",キー割付!I664=\"無鳴動着信\",\"トーン8\",キー割付!I664=\"グリーンスリーブス\",\"メロディ1\",キー割付!I664=\"峠の我が家\",\"メロディ2\",キー割付!I664=\"カノン\",\"メロディ3\",キー割付!I664=\"春の歌\",\"メロディ4\",キー割付!I664=\"主よ人の望みの喜びよ\",\"メロディ5\",キー割付!I664=\"メヌエット\",\"メロディ6\",キー割付!I664=\"華麗なる大円舞曲\",\"メロディ7\",キー割付!I664=\"ハンガリア舞曲第5番\",\"メロディ8\",TRUE,\"トーン1\"))","v":"トーン1"},{"$f":"IF(E115=\"ZX-DECLDIV-IPコードレス電話機\",\"トーン1\",_xlfn.IFS(キー割付!D672=\"着信音なし\",\"トーン1\",キー割付!D672=\"トーン1\",\"トーン1\",キー割付!D672=\"トーン2\",\"トーン2\",キー割付!D672=\"トーン3\",\"トーン3\",キー割付!D672=\"トーン4\",\"トーン4\",キー割付!D672=\"トーン5\",\"トーン5\",キー割付!D672=\"トーン6\",\"トーン6\",キー割付!D672=\"トーン7\",\"トーン7\",キー割付!D672=\"トーン7\",\"トーン7\",キー割付!D672=\"無鳴動着信\",\"トーン8\",キー割付!D672=\"グリーンスリーブス\",\"メロディ1\",キー割付!D672=\"峠の我が家\",\"メロディ2\",キー割付!D672=\"カノン\",\"メロディ3\",キー割付!D672=\"春の歌\",\"メロディ4\",キー割付!D672=\"主よ人の望みの喜びよ\",\"メロディ5\",キー割付!D672=\"メヌエット\",\"メロディ6\",キー割付!D672=\"華麗なる大円舞曲\",\"メロディ7\",キー割付!D672=\"ハンガリア舞曲第5番\",\"メロディ8\",TRUE,\"トーン1\"))","v":"トーン1"},{"$f":"IF(E115=\"ZX-DECLDIV-IPコードレス電話機\",\"トーン1\",_xlfn.IFS(キー割付!E672=\"着信音なし\",\"トーン1\",キー割付!E672=\"トーン1\",\"トーン1\",キー割付!E672=\"トーン2\",\"トーン2\",キー割付!E672=\"トーン3\",\"トーン3\",キー割付!E672=\"トーン4\",\"トーン4\",キー割付!E672=\"トーン5\",\"トーン5\",キー割付!E672=\"トーン6\",\"トーン6\",キー割付!E672=\"トーン7\",\"トーン7\",キー割付!E672=\"トーン7\",\"トーン7\",キー割付!E672=\"無鳴動着信\",\"トーン8\",キー割付!E672=\"グリーンスリーブス\",\"メロディ1\",キー割付!E672=\"峠の我が家\",\"メロディ2\",キー割付!E672=\"カノン\",\"メロディ3\",キー割付!E672=\"春の歌\",\"メロディ4\",キー割付!E672=\"主よ人の望みの喜びよ\",\"メロディ5\",キー割付!E672=\"メヌエット\",\"メロディ6\",キー割付!E672=\"華麗なる大円舞曲\",\"メロディ7\",キー割付!E672=\"ハンガリア舞曲第5番\",\"メロディ8\",TRUE,\"トーン1\"))","v":"トーン1"},{"$f":"IF(E115=\"ZX-DECLDIV-IPコードレス電話機\",\"トーン1\",_xlfn.IFS(キー割付!F672=\"着信音なし\",\"トーン1\",キー割付!F672=\"トーン1\",\"トーン1\",キー割付!F672=\"トーン2\",\"トーン2\",キー割付!F672=\"トーン3\",\"トーン3\",キー割付!F672=\"トーン4\",\"トーン4\",キー割付!F672=\"トーン5\",\"トーン5\",キー割付!F672=\"トーン6\",\"トーン6\",キー割付!F672=\"トーン7\",\"トーン7\",キー割付!F672=\"トーン7\",\"トーン7\",キー割付!F672=\"無鳴動着信\",\"トーン8\",キー割付!F672=\"グリーンスリーブス\",\"メロディ1\",キー割付!F672=\"峠の我が家\",\"メロディ2\",キー割付!F672=\"カノン\",\"メロディ3\",キー割付!F672=\"春の歌\",\"メロディ4\",キー割付!F672=\"主よ人の望みの喜びよ\",\"メロディ5\",キー割付!F672=\"メヌエット\",\"メロディ6\",キー割付!F672=\"華麗なる大円舞曲\",\"メロディ7\",キー割付!F672=\"ハンガリア舞曲第5番\",\"メロディ8\",TRUE,\"トーン1\"))","v":"トーン1"},{"$f":"IF(E115=\"ZX-DECLDIV-IPコードレス電話機\",\"トーン1\",_xlfn.IFS(キー割付!G672=\"着信音なし\",\"トーン1\",キー割付!G672=\"トーン1\",\"トーン1\",キー割付!G672=\"トーン2\",\"トーン2\",キー割付!G672=\"トーン3\",\"トーン3\",キー割付!G672=\"トーン4\",\"トーン4\",キー割付!G672=\"トーン5\",\"トーン5\",キー割付!G672=\"トーン6\",\"トーン6\",キー割付!G672=\"トーン7\",\"トーン7\",キー割付!G672=\"トーン7\",\"トーン7\",キー割付!G672=\"無鳴動着信\",\"トーン8\",キー割付!G672=\"グリーンスリーブス\",\"メロディ1\",キー割付!G672=\"峠の我が家\",\"メロディ2\",キー割付!G672=\"カノン\",\"メロディ3\",キー割付!G672=\"春の歌\",\"メロディ4\",キー割付!G672=\"主よ人の望みの喜びよ\",\"メロディ5\",キー割付!G672=\"メヌエット\",\"メロディ6\",キー割付!G672=\"華麗なる大円舞曲\",\"メロディ7\",キー割付!G672=\"ハンガリア舞曲第5番\",\"メロディ8\",TRUE,\"トーン1\"))","v":"トーン1"},{"$f":"IF(E115=\"ZX-DECLDIV-IPコードレス電話機\",\"トーン1\",_xlfn.IFS(キー割付!H672=\"着信音なし\",\"トーン1\",キー割付!H672=\"トーン1\",\"トーン1\",キー割付!H672=\"トーン2\",\"トーン2\",キー割付!H672=\"トーン3\",\"トーン3\",キー割付!H672=\"トーン4\",\"トーン4\",キー割付!H672=\"トーン5\",\"トーン5\",キー割付!H672=\"トーン6\",\"トーン6\",キー割付!H672=\"トーン7\",\"トーン7\",キー割付!H672=\"トーン7\",\"トーン7\",キー割付!H672=\"無鳴動着信\",\"トーン8\",キー割付!H672=\"グリーンスリーブス\",\"メロディ1\",キー割付!H672=\"峠の我が家\",\"メロディ2\",キー割付!H672=\"カノン\",\"メロディ3\",キー割付!H672=\"春の歌\",\"メロディ4\",キー割付!H672=\"主よ人の望みの喜びよ\",\"メロディ5\",キー割付!H672=\"メヌエット\",\"メロディ6\",キー割付!H672=\"華麗なる大円舞曲\",\"メロディ7\",キー割付!H672=\"ハンガリア舞曲第5番\",\"メロディ8\",TRUE,\"トーン1\"))","v":"トーン1"},{"$f":"IF(E115=\"ZX-DECLDIV-IPコードレス電話機\",\"トーン1\",_xlfn.IFS(キー割付!I672=\"着信音なし\",\"トーン1\",キー割付!I672=\"トーン1\",\"トーン1\",キー割付!I672=\"トーン2\",\"トーン2\",キー割付!I672=\"トーン3\",\"トーン3\",キー割付!I672=\"トーン4\",\"トーン4\",キー割付!I672=\"トーン5\",\"トーン5\",キー割付!I672=\"トーン6\",\"トーン6\",キー割付!I672=\"トーン7\",\"トーン7\",キー割付!I672=\"トーン7\",\"トーン7\",キー割付!I672=\"無鳴動着信\",\"トーン8\",キー割付!I672=\"グリーンスリーブス\",\"メロディ1\",キー割付!I672=\"峠の我が家\",\"メロディ2\",キー割付!I672=\"カノン\",\"メロディ3\",キー割付!I672=\"春の歌\",\"メロディ4\",キー割付!I672=\"主よ人の望みの喜びよ\",\"メロディ5\",キー割付!I672=\"メヌエット\",\"メロディ6\",キー割付!I672=\"華麗なる大円舞曲\",\"メロディ7\",キー割付!I672=\"ハンガリア舞曲第5番\",\"メロディ8\",TRUE,\"トーン1\"))","v":"トーン1"},{"$f":"IF(E115=\"ZX-DECLDIV-IPコードレス電話機\",\"トーン1\",_xlfn.IFS(キー割付!D680=\"着信音なし\",\"トーン1\",キー割付!D680=\"トーン1\",\"トーン1\",キー割付!D680=\"トーン2\",\"トーン2\",キー割付!D680=\"トーン3\",\"トーン3\",キー割付!D680=\"トーン4\",\"トーン4\",キー割付!D680=\"トーン5\",\"トーン5\",キー割付!D680=\"トーン6\",\"トーン6\",キー割付!D680=\"トーン7\",\"トーン7\",キー割付!D680=\"トーン7\",\"トーン7\",キー割付!D680=\"無鳴動着信\",\"トーン8\",キー割付!D680=\"グリーンスリーブス\",\"メロディ1\",キー割付!D680=\"峠の我が家\",\"メロディ2\",キー割付!D680=\"カノン\",\"メロディ3\",キー割付!D680=\"春の歌\",\"メロディ4\",キー割付!D680=\"主よ人の望みの喜びよ\",\"メロディ5\",キー割付!D680=\"メヌエット\",\"メロディ6\",キー割付!D680=\"華麗なる大円舞曲\",\"メロディ7\",キー割付!D680=\"ハンガリア舞曲第5番\",\"メロディ8\",TRUE,\"トーン1\"))","v":"トーン1"},{"$f":"IF(E115=\"ZX-DECLDIV-IPコードレス電話機\",\"トーン1\",_xlfn.IFS(キー割付!E680=\"着信音なし\",\"トーン1\",キー割付!E680=\"トーン1\",\"トーン1\",キー割付!E680=\"トーン2\",\"トーン2\",キー割付!E680=\"トーン3\",\"トーン3\",キー割付!E680=\"トーン4\",\"トーン4\",キー割付!E680=\"トーン5\",\"トーン5\",キー割付!E680=\"トーン6\",\"トーン6\",キー割付!E680=\"トーン7\",\"トーン7\",キー割付!E680=\"トーン7\",\"トーン7\",キー割付!E680=\"無鳴動着信\",\"トーン8\",キー割付!E680=\"グリーンスリーブス\",\"メロディ1\",キー割付!E680=\"峠の我が家\",\"メロディ2\",キー割付!E680=\"カノン\",\"メロディ3\",キー割付!E680=\"春の歌\",\"メロディ4\",キー割付!E680=\"主よ人の望みの喜びよ\",\"メロディ5\",キー割付!E680=\"メヌエット\",\"メロディ6\",キー割付!E680=\"華麗なる大円舞曲\",\"メロディ7\",キー割付!E680=\"ハンガリア舞曲第5番\",\"メロディ8\",TRUE,\"トーン1\"))","v":"トーン1"},{"$f":"IF(E115=\"ZX-DECLDIV-IPコードレス電話機\",\"トーン1\",_xlfn.IFS(キー割付!F680=\"着信音なし\",\"トーン1\",キー割付!F680=\"トーン1\",\"トーン1\",キー割付!F680=\"トーン2\",\"トーン2\",キー割付!F680=\"トーン3\",\"トーン3\",キー割付!F680=\"トーン4\",\"トーン4\",キー割付!F680=\"トーン5\",\"トーン5\",キー割付!F680=\"トーン6\",\"トーン6\",キー割付!F680=\"トーン7\",\"トーン7\",キー割付!F680=\"トーン7\",\"トーン7\",キー割付!F680=\"無鳴動着信\",\"トーン8\",キー割付!F680=\"グリーンスリーブス\",\"メロディ1\",キー割付!F680=\"峠の我が家\",\"メロディ2\",キー割付!F680=\"カノン\",\"メロディ3\",キー割付!F680=\"春の歌\",\"メロディ4\",キー割付!F680=\"主よ人の望みの喜びよ\",\"メロディ5\",キー割付!F680=\"メヌエット\",\"メロディ6\",キー割付!F680=\"華麗なる大円舞曲\",\"メロディ7\",キー割付!F680=\"ハンガリア舞曲第5番\",\"メロディ8\",TRUE,\"トーン1\"))","v":"トーン1"},{"$f":"IF(E115=\"ZX-DECLDIV-IPコードレス電話機\",\"トーン1\",_xlfn.IFS(キー割付!G680=\"着信音なし\",\"トーン1\",キー割付!G680=\"トーン1\",\"トーン1\",キー割付!G680=\"トーン2\",\"トーン2\",キー割付!G680=\"トーン3\",\"トーン3\",キー割付!G680=\"トーン4\",\"トーン4\",キー割付!G680=\"トーン5\",\"トーン5\",キー割付!G680=\"トーン6\",\"トーン6\",キー割付!G680=\"トーン7\",\"トーン7\",キー割付!G680=\"トーン7\",\"トーン7\",キー割付!G680=\"無鳴動着信\",\"トーン8\",キー割付!G680=\"グリーンスリーブス\",\"メロディ1\",キー割付!G680=\"峠の我が家\",\"メロディ2\",キー割付!G680=\"カノン\",\"メロディ3\",キー割付!G680=\"春の歌\",\"メロディ4\",キー割付!G680=\"主よ人の望みの喜びよ\",\"メロディ5\",キー割付!G680=\"メヌエット\",\"メロディ6\",キー割付!G680=\"華麗なる大円舞曲\",\"メロディ7\",キー割付!G680=\"ハンガリア舞曲第5番\",\"メロディ8\",TRUE,\"トーン1\"))","v":"トーン1"},{"$f":"IF(E115=\"ZX-DECLDIV-IPコードレス電話機\",\"トーン1\",_xlfn.IFS(キー割付!H680=\"着信音なし\",\"トーン1\",キー割付!H680=\"トーン1\",\"トーン1\",キー割付!H680=\"トーン2\",\"トーン2\",キー割付!H680=\"トーン3\",\"トーン3\",キー割付!H680=\"トーン4\",\"トーン4\",キー割付!H680=\"トーン5\",\"トーン5\",キー割付!H680=\"トーン6\",\"トーン6\",キー割付!H680=\"トーン7\",\"トーン7\",キー割付!H680=\"トーン7\",\"トーン7\",キー割付!H680=\"無鳴動着信\",\"トーン8\",キー割付!H680=\"グリーンスリーブス\",\"メロディ1\",キー割付!H680=\"峠の我が家\",\"メロディ2\",キー割付!H680=\"カノン\",\"メロディ3\",キー割付!H680=\"春の歌\",\"メロディ4\",キー割付!H680=\"主よ人の望みの喜びよ\",\"メロディ5\",キー割付!H680=\"メヌエット\",\"メロディ6\",キー割付!H680=\"華麗なる大円舞曲\",\"メロディ7\",キー割付!H680=\"ハンガリア舞曲第5番\",\"メロディ8\",TRUE,\"トーン1\"))","v":"トーン1"},{"$f":"IF(E115=\"ZX-DECLDIV-IPコードレス電話機\",\"トーン1\",_xlfn.IFS(キー割付!I680=\"着信音なし\",\"トーン1\",キー割付!I680=\"トーン1\",\"トーン1\",キー割付!I680=\"トーン2\",\"トーン2\",キー割付!I680=\"トーン3\",\"トーン3\",キー割付!I680=\"トーン4\",\"トーン4\",キー割付!I680=\"トーン5\",\"トーン5\",キー割付!I680=\"トーン6\",\"トーン6\",キー割付!I680=\"トーン7\",\"トーン7\",キー割付!I680=\"トーン7\",\"トーン7\",キー割付!I680=\"無鳴動着信\",\"トーン8\",キー割付!I680=\"グリーンスリーブス\",\"メロディ1\",キー割付!I680=\"峠の我が家\",\"メロディ2\",キー割付!I680=\"カノン\",\"メロディ3\",キー割付!I680=\"春の歌\",\"メロディ4\",キー割付!I680=\"主よ人の望みの喜びよ\",\"メロディ5\",キー割付!I680=\"メヌエット\",\"メロディ6\",キー割付!I680=\"華麗なる大円舞曲\",\"メロディ7\",キー割付!I680=\"ハンガリア舞曲第5番\",\"メロディ8\",TRUE,\"トーン1\"))","v":"トーン1"}]
[null,null,null,null,null,{"$f":"_xlfn.IFS(キー割付!D657=\"昼夜休憩\",\"B\",キー割付!D657=\"－－－\",\"-\",キー割付!D657=\"昼－－\",\"H\",キー割付!D657=\"－夜－\",\"N\",キー割付!D657=\"－－休憩\",\"P\",キー割付!D657=\"昼夜－\",\"D\",キー割付!D657=\"昼－休憩\",\"F\",キー割付!D657=\"－夜休憩\",\"K\",TRUE,\"-\")","v":"-"},{"$f":"_xlfn.IFS(キー割付!E657=\"昼夜休憩\",\"B\",キー割付!E657=\"－－－\",\"-\",キー割付!E657=\"昼－－\",\"H\",キー割付!E657=\"－夜－\",\"N\",キー割付!E657=\"－－休憩\",\"P\",キー割付!E657=\"昼夜－\",\"D\",キー割付!E657=\"昼－休憩\",\"F\",キー割付!E657=\"－夜休憩\",\"K\",TRUE,\"-\")","v":"-"},{"$f":"_xlfn.IFS(キー割付!F657=\"昼夜休憩\",\"B\",キー割付!F657=\"－－－\",\"-\",キー割付!F657=\"昼－－\",\"H\",キー割付!F657=\"－夜－\",\"N\",キー割付!F657=\"－－休憩\",\"P\",キー割付!F657=\"昼夜－\",\"D\",キー割付!F657=\"昼－休憩\",\"F\",キー割付!F657=\"－夜休憩\",\"K\",TRUE,\"-\")","v":"-"},{"$f":"_xlfn.IFS(キー割付!G657=\"昼夜休憩\",\"B\",キー割付!G657=\"－－－\",\"-\",キー割付!G657=\"昼－－\",\"H\",キー割付!G657=\"－夜－\",\"N\",キー割付!G657=\"－－休憩\",\"P\",キー割付!G657=\"昼夜－\",\"D\",キー割付!G657=\"昼－休憩\",\"F\",キー割付!G657=\"－夜休憩\",\"K\",TRUE,\"-\")","v":"-"},{"$f":"_xlfn.IFS(キー割付!H657=\"昼夜休憩\",\"B\",キー割付!H657=\"－－－\",\"-\",キー割付!H657=\"昼－－\",\"H\",キー割付!H657=\"－夜－\",\"N\",キー割付!H657=\"－－休憩\",\"P\",キー割付!H657=\"昼夜－\",\"D\",キー割付!H657=\"昼－休憩\",\"F\",キー割付!H657=\"－夜休憩\",\"K\",TRUE,\"-\")","v":"-"},{"$f":"_xlfn.IFS(キー割付!I657=\"昼夜休憩\",\"B\",キー割付!I657=\"－－－\",\"-\",キー割付!I657=\"昼－－\",\"H\",キー割付!I657=\"－夜－\",\"N\",キー割付!I657=\"－－休憩\",\"P\",キー割付!I657=\"昼夜－\",\"D\",キー割付!I657=\"昼－休憩\",\"F\",キー割付!I657=\"－夜休憩\",\"K\",TRUE,\"-\")","v":"-"},{"$f":"_xlfn.IFS(キー割付!D665=\"昼夜休憩\",\"B\",キー割付!D665=\"－－－\",\"-\",キー割付!D665=\"昼－－\",\"H\",キー割付!D665=\"－夜－\",\"N\",キー割付!D665=\"－－休憩\",\"P\",キー割付!D665=\"昼夜－\",\"D\",キー割付!D665=\"昼－休憩\",\"F\",キー割付!D665=\"－夜休憩\",\"K\",TRUE,\"-\")","v":"-"},{"$f":"_xlfn.IFS(キー割付!E665=\"昼夜休憩\",\"B\",キー割付!E665=\"－－－\",\"-\",キー割付!E665=\"昼－－\",\"H\",キー割付!E665=\"－夜－\",\"N\",キー割付!E665=\"－－休憩\",\"P\",キー割付!E665=\"昼夜－\",\"D\",キー割付!E665=\"昼－休憩\",\"F\",キー割付!E665=\"－夜休憩\",\"K\",TRUE,\"-\")","v":"-"},{"$f":"IF(E115=\"ZX-DECLDIV-IPコードレス電話機\",\"-\",_xlfn.IFS(キー割付!F665=\"昼夜休憩\",\"B\",キー割付!F665=\"－－－\",\"-\",キー割付!F665=\"昼－－\",\"H\",キー割付!F665=\"－夜－\",\"N\",キー割付!F665=\"－－休憩\",\"P\",キー割付!F665=\"昼夜－\",\"D\",キー割付!F665=\"昼－休憩\",\"F\",キー割付!F665=\"－夜休憩\",\"K\",TRUE,\"-\"))","v":"-"},{"$f":"IF(E115=\"ZX-DECLDIV-IPコードレス電話機\",\"-\",_xlfn.IFS(キー割付!G665=\"昼夜休憩\",\"B\",キー割付!G665=\"－－－\",\"-\",キー割付!G665=\"昼－－\",\"H\",キー割付!G665=\"－夜－\",\"N\",キー割付!G665=\"－－休憩\",\"P\",キー割付!G665=\"昼夜－\",\"D\",キー割付!G665=\"昼－休憩\",\"F\",キー割付!G665=\"－夜休憩\",\"K\",TRUE,\"-\"))","v":"-"},{"$f":"IF(E115=\"ZX-DECLDIV-IPコードレス電話機\",\"-\",_xlfn.IFS(キー割付!H665=\"昼夜休憩\",\"B\",キー割付!H665=\"－－－\",\"-\",キー割付!H665=\"昼－－\",\"H\",キー割付!H665=\"－夜－\",\"N\",キー割付!H665=\"－－休憩\",\"P\",キー割付!H665=\"昼夜－\",\"D\",キー割付!H665=\"昼－休憩\",\"F\",キー割付!H665=\"－夜休憩\",\"K\",TRUE,\"-\"))","v":"-"},{"$f":"IF(E115=\"ZX-DECLDIV-IPコードレス電話機\",\"-\",_xlfn.IFS(キー割付!I665=\"昼夜休憩\",\"B\",キー割付!I665=\"－－－\",\"-\",キー割付!I665=\"昼－－\",\"H\",キー割付!I665=\"－夜－\",\"N\",キー割付!I665=\"－－休憩\",\"P\",キー割付!I665=\"昼夜－\",\"D\",キー割付!I665=\"昼－休憩\",\"F\",キー割付!I665=\"－夜休憩\",\"K\",TRUE,\"-\"))","v":"-"},{"$f":"IF(E115=\"ZX-DECLDIV-IPコードレス電話機\",\"-\",_xlfn.IFS(キー割付!D673=\"昼夜休憩\",\"B\",キー割付!D673=\"－－－\",\"-\",キー割付!D673=\"昼－－\",\"H\",キー割付!D673=\"－夜－\",\"N\",キー割付!D673=\"－－休憩\",\"P\",キー割付!D673=\"昼夜－\",\"D\",キー割付!D673=\"昼－休憩\",\"F\",キー割付!D673=\"－夜休憩\",\"K\",TRUE,\"-\"))","v":"-"},{"$f":"IF(E115=\"ZX-DECLDIV-IPコードレス電話機\",\"-\",_xlfn.IFS(キー割付!E673=\"昼夜休憩\",\"B\",キー割付!E673=\"－－－\",\"-\",キー割付!E673=\"昼－－\",\"H\",キー割付!E673=\"－夜－\",\"N\",キー割付!E673=\"－－休憩\",\"P\",キー割付!E673=\"昼夜－\",\"D\",キー割付!E673=\"昼－休憩\",\"F\",キー割付!E673=\"－夜休憩\",\"K\",TRUE,\"-\"))","v":"-"},{"$f":"IF(E115=\"ZX-DECLDIV-IPコードレス電話機\",\"-\",_xlfn.IFS(キー割付!F673=\"昼夜休憩\",\"B\",キー割付!F673=\"－－－\",\"-\",キー割付!F673=\"昼－－\",\"H\",キー割付!F673=\"－夜－\",\"N\",キー割付!F673=\"－－休憩\",\"P\",キー割付!F673=\"昼夜－\",\"D\",キー割付!F673=\"昼－休憩\",\"F\",キー割付!F673=\"－夜休憩\",\"K\",TRUE,\"-\"))","v":"-"},{"$f":"IF(E115=\"ZX-DECLDIV-IPコードレス電話機\",\"-\",_xlfn.IFS(キー割付!G673=\"昼夜休憩\",\"B\",キー割付!G673=\"－－－\",\"-\",キー割付!G673=\"昼－－\",\"H\",キー割付!G673=\"－夜－\",\"N\",キー割付!G673=\"－－休憩\",\"P\",キー割付!G673=\"昼夜－\",\"D\",キー割付!G673=\"昼－休憩\",\"F\",キー割付!G673=\"－夜休憩\",\"K\",TRUE,\"-\"))","v":"-"},{"$f":"IF(E115=\"ZX-DECLDIV-IPコードレス電話機\",\"-\",_xlfn.IFS(キー割付!H673=\"昼夜休憩\",\"B\",キー割付!H673=\"－－－\",\"-\",キー割付!H673=\"昼－－\",\"H\",キー割付!H673=\"－夜－\",\"N\",キー割付!H673=\"－－休憩\",\"P\",キー割付!H673=\"昼夜－\",\"D\",キー割付!H673=\"昼－休憩\",\"F\",キー割付!H673=\"－夜休憩\",\"K\",TRUE,\"-\"))","v":"-"},{"$f":"IF(E115=\"ZX-DECLDIV-IPコードレス電話機\",\"-\",_xlfn.IFS(キー割付!I673=\"昼夜休憩\",\"B\",キー割付!I673=\"－－－\",\"-\",キー割付!I673=\"昼－－\",\"H\",キー割付!I673=\"－夜－\",\"N\",キー割付!I673=\"－－休憩\",\"P\",キー割付!I673=\"昼夜－\",\"D\",キー割付!I673=\"昼－休憩\",\"F\",キー割付!I673=\"－夜休憩\",\"K\",TRUE,\"-\"))","v":"-"},{"$f":"IF(E115=\"ZX-DECLDIV-IPコードレス電話機\",\"-\",_xlfn.IFS(キー割付!D681=\"昼夜休憩\",\"B\",キー割付!D681=\"－－－\",\"-\",キー割付!D681=\"昼－－\",\"H\",キー割付!D681=\"－夜－\",\"N\",キー割付!D681=\"－－休憩\",\"P\",キー割付!D681=\"昼夜－\",\"D\",キー割付!D681=\"昼－休憩\",\"F\",キー割付!D681=\"－夜休憩\",\"K\",TRUE,\"-\"))","v":"-"},{"$f":"IF(E115=\"ZX-DECLDIV-IPコードレス電話機\",\"-\",_xlfn.IFS(キー割付!E681=\"昼夜休憩\",\"B\",キー割付!E681=\"－－－\",\"-\",キー割付!E681=\"昼－－\",\"H\",キー割付!E681=\"－夜－\",\"N\",キー割付!E681=\"－－休憩\",\"P\",キー割付!E681=\"昼夜－\",\"D\",キー割付!E681=\"昼－休憩\",\"F\",キー割付!E681=\"－夜休憩\",\"K\",TRUE,\"-\"))","v":"-"},{"$f":"IF(E115=\"ZX-DECLDIV-IPコードレス電話機\",\"-\",_xlfn.IFS(キー割付!F681=\"昼夜休憩\",\"B\",キー割付!F681=\"－－－\",\"-\",キー割付!F681=\"昼－－\",\"H\",キー割付!F681=\"－夜－\",\"N\",キー割付!F681=\"－－休憩\",\"P\",キー割付!F681=\"昼夜－\",\"D\",キー割付!F681=\"昼－休憩\",\"F\",キー割付!F681=\"－夜休憩\",\"K\",TRUE,\"-\"))","v":"-"},{"$f":"IF(E115=\"ZX-DECLDIV-IPコードレス電話機\",\"-\",_xlfn.IFS(キー割付!G681=\"昼夜休憩\",\"B\",キー割付!G681=\"－－－\",\"-\",キー割付!G681=\"昼－－\",\"H\",キー割付!G681=\"－夜－\",\"N\",キー割付!G681=\"－－休憩\",\"P\",キー割付!G681=\"昼夜－\",\"D\",キー割付!G681=\"昼－休憩\",\"F\",キー割付!G681=\"－夜休憩\",\"K\",TRUE,\"-\"))","v":"-"},{"$f":"IF(E115=\"ZX-DECLDIV-IPコードレス電話機\",\"-\",_xlfn.IFS(キー割付!H681=\"昼夜休憩\",\"B\",キー割付!H681=\"－－－\",\"-\",キー割付!H681=\"昼－－\",\"H\",キー割付!H681=\"－夜－\",\"N\",キー割付!H681=\"－－休憩\",\"P\",キー割付!H681=\"昼夜－\",\"D\",キー割付!H681=\"昼－休憩\",\"F\",キー割付!H681=\"－夜休憩\",\"K\",TRUE,\"-\"))","v":"-"},{"$f":"IF(E115=\"ZX-DECLDIV-IPコードレス電話機\",\"-\",_xlfn.IFS(キー割付!I681=\"昼夜休憩\",\"B\",キー割付!I681=\"－－－\",\"-\",キー割付!I681=\"昼－－\",\"H\",キー割付!I681=\"－夜－\",\"N\",キー割付!I681=\"－－休憩\",\"P\",キー割付!I681=\"昼夜－\",\"D\",キー割付!I681=\"昼－休憩\",\"F\",キー割付!I681=\"－夜休憩\",\"K\",TRUE,\"-\"))","v":"-"}]
[null,38,{"$f":"IF(IFERROR(VALUE(VLOOKUP(B118,内線_キー割用,2,FALSE)),\"\")=0,\"\",IFERROR(VALUE(VLOOKUP(B118,内線_キー割用,2,FALSE)),\"\"))","v":""},{"$f":"IF(IFERROR(VALUE(VLOOKUP(B118,内線_キー割用,4,FALSE)),\"\")=0,\"\",IFERROR(VALUE(VLOOKUP(B118,内線_キー割用,4,FALSE)),\"\"))","v":""},{"$f":"IF(IFERROR(VLOOKUP(B118,内線_キー割用,3,FALSE),\"\")=0,\"\",IFERROR(VLOOKUP(B118,内線_キー割用,3,FALSE),\"\"))","v":""},{"$f":"IF(キー割付!N655=\"\",\"未使用\",キー割付!N655)","v":"未使用"},{"$f":"IF(キー割付!O655=\"\",\"未使用\",キー割付!O655)","v":"未使用"},{"$f":"IF(キー割付!P655=\"\",\"未使用\",キー割付!P655)","v":"未使用"},{"$f":"IF(キー割付!Q655=\"\",\"未使用\",キー割付!Q655)","v":"未使用"},{"$f":"IF(キー割付!R655=\"\",\"未使用\",キー割付!R655)","v":"未使用"},{"$f":"IF(キー割付!S655=\"\",\"未使用\",キー割付!S655)","v":"未使用"},{"$f":"IF(キー割付!N663=\"\",\"未使用\",キー割付!N663)","v":"未使用"},{"$f":"IF(キー割付!O663=\"\",\"未使用\",キー割付!O663)","v":"未使用"},{"$f":"IF(E118=\"ZX-DECLDIV-IPコードレス電話機\",\"未使用\",IF(キー割付!P663=\"\",\"未使用\",キー割付!P663))","v":"未使用"},{"$f":"IF(E118=\"ZX-DECLDIV-IPコードレス電話機\",\"未使用\",IF(キー割付!Q663=\"\",\"未使用\",キー割付!Q663))","v":"未使用"},{"$f":"IF(E118=\"ZX-DECLDIV-IPコードレス電話機\",\"未使用\",IF(キー割付!R663=\"\",\"未使用\",キー割付!R663))","v":"未使用"},{"$f":"IF(E118=\"ZX-DECLDIV-IPコードレス電話機\",\"未使用\",IF(キー割付!S663=\"\",\"未使用\",キー割付!S663))","v":"未使用"},{"$f":"IF(E118=\"ZX-DECLDIV-IPコードレス電話機\",\"未使用\",IF(キー割付!N671=\"\",\"未使用\",キー割付!N671))","v":"未使用"},{"$f":"IF(E118=\"ZX-DECLDIV-IPコードレス電話機\",\"未使用\",IF(キー割付!O671=\"\",\"未使用\",キー割付!O671))","v":"未使用"},{"$f":"IF(E118=\"ZX-DECLDIV-IPコードレス電話機\",\"未使用\",IF(キー割付!P671=\"\",\"未使用\",キー割付!P671))","v":"未使用"},{"$f":"IF(E118=\"ZX-DECLDIV-IPコードレス電話機\",\"未使用\",IF(キー割付!Q671=\"\",\"未使用\",キー割付!Q671))","v":"未使用"},{"$f":"IF(E118=\"ZX-DECLDIV-IPコードレス電話機\",\"未使用\",IF(キー割付!R671=\"\",\"未使用\",キー割付!R671))","v":"未使用"},{"$f":"IF(E118=\"ZX-DECLDIV-IPコードレス電話機\",\"未使用\",IF(キー割付!S671=\"\",\"未使用\",キー割付!S671))","v":"未使用"},{"$f":"IF(E118=\"ZX-DECLDIV-IPコードレス電話機\",\"未使用\",IF(キー割付!N679=\"\",\"未使用\",キー割付!N679))","v":"未使用"},{"$f":"IF(E118=\"ZX-DECLDIV-IPコードレス電話機\",\"未使用\",IF(キー割付!O679=\"\",\"未使用\",キー割付!O679))","v":"未使用"},{"$f":"IF(E118=\"ZX-DECLDIV-IPコードレス電話機\",\"未使用\",IF(キー割付!P679=\"\",\"未使用\",キー割付!P679))","v":"未使用"},{"$f":"IF(E118=\"ZX-DECLDIV-IPコードレス電話機\",\"未使用\",IF(キー割付!Q679=\"\",\"未使用\",キー割付!Q679))","v":"未使用"},{"$f":"IF(E118=\"ZX-DECLDIV-IPコードレス電話機\",\"未使用\",IF(キー割付!R679=\"\",\"未使用\",キー割付!R679))","v":"未使用"},{"$f":"IF(E118=\"ZX-DECLDIV-IPコードレス電話機\",\"未使用\",IF(キー割付!S679=\"\",\"未使用\",キー割付!S679))","v":"未使用"}]
[null,null,null,null,null,{"$f":"_xlfn.IFS(キー割付!N656=\"着信音なし\",\"トーン1\",キー割付!N656=\"トーン1\",\"トーン1\",キー割付!N656=\"トーン2\",\"トーン2\",キー割付!N656=\"トーン3\",\"トーン3\",キー割付!N656=\"トーン4\",\"トーン4\",キー割付!N656=\"トーン5\",\"トーン5\",キー割付!N656=\"トーン6\",\"トーン6\",キー割付!N656=\"トーン7\",\"トーン7\",キー割付!N656=\"トーン7\",\"トーン7\",キー割付!N656=\"無鳴動着信\",\"トーン8\",キー割付!N656=\"グリーンスリーブス\",\"メロディ1\",キー割付!N656=\"峠の我が家\",\"メロディ2\",キー割付!N656=\"カノン\",\"メロディ3\",キー割付!N656=\"春の歌\",\"メロディ4\",キー割付!N656=\"主よ人の望みの喜びよ\",\"メロディ5\",キー割付!N656=\"メヌエット\",\"メロディ6\",キー割付!N656=\"華麗なる大円舞曲\",\"メロディ7\",キー割付!N656=\"ハンガリア舞曲第5番\",\"メロディ8\",TRUE,\"トーン1\")","v":"トーン1"},{"$f":"_xlfn.IFS(キー割付!O656=\"着信音なし\",\"トーン1\",キー割付!O656=\"トーン1\",\"トーン1\",キー割付!O656=\"トーン2\",\"トーン2\",キー割付!O656=\"トーン3\",\"トーン3\",キー割付!O656=\"トーン4\",\"トーン4\",キー割付!O656=\"トーン5\",\"トーン5\",キー割付!O656=\"トーン6\",\"トーン6\",キー割付!O656=\"トーン7\",\"トーン7\",キー割付!O656=\"トーン7\",\"トーン7\",キー割付!O656=\"無鳴動着信\",\"トーン8\",キー割付!O656=\"グリーンスリーブス\",\"メロディ1\",キー割付!O656=\"峠の我が家\",\"メロディ2\",キー割付!O656=\"カノン\",\"メロディ3\",キー割付!O656=\"春の歌\",\"メロディ4\",キー割付!O656=\"主よ人の望みの喜びよ\",\"メロディ5\",キー割付!O656=\"メヌエット\",\"メロディ6\",キー割付!O656=\"華麗なる大円舞曲\",\"メロディ7\",キー割付!O656=\"ハンガリア舞曲第5番\",\"メロディ8\",TRUE,\"トーン1\")","v":"トーン1"},{"$f":"_xlfn.IFS(キー割付!P656=\"着信音なし\",\"トーン1\",キー割付!P656=\"トーン1\",\"トーン1\",キー割付!P656=\"トーン2\",\"トーン2\",キー割付!P656=\"トーン3\",\"トーン3\",キー割付!P656=\"トーン4\",\"トーン4\",キー割付!P656=\"トーン5\",\"トーン5\",キー割付!P656=\"トーン6\",\"トーン6\",キー割付!P656=\"トーン7\",\"トーン7\",キー割付!P656=\"トーン7\",\"トーン7\",キー割付!P656=\"無鳴動着信\",\"トーン8\",キー割付!P656=\"グリーンスリーブス\",\"メロディ1\",キー割付!P656=\"峠の我が家\",\"メロディ2\",キー割付!P656=\"カノン\",\"メロディ3\",キー割付!P656=\"春の歌\",\"メロディ4\",キー割付!P656=\"主よ人の望みの喜びよ\",\"メロディ5\",キー割付!P656=\"メヌエット\",\"メロディ6\",キー割付!P656=\"華麗なる大円舞曲\",\"メロディ7\",キー割付!P656=\"ハンガリア舞曲第5番\",\"メロディ8\",TRUE,\"トーン1\")","v":"トーン1"},{"$f":"_xlfn.IFS(キー割付!Q656=\"着信音なし\",\"トーン1\",キー割付!Q656=\"トーン1\",\"トーン1\",キー割付!Q656=\"トーン2\",\"トーン2\",キー割付!Q656=\"トーン3\",\"トーン3\",キー割付!Q656=\"トーン4\",\"トーン4\",キー割付!Q656=\"トーン5\",\"トーン5\",キー割付!Q656=\"トーン6\",\"トーン6\",キー割付!Q656=\"トーン7\",\"トーン7\",キー割付!Q656=\"トーン7\",\"トーン7\",キー割付!Q656=\"無鳴動着信\",\"トーン8\",キー割付!Q656=\"グリーンスリーブス\",\"メロディ1\",キー割付!Q656=\"峠の我が家\",\"メロディ2\",キー割付!Q656=\"カノン\",\"メロディ3\",キー割付!Q656=\"春の歌\",\"メロディ4\",キー割付!Q656=\"主よ人の望みの喜びよ\",\"メロディ5\",キー割付!Q656=\"メヌエット\",\"メロディ6\",キー割付!Q656=\"華麗なる大円舞曲\",\"メロディ7\",キー割付!Q656=\"ハンガリア舞曲第5番\",\"メロディ8\",TRUE,\"トーン1\")","v":"トーン1"},{"$f":"_xlfn.IFS(キー割付!R656=\"着信音なし\",\"トーン1\",キー割付!R656=\"トーン1\",\"トーン1\",キー割付!R656=\"トーン2\",\"トーン2\",キー割付!R656=\"トーン3\",\"トーン3\",キー割付!R656=\"トーン4\",\"トーン4\",キー割付!R656=\"トーン5\",\"トーン5\",キー割付!R656=\"トーン6\",\"トーン6\",キー割付!R656=\"トーン7\",\"トーン7\",キー割付!R656=\"トーン7\",\"トーン7\",キー割付!R656=\"無鳴動着信\",\"トーン8\",キー割付!R656=\"グリーンスリーブス\",\"メロディ1\",キー割付!R656=\"峠の我が家\",\"メロディ2\",キー割付!R656=\"カノン\",\"メロディ3\",キー割付!R656=\"春の歌\",\"メロディ4\",キー割付!R656=\"主よ人の望みの喜びよ\",\"メロディ5\",キー割付!R656=\"メヌエット\",\"メロディ6\",キー割付!R656=\"華麗なる大円舞曲\",\"メロディ7\",キー割付!R656=\"ハンガリア舞曲第5番\",\"メロディ8\",TRUE,\"トーン1\")","v":"トーン1"},{"$f":"_xlfn.IFS(キー割付!S656=\"着信音なし\",\"トーン1\",キー割付!S656=\"トーン1\",\"トーン1\",キー割付!S656=\"トーン2\",\"トーン2\",キー割付!S656=\"トーン3\",\"トーン3\",キー割付!S656=\"トーン4\",\"トーン4\",キー割付!S656=\"トーン5\",\"トーン5\",キー割付!S656=\"トーン6\",\"トーン6\",キー割付!S656=\"トーン7\",\"トーン7\",キー割付!S656=\"トーン7\",\"トーン7\",キー割付!S656=\"無鳴動着信\",\"トーン8\",キー割付!S656=\"グリーンスリーブス\",\"メロディ1\",キー割付!S656=\"峠の我が家\",\"メロディ2\",キー割付!S656=\"カノン\",\"メロディ3\",キー割付!S656=\"春の歌\",\"メロディ4\",キー割付!S656=\"主よ人の望みの喜びよ\",\"メロディ5\",キー割付!S656=\"メヌエット\",\"メロディ6\",キー割付!S656=\"華麗なる大円舞曲\",\"メロディ7\",キー割付!S656=\"ハンガリア舞曲第5番\",\"メロディ8\",TRUE,\"トーン1\")","v":"トーン1"},{"$f":"_xlfn.IFS(キー割付!N664=\"着信音なし\",\"トーン1\",キー割付!N664=\"トーン1\",\"トーン1\",キー割付!N664=\"トーン2\",\"トーン2\",キー割付!N664=\"トーン3\",\"トーン3\",キー割付!N664=\"トーン4\",\"トーン4\",キー割付!N664=\"トーン5\",\"トーン5\",キー割付!N664=\"トーン6\",\"トーン6\",キー割付!N664=\"トーン7\",\"トーン7\",キー割付!N664=\"トーン7\",\"トーン7\",キー割付!N664=\"無鳴動着信\",\"トーン8\",キー割付!N664=\"グリーンスリーブス\",\"メロディ1\",キー割付!N664=\"峠の我が家\",\"メロディ2\",キー割付!N664=\"カノン\",\"メロディ3\",キー割付!N664=\"春の歌\",\"メロディ4\",キー割付!N664=\"主よ人の望みの喜びよ\",\"メロディ5\",キー割付!N664=\"メヌエット\",\"メロディ6\",キー割付!N664=\"華麗なる大円舞曲\",\"メロディ7\",キー割付!N664=\"ハンガリア舞曲第5番\",\"メロディ8\",TRUE,\"トーン1\")","v":"トーン1"},{"$f":"_xlfn.IFS(キー割付!O664=\"着信音なし\",\"トーン1\",キー割付!O664=\"トーン1\",\"トーン1\",キー割付!O664=\"トーン2\",\"トーン2\",キー割付!O664=\"トーン3\",\"トーン3\",キー割付!O664=\"トーン4\",\"トーン4\",キー割付!O664=\"トーン5\",\"トーン5\",キー割付!O664=\"トーン6\",\"トーン6\",キー割付!O664=\"トーン7\",\"トーン7\",キー割付!O664=\"トーン7\",\"トーン7\",キー割付!O664=\"無鳴動着信\",\"トーン8\",キー割付!O664=\"グリーンスリーブス\",\"メロディ1\",キー割付!O664=\"峠の我が家\",\"メロディ2\",キー割付!O664=\"カノン\",\"メロディ3\",キー割付!O664=\"春の歌\",\"メロディ4\",キー割付!O664=\"主よ人の望みの喜びよ\",\"メロディ5\",キー割付!O664=\"メヌエット\",\"メロディ6\",キー割付!O664=\"華麗なる大円舞曲\",\"メロディ7\",キー割付!O664=\"ハンガリア舞曲第5番\",\"メロディ8\",TRUE,\"トーン1\")","v":"トーン1"},{"$f":"IF(E118=\"ZX-DECLDIV-IPコードレス電話機\",\"トーン1\",_xlfn.IFS(キー割付!P664=\"着信音なし\",\"トーン1\",キー割付!P664=\"トーン1\",\"トーン1\",キー割付!P664=\"トーン2\",\"トーン2\",キー割付!P664=\"トーン3\",\"トーン3\",キー割付!P664=\"トーン4\",\"トーン4\",キー割付!P664=\"トーン5\",\"トーン5\",キー割付!P664=\"トーン6\",\"トーン6\",キー割付!P664=\"トーン7\",\"トーン7\",キー割付!P664=\"トーン7\",\"トーン7\",キー割付!P664=\"無鳴動着信\",\"トーン8\",キー割付!P664=\"グリーンスリーブス\",\"メロディ1\",キー割付!P664=\"峠の我が家\",\"メロディ2\",キー割付!P664=\"カノン\",\"メロディ3\",キー割付!P664=\"春の歌\",\"メロディ4\",キー割付!P664=\"主よ人の望みの喜びよ\",\"メロディ5\",キー割付!P664=\"メヌエット\",\"メロディ6\",キー割付!P664=\"華麗なる大円舞曲\",\"メロディ7\",キー割付!P664=\"ハンガリア舞曲第5番\",\"メロディ8\",TRUE,\"トーン1\"))","v":"トーン1"},{"$f":"IF(E118=\"ZX-DECLDIV-IPコードレス電話機\",\"トーン1\",_xlfn.IFS(キー割付!Q664=\"着信音なし\",\"トーン1\",キー割付!Q664=\"トーン1\",\"トーン1\",キー割付!Q664=\"トーン2\",\"トーン2\",キー割付!Q664=\"トーン3\",\"トーン3\",キー割付!Q664=\"トーン4\",\"トーン4\",キー割付!Q664=\"トーン5\",\"トーン5\",キー割付!Q664=\"トーン6\",\"トーン6\",キー割付!Q664=\"トーン7\",\"トーン7\",キー割付!Q664=\"トーン7\",\"トーン7\",キー割付!Q664=\"無鳴動着信\",\"トーン8\",キー割付!Q664=\"グリーンスリーブス\",\"メロディ1\",キー割付!Q664=\"峠の我が家\",\"メロディ2\",キー割付!Q664=\"カノン\",\"メロディ3\",キー割付!Q664=\"春の歌\",\"メロディ4\",キー割付!Q664=\"主よ人の望みの喜びよ\",\"メロディ5\",キー割付!Q664=\"メヌエット\",\"メロディ6\",キー割付!Q664=\"華麗なる大円舞曲\",\"メロディ7\",キー割付!Q664=\"ハンガリア舞曲第5番\",\"メロディ8\",TRUE,\"トーン1\"))","v":"トーン1"},{"$f":"IF(E118=\"ZX-DECLDIV-IPコードレス電話機\",\"トーン1\",_xlfn.IFS(キー割付!R664=\"着信音なし\",\"トーン1\",キー割付!R664=\"トーン1\",\"トーン1\",キー割付!R664=\"トーン2\",\"トーン2\",キー割付!R664=\"トーン3\",\"トーン3\",キー割付!R664=\"トーン4\",\"トーン4\",キー割付!R664=\"トーン5\",\"トーン5\",キー割付!R664=\"トーン6\",\"トーン6\",キー割付!R664=\"トーン7\",\"トーン7\",キー割付!R664=\"トーン7\",\"トーン7\",キー割付!R664=\"無鳴動着信\",\"トーン8\",キー割付!R664=\"グリーンスリーブス\",\"メロディ1\",キー割付!R664=\"峠の我が家\",\"メロディ2\",キー割付!R664=\"カノン\",\"メロディ3\",キー割付!R664=\"春の歌\",\"メロディ4\",キー割付!R664=\"主よ人の望みの喜びよ\",\"メロディ5\",キー割付!R664=\"メヌエット\",\"メロディ6\",キー割付!R664=\"華麗なる大円舞曲\",\"メロディ7\",キー割付!R664=\"ハンガリア舞曲第5番\",\"メロディ8\",TRUE,\"トーン1\"))","v":"トーン1"},{"$f":"IF(E118=\"ZX-DECLDIV-IPコードレス電話機\",\"トーン1\",_xlfn.IFS(キー割付!S664=\"着信音なし\",\"トーン1\",キー割付!S664=\"トーン1\",\"トーン1\",キー割付!S664=\"トーン2\",\"トーン2\",キー割付!S664=\"トーン3\",\"トーン3\",キー割付!S664=\"トーン4\",\"トーン4\",キー割付!S664=\"トーン5\",\"トーン5\",キー割付!S664=\"トーン6\",\"トーン6\",キー割付!S664=\"トーン7\",\"トーン7\",キー割付!S664=\"トーン7\",\"トーン7\",キー割付!S664=\"無鳴動着信\",\"トーン8\",キー割付!S664=\"グリーンスリーブス\",\"メロディ1\",キー割付!S664=\"峠の我が家\",\"メロディ2\",キー割付!S664=\"カノン\",\"メロディ3\",キー割付!S664=\"春の歌\",\"メロディ4\",キー割付!S664=\"主よ人の望みの喜びよ\",\"メロディ5\",キー割付!S664=\"メヌエット\",\"メロディ6\",キー割付!S664=\"華麗なる大円舞曲\",\"メロディ7\",キー割付!S664=\"ハンガリア舞曲第5番\",\"メロディ8\",TRUE,\"トーン1\"))","v":"トーン1"},{"$f":"IF(E118=\"ZX-DECLDIV-IPコードレス電話機\",\"トーン1\",_xlfn.IFS(キー割付!N672=\"着信音なし\",\"トーン1\",キー割付!N672=\"トーン1\",\"トーン1\",キー割付!N672=\"トーン2\",\"トーン2\",キー割付!N672=\"トーン3\",\"トーン3\",キー割付!N672=\"トーン4\",\"トーン4\",キー割付!N672=\"トーン5\",\"トーン5\",キー割付!N672=\"トーン6\",\"トーン6\",キー割付!N672=\"トーン7\",\"トーン7\",キー割付!N672=\"トーン7\",\"トーン7\",キー割付!N672=\"無鳴動着信\",\"トーン8\",キー割付!N672=\"グリーンスリーブス\",\"メロディ1\",キー割付!N672=\"峠の我が家\",\"メロディ2\",キー割付!N672=\"カノン\",\"メロディ3\",キー割付!N672=\"春の歌\",\"メロディ4\",キー割付!N672=\"主よ人の望みの喜びよ\",\"メロディ5\",キー割付!N672=\"メヌエット\",\"メロディ6\",キー割付!N672=\"華麗なる大円舞曲\",\"メロディ7\",キー割付!N672=\"ハンガリア舞曲第5番\",\"メロディ8\",TRUE,\"トーン1\"))","v":"トーン1"},{"$f":"IF(E118=\"ZX-DECLDIV-IPコードレス電話機\",\"トーン1\",_xlfn.IFS(キー割付!O672=\"着信音なし\",\"トーン1\",キー割付!O672=\"トーン1\",\"トーン1\",キー割付!O672=\"トーン2\",\"トーン2\",キー割付!O672=\"トーン3\",\"トーン3\",キー割付!O672=\"トーン4\",\"トーン4\",キー割付!O672=\"トーン5\",\"トーン5\",キー割付!O672=\"トーン6\",\"トーン6\",キー割付!O672=\"トーン7\",\"トーン7\",キー割付!O672=\"トーン7\",\"トーン7\",キー割付!O672=\"無鳴動着信\",\"トーン8\",キー割付!O672=\"グリーンスリーブス\",\"メロディ1\",キー割付!O672=\"峠の我が家\",\"メロディ2\",キー割付!O672=\"カノン\",\"メロディ3\",キー割付!O672=\"春の歌\",\"メロディ4\",キー割付!O672=\"主よ人の望みの喜びよ\",\"メロディ5\",キー割付!O672=\"メヌエット\",\"メロディ6\",キー割付!O672=\"華麗なる大円舞曲\",\"メロディ7\",キー割付!O672=\"ハンガリア舞曲第5番\",\"メロディ8\",TRUE,\"トーン1\"))","v":"トーン1"},{"$f":"IF(E118=\"ZX-DECLDIV-IPコードレス電話機\",\"トーン1\",_xlfn.IFS(キー割付!P672=\"着信音なし\",\"トーン1\",キー割付!P672=\"トーン1\",\"トーン1\",キー割付!P672=\"トーン2\",\"トーン2\",キー割付!P672=\"トーン3\",\"トーン3\",キー割付!P672=\"トーン4\",\"トーン4\",キー割付!P672=\"トーン5\",\"トーン5\",キー割付!P672=\"トーン6\",\"トーン6\",キー割付!P672=\"トーン7\",\"トーン7\",キー割付!P672=\"トーン7\",\"トーン7\",キー割付!P672=\"無鳴動着信\",\"トーン8\",キー割付!P672=\"グリーンスリーブス\",\"メロディ1\",キー割付!P672=\"峠の我が家\",\"メロディ2\",キー割付!P672=\"カノン\",\"メロディ3\",キー割付!P672=\"春の歌\",\"メロディ4\",キー割付!P672=\"主よ人の望みの喜びよ\",\"メロディ5\",キー割付!P672=\"メヌエット\",\"メロディ6\",キー割付!P672=\"華麗なる大円舞曲\",\"メロディ7\",キー割付!P672=\"ハンガリア舞曲第5番\",\"メロディ8\",TRUE,\"トーン1\"))","v":"トーン1"},{"$f":"IF(E118=\"ZX-DECLDIV-IPコードレス電話機\",\"トーン1\",_xlfn.IFS(キー割付!Q672=\"着信音なし\",\"トーン1\",キー割付!Q672=\"トーン1\",\"トーン1\",キー割付!Q672=\"トーン2\",\"トーン2\",キー割付!Q672=\"トーン3\",\"トーン3\",キー割付!Q672=\"トーン4\",\"トーン4\",キー割付!Q672=\"トーン5\",\"トーン5\",キー割付!Q672=\"トーン6\",\"トーン6\",キー割付!Q672=\"トーン7\",\"トーン7\",キー割付!Q672=\"トーン7\",\"トーン7\",キー割付!Q672=\"無鳴動着信\",\"トーン8\",キー割付!Q672=\"グリーンスリーブス\",\"メロディ1\",キー割付!Q672=\"峠の我が家\",\"メロディ2\",キー割付!Q672=\"カノン\",\"メロディ3\",キー割付!Q672=\"春の歌\",\"メロディ4\",キー割付!Q672=\"主よ人の望みの喜びよ\",\"メロディ5\",キー割付!Q672=\"メヌエット\",\"メロディ6\",キー割付!Q672=\"華麗なる大円舞曲\",\"メロディ7\",キー割付!Q672=\"ハンガリア舞曲第5番\",\"メロディ8\",TRUE,\"トーン1\"))","v":"トーン1"},{"$f":"IF(E118=\"ZX-DECLDIV-IPコードレス電話機\",\"トーン1\",_xlfn.IFS(キー割付!R672=\"着信音なし\",\"トーン1\",キー割付!R672=\"トーン1\",\"トーン1\",キー割付!R672=\"トーン2\",\"トーン2\",キー割付!R672=\"トーン3\",\"トーン3\",キー割付!R672=\"トーン4\",\"トーン4\",キー割付!R672=\"トーン5\",\"トーン5\",キー割付!R672=\"トーン6\",\"トーン6\",キー割付!R672=\"トーン7\",\"トーン7\",キー割付!R672=\"トーン7\",\"トーン7\",キー割付!R672=\"無鳴動着信\",\"トーン8\",キー割付!R672=\"グリーンスリーブス\",\"メロディ1\",キー割付!R672=\"峠の我が家\",\"メロディ2\",キー割付!R672=\"カノン\",\"メロディ3\",キー割付!R672=\"春の歌\",\"メロディ4\",キー割付!R672=\"主よ人の望みの喜びよ\",\"メロディ5\",キー割付!R672=\"メヌエット\",\"メロディ6\",キー割付!R672=\"華麗なる大円舞曲\",\"メロディ7\",キー割付!R672=\"ハンガリア舞曲第5番\",\"メロディ8\",TRUE,\"トーン1\"))","v":"トーン1"},{"$f":"IF(E118=\"ZX-DECLDIV-IPコードレス電話機\",\"トーン1\",_xlfn.IFS(キー割付!S672=\"着信音なし\",\"トーン1\",キー割付!S672=\"トーン1\",\"トーン1\",キー割付!S672=\"トーン2\",\"トーン2\",キー割付!S672=\"トーン3\",\"トーン3\",キー割付!S672=\"トーン4\",\"トーン4\",キー割付!S672=\"トーン5\",\"トーン5\",キー割付!S672=\"トーン6\",\"トーン6\",キー割付!S672=\"トーン7\",\"トーン7\",キー割付!S672=\"トーン7\",\"トーン7\",キー割付!S672=\"無鳴動着信\",\"トーン8\",キー割付!S672=\"グリーンスリーブス\",\"メロディ1\",キー割付!S672=\"峠の我が家\",\"メロディ2\",キー割付!S672=\"カノン\",\"メロディ3\",キー割付!S672=\"春の歌\",\"メロディ4\",キー割付!S672=\"主よ人の望みの喜びよ\",\"メロディ5\",キー割付!S672=\"メヌエット\",\"メロディ6\",キー割付!S672=\"華麗なる大円舞曲\",\"メロディ7\",キー割付!S672=\"ハンガリア舞曲第5番\",\"メロディ8\",TRUE,\"トーン1\"))","v":"トーン1"},{"$f":"IF(E118=\"ZX-DECLDIV-IPコードレス電話機\",\"トーン1\",_xlfn.IFS(キー割付!N680=\"着信音なし\",\"トーン1\",キー割付!N680=\"トーン1\",\"トーン1\",キー割付!N680=\"トーン2\",\"トーン2\",キー割付!N680=\"トーン3\",\"トーン3\",キー割付!N680=\"トーン4\",\"トーン4\",キー割付!N680=\"トーン5\",\"トーン5\",キー割付!N680=\"トーン6\",\"トーン6\",キー割付!N680=\"トーン7\",\"トーン7\",キー割付!N680=\"トーン7\",\"トーン7\",キー割付!N680=\"無鳴動着信\",\"トーン8\",キー割付!N680=\"グリーンスリーブス\",\"メロディ1\",キー割付!N680=\"峠の我が家\",\"メロディ2\",キー割付!N680=\"カノン\",\"メロディ3\",キー割付!N680=\"春の歌\",\"メロディ4\",キー割付!N680=\"主よ人の望みの喜びよ\",\"メロディ5\",キー割付!N680=\"メヌエット\",\"メロディ6\",キー割付!N680=\"華麗なる大円舞曲\",\"メロディ7\",キー割付!N680=\"ハンガリア舞曲第5番\",\"メロディ8\",TRUE,\"トーン1\"))","v":"トーン1"},{"$f":"IF(E118=\"ZX-DECLDIV-IPコードレス電話機\",\"トーン1\",_xlfn.IFS(キー割付!O680=\"着信音なし\",\"トーン1\",キー割付!O680=\"トーン1\",\"トーン1\",キー割付!O680=\"トーン2\",\"トーン2\",キー割付!O680=\"トーン3\",\"トーン3\",キー割付!O680=\"トーン4\",\"トーン4\",キー割付!O680=\"トーン5\",\"トーン5\",キー割付!O680=\"トーン6\",\"トーン6\",キー割付!O680=\"トーン7\",\"トーン7\",キー割付!O680=\"トーン7\",\"トーン7\",キー割付!O680=\"無鳴動着信\",\"トーン8\",キー割付!O680=\"グリーンスリーブス\",\"メロディ1\",キー割付!O680=\"峠の我が家\",\"メロディ2\",キー割付!O680=\"カノン\",\"メロディ3\",キー割付!O680=\"春の歌\",\"メロディ4\",キー割付!O680=\"主よ人の望みの喜びよ\",\"メロディ5\",キー割付!O680=\"メヌエット\",\"メロディ6\",キー割付!O680=\"華麗なる大円舞曲\",\"メロディ7\",キー割付!O680=\"ハンガリア舞曲第5番\",\"メロディ8\",TRUE,\"トーン1\"))","v":"トーン1"},{"$f":"IF(E118=\"ZX-DECLDIV-IPコードレス電話機\",\"トーン1\",_xlfn.IFS(キー割付!P680=\"着信音なし\",\"トーン1\",キー割付!P680=\"トーン1\",\"トーン1\",キー割付!P680=\"トーン2\",\"トーン2\",キー割付!P680=\"トーン3\",\"トーン3\",キー割付!P680=\"トーン4\",\"トーン4\",キー割付!P680=\"トーン5\",\"トーン5\",キー割付!P680=\"トーン6\",\"トーン6\",キー割付!P680=\"トーン7\",\"トーン7\",キー割付!P680=\"トーン7\",\"トーン7\",キー割付!P680=\"無鳴動着信\",\"トーン8\",キー割付!P680=\"グリーンスリーブス\",\"メロディ1\",キー割付!P680=\"峠の我が家\",\"メロディ2\",キー割付!P680=\"カノン\",\"メロディ3\",キー割付!P680=\"春の歌\",\"メロディ4\",キー割付!P680=\"主よ人の望みの喜びよ\",\"メロディ5\",キー割付!P680=\"メヌエット\",\"メロディ6\",キー割付!P680=\"華麗なる大円舞曲\",\"メロディ7\",キー割付!P680=\"ハンガリア舞曲第5番\",\"メロディ8\",TRUE,\"トーン1\"))","v":"トーン1"},{"$f":"IF(E118=\"ZX-DECLDIV-IPコードレス電話機\",\"トーン1\",_xlfn.IFS(キー割付!Q680=\"着信音なし\",\"トーン1\",キー割付!Q680=\"トーン1\",\"トーン1\",キー割付!Q680=\"トーン2\",\"トーン2\",キー割付!Q680=\"トーン3\",\"トーン3\",キー割付!Q680=\"トーン4\",\"トーン4\",キー割付!Q680=\"トーン5\",\"トーン5\",キー割付!Q680=\"トーン6\",\"トーン6\",キー割付!Q680=\"トーン7\",\"トーン7\",キー割付!Q680=\"トーン7\",\"トーン7\",キー割付!Q680=\"無鳴動着信\",\"トーン8\",キー割付!Q680=\"グリーンスリーブス\",\"メロディ1\",キー割付!Q680=\"峠の我が家\",\"メロディ2\",キー割付!Q680=\"カノン\",\"メロディ3\",キー割付!Q680=\"春の歌\",\"メロディ4\",キー割付!Q680=\"主よ人の望みの喜びよ\",\"メロディ5\",キー割付!Q680=\"メヌエット\",\"メロディ6\",キー割付!Q680=\"華麗なる大円舞曲\",\"メロディ7\",キー割付!Q680=\"ハンガリア舞曲第5番\",\"メロディ8\",TRUE,\"トーン1\"))","v":"トーン1"},{"$f":"IF(E118=\"ZX-DECLDIV-IPコードレス電話機\",\"トーン1\",_xlfn.IFS(キー割付!R680=\"着信音なし\",\"トーン1\",キー割付!R680=\"トーン1\",\"トーン1\",キー割付!R680=\"トーン2\",\"トーン2\",キー割付!R680=\"トーン3\",\"トーン3\",キー割付!R680=\"トーン4\",\"トーン4\",キー割付!R680=\"トーン5\",\"トーン5\",キー割付!R680=\"トーン6\",\"トーン6\",キー割付!R680=\"トーン7\",\"トーン7\",キー割付!R680=\"トーン7\",\"トーン7\",キー割付!R680=\"無鳴動着信\",\"トーン8\",キー割付!R680=\"グリーンスリーブス\",\"メロディ1\",キー割付!R680=\"峠の我が家\",\"メロディ2\",キー割付!R680=\"カノン\",\"メロディ3\",キー割付!R680=\"春の歌\",\"メロディ4\",キー割付!R680=\"主よ人の望みの喜びよ\",\"メロディ5\",キー割付!R680=\"メヌエット\",\"メロディ6\",キー割付!R680=\"華麗なる大円舞曲\",\"メロディ7\",キー割付!R680=\"ハンガリア舞曲第5番\",\"メロディ8\",TRUE,\"トーン1\"))","v":"トーン1"},{"$f":"IF(E118=\"ZX-DECLDIV-IPコードレス電話機\",\"トーン1\",_xlfn.IFS(キー割付!S680=\"着信音なし\",\"トーン1\",キー割付!S680=\"トーン1\",\"トーン1\",キー割付!S680=\"トーン2\",\"トーン2\",キー割付!S680=\"トーン3\",\"トーン3\",キー割付!S680=\"トーン4\",\"トーン4\",キー割付!S680=\"トーン5\",\"トーン5\",キー割付!S680=\"トーン6\",\"トーン6\",キー割付!S680=\"トーン7\",\"トーン7\",キー割付!S680=\"トーン7\",\"トーン7\",キー割付!S680=\"無鳴動着信\",\"トーン8\",キー割付!S680=\"グリーンスリーブス\",\"メロディ1\",キー割付!S680=\"峠の我が家\",\"メロディ2\",キー割付!S680=\"カノン\",\"メロディ3\",キー割付!S680=\"春の歌\",\"メロディ4\",キー割付!S680=\"主よ人の望みの喜びよ\",\"メロディ5\",キー割付!S680=\"メヌエット\",\"メロディ6\",キー割付!S680=\"華麗なる大円舞曲\",\"メロディ7\",キー割付!S680=\"ハンガリア舞曲第5番\",\"メロディ8\",TRUE,\"トーン1\"))","v":"トーン1"}]
[null,null,null,null,null,{"$f":"_xlfn.IFS(キー割付!N657=\"昼夜休憩\",\"B\",キー割付!N657=\"－－－\",\"-\",キー割付!N657=\"昼－－\",\"H\",キー割付!N657=\"－夜－\",\"N\",キー割付!N657=\"－－休憩\",\"P\",キー割付!N657=\"昼夜－\",\"N\",キー割付!N657=\"昼－休憩\",\"F\",キー割付!N657=\"－夜休憩\",\"K\",TRUE,\"-\")","v":"-"},{"$f":"_xlfn.IFS(キー割付!O657=\"昼夜休憩\",\"B\",キー割付!O657=\"－－－\",\"-\",キー割付!O657=\"昼－－\",\"H\",キー割付!O657=\"－夜－\",\"N\",キー割付!O657=\"－－休憩\",\"P\",キー割付!O657=\"昼夜－\",\"N\",キー割付!O657=\"昼－休憩\",\"F\",キー割付!O657=\"－夜休憩\",\"K\",TRUE,\"-\")","v":"-"},{"$f":"_xlfn.IFS(キー割付!P657=\"昼夜休憩\",\"B\",キー割付!P657=\"－－－\",\"-\",キー割付!P657=\"昼－－\",\"H\",キー割付!P657=\"－夜－\",\"N\",キー割付!P657=\"－－休憩\",\"P\",キー割付!P657=\"昼夜－\",\"N\",キー割付!P657=\"昼－休憩\",\"F\",キー割付!P657=\"－夜休憩\",\"K\",TRUE,\"-\")","v":"-"},{"$f":"_xlfn.IFS(キー割付!Q657=\"昼夜休憩\",\"B\",キー割付!Q657=\"－－－\",\"-\",キー割付!Q657=\"昼－－\",\"H\",キー割付!Q657=\"－夜－\",\"N\",キー割付!Q657=\"－－休憩\",\"P\",キー割付!Q657=\"昼夜－\",\"N\",キー割付!Q657=\"昼－休憩\",\"F\",キー割付!Q657=\"－夜休憩\",\"K\",TRUE,\"-\")","v":"-"},{"$f":"_xlfn.IFS(キー割付!R657=\"昼夜休憩\",\"B\",キー割付!R657=\"－－－\",\"-\",キー割付!R657=\"昼－－\",\"H\",キー割付!R657=\"－夜－\",\"N\",キー割付!R657=\"－－休憩\",\"P\",キー割付!R657=\"昼夜－\",\"N\",キー割付!R657=\"昼－休憩\",\"F\",キー割付!R657=\"－夜休憩\",\"K\",TRUE,\"-\")","v":"-"},{"$f":"_xlfn.IFS(キー割付!S657=\"昼夜休憩\",\"B\",キー割付!S657=\"－－－\",\"-\",キー割付!S657=\"昼－－\",\"H\",キー割付!S657=\"－夜－\",\"N\",キー割付!S657=\"－－休憩\",\"P\",キー割付!S657=\"昼夜－\",\"N\",キー割付!S657=\"昼－休憩\",\"F\",キー割付!S657=\"－夜休憩\",\"K\",TRUE,\"-\")","v":"-"},{"$f":"_xlfn.IFS(キー割付!N665=\"昼夜休憩\",\"B\",キー割付!N665=\"－－－\",\"-\",キー割付!N665=\"昼－－\",\"H\",キー割付!N665=\"－夜－\",\"N\",キー割付!N665=\"－－休憩\",\"P\",キー割付!N665=\"昼夜－\",\"N\",キー割付!N665=\"昼－休憩\",\"F\",キー割付!N665=\"－夜休憩\",\"K\",TRUE,\"-\")","v":"-"},{"$f":"_xlfn.IFS(キー割付!O665=\"昼夜休憩\",\"B\",キー割付!O665=\"－－－\",\"-\",キー割付!O665=\"昼－－\",\"H\",キー割付!O665=\"－夜－\",\"N\",キー割付!O665=\"－－休憩\",\"P\",キー割付!O665=\"昼夜－\",\"N\",キー割付!O665=\"昼－休憩\",\"F\",キー割付!O665=\"－夜休憩\",\"K\",TRUE,\"-\")","v":"-"},{"$f":"IF(E118=\"ZX-DECLDIV-IPコードレス電話機\",\"-\",_xlfn.IFS(キー割付!P665=\"昼夜休憩\",\"B\",キー割付!P665=\"－－－\",\"-\",キー割付!P665=\"昼－－\",\"H\",キー割付!P665=\"－夜－\",\"N\",キー割付!P665=\"－－休憩\",\"P\",キー割付!P665=\"昼夜－\",\"N\",キー割付!P665=\"昼－休憩\",\"F\",キー割付!P665=\"－夜休憩\",\"K\",TRUE,\"-\"))","v":"-"},{"$f":"IF(E118=\"ZX-DECLDIV-IPコードレス電話機\",\"-\",_xlfn.IFS(キー割付!Q665=\"昼夜休憩\",\"B\",キー割付!Q665=\"－－－\",\"-\",キー割付!Q665=\"昼－－\",\"H\",キー割付!Q665=\"－夜－\",\"N\",キー割付!Q665=\"－－休憩\",\"P\",キー割付!Q665=\"昼夜－\",\"N\",キー割付!Q665=\"昼－休憩\",\"F\",キー割付!Q665=\"－夜休憩\",\"K\",TRUE,\"-\"))","v":"-"},{"$f":"IF(E118=\"ZX-DECLDIV-IPコードレス電話機\",\"-\",_xlfn.IFS(キー割付!R665=\"昼夜休憩\",\"B\",キー割付!R665=\"－－－\",\"-\",キー割付!R665=\"昼－－\",\"H\",キー割付!R665=\"－夜－\",\"N\",キー割付!R665=\"－－休憩\",\"P\",キー割付!R665=\"昼夜－\",\"N\",キー割付!R665=\"昼－休憩\",\"F\",キー割付!R665=\"－夜休憩\",\"K\",TRUE,\"-\"))","v":"-"},{"$f":"IF(E118=\"ZX-DECLDIV-IPコードレス電話機\",\"-\",_xlfn.IFS(キー割付!S665=\"昼夜休憩\",\"B\",キー割付!S665=\"－－－\",\"-\",キー割付!S665=\"昼－－\",\"H\",キー割付!S665=\"－夜－\",\"N\",キー割付!S665=\"－－休憩\",\"P\",キー割付!S665=\"昼夜－\",\"N\",キー割付!S665=\"昼－休憩\",\"F\",キー割付!S665=\"－夜休憩\",\"K\",TRUE,\"-\"))","v":"-"},{"$f":"IF(E118=\"ZX-DECLDIV-IPコードレス電話機\",\"-\",_xlfn.IFS(キー割付!N673=\"昼夜休憩\",\"B\",キー割付!N673=\"－－－\",\"-\",キー割付!N673=\"昼－－\",\"H\",キー割付!N673=\"－夜－\",\"N\",キー割付!N673=\"－－休憩\",\"P\",キー割付!N673=\"昼夜－\",\"N\",キー割付!N673=\"昼－休憩\",\"F\",キー割付!N673=\"－夜休憩\",\"K\",TRUE,\"-\"))","v":"-"},{"$f":"IF(E118=\"ZX-DECLDIV-IPコードレス電話機\",\"-\",_xlfn.IFS(キー割付!O673=\"昼夜休憩\",\"B\",キー割付!O673=\"－－－\",\"-\",キー割付!O673=\"昼－－\",\"H\",キー割付!O673=\"－夜－\",\"N\",キー割付!O673=\"－－休憩\",\"P\",キー割付!O673=\"昼夜－\",\"N\",キー割付!O673=\"昼－休憩\",\"F\",キー割付!O673=\"－夜休憩\",\"K\",TRUE,\"-\"))","v":"-"},{"$f":"IF(E118=\"ZX-DECLDIV-IPコードレス電話機\",\"-\",_xlfn.IFS(キー割付!P673=\"昼夜休憩\",\"B\",キー割付!P673=\"－－－\",\"-\",キー割付!P673=\"昼－－\",\"H\",キー割付!P673=\"－夜－\",\"N\",キー割付!P673=\"－－休憩\",\"P\",キー割付!P673=\"昼夜－\",\"N\",キー割付!P673=\"昼－休憩\",\"F\",キー割付!P673=\"－夜休憩\",\"K\",TRUE,\"-\"))","v":"-"},{"$f":"IF(E118=\"ZX-DECLDIV-IPコードレス電話機\",\"-\",_xlfn.IFS(キー割付!Q673=\"昼夜休憩\",\"B\",キー割付!Q673=\"－－－\",\"-\",キー割付!Q673=\"昼－－\",\"H\",キー割付!Q673=\"－夜－\",\"N\",キー割付!Q673=\"－－休憩\",\"P\",キー割付!Q673=\"昼夜－\",\"N\",キー割付!Q673=\"昼－休憩\",\"F\",キー割付!Q673=\"－夜休憩\",\"K\",TRUE,\"-\"))","v":"-"},{"$f":"IF(E118=\"ZX-DECLDIV-IPコードレス電話機\",\"-\",_xlfn.IFS(キー割付!R673=\"昼夜休憩\",\"B\",キー割付!R673=\"－－－\",\"-\",キー割付!R673=\"昼－－\",\"H\",キー割付!R673=\"－夜－\",\"N\",キー割付!R673=\"－－休憩\",\"P\",キー割付!R673=\"昼夜－\",\"N\",キー割付!R673=\"昼－休憩\",\"F\",キー割付!R673=\"－夜休憩\",\"K\",TRUE,\"-\"))","v":"-"},{"$f":"IF(E118=\"ZX-DECLDIV-IPコードレス電話機\",\"-\",_xlfn.IFS(キー割付!S673=\"昼夜休憩\",\"B\",キー割付!S673=\"－－－\",\"-\",キー割付!S673=\"昼－－\",\"H\",キー割付!S673=\"－夜－\",\"N\",キー割付!S673=\"－－休憩\",\"P\",キー割付!S673=\"昼夜－\",\"N\",キー割付!S673=\"昼－休憩\",\"F\",キー割付!S673=\"－夜休憩\",\"K\",TRUE,\"-\"))","v":"-"},{"$f":"IF(E118=\"ZX-DECLDIV-IPコードレス電話機\",\"-\",_xlfn.IFS(キー割付!N681=\"昼夜休憩\",\"B\",キー割付!N681=\"－－－\",\"-\",キー割付!N681=\"昼－－\",\"H\",キー割付!N681=\"－夜－\",\"N\",キー割付!N681=\"－－休憩\",\"P\",キー割付!N681=\"昼夜－\",\"N\",キー割付!N681=\"昼－休憩\",\"F\",キー割付!N681=\"－夜休憩\",\"K\",TRUE,\"-\"))","v":"-"},{"$f":"IF(E118=\"ZX-DECLDIV-IPコードレス電話機\",\"-\",_xlfn.IFS(キー割付!O681=\"昼夜休憩\",\"B\",キー割付!O681=\"－－－\",\"-\",キー割付!O681=\"昼－－\",\"H\",キー割付!O681=\"－夜－\",\"N\",キー割付!O681=\"－－休憩\",\"P\",キー割付!O681=\"昼夜－\",\"N\",キー割付!O681=\"昼－休憩\",\"F\",キー割付!O681=\"－夜休憩\",\"K\",TRUE,\"-\"))","v":"-"},{"$f":"IF(E118=\"ZX-DECLDIV-IPコードレス電話機\",\"-\",_xlfn.IFS(キー割付!P681=\"昼夜休憩\",\"B\",キー割付!P681=\"－－－\",\"-\",キー割付!P681=\"昼－－\",\"H\",キー割付!P681=\"－夜－\",\"N\",キー割付!P681=\"－－休憩\",\"P\",キー割付!P681=\"昼夜－\",\"N\",キー割付!P681=\"昼－休憩\",\"F\",キー割付!P681=\"－夜休憩\",\"K\",TRUE,\"-\"))","v":"-"},{"$f":"IF(E118=\"ZX-DECLDIV-IPコードレス電話機\",\"-\",_xlfn.IFS(キー割付!Q681=\"昼夜休憩\",\"B\",キー割付!Q681=\"－－－\",\"-\",キー割付!Q681=\"昼－－\",\"H\",キー割付!Q681=\"－夜－\",\"N\",キー割付!Q681=\"－－休憩\",\"P\",キー割付!Q681=\"昼夜－\",\"N\",キー割付!Q681=\"昼－休憩\",\"F\",キー割付!Q681=\"－夜休憩\",\"K\",TRUE,\"-\"))","v":"-"},{"$f":"IF(E118=\"ZX-DECLDIV-IPコードレス電話機\",\"-\",_xlfn.IFS(キー割付!R681=\"昼夜休憩\",\"B\",キー割付!R681=\"－－－\",\"-\",キー割付!R681=\"昼－－\",\"H\",キー割付!R681=\"－夜－\",\"N\",キー割付!R681=\"－－休憩\",\"P\",キー割付!R681=\"昼夜－\",\"N\",キー割付!R681=\"昼－休憩\",\"F\",キー割付!R681=\"－夜休憩\",\"K\",TRUE,\"-\"))","v":"-"},{"$f":"IF(E118=\"ZX-DECLDIV-IPコードレス電話機\",\"-\",_xlfn.IFS(キー割付!S681=\"昼夜休憩\",\"B\",キー割付!S681=\"－－－\",\"-\",キー割付!S681=\"昼－－\",\"H\",キー割付!S681=\"－夜－\",\"N\",キー割付!S681=\"－－休憩\",\"P\",キー割付!S681=\"昼夜－\",\"N\",キー割付!S681=\"昼－休憩\",\"F\",キー割付!S681=\"－夜休憩\",\"K\",TRUE,\"-\"))","v":"-"}]
[null,39,{"$f":"IF(IFERROR(VALUE(VLOOKUP(B121,内線_キー割用,2,FALSE)),\"\")=0,\"\",IFERROR(VALUE(VLOOKUP(B121,内線_キー割用,2,FALSE)),\"\"))","v":""},{"$f":"IF(IFERROR(VALUE(VLOOKUP(B121,内線_キー割用,4,FALSE)),\"\")=0,\"\",IFERROR(VALUE(VLOOKUP(B121,内線_キー割用,4,FALSE)),\"\"))","v":""},{"$f":"IF(IFERROR(VLOOKUP(B121,内線_キー割用,3,FALSE),\"\")=0,\"\",IFERROR(VLOOKUP(B121,内線_キー割用,3,FALSE),\"\"))","v":""},{"$f":"IF(キー割付!D691=\"\",\"未使用\",キー割付!D691)","v":"未使用"},{"$f":"IF(キー割付!E691=\"\",\"未使用\",キー割付!E691)","v":"未使用"},{"$f":"IF(キー割付!F691=\"\",\"未使用\",キー割付!F691)","v":"未使用"},{"$f":"IF(キー割付!G691=\"\",\"未使用\",キー割付!G691)","v":"未使用"},{"$f":"IF(キー割付!H691=\"\",\"未使用\",キー割付!H691)","v":"未使用"},{"$f":"IF(キー割付!I691=\"\",\"未使用\",キー割付!I691)","v":"未使用"},{"$f":"IF(キー割付!D699=\"\",\"未使用\",キー割付!D699)","v":"未使用"},{"$f":"IF(キー割付!E699=\"\",\"未使用\",キー割付!E699)","v":"未使用"},{"$f":"IF(E121=\"ZX-DECLDIV-IPコードレス電話機\",\"未使用\",IF(キー割付!F699=\"\",\"未使用\",キー割付!F699))","v":"未使用"},{"$f":"IF(E121=\"ZX-DECLDIV-IPコードレス電話機\",\"未使用\",IF(キー割付!G699=\"\",\"未使用\",キー割付!G699))","v":"未使用"},{"$f":"IF(E121=\"ZX-DECLDIV-IPコードレス電話機\",\"未使用\",IF(キー割付!H699=\"\",\"未使用\",キー割付!H699))","v":"未使用"},{"$f":"IF(E121=\"ZX-DECLDIV-IPコードレス電話機\",\"未使用\",IF(キー割付!I699=\"\",\"未使用\",キー割付!I699))","v":"未使用"},{"$f":"IF(E121=\"ZX-DECLDIV-IPコードレス電話機\",\"未使用\",IF(キー割付!D707=\"\",\"未使用\",キー割付!D707))","v":"未使用"},{"$f":"IF(E121=\"ZX-DECLDIV-IPコードレス電話機\",\"未使用\",IF(キー割付!E707=\"\",\"未使用\",キー割付!E707))","v":"未使用"},{"$f":"IF(E121=\"ZX-DECLDIV-IPコードレス電話機\",\"未使用\",IF(キー割付!F707=\"\",\"未使用\",キー割付!F707))","v":"未使用"},{"$f":"IF(E121=\"ZX-DECLDIV-IPコードレス電話機\",\"未使用\",IF(キー割付!G707=\"\",\"未使用\",キー割付!G707))","v":"未使用"},{"$f":"IF(E121=\"ZX-DECLDIV-IPコードレス電話機\",\"未使用\",IF(キー割付!H707=\"\",\"未使用\",キー割付!H707))","v":"未使用"},{"$f":"IF(E121=\"ZX-DECLDIV-IPコードレス電話機\",\"未使用\",IF(キー割付!I707=\"\",\"未使用\",キー割付!I707))","v":"未使用"},{"$f":"IF(E121=\"ZX-DECLDIV-IPコードレス電話機\",\"未使用\",IF(キー割付!D715=\"\",\"未使用\",キー割付!D715))","v":"未使用"},{"$f":"IF(E121=\"ZX-DECLDIV-IPコードレス電話機\",\"未使用\",IF(キー割付!E715=\"\",\"未使用\",キー割付!E715))","v":"未使用"},{"$f":"IF(E121=\"ZX-DECLDIV-IPコードレス電話機\",\"未使用\",IF(キー割付!F715=\"\",\"未使用\",キー割付!F715))","v":"未使用"},{"$f":"IF(E121=\"ZX-DECLDIV-IPコードレス電話機\",\"未使用\",IF(キー割付!G715=\"\",\"未使用\",キー割付!G715))","v":"未使用"},{"$f":"IF(E121=\"ZX-DECLDIV-IPコードレス電話機\",\"未使用\",IF(キー割付!H715=\"\",\"未使用\",キー割付!H715))","v":"未使用"},{"$f":"IF(E121=\"ZX-DECLDIV-IPコードレス電話機\",\"未使用\",IF(キー割付!I715=\"\",\"未使用\",キー割付!I715))","v":"未使用"}]
[null,null,null,null,null,{"$f":"_xlfn.IFS(キー割付!D692=\"着信音なし\",\"トーン1\",キー割付!D692=\"トーン1\",\"トーン1\",キー割付!D692=\"トーン2\",\"トーン2\",キー割付!D692=\"トーン3\",\"トーン3\",キー割付!D692=\"トーン4\",\"トーン4\",キー割付!D692=\"トーン5\",\"トーン5\",キー割付!D692=\"トーン6\",\"トーン6\",キー割付!D692=\"トーン7\",\"トーン7\",キー割付!D692=\"トーン7\",\"トーン7\",キー割付!D692=\"無鳴動着信\",\"トーン8\",キー割付!D692=\"グリーンスリーブス\",\"メロディ1\",キー割付!D692=\"峠の我が家\",\"メロディ2\",キー割付!D692=\"カノン\",\"メロディ3\",キー割付!D692=\"春の歌\",\"メロディ4\",キー割付!D692=\"主よ人の望みの喜びよ\",\"メロディ5\",キー割付!D692=\"メヌエット\",\"メロディ6\",キー割付!D692=\"華麗なる大円舞曲\",\"メロディ7\",キー割付!D692=\"ハンガリア舞曲第5番\",\"メロディ8\",TRUE,\"トーン1\")","v":"トーン1"},{"$f":"_xlfn.IFS(キー割付!E692=\"着信音なし\",\"トーン1\",キー割付!E692=\"トーン1\",\"トーン1\",キー割付!E692=\"トーン2\",\"トーン2\",キー割付!E692=\"トーン3\",\"トーン3\",キー割付!E692=\"トーン4\",\"トーン4\",キー割付!E692=\"トーン5\",\"トーン5\",キー割付!E692=\"トーン6\",\"トーン6\",キー割付!E692=\"トーン7\",\"トーン7\",キー割付!E692=\"トーン7\",\"トーン7\",キー割付!E692=\"無鳴動着信\",\"トーン8\",キー割付!E692=\"グリーンスリーブス\",\"メロディ1\",キー割付!E692=\"峠の我が家\",\"メロディ2\",キー割付!E692=\"カノン\",\"メロディ3\",キー割付!E692=\"春の歌\",\"メロディ4\",キー割付!E692=\"主よ人の望みの喜びよ\",\"メロディ5\",キー割付!E692=\"メヌエット\",\"メロディ6\",キー割付!E692=\"華麗なる大円舞曲\",\"メロディ7\",キー割付!E692=\"ハンガリア舞曲第5番\",\"メロディ8\",TRUE,\"トーン1\")","v":"トーン1"},{"$f":"_xlfn.IFS(キー割付!F692=\"着信音なし\",\"トーン1\",キー割付!F692=\"トーン1\",\"トーン1\",キー割付!F692=\"トーン2\",\"トーン2\",キー割付!F692=\"トーン3\",\"トーン3\",キー割付!F692=\"トーン4\",\"トーン4\",キー割付!F692=\"トーン5\",\"トーン5\",キー割付!F692=\"トーン6\",\"トーン6\",キー割付!F692=\"トーン7\",\"トーン7\",キー割付!F692=\"トーン7\",\"トーン7\",キー割付!F692=\"無鳴動着信\",\"トーン8\",キー割付!F692=\"グリーンスリーブス\",\"メロディ1\",キー割付!F692=\"峠の我が家\",\"メロディ2\",キー割付!F692=\"カノン\",\"メロディ3\",キー割付!F692=\"春の歌\",\"メロディ4\",キー割付!F692=\"主よ人の望みの喜びよ\",\"メロディ5\",キー割付!F692=\"メヌエット\",\"メロディ6\",キー割付!F692=\"華麗なる大円舞曲\",\"メロディ7\",キー割付!F692=\"ハンガリア舞曲第5番\",\"メロディ8\",TRUE,\"トーン1\")","v":"トーン1"},{"$f":"_xlfn.IFS(キー割付!G692=\"着信音なし\",\"トーン1\",キー割付!G692=\"トーン1\",\"トーン1\",キー割付!G692=\"トーン2\",\"トーン2\",キー割付!G692=\"トーン3\",\"トーン3\",キー割付!G692=\"トーン4\",\"トーン4\",キー割付!G692=\"トーン5\",\"トーン5\",キー割付!G692=\"トーン6\",\"トーン6\",キー割付!G692=\"トーン7\",\"トーン7\",キー割付!G692=\"トーン7\",\"トーン7\",キー割付!G692=\"無鳴動着信\",\"トーン8\",キー割付!G692=\"グリーンスリーブス\",\"メロディ1\",キー割付!G692=\"峠の我が家\",\"メロディ2\",キー割付!G692=\"カノン\",\"メロディ3\",キー割付!G692=\"春の歌\",\"メロディ4\",キー割付!G692=\"主よ人の望みの喜びよ\",\"メロディ5\",キー割付!G692=\"メヌエット\",\"メロディ6\",キー割付!G692=\"華麗なる大円舞曲\",\"メロディ7\",キー割付!G692=\"ハンガリア舞曲第5番\",\"メロディ8\",TRUE,\"トーン1\")","v":"トーン1"},{"$f":"_xlfn.IFS(キー割付!H692=\"着信音なし\",\"トーン1\",キー割付!H692=\"トーン1\",\"トーン1\",キー割付!H692=\"トーン2\",\"トーン2\",キー割付!H692=\"トーン3\",\"トーン3\",キー割付!H692=\"トーン4\",\"トーン4\",キー割付!H692=\"トーン5\",\"トーン5\",キー割付!H692=\"トーン6\",\"トーン6\",キー割付!H692=\"トーン7\",\"トーン7\",キー割付!H692=\"トーン7\",\"トーン7\",キー割付!H692=\"無鳴動着信\",\"トーン8\",キー割付!H692=\"グリーンスリーブス\",\"メロディ1\",キー割付!H692=\"峠の我が家\",\"メロディ2\",キー割付!H692=\"カノン\",\"メロディ3\",キー割付!H692=\"春の歌\",\"メロディ4\",キー割付!H692=\"主よ人の望みの喜びよ\",\"メロディ5\",キー割付!H692=\"メヌエット\",\"メロディ6\",キー割付!H692=\"華麗なる大円舞曲\",\"メロディ7\",キー割付!H692=\"ハンガリア舞曲第5番\",\"メロディ8\",TRUE,\"トーン1\")","v":"トーン1"},{"$f":"_xlfn.IFS(キー割付!I692=\"着信音なし\",\"トーン1\",キー割付!I692=\"トーン1\",\"トーン1\",キー割付!I692=\"トーン2\",\"トーン2\",キー割付!I692=\"トーン3\",\"トーン3\",キー割付!I692=\"トーン4\",\"トーン4\",キー割付!I692=\"トーン5\",\"トーン5\",キー割付!I692=\"トーン6\",\"トーン6\",キー割付!I692=\"トーン7\",\"トーン7\",キー割付!I692=\"トーン7\",\"トーン7\",キー割付!I692=\"無鳴動着信\",\"トーン8\",キー割付!I692=\"グリーンスリーブス\",\"メロディ1\",キー割付!I692=\"峠の我が家\",\"メロディ2\",キー割付!I692=\"カノン\",\"メロディ3\",キー割付!I692=\"春の歌\",\"メロディ4\",キー割付!I692=\"主よ人の望みの喜びよ\",\"メロディ5\",キー割付!I692=\"メヌエット\",\"メロディ6\",キー割付!I692=\"華麗なる大円舞曲\",\"メロディ7\",キー割付!I692=\"ハンガリア舞曲第5番\",\"メロディ8\",TRUE,\"トーン1\")","v":"トーン1"},{"$f":"_xlfn.IFS(キー割付!D700=\"着信音なし\",\"トーン1\",キー割付!D700=\"トーン1\",\"トーン1\",キー割付!D700=\"トーン2\",\"トーン2\",キー割付!D700=\"トーン3\",\"トーン3\",キー割付!D700=\"トーン4\",\"トーン4\",キー割付!D700=\"トーン5\",\"トーン5\",キー割付!D700=\"トーン6\",\"トーン6\",キー割付!D700=\"トーン7\",\"トーン7\",キー割付!D700=\"トーン7\",\"トーン7\",キー割付!D700=\"無鳴動着信\",\"トーン8\",キー割付!D700=\"グリーンスリーブス\",\"メロディ1\",キー割付!D700=\"峠の我が家\",\"メロディ2\",キー割付!D700=\"カノン\",\"メロディ3\",キー割付!D700=\"春の歌\",\"メロディ4\",キー割付!D700=\"主よ人の望みの喜びよ\",\"メロディ5\",キー割付!D700=\"メヌエット\",\"メロディ6\",キー割付!D700=\"華麗なる大円舞曲\",\"メロディ7\",キー割付!D700=\"ハンガリア舞曲第5番\",\"メロディ8\",TRUE,\"トーン1\")","v":"トーン1"},{"$f":"_xlfn.IFS(キー割付!E700=\"着信音なし\",\"トーン1\",キー割付!E700=\"トーン1\",\"トーン1\",キー割付!E700=\"トーン2\",\"トーン2\",キー割付!E700=\"トーン3\",\"トーン3\",キー割付!E700=\"トーン4\",\"トーン4\",キー割付!E700=\"トーン5\",\"トーン5\",キー割付!E700=\"トーン6\",\"トーン6\",キー割付!E700=\"トーン7\",\"トーン7\",キー割付!E700=\"トーン7\",\"トーン7\",キー割付!E700=\"無鳴動着信\",\"トーン8\",キー割付!E700=\"グリーンスリーブス\",\"メロディ1\",キー割付!E700=\"峠の我が家\",\"メロディ2\",キー割付!E700=\"カノン\",\"メロディ3\",キー割付!E700=\"春の歌\",\"メロディ4\",キー割付!E700=\"主よ人の望みの喜びよ\",\"メロディ5\",キー割付!E700=\"メヌエット\",\"メロディ6\",キー割付!E700=\"華麗なる大円舞曲\",\"メロディ7\",キー割付!E700=\"ハンガリア舞曲第5番\",\"メロディ8\",TRUE,\"トーン1\")","v":"トーン1"},{"$f":"IF(E121=\"ZX-DECLDIV-IPコードレス電話機\",\"トーン1\",_xlfn.IFS(キー割付!F700=\"着信音なし\",\"トーン1\",キー割付!F700=\"トーン1\",\"トーン1\",キー割付!F700=\"トーン2\",\"トーン2\",キー割付!F700=\"トーン3\",\"トーン3\",キー割付!F700=\"トーン4\",\"トーン4\",キー割付!F700=\"トーン5\",\"トーン5\",キー割付!F700=\"トーン6\",\"トーン6\",キー割付!F700=\"トーン7\",\"トーン7\",キー割付!F700=\"トーン7\",\"トーン7\",キー割付!F700=\"無鳴動着信\",\"トーン8\",キー割付!F700=\"グリーンスリーブス\",\"メロディ1\",キー割付!F700=\"峠の我が家\",\"メロディ2\",キー割付!F700=\"カノン\",\"メロディ3\",キー割付!F700=\"春の歌\",\"メロディ4\",キー割付!F700=\"主よ人の望みの喜びよ\",\"メロディ5\",キー割付!F700=\"メヌエット\",\"メロディ6\",キー割付!F700=\"華麗なる大円舞曲\",\"メロディ7\",キー割付!F700=\"ハンガリア舞曲第5番\",\"メロディ8\",TRUE,\"トーン1\"))","v":"トーン1"},{"$f":"IF(E121=\"ZX-DECLDIV-IPコードレス電話機\",\"トーン1\",_xlfn.IFS(キー割付!G700=\"着信音なし\",\"トーン1\",キー割付!G700=\"トーン1\",\"トーン1\",キー割付!G700=\"トーン2\",\"トーン2\",キー割付!G700=\"トーン3\",\"トーン3\",キー割付!G700=\"トーン4\",\"トーン4\",キー割付!G700=\"トーン5\",\"トーン5\",キー割付!G700=\"トーン6\",\"トーン6\",キー割付!G700=\"トーン7\",\"トーン7\",キー割付!G700=\"トーン7\",\"トーン7\",キー割付!G700=\"無鳴動着信\",\"トーン8\",キー割付!G700=\"グリーンスリーブス\",\"メロディ1\",キー割付!G700=\"峠の我が家\",\"メロディ2\",キー割付!G700=\"カノン\",\"メロディ3\",キー割付!G700=\"春の歌\",\"メロディ4\",キー割付!G700=\"主よ人の望みの喜びよ\",\"メロディ5\",キー割付!G700=\"メヌエット\",\"メロディ6\",キー割付!G700=\"華麗なる大円舞曲\",\"メロディ7\",キー割付!G700=\"ハンガリア舞曲第5番\",\"メロディ8\",TRUE,\"トーン1\"))","v":"トーン1"},{"$f":"IF(E121=\"ZX-DECLDIV-IPコードレス電話機\",\"トーン1\",_xlfn.IFS(キー割付!H700=\"着信音なし\",\"トーン1\",キー割付!H700=\"トーン1\",\"トーン1\",キー割付!H700=\"トーン2\",\"トーン2\",キー割付!H700=\"トーン3\",\"トーン3\",キー割付!H700=\"トーン4\",\"トーン4\",キー割付!H700=\"トーン5\",\"トーン5\",キー割付!H700=\"トーン6\",\"トーン6\",キー割付!H700=\"トーン7\",\"トーン7\",キー割付!H700=\"トーン7\",\"トーン7\",キー割付!H700=\"無鳴動着信\",\"トーン8\",キー割付!H700=\"グリーンスリーブス\",\"メロディ1\",キー割付!H700=\"峠の我が家\",\"メロディ2\",キー割付!H700=\"カノン\",\"メロディ3\",キー割付!H700=\"春の歌\",\"メロディ4\",キー割付!H700=\"主よ人の望みの喜びよ\",\"メロディ5\",キー割付!H700=\"メヌエット\",\"メロディ6\",キー割付!H700=\"華麗なる大円舞曲\",\"メロディ7\",キー割付!H700=\"ハンガリア舞曲第5番\",\"メロディ8\",TRUE,\"トーン1\"))","v":"トーン1"},{"$f":"IF(E121=\"ZX-DECLDIV-IPコードレス電話機\",\"トーン1\",_xlfn.IFS(キー割付!I700=\"着信音なし\",\"トーン1\",キー割付!I700=\"トーン1\",\"トーン1\",キー割付!I700=\"トーン2\",\"トーン2\",キー割付!I700=\"トーン3\",\"トーン3\",キー割付!I700=\"トーン4\",\"トーン4\",キー割付!I700=\"トーン5\",\"トーン5\",キー割付!I700=\"トーン6\",\"トーン6\",キー割付!I700=\"トーン7\",\"トーン7\",キー割付!I700=\"トーン7\",\"トーン7\",キー割付!I700=\"無鳴動着信\",\"トーン8\",キー割付!I700=\"グリーンスリーブス\",\"メロディ1\",キー割付!I700=\"峠の我が家\",\"メロディ2\",キー割付!I700=\"カノン\",\"メロディ3\",キー割付!I700=\"春の歌\",\"メロディ4\",キー割付!I700=\"主よ人の望みの喜びよ\",\"メロディ5\",キー割付!I700=\"メヌエット\",\"メロディ6\",キー割付!I700=\"華麗なる大円舞曲\",\"メロディ7\",キー割付!I700=\"ハンガリア舞曲第5番\",\"メロディ8\",TRUE,\"トーン1\"))","v":"トーン1"},{"$f":"IF(E121=\"ZX-DECLDIV-IPコードレス電話機\",\"トーン1\",_xlfn.IFS(キー割付!D708=\"着信音なし\",\"トーン1\",キー割付!D708=\"トーン1\",\"トーン1\",キー割付!D708=\"トーン2\",\"トーン2\",キー割付!D708=\"トーン3\",\"トーン3\",キー割付!D708=\"トーン4\",\"トーン4\",キー割付!D708=\"トーン5\",\"トーン5\",キー割付!D708=\"トーン6\",\"トーン6\",キー割付!D708=\"トーン7\",\"トーン7\",キー割付!D708=\"トーン7\",\"トーン7\",キー割付!D708=\"無鳴動着信\",\"トーン8\",キー割付!D708=\"グリーンスリーブス\",\"メロディ1\",キー割付!D708=\"峠の我が家\",\"メロディ2\",キー割付!D708=\"カノン\",\"メロディ3\",キー割付!D708=\"春の歌\",\"メロディ4\",キー割付!D708=\"主よ人の望みの喜びよ\",\"メロディ5\",キー割付!D708=\"メヌエット\",\"メロディ6\",キー割付!D708=\"華麗なる大円舞曲\",\"メロディ7\",キー割付!D708=\"ハンガリア舞曲第5番\",\"メロディ8\",TRUE,\"トーン1\"))","v":"トーン1"},{"$f":"IF(E121=\"ZX-DECLDIV-IPコードレス電話機\",\"トーン1\",_xlfn.IFS(キー割付!E708=\"着信音なし\",\"トーン1\",キー割付!E708=\"トーン1\",\"トーン1\",キー割付!E708=\"トーン2\",\"トーン2\",キー割付!E708=\"トーン3\",\"トーン3\",キー割付!E708=\"トーン4\",\"トーン4\",キー割付!E708=\"トーン5\",\"トーン5\",キー割付!E708=\"トーン6\",\"トーン6\",キー割付!E708=\"トーン7\",\"トーン7\",キー割付!E708=\"トーン7\",\"トーン7\",キー割付!E708=\"無鳴動着信\",\"トーン8\",キー割付!E708=\"グリーンスリーブス\",\"メロディ1\",キー割付!E708=\"峠の我が家\",\"メロディ2\",キー割付!E708=\"カノン\",\"メロディ3\",キー割付!E708=\"春の歌\",\"メロディ4\",キー割付!E708=\"主よ人の望みの喜びよ\",\"メロディ5\",キー割付!E708=\"メヌエット\",\"メロディ6\",キー割付!E708=\"華麗なる大円舞曲\",\"メロディ7\",キー割付!E708=\"ハンガリア舞曲第5番\",\"メロディ8\",TRUE,\"トーン1\"))","v":"トーン1"},{"$f":"IF(E121=\"ZX-DECLDIV-IPコードレス電話機\",\"トーン1\",_xlfn.IFS(キー割付!F708=\"着信音なし\",\"トーン1\",キー割付!F708=\"トーン1\",\"トーン1\",キー割付!F708=\"トーン2\",\"トーン2\",キー割付!F708=\"トーン3\",\"トーン3\",キー割付!F708=\"トーン4\",\"トーン4\",キー割付!F708=\"トーン5\",\"トーン5\",キー割付!F708=\"トーン6\",\"トーン6\",キー割付!F708=\"トーン7\",\"トーン7\",キー割付!F708=\"トーン7\",\"トーン7\",キー割付!F708=\"無鳴動着信\",\"トーン8\",キー割付!F708=\"グリーンスリーブス\",\"メロディ1\",キー割付!F708=\"峠の我が家\",\"メロディ2\",キー割付!F708=\"カノン\",\"メロディ3\",キー割付!F708=\"春の歌\",\"メロディ4\",キー割付!F708=\"主よ人の望みの喜びよ\",\"メロディ5\",キー割付!F708=\"メヌエット\",\"メロディ6\",キー割付!F708=\"華麗なる大円舞曲\",\"メロディ7\",キー割付!F708=\"ハンガリア舞曲第5番\",\"メロディ8\",TRUE,\"トーン1\"))","v":"トーン1"},{"$f":"IF(E121=\"ZX-DECLDIV-IPコードレス電話機\",\"トーン1\",_xlfn.IFS(キー割付!G708=\"着信音なし\",\"トーン1\",キー割付!G708=\"トーン1\",\"トーン1\",キー割付!G708=\"トーン2\",\"トーン2\",キー割付!G708=\"トーン3\",\"トーン3\",キー割付!G708=\"トーン4\",\"トーン4\",キー割付!G708=\"トーン5\",\"トーン5\",キー割付!G708=\"トーン6\",\"トーン6\",キー割付!G708=\"トーン7\",\"トーン7\",キー割付!G708=\"トーン7\",\"トーン7\",キー割付!G708=\"無鳴動着信\",\"トーン8\",キー割付!G708=\"グリーンスリーブス\",\"メロディ1\",キー割付!G708=\"峠の我が家\",\"メロディ2\",キー割付!G708=\"カノン\",\"メロディ3\",キー割付!G708=\"春の歌\",\"メロディ4\",キー割付!G708=\"主よ人の望みの喜びよ\",\"メロディ5\",キー割付!G708=\"メヌエット\",\"メロディ6\",キー割付!G708=\"華麗なる大円舞曲\",\"メロディ7\",キー割付!G708=\"ハンガリア舞曲第5番\",\"メロディ8\",TRUE,\"トーン1\"))","v":"トーン1"},{"$f":"IF(E121=\"ZX-DECLDIV-IPコードレス電話機\",\"トーン1\",_xlfn.IFS(キー割付!H708=\"着信音なし\",\"トーン1\",キー割付!H708=\"トーン1\",\"トーン1\",キー割付!H708=\"トーン2\",\"トーン2\",キー割付!H708=\"トーン3\",\"トーン3\",キー割付!H708=\"トーン4\",\"トーン4\",キー割付!H708=\"トーン5\",\"トーン5\",キー割付!H708=\"トーン6\",\"トーン6\",キー割付!H708=\"トーン7\",\"トーン7\",キー割付!H708=\"トーン7\",\"トーン7\",キー割付!H708=\"無鳴動着信\",\"トーン8\",キー割付!H708=\"グリーンスリーブス\",\"メロディ1\",キー割付!H708=\"峠の我が家\",\"メロディ2\",キー割付!H708=\"カノン\",\"メロディ3\",キー割付!H708=\"春の歌\",\"メロディ4\",キー割付!H708=\"主よ人の望みの喜びよ\",\"メロディ5\",キー割付!H708=\"メヌエット\",\"メロディ6\",キー割付!H708=\"華麗なる大円舞曲\",\"メロディ7\",キー割付!H708=\"ハンガリア舞曲第5番\",\"メロディ8\",TRUE,\"トーン1\"))","v":"トーン1"},{"$f":"IF(E121=\"ZX-DECLDIV-IPコードレス電話機\",\"トーン1\",_xlfn.IFS(キー割付!I708=\"着信音なし\",\"トーン1\",キー割付!I708=\"トーン1\",\"トーン1\",キー割付!I708=\"トーン2\",\"トーン2\",キー割付!I708=\"トーン3\",\"トーン3\",キー割付!I708=\"トーン4\",\"トーン4\",キー割付!I708=\"トーン5\",\"トーン5\",キー割付!I708=\"トーン6\",\"トーン6\",キー割付!I708=\"トーン7\",\"トーン7\",キー割付!I708=\"トーン7\",\"トーン7\",キー割付!I708=\"無鳴動着信\",\"トーン8\",キー割付!I708=\"グリーンスリーブス\",\"メロディ1\",キー割付!I708=\"峠の我が家\",\"メロディ2\",キー割付!I708=\"カノン\",\"メロディ3\",キー割付!I708=\"春の歌\",\"メロディ4\",キー割付!I708=\"主よ人の望みの喜びよ\",\"メロディ5\",キー割付!I708=\"メヌエット\",\"メロディ6\",キー割付!I708=\"華麗なる大円舞曲\",\"メロディ7\",キー割付!I708=\"ハンガリア舞曲第5番\",\"メロディ8\",TRUE,\"トーン1\"))","v":"トーン1"},{"$f":"IF(E121=\"ZX-DECLDIV-IPコードレス電話機\",\"トーン1\",_xlfn.IFS(キー割付!D716=\"着信音なし\",\"トーン1\",キー割付!D716=\"トーン1\",\"トーン1\",キー割付!D716=\"トーン2\",\"トーン2\",キー割付!D716=\"トーン3\",\"トーン3\",キー割付!D716=\"トーン4\",\"トーン4\",キー割付!D716=\"トーン5\",\"トーン5\",キー割付!D716=\"トーン6\",\"トーン6\",キー割付!D716=\"トーン7\",\"トーン7\",キー割付!D716=\"トーン7\",\"トーン7\",キー割付!D716=\"無鳴動着信\",\"トーン8\",キー割付!D716=\"グリーンスリーブス\",\"メロディ1\",キー割付!D716=\"峠の我が家\",\"メロディ2\",キー割付!D716=\"カノン\",\"メロディ3\",キー割付!D716=\"春の歌\",\"メロディ4\",キー割付!D716=\"主よ人の望みの喜びよ\",\"メロディ5\",キー割付!D716=\"メヌエット\",\"メロディ6\",キー割付!D716=\"華麗なる大円舞曲\",\"メロディ7\",キー割付!D716=\"ハンガリア舞曲第5番\",\"メロディ8\",TRUE,\"トーン1\"))","v":"トーン1"},{"$f":"IF(E121=\"ZX-DECLDIV-IPコードレス電話機\",\"トーン1\",_xlfn.IFS(キー割付!E716=\"着信音なし\",\"トーン1\",キー割付!E716=\"トーン1\",\"トーン1\",キー割付!E716=\"トーン2\",\"トーン2\",キー割付!E716=\"トーン3\",\"トーン3\",キー割付!E716=\"トーン4\",\"トーン4\",キー割付!E716=\"トーン5\",\"トーン5\",キー割付!E716=\"トーン6\",\"トーン6\",キー割付!E716=\"トーン7\",\"トーン7\",キー割付!E716=\"トーン7\",\"トーン7\",キー割付!E716=\"無鳴動着信\",\"トーン8\",キー割付!E716=\"グリーンスリーブス\",\"メロディ1\",キー割付!E716=\"峠の我が家\",\"メロディ2\",キー割付!E716=\"カノン\",\"メロディ3\",キー割付!E716=\"春の歌\",\"メロディ4\",キー割付!E716=\"主よ人の望みの喜びよ\",\"メロディ5\",キー割付!E716=\"メヌエット\",\"メロディ6\",キー割付!E716=\"華麗なる大円舞曲\",\"メロディ7\",キー割付!E716=\"ハンガリア舞曲第5番\",\"メロディ8\",TRUE,\"トーン1\"))","v":"トーン1"},{"$f":"IF(E121=\"ZX-DECLDIV-IPコードレス電話機\",\"トーン1\",_xlfn.IFS(キー割付!F716=\"着信音なし\",\"トーン1\",キー割付!F716=\"トーン1\",\"トーン1\",キー割付!F716=\"トーン2\",\"トーン2\",キー割付!F716=\"トーン3\",\"トーン3\",キー割付!F716=\"トーン4\",\"トーン4\",キー割付!F716=\"トーン5\",\"トーン5\",キー割付!F716=\"トーン6\",\"トーン6\",キー割付!F716=\"トーン7\",\"トーン7\",キー割付!F716=\"トーン7\",\"トーン7\",キー割付!F716=\"無鳴動着信\",\"トーン8\",キー割付!F716=\"グリーンスリーブス\",\"メロディ1\",キー割付!F716=\"峠の我が家\",\"メロディ2\",キー割付!F716=\"カノン\",\"メロディ3\",キー割付!F716=\"春の歌\",\"メロディ4\",キー割付!F716=\"主よ人の望みの喜びよ\",\"メロディ5\",キー割付!F716=\"メヌエット\",\"メロディ6\",キー割付!F716=\"華麗なる大円舞曲\",\"メロディ7\",キー割付!F716=\"ハンガリア舞曲第5番\",\"メロディ8\",TRUE,\"トーン1\"))","v":"トーン1"},{"$f":"IF(E121=\"ZX-DECLDIV-IPコードレス電話機\",\"トーン1\",_xlfn.IFS(キー割付!G716=\"着信音なし\",\"トーン1\",キー割付!G716=\"トーン1\",\"トーン1\",キー割付!G716=\"トーン2\",\"トーン2\",キー割付!G716=\"トーン3\",\"トーン3\",キー割付!G716=\"トーン4\",\"トーン4\",キー割付!G716=\"トーン5\",\"トーン5\",キー割付!G716=\"トーン6\",\"トーン6\",キー割付!G716=\"トーン7\",\"トーン7\",キー割付!G716=\"トーン7\",\"トーン7\",キー割付!G716=\"無鳴動着信\",\"トーン8\",キー割付!G716=\"グリーンスリーブス\",\"メロディ1\",キー割付!G716=\"峠の我が家\",\"メロディ2\",キー割付!G716=\"カノン\",\"メロディ3\",キー割付!G716=\"春の歌\",\"メロディ4\",キー割付!G716=\"主よ人の望みの喜びよ\",\"メロディ5\",キー割付!G716=\"メヌエット\",\"メロディ6\",キー割付!G716=\"華麗なる大円舞曲\",\"メロディ7\",キー割付!G716=\"ハンガリア舞曲第5番\",\"メロディ8\",TRUE,\"トーン1\"))","v":"トーン1"},{"$f":"IF(E121=\"ZX-DECLDIV-IPコードレス電話機\",\"トーン1\",_xlfn.IFS(キー割付!H716=\"着信音なし\",\"トーン1\",キー割付!H716=\"トーン1\",\"トーン1\",キー割付!H716=\"トーン2\",\"トーン2\",キー割付!H716=\"トーン3\",\"トーン3\",キー割付!H716=\"トーン4\",\"トーン4\",キー割付!H716=\"トーン5\",\"トーン5\",キー割付!H716=\"トーン6\",\"トーン6\",キー割付!H716=\"トーン7\",\"トーン7\",キー割付!H716=\"トーン7\",\"トーン7\",キー割付!H716=\"無鳴動着信\",\"トーン8\",キー割付!H716=\"グリーンスリーブス\",\"メロディ1\",キー割付!H716=\"峠の我が家\",\"メロディ2\",キー割付!H716=\"カノン\",\"メロディ3\",キー割付!H716=\"春の歌\",\"メロディ4\",キー割付!H716=\"主よ人の望みの喜びよ\",\"メロディ5\",キー割付!H716=\"メヌエット\",\"メロディ6\",キー割付!H716=\"華麗なる大円舞曲\",\"メロディ7\",キー割付!H716=\"ハンガリア舞曲第5番\",\"メロディ8\",TRUE,\"トーン1\"))","v":"トーン1"},{"$f":"IF(E121=\"ZX-DECLDIV-IPコードレス電話機\",\"トーン1\",_xlfn.IFS(キー割付!I716=\"着信音なし\",\"トーン1\",キー割付!I716=\"トーン1\",\"トーン1\",キー割付!I716=\"トーン2\",\"トーン2\",キー割付!I716=\"トーン3\",\"トーン3\",キー割付!I716=\"トーン4\",\"トーン4\",キー割付!I716=\"トーン5\",\"トーン5\",キー割付!I716=\"トーン6\",\"トーン6\",キー割付!I716=\"トーン7\",\"トーン7\",キー割付!I716=\"トーン7\",\"トーン7\",キー割付!I716=\"無鳴動着信\",\"トーン8\",キー割付!I716=\"グリーンスリーブス\",\"メロディ1\",キー割付!I716=\"峠の我が家\",\"メロディ2\",キー割付!I716=\"カノン\",\"メロディ3\",キー割付!I716=\"春の歌\",\"メロディ4\",キー割付!I716=\"主よ人の望みの喜びよ\",\"メロディ5\",キー割付!I716=\"メヌエット\",\"メロディ6\",キー割付!I716=\"華麗なる大円舞曲\",\"メロディ7\",キー割付!I716=\"ハンガリア舞曲第5番\",\"メロディ8\",TRUE,\"トーン1\"))","v":"トーン1"}]
[null,null,null,null,null,{"$f":"_xlfn.IFS(キー割付!D693=\"昼夜休憩\",\"B\",キー割付!D693=\"－－－\",\"-\",キー割付!D693=\"昼－－\",\"H\",キー割付!D693=\"－夜－\",\"N\",キー割付!D693=\"－－休憩\",\"P\",キー割付!D693=\"昼夜－\",\"D\",キー割付!D693=\"昼－休憩\",\"F\",キー割付!D693=\"－夜休憩\",\"K\",TRUE,\"-\")","v":"-"},{"$f":"_xlfn.IFS(キー割付!E693=\"昼夜休憩\",\"B\",キー割付!E693=\"－－－\",\"-\",キー割付!E693=\"昼－－\",\"H\",キー割付!E693=\"－夜－\",\"N\",キー割付!E693=\"－－休憩\",\"P\",キー割付!E693=\"昼夜－\",\"D\",キー割付!E693=\"昼－休憩\",\"F\",キー割付!E693=\"－夜休憩\",\"K\",TRUE,\"-\")","v":"-"},{"$f":"_xlfn.IFS(キー割付!F693=\"昼夜休憩\",\"B\",キー割付!F693=\"－－－\",\"-\",キー割付!F693=\"昼－－\",\"H\",キー割付!F693=\"－夜－\",\"N\",キー割付!F693=\"－－休憩\",\"P\",キー割付!F693=\"昼夜－\",\"D\",キー割付!F693=\"昼－休憩\",\"F\",キー割付!F693=\"－夜休憩\",\"K\",TRUE,\"-\")","v":"-"},{"$f":"_xlfn.IFS(キー割付!G693=\"昼夜休憩\",\"B\",キー割付!G693=\"－－－\",\"-\",キー割付!G693=\"昼－－\",\"H\",キー割付!G693=\"－夜－\",\"N\",キー割付!G693=\"－－休憩\",\"P\",キー割付!G693=\"昼夜－\",\"D\",キー割付!G693=\"昼－休憩\",\"F\",キー割付!G693=\"－夜休憩\",\"K\",TRUE,\"-\")","v":"-"},{"$f":"_xlfn.IFS(キー割付!H693=\"昼夜休憩\",\"B\",キー割付!H693=\"－－－\",\"-\",キー割付!H693=\"昼－－\",\"H\",キー割付!H693=\"－夜－\",\"N\",キー割付!H693=\"－－休憩\",\"P\",キー割付!H693=\"昼夜－\",\"D\",キー割付!H693=\"昼－休憩\",\"F\",キー割付!H693=\"－夜休憩\",\"K\",TRUE,\"-\")","v":"-"},{"$f":"_xlfn.IFS(キー割付!I693=\"昼夜休憩\",\"B\",キー割付!I693=\"－－－\",\"-\",キー割付!I693=\"昼－－\",\"H\",キー割付!I693=\"－夜－\",\"N\",キー割付!I693=\"－－休憩\",\"P\",キー割付!I693=\"昼夜－\",\"D\",キー割付!I693=\"昼－休憩\",\"F\",キー割付!I693=\"－夜休憩\",\"K\",TRUE,\"-\")","v":"-"},{"$f":"_xlfn.IFS(キー割付!D701=\"昼夜休憩\",\"B\",キー割付!D701=\"－－－\",\"-\",キー割付!D701=\"昼－－\",\"H\",キー割付!D701=\"－夜－\",\"N\",キー割付!D701=\"－－休憩\",\"P\",キー割付!D701=\"昼夜－\",\"D\",キー割付!D701=\"昼－休憩\",\"F\",キー割付!D701=\"－夜休憩\",\"K\",TRUE,\"-\")","v":"-"},{"$f":"_xlfn.IFS(キー割付!E701=\"昼夜休憩\",\"B\",キー割付!E701=\"－－－\",\"-\",キー割付!E701=\"昼－－\",\"H\",キー割付!E701=\"－夜－\",\"N\",キー割付!E701=\"－－休憩\",\"P\",キー割付!E701=\"昼夜－\",\"D\",キー割付!E701=\"昼－休憩\",\"F\",キー割付!E701=\"－夜休憩\",\"K\",TRUE,\"-\")","v":"-"},{"$f":"IF(E121=\"ZX-DECLDIV-IPコードレス電話機\",\"-\",_xlfn.IFS(キー割付!F701=\"昼夜休憩\",\"B\",キー割付!F701=\"－－－\",\"-\",キー割付!F701=\"昼－－\",\"H\",キー割付!F701=\"－夜－\",\"N\",キー割付!F701=\"－－休憩\",\"P\",キー割付!F701=\"昼夜－\",\"D\",キー割付!F701=\"昼－休憩\",\"F\",キー割付!F701=\"－夜休憩\",\"K\",TRUE,\"-\"))","v":"-"},{"$f":"IF(E121=\"ZX-DECLDIV-IPコードレス電話機\",\"-\",_xlfn.IFS(キー割付!G701=\"昼夜休憩\",\"B\",キー割付!G701=\"－－－\",\"-\",キー割付!G701=\"昼－－\",\"H\",キー割付!G701=\"－夜－\",\"N\",キー割付!G701=\"－－休憩\",\"P\",キー割付!G701=\"昼夜－\",\"D\",キー割付!G701=\"昼－休憩\",\"F\",キー割付!G701=\"－夜休憩\",\"K\",TRUE,\"-\"))","v":"-"},{"$f":"IF(E121=\"ZX-DECLDIV-IPコードレス電話機\",\"-\",_xlfn.IFS(キー割付!H701=\"昼夜休憩\",\"B\",キー割付!H701=\"－－－\",\"-\",キー割付!H701=\"昼－－\",\"H\",キー割付!H701=\"－夜－\",\"N\",キー割付!H701=\"－－休憩\",\"P\",キー割付!H701=\"昼夜－\",\"D\",キー割付!H701=\"昼－休憩\",\"F\",キー割付!H701=\"－夜休憩\",\"K\",TRUE,\"-\"))","v":"-"},{"$f":"IF(E121=\"ZX-DECLDIV-IPコードレス電話機\",\"-\",_xlfn.IFS(キー割付!I701=\"昼夜休憩\",\"B\",キー割付!I701=\"－－－\",\"-\",キー割付!I701=\"昼－－\",\"H\",キー割付!I701=\"－夜－\",\"N\",キー割付!I701=\"－－休憩\",\"P\",キー割付!I701=\"昼夜－\",\"D\",キー割付!I701=\"昼－休憩\",\"F\",キー割付!I701=\"－夜休憩\",\"K\",TRUE,\"-\"))","v":"-"},{"$f":"IF(E121=\"ZX-DECLDIV-IPコードレス電話機\",\"-\",_xlfn.IFS(キー割付!D709=\"昼夜休憩\",\"B\",キー割付!D709=\"－－－\",\"-\",キー割付!D709=\"昼－－\",\"H\",キー割付!D709=\"－夜－\",\"N\",キー割付!D709=\"－－休憩\",\"P\",キー割付!D709=\"昼夜－\",\"D\",キー割付!D709=\"昼－休憩\",\"F\",キー割付!D709=\"－夜休憩\",\"K\",TRUE,\"-\"))","v":"-"},{"$f":"IF(E121=\"ZX-DECLDIV-IPコードレス電話機\",\"-\",_xlfn.IFS(キー割付!E709=\"昼夜休憩\",\"B\",キー割付!E709=\"－－－\",\"-\",キー割付!E709=\"昼－－\",\"H\",キー割付!E709=\"－夜－\",\"N\",キー割付!E709=\"－－休憩\",\"P\",キー割付!E709=\"昼夜－\",\"D\",キー割付!E709=\"昼－休憩\",\"F\",キー割付!E709=\"－夜休憩\",\"K\",TRUE,\"-\"))","v":"-"},{"$f":"IF(E121=\"ZX-DECLDIV-IPコードレス電話機\",\"-\",_xlfn.IFS(キー割付!F709=\"昼夜休憩\",\"B\",キー割付!F709=\"－－－\",\"-\",キー割付!F709=\"昼－－\",\"H\",キー割付!F709=\"－夜－\",\"N\",キー割付!F709=\"－－休憩\",\"P\",キー割付!F709=\"昼夜－\",\"D\",キー割付!F709=\"昼－休憩\",\"F\",キー割付!F709=\"－夜休憩\",\"K\",TRUE,\"-\"))","v":"-"},{"$f":"IF(E121=\"ZX-DECLDIV-IPコードレス電話機\",\"-\",_xlfn.IFS(キー割付!G709=\"昼夜休憩\",\"B\",キー割付!G709=\"－－－\",\"-\",キー割付!G709=\"昼－－\",\"H\",キー割付!G709=\"－夜－\",\"N\",キー割付!G709=\"－－休憩\",\"P\",キー割付!G709=\"昼夜－\",\"D\",キー割付!G709=\"昼－休憩\",\"F\",キー割付!G709=\"－夜休憩\",\"K\",TRUE,\"-\"))","v":"-"},{"$f":"IF(E121=\"ZX-DECLDIV-IPコードレス電話機\",\"-\",_xlfn.IFS(キー割付!H709=\"昼夜休憩\",\"B\",キー割付!H709=\"－－－\",\"-\",キー割付!H709=\"昼－－\",\"H\",キー割付!H709=\"－夜－\",\"N\",キー割付!H709=\"－－休憩\",\"P\",キー割付!H709=\"昼夜－\",\"D\",キー割付!H709=\"昼－休憩\",\"F\",キー割付!H709=\"－夜休憩\",\"K\",TRUE,\"-\"))","v":"-"},{"$f":"IF(E121=\"ZX-DECLDIV-IPコードレス電話機\",\"-\",_xlfn.IFS(キー割付!I709=\"昼夜休憩\",\"B\",キー割付!I709=\"－－－\",\"-\",キー割付!I709=\"昼－－\",\"H\",キー割付!I709=\"－夜－\",\"N\",キー割付!I709=\"－－休憩\",\"P\",キー割付!I709=\"昼夜－\",\"D\",キー割付!I709=\"昼－休憩\",\"F\",キー割付!I709=\"－夜休憩\",\"K\",TRUE,\"-\"))","v":"-"},{"$f":"IF(E121=\"ZX-DECLDIV-IPコードレス電話機\",\"-\",_xlfn.IFS(キー割付!D717=\"昼夜休憩\",\"B\",キー割付!D717=\"－－－\",\"-\",キー割付!D717=\"昼－－\",\"H\",キー割付!D717=\"－夜－\",\"N\",キー割付!D717=\"－－休憩\",\"P\",キー割付!D717=\"昼夜－\",\"D\",キー割付!D717=\"昼－休憩\",\"F\",キー割付!D717=\"－夜休憩\",\"K\",TRUE,\"-\"))","v":"-"},{"$f":"IF(E121=\"ZX-DECLDIV-IPコードレス電話機\",\"-\",_xlfn.IFS(キー割付!E717=\"昼夜休憩\",\"B\",キー割付!E717=\"－－－\",\"-\",キー割付!E717=\"昼－－\",\"H\",キー割付!E717=\"－夜－\",\"N\",キー割付!E717=\"－－休憩\",\"P\",キー割付!E717=\"昼夜－\",\"D\",キー割付!E717=\"昼－休憩\",\"F\",キー割付!E717=\"－夜休憩\",\"K\",TRUE,\"-\"))","v":"-"},{"$f":"IF(E121=\"ZX-DECLDIV-IPコードレス電話機\",\"-\",_xlfn.IFS(キー割付!F717=\"昼夜休憩\",\"B\",キー割付!F717=\"－－－\",\"-\",キー割付!F717=\"昼－－\",\"H\",キー割付!F717=\"－夜－\",\"N\",キー割付!F717=\"－－休憩\",\"P\",キー割付!F717=\"昼夜－\",\"D\",キー割付!F717=\"昼－休憩\",\"F\",キー割付!F717=\"－夜休憩\",\"K\",TRUE,\"-\"))","v":"-"},{"$f":"IF(E121=\"ZX-DECLDIV-IPコードレス電話機\",\"-\",_xlfn.IFS(キー割付!G717=\"昼夜休憩\",\"B\",キー割付!G717=\"－－－\",\"-\",キー割付!G717=\"昼－－\",\"H\",キー割付!G717=\"－夜－\",\"N\",キー割付!G717=\"－－休憩\",\"P\",キー割付!G717=\"昼夜－\",\"D\",キー割付!G717=\"昼－休憩\",\"F\",キー割付!G717=\"－夜休憩\",\"K\",TRUE,\"-\"))","v":"-"},{"$f":"IF(E121=\"ZX-DECLDIV-IPコードレス電話機\",\"-\",_xlfn.IFS(キー割付!H717=\"昼夜休憩\",\"B\",キー割付!H717=\"－－－\",\"-\",キー割付!H717=\"昼－－\",\"H\",キー割付!H717=\"－夜－\",\"N\",キー割付!H717=\"－－休憩\",\"P\",キー割付!H717=\"昼夜－\",\"D\",キー割付!H717=\"昼－休憩\",\"F\",キー割付!H717=\"－夜休憩\",\"K\",TRUE,\"-\"))","v":"-"},{"$f":"IF(E121=\"ZX-DECLDIV-IPコードレス電話機\",\"-\",_xlfn.IFS(キー割付!I717=\"昼夜休憩\",\"B\",キー割付!I717=\"－－－\",\"-\",キー割付!I717=\"昼－－\",\"H\",キー割付!I717=\"－夜－\",\"N\",キー割付!I717=\"－－休憩\",\"P\",キー割付!I717=\"昼夜－\",\"D\",キー割付!I717=\"昼－休憩\",\"F\",キー割付!I717=\"－夜休憩\",\"K\",TRUE,\"-\"))","v":"-"}]
[null,40,{"$f":"IF(IFERROR(VALUE(VLOOKUP(B124,内線_キー割用,2,FALSE)),\"\")=0,\"\",IFERROR(VALUE(VLOOKUP(B124,内線_キー割用,2,FALSE)),\"\"))","v":""},{"$f":"IF(IFERROR(VALUE(VLOOKUP(B124,内線_キー割用,4,FALSE)),\"\")=0,\"\",IFERROR(VALUE(VLOOKUP(B124,内線_キー割用,4,FALSE)),\"\"))","v":""},{"$f":"IF(IFERROR(VLOOKUP(B124,内線_キー割用,3,FALSE),\"\")=0,\"\",IFERROR(VLOOKUP(B124,内線_キー割用,3,FALSE),\"\"))","v":""},{"$f":"IF(キー割付!N691=\"\",\"未使用\",キー割付!N691)","v":"未使用"},{"$f":"IF(キー割付!O691=\"\",\"未使用\",キー割付!O691)","v":"未使用"},{"$f":"IF(キー割付!P691=\"\",\"未使用\",キー割付!P691)","v":"未使用"},{"$f":"IF(キー割付!Q691=\"\",\"未使用\",キー割付!Q691)","v":"未使用"},{"$f":"IF(キー割付!R691=\"\",\"未使用\",キー割付!R691)","v":"未使用"},{"$f":"IF(キー割付!S691=\"\",\"未使用\",キー割付!S691)","v":"未使用"},{"$f":"IF(キー割付!N699=\"\",\"未使用\",キー割付!N699)","v":"未使用"},{"$f":"IF(キー割付!O699=\"\",\"未使用\",キー割付!O699)","v":"未使用"},{"$f":"IF(E124=\"ZX-DECLDIV-IPコードレス電話機\",\"未使用\",IF(キー割付!P699=\"\",\"未使用\",キー割付!P699))","v":"未使用"},{"$f":"IF(E124=\"ZX-DECLDIV-IPコードレス電話機\",\"未使用\",IF(キー割付!Q699=\"\",\"未使用\",キー割付!Q699))","v":"未使用"},{"$f":"IF(E124=\"ZX-DECLDIV-IPコードレス電話機\",\"未使用\",IF(キー割付!R699=\"\",\"未使用\",キー割付!R699))","v":"未使用"},{"$f":"IF(E124=\"ZX-DECLDIV-IPコードレス電話機\",\"未使用\",IF(キー割付!S699=\"\",\"未使用\",キー割付!S699))","v":"未使用"},{"$f":"IF(E124=\"ZX-DECLDIV-IPコードレス電話機\",\"未使用\",IF(キー割付!N707=\"\",\"未使用\",キー割付!N707))","v":"未使用"},{"$f":"IF(E124=\"ZX-DECLDIV-IPコードレス電話機\",\"未使用\",IF(キー割付!O707=\"\",\"未使用\",キー割付!O707))","v":"未使用"},{"$f":"IF(E124=\"ZX-DECLDIV-IPコードレス電話機\",\"未使用\",IF(キー割付!P707=\"\",\"未使用\",キー割付!P707))","v":"未使用"},{"$f":"IF(E124=\"ZX-DECLDIV-IPコードレス電話機\",\"未使用\",IF(キー割付!Q707=\"\",\"未使用\",キー割付!Q707))","v":"未使用"},{"$f":"IF(E124=\"ZX-DECLDIV-IPコードレス電話機\",\"未使用\",IF(キー割付!R707=\"\",\"未使用\",キー割付!R707))","v":"未使用"},{"$f":"IF(E124=\"ZX-DECLDIV-IPコードレス電話機\",\"未使用\",IF(キー割付!S707=\"\",\"未使用\",キー割付!S707))","v":"未使用"},{"$f":"IF(E124=\"ZX-DECLDIV-IPコードレス電話機\",\"未使用\",IF(キー割付!N715=\"\",\"未使用\",キー割付!N715))","v":"未使用"},{"$f":"IF(E124=\"ZX-DECLDIV-IPコードレス電話機\",\"未使用\",IF(キー割付!O715=\"\",\"未使用\",キー割付!O715))","v":"未使用"},{"$f":"IF(E124=\"ZX-DECLDIV-IPコードレス電話機\",\"未使用\",IF(キー割付!P715=\"\",\"未使用\",キー割付!P715))","v":"未使用"},{"$f":"IF(E124=\"ZX-DECLDIV-IPコードレス電話機\",\"未使用\",IF(キー割付!Q715=\"\",\"未使用\",キー割付!Q715))","v":"未使用"},{"$f":"IF(E124=\"ZX-DECLDIV-IPコードレス電話機\",\"未使用\",IF(キー割付!R715=\"\",\"未使用\",キー割付!R715))","v":"未使用"},{"$f":"IF(E124=\"ZX-DECLDIV-IPコードレス電話機\",\"未使用\",IF(キー割付!S715=\"\",\"未使用\",キー割付!S715))","v":"未使用"}]
[null,null,null,null,null,{"$f":"_xlfn.IFS(キー割付!N692=\"着信音なし\",\"トーン1\",キー割付!N692=\"トーン1\",\"トーン1\",キー割付!N692=\"トーン2\",\"トーン2\",キー割付!N692=\"トーン3\",\"トーン3\",キー割付!N692=\"トーン4\",\"トーン4\",キー割付!N692=\"トーン5\",\"トーン5\",キー割付!N692=\"トーン6\",\"トーン6\",キー割付!N692=\"トーン7\",\"トーン7\",キー割付!N692=\"トーン7\",\"トーン7\",キー割付!N692=\"無鳴動着信\",\"トーン8\",キー割付!N692=\"グリーンスリーブス\",\"メロディ1\",キー割付!N692=\"峠の我が家\",\"メロディ2\",キー割付!N692=\"カノン\",\"メロディ3\",キー割付!N692=\"春の歌\",\"メロディ4\",キー割付!N692=\"主よ人の望みの喜びよ\",\"メロディ5\",キー割付!N692=\"メヌエット\",\"メロディ6\",キー割付!N692=\"華麗なる大円舞曲\",\"メロディ7\",キー割付!N692=\"ハンガリア舞曲第5番\",\"メロディ8\",TRUE,\"トーン1\")","v":"トーン1"},{"$f":"_xlfn.IFS(キー割付!O692=\"着信音なし\",\"トーン1\",キー割付!O692=\"トーン1\",\"トーン1\",キー割付!O692=\"トーン2\",\"トーン2\",キー割付!O692=\"トーン3\",\"トーン3\",キー割付!O692=\"トーン4\",\"トーン4\",キー割付!O692=\"トーン5\",\"トーン5\",キー割付!O692=\"トーン6\",\"トーン6\",キー割付!O692=\"トーン7\",\"トーン7\",キー割付!O692=\"トーン7\",\"トーン7\",キー割付!O692=\"無鳴動着信\",\"トーン8\",キー割付!O692=\"グリーンスリーブス\",\"メロディ1\",キー割付!O692=\"峠の我が家\",\"メロディ2\",キー割付!O692=\"カノン\",\"メロディ3\",キー割付!O692=\"春の歌\",\"メロディ4\",キー割付!O692=\"主よ人の望みの喜びよ\",\"メロディ5\",キー割付!O692=\"メヌエット\",\"メロディ6\",キー割付!O692=\"華麗なる大円舞曲\",\"メロディ7\",キー割付!O692=\"ハンガリア舞曲第5番\",\"メロディ8\",TRUE,\"トーン1\")","v":"トーン1"},{"$f":"_xlfn.IFS(キー割付!P692=\"着信音なし\",\"トーン1\",キー割付!P692=\"トーン1\",\"トーン1\",キー割付!P692=\"トーン2\",\"トーン2\",キー割付!P692=\"トーン3\",\"トーン3\",キー割付!P692=\"トーン4\",\"トーン4\",キー割付!P692=\"トーン5\",\"トーン5\",キー割付!P692=\"トーン6\",\"トーン6\",キー割付!P692=\"トーン7\",\"トーン7\",キー割付!P692=\"トーン7\",\"トーン7\",キー割付!P692=\"無鳴動着信\",\"トーン8\",キー割付!P692=\"グリーンスリーブス\",\"メロディ1\",キー割付!P692=\"峠の我が家\",\"メロディ2\",キー割付!P692=\"カノン\",\"メロディ3\",キー割付!P692=\"春の歌\",\"メロディ4\",キー割付!P692=\"主よ人の望みの喜びよ\",\"メロディ5\",キー割付!P692=\"メヌエット\",\"メロディ6\",キー割付!P692=\"華麗なる大円舞曲\",\"メロディ7\",キー割付!P692=\"ハンガリア舞曲第5番\",\"メロディ8\",TRUE,\"トーン1\")","v":"トーン1"},{"$f":"_xlfn.IFS(キー割付!Q692=\"着信音なし\",\"トーン1\",キー割付!Q692=\"トーン1\",\"トーン1\",キー割付!Q692=\"トーン2\",\"トーン2\",キー割付!Q692=\"トーン3\",\"トーン3\",キー割付!Q692=\"トーン4\",\"トーン4\",キー割付!Q692=\"トーン5\",\"トーン5\",キー割付!Q692=\"トーン6\",\"トーン6\",キー割付!Q692=\"トーン7\",\"トーン7\",キー割付!Q692=\"トーン7\",\"トーン7\",キー割付!Q692=\"無鳴動着信\",\"トーン8\",キー割付!Q692=\"グリーンスリーブス\",\"メロディ1\",キー割付!Q692=\"峠の我が家\",\"メロディ2\",キー割付!Q692=\"カノン\",\"メロディ3\",キー割付!Q692=\"春の歌\",\"メロディ4\",キー割付!Q692=\"主よ人の望みの喜びよ\",\"メロディ5\",キー割付!Q692=\"メヌエット\",\"メロディ6\",キー割付!Q692=\"華麗なる大円舞曲\",\"メロディ7\",キー割付!Q692=\"ハンガリア舞曲第5番\",\"メロディ8\",TRUE,\"トーン1\")","v":"トーン1"},{"$f":"_xlfn.IFS(キー割付!R692=\"着信音なし\",\"トーン1\",キー割付!R692=\"トーン1\",\"トーン1\",キー割付!R692=\"トーン2\",\"トーン2\",キー割付!R692=\"トーン3\",\"トーン3\",キー割付!R692=\"トーン4\",\"トーン4\",キー割付!R692=\"トーン5\",\"トーン5\",キー割付!R692=\"トーン6\",\"トーン6\",キー割付!R692=\"トーン7\",\"トーン7\",キー割付!R692=\"トーン7\",\"トーン7\",キー割付!R692=\"無鳴動着信\",\"トーン8\",キー割付!R692=\"グリーンスリーブス\",\"メロディ1\",キー割付!R692=\"峠の我が家\",\"メロディ2\",キー割付!R692=\"カノン\",\"メロディ3\",キー割付!R692=\"春の歌\",\"メロディ4\",キー割付!R692=\"主よ人の望みの喜びよ\",\"メロディ5\",キー割付!R692=\"メヌエット\",\"メロディ6\",キー割付!R692=\"華麗なる大円舞曲\",\"メロディ7\",キー割付!R692=\"ハンガリア舞曲第5番\",\"メロディ8\",TRUE,\"トーン1\")","v":"トーン1"},{"$f":"_xlfn.IFS(キー割付!S692=\"着信音なし\",\"トーン1\",キー割付!S692=\"トーン1\",\"トーン1\",キー割付!S692=\"トーン2\",\"トーン2\",キー割付!S692=\"トーン3\",\"トーン3\",キー割付!S692=\"トーン4\",\"トーン4\",キー割付!S692=\"トーン5\",\"トーン5\",キー割付!S692=\"トーン6\",\"トーン6\",キー割付!S692=\"トーン7\",\"トーン7\",キー割付!S692=\"トーン7\",\"トーン7\",キー割付!S692=\"無鳴動着信\",\"トーン8\",キー割付!S692=\"グリーンスリーブス\",\"メロディ1\",キー割付!S692=\"峠の我が家\",\"メロディ2\",キー割付!S692=\"カノン\",\"メロディ3\",キー割付!S692=\"春の歌\",\"メロディ4\",キー割付!S692=\"主よ人の望みの喜びよ\",\"メロディ5\",キー割付!S692=\"メヌエット\",\"メロディ6\",キー割付!S692=\"華麗なる大円舞曲\",\"メロディ7\",キー割付!S692=\"ハンガリア舞曲第5番\",\"メロディ8\",TRUE,\"トーン1\")","v":"トーン1"},{"$f":"_xlfn.IFS(キー割付!N700=\"着信音なし\",\"トーン1\",キー割付!N700=\"トーン1\",\"トーン1\",キー割付!N700=\"トーン2\",\"トーン2\",キー割付!N700=\"トーン3\",\"トーン3\",キー割付!N700=\"トーン4\",\"トーン4\",キー割付!N700=\"トーン5\",\"トーン5\",キー割付!N700=\"トーン6\",\"トーン6\",キー割付!N700=\"トーン7\",\"トーン7\",キー割付!N700=\"トーン7\",\"トーン7\",キー割付!N700=\"無鳴動着信\",\"トーン8\",キー割付!N700=\"グリーンスリーブス\",\"メロディ1\",キー割付!N700=\"峠の我が家\",\"メロディ2\",キー割付!N700=\"カノン\",\"メロディ3\",キー割付!N700=\"春の歌\",\"メロディ4\",キー割付!N700=\"主よ人の望みの喜びよ\",\"メロディ5\",キー割付!N700=\"メヌエット\",\"メロディ6\",キー割付!N700=\"華麗なる大円舞曲\",\"メロディ7\",キー割付!N700=\"ハンガリア舞曲第5番\",\"メロディ8\",TRUE,\"トーン1\")","v":"トーン1"},{"$f":"_xlfn.IFS(キー割付!O700=\"着信音なし\",\"トーン1\",キー割付!O700=\"トーン1\",\"トーン1\",キー割付!O700=\"トーン2\",\"トーン2\",キー割付!O700=\"トーン3\",\"トーン3\",キー割付!O700=\"トーン4\",\"トーン4\",キー割付!O700=\"トーン5\",\"トーン5\",キー割付!O700=\"トーン6\",\"トーン6\",キー割付!O700=\"トーン7\",\"トーン7\",キー割付!O700=\"トーン7\",\"トーン7\",キー割付!O700=\"無鳴動着信\",\"トーン8\",キー割付!O700=\"グリーンスリーブス\",\"メロディ1\",キー割付!O700=\"峠の我が家\",\"メロディ2\",キー割付!O700=\"カノン\",\"メロディ3\",キー割付!O700=\"春の歌\",\"メロディ4\",キー割付!O700=\"主よ人の望みの喜びよ\",\"メロディ5\",キー割付!O700=\"メヌエット\",\"メロディ6\",キー割付!O700=\"華麗なる大円舞曲\",\"メロディ7\",キー割付!O700=\"ハンガリア舞曲第5番\",\"メロディ8\",TRUE,\"トーン1\")","v":"トーン1"},{"$f":"IF(E124=\"ZX-DECLDIV-IPコードレス電話機\",\"トーン1\",_xlfn.IFS(キー割付!P700=\"着信音なし\",\"トーン1\",キー割付!P700=\"トーン1\",\"トーン1\",キー割付!P700=\"トーン2\",\"トーン2\",キー割付!P700=\"トーン3\",\"トーン3\",キー割付!P700=\"トーン4\",\"トーン4\",キー割付!P700=\"トーン5\",\"トーン5\",キー割付!P700=\"トーン6\",\"トーン6\",キー割付!P700=\"トーン7\",\"トーン7\",キー割付!P700=\"トーン7\",\"トーン7\",キー割付!P700=\"無鳴動着信\",\"トーン8\",キー割付!P700=\"グリーンスリーブス\",\"メロディ1\",キー割付!P700=\"峠の我が家\",\"メロディ2\",キー割付!P700=\"カノン\",\"メロディ3\",キー割付!P700=\"春の歌\",\"メロディ4\",キー割付!P700=\"主よ人の望みの喜びよ\",\"メロディ5\",キー割付!P700=\"メヌエット\",\"メロディ6\",キー割付!P700=\"華麗なる大円舞曲\",\"メロディ7\",キー割付!P700=\"ハンガリア舞曲第5番\",\"メロディ8\",TRUE,\"トーン1\"))","v":"トーン1"},{"$f":"IF(E124=\"ZX-DECLDIV-IPコードレス電話機\",\"トーン1\",_xlfn.IFS(キー割付!Q700=\"着信音なし\",\"トーン1\",キー割付!Q700=\"トーン1\",\"トーン1\",キー割付!Q700=\"トーン2\",\"トーン2\",キー割付!Q700=\"トーン3\",\"トーン3\",キー割付!Q700=\"トーン4\",\"トーン4\",キー割付!Q700=\"トーン5\",\"トーン5\",キー割付!Q700=\"トーン6\",\"トーン6\",キー割付!Q700=\"トーン7\",\"トーン7\",キー割付!Q700=\"トーン7\",\"トーン7\",キー割付!Q700=\"無鳴動着信\",\"トーン8\",キー割付!Q700=\"グリーンスリーブス\",\"メロディ1\",キー割付!Q700=\"峠の我が家\",\"メロディ2\",キー割付!Q700=\"カノン\",\"メロディ3\",キー割付!Q700=\"春の歌\",\"メロディ4\",キー割付!Q700=\"主よ人の望みの喜びよ\",\"メロディ5\",キー割付!Q700=\"メヌエット\",\"メロディ6\",キー割付!Q700=\"華麗なる大円舞曲\",\"メロディ7\",キー割付!Q700=\"ハンガリア舞曲第5番\",\"メロディ8\",TRUE,\"トーン1\"))","v":"トーン1"},{"$f":"IF(E124=\"ZX-DECLDIV-IPコードレス電話機\",\"トーン1\",_xlfn.IFS(キー割付!R700=\"着信音なし\",\"トーン1\",キー割付!R700=\"トーン1\",\"トーン1\",キー割付!R700=\"トーン2\",\"トーン2\",キー割付!R700=\"トーン3\",\"トーン3\",キー割付!R700=\"トーン4\",\"トーン4\",キー割付!R700=\"トーン5\",\"トーン5\",キー割付!R700=\"トーン6\",\"トーン6\",キー割付!R700=\"トーン7\",\"トーン7\",キー割付!R700=\"トーン7\",\"トーン7\",キー割付!R700=\"無鳴動着信\",\"トーン8\",キー割付!R700=\"グリーンスリーブス\",\"メロディ1\",キー割付!R700=\"峠の我が家\",\"メロディ2\",キー割付!R700=\"カノン\",\"メロディ3\",キー割付!R700=\"春の歌\",\"メロディ4\",キー割付!R700=\"主よ人の望みの喜びよ\",\"メロディ5\",キー割付!R700=\"メヌエット\",\"メロディ6\",キー割付!R700=\"華麗なる大円舞曲\",\"メロディ7\",キー割付!R700=\"ハンガリア舞曲第5番\",\"メロディ8\",TRUE,\"トーン1\"))","v":"トーン1"},{"$f":"IF(E124=\"ZX-DECLDIV-IPコードレス電話機\",\"トーン1\",_xlfn.IFS(キー割付!S700=\"着信音なし\",\"トーン1\",キー割付!S700=\"トーン1\",\"トーン1\",キー割付!S700=\"トーン2\",\"トーン2\",キー割付!S700=\"トーン3\",\"トーン3\",キー割付!S700=\"トーン4\",\"トーン4\",キー割付!S700=\"トーン5\",\"トーン5\",キー割付!S700=\"トーン6\",\"トーン6\",キー割付!S700=\"トーン7\",\"トーン7\",キー割付!S700=\"トーン7\",\"トーン7\",キー割付!S700=\"無鳴動着信\",\"トーン8\",キー割付!S700=\"グリーンスリーブス\",\"メロディ1\",キー割付!S700=\"峠の我が家\",\"メロディ2\",キー割付!S700=\"カノン\",\"メロディ3\",キー割付!S700=\"春の歌\",\"メロディ4\",キー割付!S700=\"主よ人の望みの喜びよ\",\"メロディ5\",キー割付!S700=\"メヌエット\",\"メロディ6\",キー割付!S700=\"華麗なる大円舞曲\",\"メロディ7\",キー割付!S700=\"ハンガリア舞曲第5番\",\"メロディ8\",TRUE,\"トーン1\"))","v":"トーン1"},{"$f":"IF(E124=\"ZX-DECLDIV-IPコードレス電話機\",\"トーン1\",_xlfn.IFS(キー割付!N708=\"着信音なし\",\"トーン1\",キー割付!N708=\"トーン1\",\"トーン1\",キー割付!N708=\"トーン2\",\"トーン2\",キー割付!N708=\"トーン3\",\"トーン3\",キー割付!N708=\"トーン4\",\"トーン4\",キー割付!N708=\"トーン5\",\"トーン5\",キー割付!N708=\"トーン6\",\"トーン6\",キー割付!N708=\"トーン7\",\"トーン7\",キー割付!N708=\"トーン7\",\"トーン7\",キー割付!N708=\"無鳴動着信\",\"トーン8\",キー割付!N708=\"グリーンスリーブス\",\"メロディ1\",キー割付!N708=\"峠の我が家\",\"メロディ2\",キー割付!N708=\"カノン\",\"メロディ3\",キー割付!N708=\"春の歌\",\"メロディ4\",キー割付!N708=\"主よ人の望みの喜びよ\",\"メロディ5\",キー割付!N708=\"メヌエット\",\"メロディ6\",キー割付!N708=\"華麗なる大円舞曲\",\"メロディ7\",キー割付!N708=\"ハンガリア舞曲第5番\",\"メロディ8\",TRUE,\"トーン1\"))","v":"トーン1"},{"$f":"IF(E124=\"ZX-DECLDIV-IPコードレス電話機\",\"トーン1\",_xlfn.IFS(キー割付!O708=\"着信音なし\",\"トーン1\",キー割付!O708=\"トーン1\",\"トーン1\",キー割付!O708=\"トーン2\",\"トーン2\",キー割付!O708=\"トーン3\",\"トーン3\",キー割付!O708=\"トーン4\",\"トーン4\",キー割付!O708=\"トーン5\",\"トーン5\",キー割付!O708=\"トーン6\",\"トーン6\",キー割付!O708=\"トーン7\",\"トーン7\",キー割付!O708=\"トーン7\",\"トーン7\",キー割付!O708=\"無鳴動着信\",\"トーン8\",キー割付!O708=\"グリーンスリーブス\",\"メロディ1\",キー割付!O708=\"峠の我が家\",\"メロディ2\",キー割付!O708=\"カノン\",\"メロディ3\",キー割付!O708=\"春の歌\",\"メロディ4\",キー割付!O708=\"主よ人の望みの喜びよ\",\"メロディ5\",キー割付!O708=\"メヌエット\",\"メロディ6\",キー割付!O708=\"華麗なる大円舞曲\",\"メロディ7\",キー割付!O708=\"ハンガリア舞曲第5番\",\"メロディ8\",TRUE,\"トーン1\"))","v":"トーン1"},{"$f":"IF(E124=\"ZX-DECLDIV-IPコードレス電話機\",\"トーン1\",_xlfn.IFS(キー割付!P708=\"着信音なし\",\"トーン1\",キー割付!P708=\"トーン1\",\"トーン1\",キー割付!P708=\"トーン2\",\"トーン2\",キー割付!P708=\"トーン3\",\"トーン3\",キー割付!P708=\"トーン4\",\"トーン4\",キー割付!P708=\"トーン5\",\"トーン5\",キー割付!P708=\"トーン6\",\"トーン6\",キー割付!P708=\"トーン7\",\"トーン7\",キー割付!P708=\"トーン7\",\"トーン7\",キー割付!P708=\"無鳴動着信\",\"トーン8\",キー割付!P708=\"グリーンスリーブス\",\"メロディ1\",キー割付!P708=\"峠の我が家\",\"メロディ2\",キー割付!P708=\"カノン\",\"メロディ3\",キー割付!P708=\"春の歌\",\"メロディ4\",キー割付!P708=\"主よ人の望みの喜びよ\",\"メロディ5\",キー割付!P708=\"メヌエット\",\"メロディ6\",キー割付!P708=\"華麗なる大円舞曲\",\"メロディ7\",キー割付!P708=\"ハンガリア舞曲第5番\",\"メロディ8\",TRUE,\"トーン1\"))","v":"トーン1"},{"$f":"IF(E124=\"ZX-DECLDIV-IPコードレス電話機\",\"トーン1\",_xlfn.IFS(キー割付!Q708=\"着信音なし\",\"トーン1\",キー割付!Q708=\"トーン1\",\"トーン1\",キー割付!Q708=\"トーン2\",\"トーン2\",キー割付!Q708=\"トーン3\",\"トーン3\",キー割付!Q708=\"トーン4\",\"トーン4\",キー割付!Q708=\"トーン5\",\"トーン5\",キー割付!Q708=\"トーン6\",\"トーン6\",キー割付!Q708=\"トーン7\",\"トーン7\",キー割付!Q708=\"トーン7\",\"トーン7\",キー割付!Q708=\"無鳴動着信\",\"トーン8\",キー割付!Q708=\"グリーンスリーブス\",\"メロディ1\",キー割付!Q708=\"峠の我が家\",\"メロディ2\",キー割付!Q708=\"カノン\",\"メロディ3\",キー割付!Q708=\"春の歌\",\"メロディ4\",キー割付!Q708=\"主よ人の望みの喜びよ\",\"メロディ5\",キー割付!Q708=\"メヌエット\",\"メロディ6\",キー割付!Q708=\"華麗なる大円舞曲\",\"メロディ7\",キー割付!Q708=\"ハンガリア舞曲第5番\",\"メロディ8\",TRUE,\"トーン1\"))","v":"トーン1"},{"$f":"IF(E124=\"ZX-DECLDIV-IPコードレス電話機\",\"トーン1\",_xlfn.IFS(キー割付!R708=\"着信音なし\",\"トーン1\",キー割付!R708=\"トーン1\",\"トーン1\",キー割付!R708=\"トーン2\",\"トーン2\",キー割付!R708=\"トーン3\",\"トーン3\",キー割付!R708=\"トーン4\",\"トーン4\",キー割付!R708=\"トーン5\",\"トーン5\",キー割付!R708=\"トーン6\",\"トーン6\",キー割付!R708=\"トーン7\",\"トーン7\",キー割付!R708=\"トーン7\",\"トーン7\",キー割付!R708=\"無鳴動着信\",\"トーン8\",キー割付!R708=\"グリーンスリーブス\",\"メロディ1\",キー割付!R708=\"峠の我が家\",\"メロディ2\",キー割付!R708=\"カノン\",\"メロディ3\",キー割付!R708=\"春の歌\",\"メロディ4\",キー割付!R708=\"主よ人の望みの喜びよ\",\"メロディ5\",キー割付!R708=\"メヌエット\",\"メロディ6\",キー割付!R708=\"華麗なる大円舞曲\",\"メロディ7\",キー割付!R708=\"ハンガリア舞曲第5番\",\"メロディ8\",TRUE,\"トーン1\"))","v":"トーン1"},{"$f":"IF(E124=\"ZX-DECLDIV-IPコードレス電話機\",\"トーン1\",_xlfn.IFS(キー割付!S708=\"着信音なし\",\"トーン1\",キー割付!S708=\"トーン1\",\"トーン1\",キー割付!S708=\"トーン2\",\"トーン2\",キー割付!S708=\"トーン3\",\"トーン3\",キー割付!S708=\"トーン4\",\"トーン4\",キー割付!S708=\"トーン5\",\"トーン5\",キー割付!S708=\"トーン6\",\"トーン6\",キー割付!S708=\"トーン7\",\"トーン7\",キー割付!S708=\"トーン7\",\"トーン7\",キー割付!S708=\"無鳴動着信\",\"トーン8\",キー割付!S708=\"グリーンスリーブス\",\"メロディ1\",キー割付!S708=\"峠の我が家\",\"メロディ2\",キー割付!S708=\"カノン\",\"メロディ3\",キー割付!S708=\"春の歌\",\"メロディ4\",キー割付!S708=\"主よ人の望みの喜びよ\",\"メロディ5\",キー割付!S708=\"メヌエット\",\"メロディ6\",キー割付!S708=\"華麗なる大円舞曲\",\"メロディ7\",キー割付!S708=\"ハンガリア舞曲第5番\",\"メロディ8\",TRUE,\"トーン1\"))","v":"トーン1"},{"$f":"IF(E124=\"ZX-DECLDIV-IPコードレス電話機\",\"トーン1\",_xlfn.IFS(キー割付!N716=\"着信音なし\",\"トーン1\",キー割付!N716=\"トーン1\",\"トーン1\",キー割付!N716=\"トーン2\",\"トーン2\",キー割付!N716=\"トーン3\",\"トーン3\",キー割付!N716=\"トーン4\",\"トーン4\",キー割付!N716=\"トーン5\",\"トーン5\",キー割付!N716=\"トーン6\",\"トーン6\",キー割付!N716=\"トーン7\",\"トーン7\",キー割付!N716=\"トーン7\",\"トーン7\",キー割付!N716=\"無鳴動着信\",\"トーン8\",キー割付!N716=\"グリーンスリーブス\",\"メロディ1\",キー割付!N716=\"峠の我が家\",\"メロディ2\",キー割付!N716=\"カノン\",\"メロディ3\",キー割付!N716=\"春の歌\",\"メロディ4\",キー割付!N716=\"主よ人の望みの喜びよ\",\"メロディ5\",キー割付!N716=\"メヌエット\",\"メロディ6\",キー割付!N716=\"華麗なる大円舞曲\",\"メロディ7\",キー割付!N716=\"ハンガリア舞曲第5番\",\"メロディ8\",TRUE,\"トーン1\"))","v":"トーン1"},{"$f":"IF(E124=\"ZX-DECLDIV-IPコードレス電話機\",\"トーン1\",_xlfn.IFS(キー割付!O716=\"着信音なし\",\"トーン1\",キー割付!O716=\"トーン1\",\"トーン1\",キー割付!O716=\"トーン2\",\"トーン2\",キー割付!O716=\"トーン3\",\"トーン3\",キー割付!O716=\"トーン4\",\"トーン4\",キー割付!O716=\"トーン5\",\"トーン5\",キー割付!O716=\"トーン6\",\"トーン6\",キー割付!O716=\"トーン7\",\"トーン7\",キー割付!O716=\"トーン7\",\"トーン7\",キー割付!O716=\"無鳴動着信\",\"トーン8\",キー割付!O716=\"グリーンスリーブス\",\"メロディ1\",キー割付!O716=\"峠の我が家\",\"メロディ2\",キー割付!O716=\"カノン\",\"メロディ3\",キー割付!O716=\"春の歌\",\"メロディ4\",キー割付!O716=\"主よ人の望みの喜びよ\",\"メロディ5\",キー割付!O716=\"メヌエット\",\"メロディ6\",キー割付!O716=\"華麗なる大円舞曲\",\"メロディ7\",キー割付!O716=\"ハンガリア舞曲第5番\",\"メロディ8\",TRUE,\"トーン1\"))","v":"トーン1"},{"$f":"IF(E124=\"ZX-DECLDIV-IPコードレス電話機\",\"トーン1\",_xlfn.IFS(キー割付!P716=\"着信音なし\",\"トーン1\",キー割付!P716=\"トーン1\",\"トーン1\",キー割付!P716=\"トーン2\",\"トーン2\",キー割付!P716=\"トーン3\",\"トーン3\",キー割付!P716=\"トーン4\",\"トーン4\",キー割付!P716=\"トーン5\",\"トーン5\",キー割付!P716=\"トーン6\",\"トーン6\",キー割付!P716=\"トーン7\",\"トーン7\",キー割付!P716=\"トーン7\",\"トーン7\",キー割付!P716=\"無鳴動着信\",\"トーン8\",キー割付!P716=\"グリーンスリーブス\",\"メロディ1\",キー割付!P716=\"峠の我が家\",\"メロディ2\",キー割付!P716=\"カノン\",\"メロディ3\",キー割付!P716=\"春の歌\",\"メロディ4\",キー割付!P716=\"主よ人の望みの喜びよ\",\"メロディ5\",キー割付!P716=\"メヌエット\",\"メロディ6\",キー割付!P716=\"華麗なる大円舞曲\",\"メロディ7\",キー割付!P716=\"ハンガリア舞曲第5番\",\"メロディ8\",TRUE,\"トーン1\"))","v":"トーン1"},{"$f":"IF(E124=\"ZX-DECLDIV-IPコードレス電話機\",\"トーン1\",_xlfn.IFS(キー割付!Q716=\"着信音なし\",\"トーン1\",キー割付!Q716=\"トーン1\",\"トーン1\",キー割付!Q716=\"トーン2\",\"トーン2\",キー割付!Q716=\"トーン3\",\"トーン3\",キー割付!Q716=\"トーン4\",\"トーン4\",キー割付!Q716=\"トーン5\",\"トーン5\",キー割付!Q716=\"トーン6\",\"トーン6\",キー割付!Q716=\"トーン7\",\"トーン7\",キー割付!Q716=\"トーン7\",\"トーン7\",キー割付!Q716=\"無鳴動着信\",\"トーン8\",キー割付!Q716=\"グリーンスリーブス\",\"メロディ1\",キー割付!Q716=\"峠の我が家\",\"メロディ2\",キー割付!Q716=\"カノン\",\"メロディ3\",キー割付!Q716=\"春の歌\",\"メロディ4\",キー割付!Q716=\"主よ人の望みの喜びよ\",\"メロディ5\",キー割付!Q716=\"メヌエット\",\"メロディ6\",キー割付!Q716=\"華麗なる大円舞曲\",\"メロディ7\",キー割付!Q716=\"ハンガリア舞曲第5番\",\"メロディ8\",TRUE,\"トーン1\"))","v":"トーン1"},{"$f":"IF(E124=\"ZX-DECLDIV-IPコードレス電話機\",\"トーン1\",_xlfn.IFS(キー割付!R716=\"着信音なし\",\"トーン1\",キー割付!R716=\"トーン1\",\"トーン1\",キー割付!R716=\"トーン2\",\"トーン2\",キー割付!R716=\"トーン3\",\"トーン3\",キー割付!R716=\"トーン4\",\"トーン4\",キー割付!R716=\"トーン5\",\"トーン5\",キー割付!R716=\"トーン6\",\"トーン6\",キー割付!R716=\"トーン7\",\"トーン7\",キー割付!R716=\"トーン7\",\"トーン7\",キー割付!R716=\"無鳴動着信\",\"トーン8\",キー割付!R716=\"グリーンスリーブス\",\"メロディ1\",キー割付!R716=\"峠の我が家\",\"メロディ2\",キー割付!R716=\"カノン\",\"メロディ3\",キー割付!R716=\"春の歌\",\"メロディ4\",キー割付!R716=\"主よ人の望みの喜びよ\",\"メロディ5\",キー割付!R716=\"メヌエット\",\"メロディ6\",キー割付!R716=\"華麗なる大円舞曲\",\"メロディ7\",キー割付!R716=\"ハンガリア舞曲第5番\",\"メロディ8\",TRUE,\"トーン1\"))","v":"トーン1"},{"$f":"IF(E124=\"ZX-DECLDIV-IPコードレス電話機\",\"トーン1\",_xlfn.IFS(キー割付!S716=\"着信音なし\",\"トーン1\",キー割付!S716=\"トーン1\",\"トーン1\",キー割付!S716=\"トーン2\",\"トーン2\",キー割付!S716=\"トーン3\",\"トーン3\",キー割付!S716=\"トーン4\",\"トーン4\",キー割付!S716=\"トーン5\",\"トーン5\",キー割付!S716=\"トーン6\",\"トーン6\",キー割付!S716=\"トーン7\",\"トーン7\",キー割付!S716=\"トーン7\",\"トーン7\",キー割付!S716=\"無鳴動着信\",\"トーン8\",キー割付!S716=\"グリーンスリーブス\",\"メロディ1\",キー割付!S716=\"峠の我が家\",\"メロディ2\",キー割付!S716=\"カノン\",\"メロディ3\",キー割付!S716=\"春の歌\",\"メロディ4\",キー割付!S716=\"主よ人の望みの喜びよ\",\"メロディ5\",キー割付!S716=\"メヌエット\",\"メロディ6\",キー割付!S716=\"華麗なる大円舞曲\",\"メロディ7\",キー割付!S716=\"ハンガリア舞曲第5番\",\"メロディ8\",TRUE,\"トーン1\"))","v":"トーン1"}]
[null,null,null,null,null,{"$f":"_xlfn.IFS(キー割付!N693=\"昼夜休憩\",\"B\",キー割付!N693=\"－－－\",\"-\",キー割付!N693=\"昼－－\",\"H\",キー割付!N693=\"－夜－\",\"N\",キー割付!N693=\"－－休憩\",\"P\",キー割付!N693=\"昼夜－\",\"N\",キー割付!N693=\"昼－休憩\",\"F\",キー割付!N693=\"－夜休憩\",\"K\",TRUE,\"-\")","v":"-"},{"$f":"_xlfn.IFS(キー割付!O693=\"昼夜休憩\",\"B\",キー割付!O693=\"－－－\",\"-\",キー割付!O693=\"昼－－\",\"H\",キー割付!O693=\"－夜－\",\"N\",キー割付!O693=\"－－休憩\",\"P\",キー割付!O693=\"昼夜－\",\"N\",キー割付!O693=\"昼－休憩\",\"F\",キー割付!O693=\"－夜休憩\",\"K\",TRUE,\"-\")","v":"-"},{"$f":"_xlfn.IFS(キー割付!P693=\"昼夜休憩\",\"B\",キー割付!P693=\"－－－\",\"-\",キー割付!P693=\"昼－－\",\"H\",キー割付!P693=\"－夜－\",\"N\",キー割付!P693=\"－－休憩\",\"P\",キー割付!P693=\"昼夜－\",\"N\",キー割付!P693=\"昼－休憩\",\"F\",キー割付!P693=\"－夜休憩\",\"K\",TRUE,\"-\")","v":"-"},{"$f":"_xlfn.IFS(キー割付!Q693=\"昼夜休憩\",\"B\",キー割付!Q693=\"－－－\",\"-\",キー割付!Q693=\"昼－－\",\"H\",キー割付!Q693=\"－夜－\",\"N\",キー割付!Q693=\"－－休憩\",\"P\",キー割付!Q693=\"昼夜－\",\"N\",キー割付!Q693=\"昼－休憩\",\"F\",キー割付!Q693=\"－夜休憩\",\"K\",TRUE,\"-\")","v":"-"},{"$f":"_xlfn.IFS(キー割付!R693=\"昼夜休憩\",\"B\",キー割付!R693=\"－－－\",\"-\",キー割付!R693=\"昼－－\",\"H\",キー割付!R693=\"－夜－\",\"N\",キー割付!R693=\"－－休憩\",\"P\",キー割付!R693=\"昼夜－\",\"N\",キー割付!R693=\"昼－休憩\",\"F\",キー割付!R693=\"－夜休憩\",\"K\",TRUE,\"-\")","v":"-"},{"$f":"_xlfn.IFS(キー割付!S693=\"昼夜休憩\",\"B\",キー割付!S693=\"－－－\",\"-\",キー割付!S693=\"昼－－\",\"H\",キー割付!S693=\"－夜－\",\"N\",キー割付!S693=\"－－休憩\",\"P\",キー割付!S693=\"昼夜－\",\"N\",キー割付!S693=\"昼－休憩\",\"F\",キー割付!S693=\"－夜休憩\",\"K\",TRUE,\"-\")","v":"-"},{"$f":"_xlfn.IFS(キー割付!N701=\"昼夜休憩\",\"B\",キー割付!N701=\"－－－\",\"-\",キー割付!N701=\"昼－－\",\"H\",キー割付!N701=\"－夜－\",\"N\",キー割付!N701=\"－－休憩\",\"P\",キー割付!N701=\"昼夜－\",\"N\",キー割付!N701=\"昼－休憩\",\"F\",キー割付!N701=\"－夜休憩\",\"K\",TRUE,\"-\")","v":"-"},{"$f":"_xlfn.IFS(キー割付!O701=\"昼夜休憩\",\"B\",キー割付!O701=\"－－－\",\"-\",キー割付!O701=\"昼－－\",\"H\",キー割付!O701=\"－夜－\",\"N\",キー割付!O701=\"－－休憩\",\"P\",キー割付!O701=\"昼夜－\",\"N\",キー割付!O701=\"昼－休憩\",\"F\",キー割付!O701=\"－夜休憩\",\"K\",TRUE,\"-\")","v":"-"},{"$f":"IF(E124=\"ZX-DECLDIV-IPコードレス電話機\",\"-\",_xlfn.IFS(キー割付!P701=\"昼夜休憩\",\"B\",キー割付!P701=\"－－－\",\"-\",キー割付!P701=\"昼－－\",\"H\",キー割付!P701=\"－夜－\",\"N\",キー割付!P701=\"－－休憩\",\"P\",キー割付!P701=\"昼夜－\",\"N\",キー割付!P701=\"昼－休憩\",\"F\",キー割付!P701=\"－夜休憩\",\"K\",TRUE,\"-\"))","v":"-"},{"$f":"IF(E124=\"ZX-DECLDIV-IPコードレス電話機\",\"-\",_xlfn.IFS(キー割付!Q701=\"昼夜休憩\",\"B\",キー割付!Q701=\"－－－\",\"-\",キー割付!Q701=\"昼－－\",\"H\",キー割付!Q701=\"－夜－\",\"N\",キー割付!Q701=\"－－休憩\",\"P\",キー割付!Q701=\"昼夜－\",\"N\",キー割付!Q701=\"昼－休憩\",\"F\",キー割付!Q701=\"－夜休憩\",\"K\",TRUE,\"-\"))","v":"-"},{"$f":"IF(E124=\"ZX-DECLDIV-IPコードレス電話機\",\"-\",_xlfn.IFS(キー割付!R701=\"昼夜休憩\",\"B\",キー割付!R701=\"－－－\",\"-\",キー割付!R701=\"昼－－\",\"H\",キー割付!R701=\"－夜－\",\"N\",キー割付!R701=\"－－休憩\",\"P\",キー割付!R701=\"昼夜－\",\"N\",キー割付!R701=\"昼－休憩\",\"F\",キー割付!R701=\"－夜休憩\",\"K\",TRUE,\"-\"))","v":"-"},{"$f":"IF(E124=\"ZX-DECLDIV-IPコードレス電話機\",\"-\",_xlfn.IFS(キー割付!S701=\"昼夜休憩\",\"B\",キー割付!S701=\"－－－\",\"-\",キー割付!S701=\"昼－－\",\"H\",キー割付!S701=\"－夜－\",\"N\",キー割付!S701=\"－－休憩\",\"P\",キー割付!S701=\"昼夜－\",\"N\",キー割付!S701=\"昼－休憩\",\"F\",キー割付!S701=\"－夜休憩\",\"K\",TRUE,\"-\"))","v":"-"},{"$f":"IF(E124=\"ZX-DECLDIV-IPコードレス電話機\",\"-\",_xlfn.IFS(キー割付!N709=\"昼夜休憩\",\"B\",キー割付!N709=\"－－－\",\"-\",キー割付!N709=\"昼－－\",\"H\",キー割付!N709=\"－夜－\",\"N\",キー割付!N709=\"－－休憩\",\"P\",キー割付!N709=\"昼夜－\",\"N\",キー割付!N709=\"昼－休憩\",\"F\",キー割付!N709=\"－夜休憩\",\"K\",TRUE,\"-\"))","v":"-"},{"$f":"IF(E124=\"ZX-DECLDIV-IPコードレス電話機\",\"-\",_xlfn.IFS(キー割付!O709=\"昼夜休憩\",\"B\",キー割付!O709=\"－－－\",\"-\",キー割付!O709=\"昼－－\",\"H\",キー割付!O709=\"－夜－\",\"N\",キー割付!O709=\"－－休憩\",\"P\",キー割付!O709=\"昼夜－\",\"N\",キー割付!O709=\"昼－休憩\",\"F\",キー割付!O709=\"－夜休憩\",\"K\",TRUE,\"-\"))","v":"-"},{"$f":"IF(E124=\"ZX-DECLDIV-IPコードレス電話機\",\"-\",_xlfn.IFS(キー割付!P709=\"昼夜休憩\",\"B\",キー割付!P709=\"－－－\",\"-\",キー割付!P709=\"昼－－\",\"H\",キー割付!P709=\"－夜－\",\"N\",キー割付!P709=\"－－休憩\",\"P\",キー割付!P709=\"昼夜－\",\"N\",キー割付!P709=\"昼－休憩\",\"F\",キー割付!P709=\"－夜休憩\",\"K\",TRUE,\"-\"))","v":"-"},{"$f":"IF(E124=\"ZX-DECLDIV-IPコードレス電話機\",\"-\",_xlfn.IFS(キー割付!Q709=\"昼夜休憩\",\"B\",キー割付!Q709=\"－－－\",\"-\",キー割付!Q709=\"昼－－\",\"H\",キー割付!Q709=\"－夜－\",\"N\",キー割付!Q709=\"－－休憩\",\"P\",キー割付!Q709=\"昼夜－\",\"N\",キー割付!Q709=\"昼－休憩\",\"F\",キー割付!Q709=\"－夜休憩\",\"K\",TRUE,\"-\"))","v":"-"},{"$f":"IF(E124=\"ZX-DECLDIV-IPコードレス電話機\",\"-\",_xlfn.IFS(キー割付!R709=\"昼夜休憩\",\"B\",キー割付!R709=\"－－－\",\"-\",キー割付!R709=\"昼－－\",\"H\",キー割付!R709=\"－夜－\",\"N\",キー割付!R709=\"－－休憩\",\"P\",キー割付!R709=\"昼夜－\",\"N\",キー割付!R709=\"昼－休憩\",\"F\",キー割付!R709=\"－夜休憩\",\"K\",TRUE,\"-\"))","v":"-"},{"$f":"IF(E124=\"ZX-DECLDIV-IPコードレス電話機\",\"-\",_xlfn.IFS(キー割付!S709=\"昼夜休憩\",\"B\",キー割付!S709=\"－－－\",\"-\",キー割付!S709=\"昼－－\",\"H\",キー割付!S709=\"－夜－\",\"N\",キー割付!S709=\"－－休憩\",\"P\",キー割付!S709=\"昼夜－\",\"N\",キー割付!S709=\"昼－休憩\",\"F\",キー割付!S709=\"－夜休憩\",\"K\",TRUE,\"-\"))","v":"-"},{"$f":"IF(E124=\"ZX-DECLDIV-IPコードレス電話機\",\"-\",_xlfn.IFS(キー割付!N717=\"昼夜休憩\",\"B\",キー割付!N717=\"－－－\",\"-\",キー割付!N717=\"昼－－\",\"H\",キー割付!N717=\"－夜－\",\"N\",キー割付!N717=\"－－休憩\",\"P\",キー割付!N717=\"昼夜－\",\"N\",キー割付!N717=\"昼－休憩\",\"F\",キー割付!N717=\"－夜休憩\",\"K\",TRUE,\"-\"))","v":"-"},{"$f":"IF(E124=\"ZX-DECLDIV-IPコードレス電話機\",\"-\",_xlfn.IFS(キー割付!O717=\"昼夜休憩\",\"B\",キー割付!O717=\"－－－\",\"-\",キー割付!O717=\"昼－－\",\"H\",キー割付!O717=\"－夜－\",\"N\",キー割付!O717=\"－－休憩\",\"P\",キー割付!O717=\"昼夜－\",\"N\",キー割付!O717=\"昼－休憩\",\"F\",キー割付!O717=\"－夜休憩\",\"K\",TRUE,\"-\"))","v":"-"},{"$f":"IF(E124=\"ZX-DECLDIV-IPコードレス電話機\",\"-\",_xlfn.IFS(キー割付!P717=\"昼夜休憩\",\"B\",キー割付!P717=\"－－－\",\"-\",キー割付!P717=\"昼－－\",\"H\",キー割付!P717=\"－夜－\",\"N\",キー割付!P717=\"－－休憩\",\"P\",キー割付!P717=\"昼夜－\",\"N\",キー割付!P717=\"昼－休憩\",\"F\",キー割付!P717=\"－夜休憩\",\"K\",TRUE,\"-\"))","v":"-"},{"$f":"IF(E124=\"ZX-DECLDIV-IPコードレス電話機\",\"-\",_xlfn.IFS(キー割付!Q717=\"昼夜休憩\",\"B\",キー割付!Q717=\"－－－\",\"-\",キー割付!Q717=\"昼－－\",\"H\",キー割付!Q717=\"－夜－\",\"N\",キー割付!Q717=\"－－休憩\",\"P\",キー割付!Q717=\"昼夜－\",\"N\",キー割付!Q717=\"昼－休憩\",\"F\",キー割付!Q717=\"－夜休憩\",\"K\",TRUE,\"-\"))","v":"-"},{"$f":"IF(E124=\"ZX-DECLDIV-IPコードレス電話機\",\"-\",_xlfn.IFS(キー割付!R717=\"昼夜休憩\",\"B\",キー割付!R717=\"－－－\",\"-\",キー割付!R717=\"昼－－\",\"H\",キー割付!R717=\"－夜－\",\"N\",キー割付!R717=\"－－休憩\",\"P\",キー割付!R717=\"昼夜－\",\"N\",キー割付!R717=\"昼－休憩\",\"F\",キー割付!R717=\"－夜休憩\",\"K\",TRUE,\"-\"))","v":"-"},{"$f":"IF(E124=\"ZX-DECLDIV-IPコードレス電話機\",\"-\",_xlfn.IFS(キー割付!S717=\"昼夜休憩\",\"B\",キー割付!S717=\"－－－\",\"-\",キー割付!S717=\"昼－－\",\"H\",キー割付!S717=\"－夜－\",\"N\",キー割付!S717=\"－－休憩\",\"P\",キー割付!S717=\"昼夜－\",\"N\",キー割付!S717=\"昼－休憩\",\"F\",キー割付!S717=\"－夜休憩\",\"K\",TRUE,\"-\"))","v":"-"}]
[]
[]
[]
[]
[null,"TEN","TEN","6-01\n内線番号","2-01\n機種","LK1","LK2","LK3","LK4","LK5","LK6","LK7","LK8","LK9","LK10","LK11","LK12","LK13","LK14","LK15","LK16","LK17","LK18","LK19","LK20","LK21","LK22","LK23","LK24"]
[null,1,{"$f":"IF(IFERROR(VALUE(VLOOKUP(B7,内線_キー割用,2,FALSE)),\"\")=0,\"\",IFERROR(VALUE(VLOOKUP(B7,内線_キー割用,2,FALSE)),\"\"))","v":""},{"$f":"IF(IFERROR(VALUE(VLOOKUP(B7,内線_キー割用,4,FALSE)),\"\")=0,\"\",IFERROR(VALUE(VLOOKUP(B7,内線_キー割用,4,FALSE)),\"\"))","v":""},{"$f":"IF(IFERROR(VLOOKUP(B7,内線_キー割用,3,FALSE),\"\")=0,\"\",IFERROR(VLOOKUP(B7,内線_キー割用,3,FALSE),\"\"))","v":""},{"$f":"IF(キー割付!D10=\"\",\"\",キー割付!D10)","v":""},{"$f":"IF(キー割付!E10=\"\",\"\",キー割付!E10)","v":""},{"$f":"IF(キー割付!F10=\"\",\"\",キー割付!F10)","v":""},{"$f":"IF(キー割付!G10=\"\",\"\",キー割付!G10)","v":""},{"$f":"IF(キー割付!H10=\"\",\"\",キー割付!H10)","v":""},{"$f":"IF(キー割付!I10=\"\",\"\",キー割付!I10)","v":""},{"$f":"IF(キー割付!D18=\"\",\"\",キー割付!D18)","v":""},{"$f":"IF(キー割付!E18=\"\",\"\",キー割付!E18)","v":""},{"$f":"IF(E7=\"ZX-DECLDIV-IPコードレス電話機\",\"\",IF(キー割付!F18=\"\",\"\",キー割付!F18))","v":""},{"$f":"IF(E7=\"ZX-DECLDIV-IPコードレス電話機\",\"\",IF(キー割付!G18=\"\",\"\",キー割付!G18))","v":""},{"$f":"IF(E7=\"ZX-DECLDIV-IPコードレス電話機\",\"\",IF(キー割付!H18=\"\",\"\",キー割付!H18))","v":""},{"$f":"IF(E7=\"ZX-DECLDIV-IPコードレス電話機\",\"\",IF(キー割付!I18=\"\",\"\",キー割付!I18))","v":""},{"$f":"IF(E7=\"ZX-DECLDIV-IPコードレス電話機\",\"\",IF(キー割付!D26=\"\",\"\",キー割付!D26))","v":""},{"$f":"IF(E7=\"ZX-DECLDIV-IPコードレス電話機\",\"\",IF(キー割付!E26=\"\",\"\",キー割付!E26))","v":""},{"$f":"IF(E7=\"ZX-DECLDIV-IPコードレス電話機\",\"\",IF(キー割付!F26=\"\",\"\",キー割付!F26))","v":""},{"$f":"IF(E7=\"ZX-DECLDIV-IPコードレス電話機\",\"\",IF(キー割付!G26=\"\",\"\",キー割付!G26))","v":""},{"$f":"IF(E7=\"ZX-DECLDIV-IPコードレス電話機\",\"\",IF(キー割付!H26=\"\",\"\",キー割付!H26))","v":""},{"$f":"IF(E7=\"ZX-DECLDIV-IPコードレス電話機\",\"\",IF(キー割付!I26=\"\",\"\",キー割付!I26))","v":""},{"$f":"IF(E7=\"ZX-DECLDIV-IPコードレス電話機\",\"\",IF(キー割付!D34=\"\",\"\",キー割付!D34))","v":""},{"$f":"IF(E7=\"ZX-DECLDIV-IPコードレス電話機\",\"\",IF(キー割付!E34=\"\",\"\",キー割付!E34))","v":""},{"$f":"IF(E7=\"ZX-DECLDIV-IPコードレス電話機\",\"\",IF(キー割付!F34=\"\",\"\",キー割付!F34))","v":""},{"$f":"IF(E7=\"ZX-DECLDIV-IPコードレス電話機\",\"\",IF(キー割付!G34=\"\",\"\",キー割付!G34))","v":""},{"$f":"IF(E7=\"ZX-DECLDIV-IPコードレス電話機\",\"\",IF(キー割付!H34=\"\",\"\",キー割付!H34))","v":""},{"$f":"IF(E7=\"ZX-DECLDIV-IPコードレス電話機\",\"\",IF(キー割付!I34=\"\",\"\",キー割付!I34))","v":""},"着信拒否"]
[null,null,null,null,null,{"$f":"IF(キー割付!D11=\"\",\"\",キー割付!D11)","v":""},{"$f":"IF(キー割付!E11=\"\",\"\",キー割付!E11)","v":""},{"$f":"IF(キー割付!F11=\"\",\"\",キー割付!F11)","v":""},{"$f":"IF(キー割付!G11=\"\",\"\",キー割付!G11)","v":""},{"$f":"IF(キー割付!H11=\"\",\"\",キー割付!H11)","v":""},{"$f":"IF(キー割付!I11=\"\",\"\",キー割付!I11)","v":""},{"$f":"IF(キー割付!D19=\"\",\"\",キー割付!D19)","v":""},{"$f":"IF(キー割付!E19=\"\",\"\",キー割付!E19)","v":""},{"$f":"IF(E7=\"ZX-DECLDIV-IPコードレス電話機\",\"\",IF(キー割付!F19=\"\",\"\",キー割付!F19))","v":""},{"$f":"IF(E7=\"ZX-DECLDIV-IPコードレス電話機\",\"\",IF(キー割付!G19=\"\",\"\",キー割付!G19))","v":""},{"$f":"IF(E7=\"ZX-DECLDIV-IPコードレス電話機\",\"\",IF(キー割付!H19=\"\",\"\",キー割付!H19))","v":""},{"$f":"IF(E7=\"ZX-DECLDIV-IPコードレス電話機\",\"\",IF(キー割付!I19=\"\",\"\",キー割付!I19))","v":""},{"$f":"IF(E7=\"ZX-DECLDIV-IPコードレス電話機\",\"\",IF(キー割付!D27=\"\",\"\",キー割付!D27))","v":""},{"$f":"IF(E7=\"ZX-DECLDIV-IPコードレス電話機\",\"\",IF(キー割付!E27=\"\",\"\",キー割付!E27))","v":""},{"$f":"IF(E7=\"ZX-DECLDIV-IPコードレス電話機\",\"\",IF(キー割付!F27=\"\",\"\",キー割付!F27))","v":""},{"$f":"IF(E7=\"ZX-DECLDIV-IPコードレス電話機\",\"\",IF(キー割付!G27=\"\",\"\",キー割付!G27))","v":""},{"$f":"IF(E7=\"ZX-DECLDIV-IPコードレス電話機\",\"\",IF(キー割付!H27=\"\",\"\",キー割付!H27))","v":""},{"$f":"IF(E7=\"ZX-DECLDIV-IPコードレス電話機\",\"\",IF(キー割付!I27=\"\",\"\",キー割付!I27))","v":""},{"$f":"IF(E7=\"ZX-DECLDIV-IPコードレス電話機\",\"\",IF(キー割付!D35=\"\",\"\",キー割付!D35))","v":""},{"$f":"IF(E7=\"ZX-DECLDIV-IPコードレス電話機\",\"\",IF(キー割付!E35=\"\",\"\",キー割付!E35))","v":""},{"$f":"IF(E7=\"ZX-DECLDIV-IPコードレス電話機\",\"\",IF(キー割付!F35=\"\",\"\",キー割付!F35))","v":""},{"$f":"IF(E7=\"ZX-DECLDIV-IPコードレス電話機\",\"\",IF(キー割付!G35=\"\",\"\",キー割付!G35))","v":""},{"$f":"IF(E7=\"ZX-DECLDIV-IPコードレス電話機\",\"\",IF(キー割付!H35=\"\",\"\",キー割付!H35))","v":""},{"$f":"IF(E7=\"ZX-DECLDIV-IPコードレス電話機\",\"\",IF(キー割付!I35=\"\",\"\",キー割付!I35))","v":""},"モード切替"]
[null,null,null,null,null,{"$f":"IF(キー割付!D12=\"\",\"\",キー割付!D12)","v":""},{"$f":"IF(キー割付!E12=\"\",\"\",キー割付!E12)","v":""},{"$f":"IF(キー割付!F12=\"\",\"\",キー割付!F12)","v":""},{"$f":"IF(キー割付!G12=\"\",\"\",キー割付!G12)","v":""},{"$f":"IF(キー割付!H12=\"\",\"\",キー割付!H12)","v":""},{"$f":"IF(キー割付!I12=\"\",\"\",キー割付!I12)","v":""},{"$f":"IF(キー割付!D20=\"\",\"\",キー割付!D20)","v":""},{"$f":"IF(キー割付!E20=\"\",\"\",キー割付!E20)","v":""},{"$f":"IF(E7=\"ZX-DECLDIV-IPコードレス電話機\",\"\",IF(キー割付!F20=\"\",\"\",キー割付!F20))","v":""},{"$f":"IF(E7=\"ZX-DECLDIV-IPコードレス電話機\",\"\",IF(キー割付!G20=\"\",\"\",キー割付!G20))","v":""},{"$f":"IF(E7=\"ZX-DECLDIV-IPコードレス電話機\",\"\",IF(キー割付!H20=\"\",\"\",キー割付!H20))","v":""},{"$f":"IF(E7=\"ZX-DECLDIV-IPコードレス電話機\",\"\",IF(キー割付!I20=\"\",\"\",キー割付!I20))","v":""},{"$f":"IF(E7=\"ZX-DECLDIV-IPコードレス電話機\",\"\",IF(キー割付!D28=\"\",\"\",キー割付!D28))","v":""},{"$f":"IF(E7=\"ZX-DECLDIV-IPコードレス電話機\",\"\",IF(キー割付!E28=\"\",\"\",キー割付!E28))","v":""},{"$f":"IF(E7=\"ZX-DECLDIV-IPコードレス電話機\",\"\",IF(キー割付!F28=\"\",\"\",キー割付!F28))","v":""},{"$f":"IF(E7=\"ZX-DECLDIV-IPコードレス電話機\",\"\",IF(キー割付!G28=\"\",\"\",キー割付!G28))","v":""},{"$f":"IF(E7=\"ZX-DECLDIV-IPコードレス電話機\",\"\",IF(キー割付!H28=\"\",\"\",キー割付!H28))","v":""},{"$f":"IF(E7=\"ZX-DECLDIV-IPコードレス電話機\",\"\",IF(キー割付!I28=\"\",\"\",キー割付!I28))","v":""},{"$f":"IF(E7=\"ZX-DECLDIV-IPコードレス電話機\",\"\",IF(キー割付!D36=\"\",\"\",キー割付!D36))","v":""},{"$f":"IF(E7=\"ZX-DECLDIV-IPコードレス電話機\",\"\",IF(キー割付!E36=\"\",\"\",キー割付!E36))","v":""},{"$f":"IF(E7=\"ZX-DECLDIV-IPコードレス電話機\",\"\",IF(キー割付!F36=\"\",\"\",キー割付!F36))","v":""},{"$f":"IF(E7=\"ZX-DECLDIV-IPコードレス電話機\",\"\",IF(キー割付!G36=\"\",\"\",キー割付!G36))","v":""},{"$f":"IF(E7=\"ZX-DECLDIV-IPコードレス電話機\",\"\",IF(キー割付!H36=\"\",\"\",キー割付!H36))","v":""},{"$f":"IF(E7=\"ZX-DECLDIV-IPコードレス電話機\",\"\",IF(キー割付!I36=\"\",\"\",キー割付!I36))","v":""},"留守応答"]
[null,2,{"$f":"IF(IFERROR(VALUE(VLOOKUP(B10,内線_キー割用,2,FALSE)),\"\")=0,\"\",IFERROR(VALUE(VLOOKUP(B10,内線_キー割用,2,FALSE)),\"\"))","v":""},{"$f":"IF(IFERROR(VALUE(VLOOKUP(B10,内線_キー割用,4,FALSE)),\"\")=0,\"\",IFERROR(VALUE(VLOOKUP(B10,内線_キー割用,4,FALSE)),\"\"))","v":""},{"$f":"IF(IFERROR(VLOOKUP(B10,内線_キー割用,3,FALSE),\"\")=0,\"\",IFERROR(VLOOKUP(B10,内線_キー割用,3,FALSE),\"\"))","v":""},{"$f":"IF(キー割付!N10=\"\",\"\",キー割付!N10)","v":""},{"$f":"IF(キー割付!O10=\"\",\"\",キー割付!O10)","v":""},{"$f":"IF(キー割付!P10=\"\",\"\",キー割付!P10)","v":""},{"$f":"IF(キー割付!Q10=\"\",\"\",キー割付!Q10)","v":""},{"$f":"IF(キー割付!R10=\"\",\"\",キー割付!R10)","v":""},{"$f":"IF(キー割付!S10=\"\",\"\",キー割付!S10)","v":""},{"$f":"IF(キー割付!N18=\"\",\"\",キー割付!N18)","v":""},{"$f":"IF(キー割付!O18=\"\",\"\",キー割付!O18)","v":""},{"$f":"IF(E10=\"ZX-DECLDIV-IPコードレス電話機\",\"\",IF(キー割付!P18=\"\",\"\",キー割付!P18))","v":""},{"$f":"IF(E10=\"ZX-DECLDIV-IPコードレス電話機\",\"\",IF(キー割付!Q18=\"\",\"\",キー割付!Q18))","v":""},{"$f":"IF(E10=\"ZX-DECLDIV-IPコードレス電話機\",\"\",IF(キー割付!R18=\"\",\"\",キー割付!R18))","v":""},{"$f":"IF(E10=\"ZX-DECLDIV-IPコードレス電話機\",\"\",IF(キー割付!S18=\"\",\"\",キー割付!S18))","v":""},{"$f":"IF(E10=\"ZX-DECLDIV-IPコードレス電話機\",\"\",IF(キー割付!N26=\"\",\"\",キー割付!N26))","v":""},{"$f":"IF(E10=\"ZX-DECLDIV-IPコードレス電話機\",\"\",IF(キー割付!O26=\"\",\"\",キー割付!O26))","v":""},{"$f":"IF(E10=\"ZX-DECLDIV-IPコードレス電話機\",\"\",IF(キー割付!P26=\"\",\"\",キー割付!P26))","v":""},{"$f":"IF(E10=\"ZX-DECLDIV-IPコードレス電話機\",\"\",IF(キー割付!Q26=\"\",\"\",キー割付!Q26))","v":""},{"$f":"IF(E10=\"ZX-DECLDIV-IPコードレス電話機\",\"\",IF(キー割付!R26=\"\",\"\",キー割付!R26))","v":""},{"$f":"IF(E10=\"ZX-DECLDIV-IPコードレス電話機\",\"\",IF(キー割付!S26=\"\",\"\",キー割付!S26))","v":""},{"$f":"IF(E10=\"ZX-DECLDIV-IPコードレス電話機\",\"\",IF(キー割付!N34=\"\",\"\",キー割付!N34))","v":""},{"$f":"IF(E10=\"ZX-DECLDIV-IPコードレス電話機\",\"\",IF(キー割付!O34=\"\",\"\",キー割付!O34))","v":""},{"$f":"IF(E10=\"ZX-DECLDIV-IPコードレス電話機\",\"\",IF(キー割付!P34=\"\",\"\",キー割付!P34))","v":""},{"$f":"IF(E10=\"ZX-DECLDIV-IPコードレス電話機\",\"\",IF(キー割付!Q34=\"\",\"\",キー割付!Q34))","v":""},{"$f":"IF(E10=\"ZX-DECLDIV-IPコードレス電話機\",\"\",IF(キー割付!R34=\"\",\"\",キー割付!R34))","v":""},{"$f":"IF(E10=\"ZX-DECLDIV-IPコードレス電話機\",\"\",IF(キー割付!S34=\"\",\"\",キー割付!S34))","v":""}]
[null,null,null,null,null,{"$f":"IF(キー割付!N11=\"\",\"\",キー割付!N11)","v":""},{"$f":"IF(キー割付!O11=\"\",\"\",キー割付!O11)","v":""},{"$f":"IF(キー割付!P11=\"\",\"\",キー割付!P11)","v":""},{"$f":"IF(キー割付!Q11=\"\",\"\",キー割付!Q11)","v":""},{"$f":"IF(キー割付!R11=\"\",\"\",キー割付!R11)","v":""},{"$f":"IF(キー割付!S11=\"\",\"\",キー割付!S11)","v":""},{"$f":"IF(キー割付!N19=\"\",\"\",キー割付!N19)","v":""},{"$f":"IF(キー割付!O19=\"\",\"\",キー割付!O19)","v":""},{"$f":"IF(E10=\"ZX-DECLDIV-IPコードレス電話機\",\"\",IF(キー割付!P19=\"\",\"\",キー割付!P19))","v":""},{"$f":"IF(E10=\"ZX-DECLDIV-IPコードレス電話機\",\"\",IF(キー割付!Q19=\"\",\"\",キー割付!Q19))","v":""},{"$f":"IF(E10=\"ZX-DECLDIV-IPコードレス電話機\",\"\",IF(キー割付!R19=\"\",\"\",キー割付!R19))","v":""},{"$f":"IF(E10=\"ZX-DECLDIV-IPコードレス電話機\",\"\",IF(キー割付!S19=\"\",\"\",キー割付!S19))","v":""},{"$f":"IF(E10=\"ZX-DECLDIV-IPコードレス電話機\",\"\",IF(キー割付!N27=\"\",\"\",キー割付!N27))","v":""},{"$f":"IF(E10=\"ZX-DECLDIV-IPコードレス電話機\",\"\",IF(キー割付!O27=\"\",\"\",キー割付!O27))","v":""},{"$f":"IF(E10=\"ZX-DECLDIV-IPコードレス電話機\",\"\",IF(キー割付!P27=\"\",\"\",キー割付!P27))","v":""},{"$f":"IF(E10=\"ZX-DECLDIV-IPコードレス電話機\",\"\",IF(キー割付!Q27=\"\",\"\",キー割付!Q27))","v":""},{"$f":"IF(E10=\"ZX-DECLDIV-IPコードレス電話機\",\"\",IF(キー割付!R27=\"\",\"\",キー割付!R27))","v":""},{"$f":"IF(E10=\"ZX-DECLDIV-IPコードレス電話機\",\"\",IF(キー割付!S27=\"\",\"\",キー割付!S27))","v":""},{"$f":"IF(E10=\"ZX-DECLDIV-IPコードレス電話機\",\"\",IF(キー割付!N35=\"\",\"\",キー割付!N35))","v":""},{"$f":"IF(E10=\"ZX-DECLDIV-IPコードレス電話機\",\"\",IF(キー割付!O35=\"\",\"\",キー割付!O35))","v":""},{"$f":"IF(E10=\"ZX-DECLDIV-IPコードレス電話機\",\"\",IF(キー割付!P35=\"\",\"\",キー割付!P35))","v":""},{"$f":"IF(E10=\"ZX-DECLDIV-IPコードレス電話機\",\"\",IF(キー割付!Q35=\"\",\"\",キー割付!Q35))","v":""},{"$f":"IF(E10=\"ZX-DECLDIV-IPコードレス電話機\",\"\",IF(キー割付!R35=\"\",\"\",キー割付!R35))","v":""},{"$f":"IF(E10=\"ZX-DECLDIV-IPコードレス電話機\",\"\",IF(キー割付!S35=\"\",\"\",キー割付!S35))","v":""}]
[null,null,null,null,null,{"$f":"IF(キー割付!N12=\"\",\"\",キー割付!N12)","v":""},{"$f":"IF(キー割付!O12=\"\",\"\",キー割付!O12)","v":""},{"$f":"IF(キー割付!P12=\"\",\"\",キー割付!P12)","v":""},{"$f":"IF(キー割付!Q12=\"\",\"\",キー割付!Q12)","v":""},{"$f":"IF(キー割付!R12=\"\",\"\",キー割付!R12)","v":""},{"$f":"IF(キー割付!S12=\"\",\"\",キー割付!S12)","v":""},{"$f":"IF(キー割付!N20=\"\",\"\",キー割付!N20)","v":""},{"$f":"IF(キー割付!O20=\"\",\"\",キー割付!O20)","v":""},{"$f":"IF(E10=\"ZX-DECLDIV-IPコードレス電話機\",\"\",IF(キー割付!P20=\"\",\"\",キー割付!P20))","v":""},{"$f":"IF(E10=\"ZX-DECLDIV-IPコードレス電話機\",\"\",IF(キー割付!Q20=\"\",\"\",キー割付!Q20))","v":""},{"$f":"IF(E10=\"ZX-DECLDIV-IPコードレス電話機\",\"\",IF(キー割付!R20=\"\",\"\",キー割付!R20))","v":""},{"$f":"IF(E10=\"ZX-DECLDIV-IPコードレス電話機\",\"\",IF(キー割付!S20=\"\",\"\",キー割付!S20))","v":""},{"$f":"IF(E10=\"ZX-DECLDIV-IPコードレス電話機\",\"\",IF(キー割付!N28=\"\",\"\",キー割付!N28))","v":""},{"$f":"IF(E10=\"ZX-DECLDIV-IPコードレス電話機\",\"\",IF(キー割付!O28=\"\",\"\",キー割付!O28))","v":""},{"$f":"IF(E10=\"ZX-DECLDIV-IPコードレス電話機\",\"\",IF(キー割付!P28=\"\",\"\",キー割付!P28))","v":""},{"$f":"IF(E10=\"ZX-DECLDIV-IPコードレス電話機\",\"\",IF(キー割付!Q28=\"\",\"\",キー割付!Q28))","v":""},{"$f":"IF(E10=\"ZX-DECLDIV-IPコードレス電話機\",\"\",IF(キー割付!R28=\"\",\"\",キー割付!R28))","v":""},{"$f":"IF(E10=\"ZX-DECLDIV-IPコードレス電話機\",\"\",IF(キー割付!S28=\"\",\"\",キー割付!S28))","v":""},{"$f":"IF(E10=\"ZX-DECLDIV-IPコードレス電話機\",\"\",IF(キー割付!N36=\"\",\"\",キー割付!N36))","v":""},{"$f":"IF(E10=\"ZX-DECLDIV-IPコードレス電話機\",\"\",IF(キー割付!O36=\"\",\"\",キー割付!O36))","v":""},{"$f":"IF(E10=\"ZX-DECLDIV-IPコードレス電話機\",\"\",IF(キー割付!P36=\"\",\"\",キー割付!P36))","v":""},{"$f":"IF(E10=\"ZX-DECLDIV-IPコードレス電話機\",\"\",IF(キー割付!Q36=\"\",\"\",キー割付!Q36))","v":""},{"$f":"IF(E10=\"ZX-DECLDIV-IPコードレス電話機\",\"\",IF(キー割付!R36=\"\",\"\",キー割付!R36))","v":""},{"$f":"IF(E10=\"ZX-DECLDIV-IPコードレス電話機\",\"\",IF(キー割付!S36=\"\",\"\",キー割付!S36))","v":""}]
[null,3,{"$f":"IF(IFERROR(VALUE(VLOOKUP(B13,内線_キー割用,2,FALSE)),\"\")=0,\"\",IFERROR(VALUE(VLOOKUP(B13,内線_キー割用,2,FALSE)),\"\"))","v":""},{"$f":"IF(IFERROR(VALUE(VLOOKUP(B13,内線_キー割用,4,FALSE)),\"\")=0,\"\",IFERROR(VALUE(VLOOKUP(B13,内線_キー割用,4,FALSE)),\"\"))","v":""},{"$f":"IF(IFERROR(VLOOKUP(B13,内線_キー割用,3,FALSE),\"\")=0,\"\",IFERROR(VLOOKUP(B13,内線_キー割用,3,FALSE),\"\"))","v":""},{"$f":"IF(キー割付!D46=\"\",\"\",キー割付!D46)","v":""},{"$f":"IF(キー割付!E46=\"\",\"\",キー割付!E46)","v":""},{"$f":"IF(キー割付!F46=\"\",\"\",キー割付!F46)","v":""},{"$f":"IF(キー割付!G46=\"\",\"\",キー割付!G46)","v":""},{"$f":"IF(キー割付!H46=\"\",\"\",キー割付!H46)","v":""},{"$f":"IF(キー割付!I46=\"\",\"\",キー割付!I46)","v":""},{"$f":"IF(キー割付!D54=\"\",\"\",キー割付!D54)","v":""},{"$f":"IF(キー割付!E54=\"\",\"\",キー割付!E54)","v":""},{"$f":"IF(E13=\"ZX-DECLDIV-IPコードレス電話機\",\"\",IF(キー割付!F54=\"\",\"\",キー割付!F54))","v":""},{"$f":"IF(E13=\"ZX-DECLDIV-IPコードレス電話機\",\"\",IF(キー割付!G54=\"\",\"\",キー割付!G54))","v":""},{"$f":"IF(E13=\"ZX-DECLDIV-IPコードレス電話機\",\"\",IF(キー割付!H54=\"\",\"\",キー割付!H54))","v":""},{"$f":"IF(E13=\"ZX-DECLDIV-IPコードレス電話機\",\"\",IF(キー割付!I54=\"\",\"\",キー割付!I54))","v":""},{"$f":"IF(E13=\"ZX-DECLDIV-IPコードレス電話機\",\"\",IF(キー割付!D62=\"\",\"\",キー割付!D62))","v":""},{"$f":"IF(E13=\"ZX-DECLDIV-IPコードレス電話機\",\"\",IF(キー割付!E62=\"\",\"\",キー割付!E62))","v":""},{"$f":"IF(E13=\"ZX-DECLDIV-IPコードレス電話機\",\"\",IF(キー割付!F62=\"\",\"\",キー割付!F62))","v":""},{"$f":"IF(E13=\"ZX-DECLDIV-IPコードレス電話機\",\"\",IF(キー割付!G62=\"\",\"\",キー割付!G62))","v":""},{"$f":"IF(E13=\"ZX-DECLDIV-IPコードレス電話機\",\"\",IF(キー割付!H62=\"\",\"\",キー割付!H62))","v":""},{"$f":"IF(E13=\"ZX-DECLDIV-IPコードレス電話機\",\"\",IF(キー割付!I62=\"\",\"\",キー割付!I62))","v":""},{"$f":"IF(E13=\"ZX-DECLDIV-IPコードレス電話機\",\"\",IF(キー割付!D70=\"\",\"\",キー割付!D70))","v":""},{"$f":"IF(E13=\"ZX-DECLDIV-IPコードレス電話機\",\"\",IF(キー割付!E70=\"\",\"\",キー割付!E70))","v":""},{"$f":"IF(E13=\"ZX-DECLDIV-IPコードレス電話機\",\"\",IF(キー割付!F70=\"\",\"\",キー割付!F70))","v":""},{"$f":"IF(E13=\"ZX-DECLDIV-IPコードレス電話機\",\"\",IF(キー割付!G70=\"\",\"\",キー割付!G70))","v":""},{"$f":"IF(E13=\"ZX-DECLDIV-IPコードレス電話機\",\"\",IF(キー割付!H70=\"\",\"\",キー割付!H70))","v":""},{"$f":"IF(E13=\"ZX-DECLDIV-IPコードレス電話機\",\"\",IF(キー割付!I70=\"\",\"\",キー割付!I70))","v":""}]
[null,null,null,null,null,{"$f":"IF(キー割付!D47=\"\",\"\",キー割付!D47)","v":""},{"$f":"IF(キー割付!E47=\"\",\"\",キー割付!E47)","v":""},{"$f":"IF(キー割付!F47=\"\",\"\",キー割付!F47)","v":""},{"$f":"IF(キー割付!G47=\"\",\"\",キー割付!G47)","v":""},{"$f":"IF(キー割付!H47=\"\",\"\",キー割付!H47)","v":""},{"$f":"IF(キー割付!I47=\"\",\"\",キー割付!I47)","v":""},{"$f":"IF(キー割付!D55=\"\",\"\",キー割付!D55)","v":""},{"$f":"IF(キー割付!E55=\"\",\"\",キー割付!E55)","v":""},{"$f":"IF(E13=\"ZX-DECLDIV-IPコードレス電話機\",\"\",IF(キー割付!F55=\"\",\"\",キー割付!F55))","v":""},{"$f":"IF(E13=\"ZX-DECLDIV-IPコードレス電話機\",\"\",IF(キー割付!G55=\"\",\"\",キー割付!G55))","v":""},{"$f":"IF(E13=\"ZX-DECLDIV-IPコードレス電話機\",\"\",IF(キー割付!H55=\"\",\"\",キー割付!H55))","v":""},{"$f":"IF(E13=\"ZX-DECLDIV-IPコードレス電話機\",\"\",IF(キー割付!I55=\"\",\"\",キー割付!I55))","v":""},{"$f":"IF(E13=\"ZX-DECLDIV-IPコードレス電話機\",\"\",IF(キー割付!D63=\"\",\"\",キー割付!D63))","v":""},{"$f":"IF(E13=\"ZX-DECLDIV-IPコードレス電話機\",\"\",IF(キー割付!E63=\"\",\"\",キー割付!E63))","v":""},{"$f":"IF(E13=\"ZX-DECLDIV-IPコードレス電話機\",\"\",IF(キー割付!F63=\"\",\"\",キー割付!F63))","v":""},{"$f":"IF(E13=\"ZX-DECLDIV-IPコードレス電話機\",\"\",IF(キー割付!G63=\"\",\"\",キー割付!G63))","v":""},{"$f":"IF(E13=\"ZX-DECLDIV-IPコードレス電話機\",\"\",IF(キー割付!H63=\"\",\"\",キー割付!H63))","v":""},{"$f":"IF(E13=\"ZX-DECLDIV-IPコードレス電話機\",\"\",IF(キー割付!I63=\"\",\"\",キー割付!I63))","v":""},{"$f":"IF(E13=\"ZX-DECLDIV-IPコードレス電話機\",\"\",IF(キー割付!D71=\"\",\"\",キー割付!D71))","v":""},{"$f":"IF(E13=\"ZX-DECLDIV-IPコードレス電話機\",\"\",IF(キー割付!E71=\"\",\"\",キー割付!E71))","v":""},{"$f":"IF(E13=\"ZX-DECLDIV-IPコードレス電話機\",\"\",IF(キー割付!F71=\"\",\"\",キー割付!F71))","v":""},{"$f":"IF(E13=\"ZX-DECLDIV-IPコードレス電話機\",\"\",IF(キー割付!G71=\"\",\"\",キー割付!G71))","v":""},{"$f":"IF(E13=\"ZX-DECLDIV-IPコードレス電話機\",\"\",IF(キー割付!H71=\"\",\"\",キー割付!H71))","v":""},{"$f":"IF(E13=\"ZX-DECLDIV-IPコードレス電話機\",\"\",IF(キー割付!I71=\"\",\"\",キー割付!I71))","v":""}]
[null,null,null,null,null,{"$f":"IF(キー割付!D48=\"\",\"\",キー割付!D48)","v":""},{"$f":"IF(キー割付!E48=\"\",\"\",キー割付!E48)","v":""},{"$f":"IF(キー割付!F48=\"\",\"\",キー割付!F48)","v":""},{"$f":"IF(キー割付!G48=\"\",\"\",キー割付!G48)","v":""},{"$f":"IF(キー割付!H48=\"\",\"\",キー割付!H48)","v":""},{"$f":"IF(キー割付!I48=\"\",\"\",キー割付!I48)","v":""},{"$f":"IF(キー割付!D56=\"\",\"\",キー割付!D56)","v":""},{"$f":"IF(キー割付!E56=\"\",\"\",キー割付!E56)","v":""},{"$f":"IF(E13=\"ZX-DECLDIV-IPコードレス電話機\",\"\",IF(キー割付!F56=\"\",\"\",キー割付!F56))","v":""},{"$f":"IF(E13=\"ZX-DECLDIV-IPコードレス電話機\",\"\",IF(キー割付!G56=\"\",\"\",キー割付!G56))","v":""},{"$f":"IF(E13=\"ZX-DECLDIV-IPコードレス電話機\",\"\",IF(キー割付!H56=\"\",\"\",キー割付!H56))","v":""},{"$f":"IF(E13=\"ZX-DECLDIV-IPコードレス電話機\",\"\",IF(キー割付!I56=\"\",\"\",キー割付!I56))","v":""},{"$f":"IF(E13=\"ZX-DECLDIV-IPコードレス電話機\",\"\",IF(キー割付!D64=\"\",\"\",キー割付!D64))","v":""},{"$f":"IF(E13=\"ZX-DECLDIV-IPコードレス電話機\",\"\",IF(キー割付!E64=\"\",\"\",キー割付!E64))","v":""},{"$f":"IF(E13=\"ZX-DECLDIV-IPコードレス電話機\",\"\",IF(キー割付!F64=\"\",\"\",キー割付!F64))","v":""},{"$f":"IF(E13=\"ZX-DECLDIV-IPコードレス電話機\",\"\",IF(キー割付!G64=\"\",\"\",キー割付!G64))","v":""},{"$f":"IF(E13=\"ZX-DECLDIV-IPコードレス電話機\",\"\",IF(キー割付!H64=\"\",\"\",キー割付!H64))","v":""},{"$f":"IF(E13=\"ZX-DECLDIV-IPコードレス電話機\",\"\",IF(キー割付!I64=\"\",\"\",キー割付!I64))","v":""},{"$f":"IF(E13=\"ZX-DECLDIV-IPコードレス電話機\",\"\",IF(キー割付!D72=\"\",\"\",キー割付!D72))","v":""},{"$f":"IF(E13=\"ZX-DECLDIV-IPコードレス電話機\",\"\",IF(キー割付!E72=\"\",\"\",キー割付!E72))","v":""},{"$f":"IF(E13=\"ZX-DECLDIV-IPコードレス電話機\",\"\",IF(キー割付!F72=\"\",\"\",キー割付!F72))","v":""},{"$f":"IF(E13=\"ZX-DECLDIV-IPコードレス電話機\",\"\",IF(キー割付!G72=\"\",\"\",キー割付!G72))","v":""},{"$f":"IF(E13=\"ZX-DECLDIV-IPコードレス電話機\",\"\",IF(キー割付!H72=\"\",\"\",キー割付!H72))","v":""},{"$f":"IF(E13=\"ZX-DECLDIV-IPコードレス電話機\",\"\",IF(キー割付!I72=\"\",\"\",キー割付!I72))","v":""}]
[null,4,{"$f":"IF(IFERROR(VALUE(VLOOKUP(B16,内線_キー割用,2,FALSE)),\"\")=0,\"\",IFERROR(VALUE(VLOOKUP(B16,内線_キー割用,2,FALSE)),\"\"))","v":""},{"$f":"IF(IFERROR(VALUE(VLOOKUP(B16,内線_キー割用,4,FALSE)),\"\")=0,\"\",IFERROR(VALUE(VLOOKUP(B16,内線_キー割用,4,FALSE)),\"\"))","v":""},{"$f":"IF(IFERROR(VLOOKUP(B16,内線_キー割用,3,FALSE),\"\")=0,\"\",IFERROR(VLOOKUP(B16,内線_キー割用,3,FALSE),\"\"))","v":""},{"$f":"IF(キー割付!N46=\"\",\"\",キー割付!N46)","v":""},{"$f":"IF(キー割付!O46=\"\",\"\",キー割付!O46)","v":""},{"$f":"IF(キー割付!P46=\"\",\"\",キー割付!P46)","v":""},{"$f":"IF(キー割付!Q46=\"\",\"\",キー割付!Q46)","v":""},{"$f":"IF(キー割付!R46=\"\",\"\",キー割付!R46)","v":""},{"$f":"IF(キー割付!S46=\"\",\"\",キー割付!S46)","v":""},{"$f":"IF(キー割付!N54=\"\",\"\",キー割付!N54)","v":""},{"$f":"IF(キー割付!O54=\"\",\"\",キー割付!O54)","v":""},{"$f":"IF(E16=\"ZX-DECLDIV-IPコードレス電話機\",\"\",IF(キー割付!P54=\"\",\"\",キー割付!P54))","v":""},{"$f":"IF(E16=\"ZX-DECLDIV-IPコードレス電話機\",\"\",IF(キー割付!Q54=\"\",\"\",キー割付!Q54))","v":""},{"$f":"IF(E16=\"ZX-DECLDIV-IPコードレス電話機\",\"\",IF(キー割付!R54=\"\",\"\",キー割付!R54))","v":""},{"$f":"IF(E16=\"ZX-DECLDIV-IPコードレス電話機\",\"\",IF(キー割付!S54=\"\",\"\",キー割付!S54))","v":""},{"$f":"IF(E16=\"ZX-DECLDIV-IPコードレス電話機\",\"\",IF(キー割付!N62=\"\",\"\",キー割付!N62))","v":""},{"$f":"IF(E16=\"ZX-DECLDIV-IPコードレス電話機\",\"\",IF(キー割付!O62=\"\",\"\",キー割付!O62))","v":""},{"$f":"IF(E16=\"ZX-DECLDIV-IPコードレス電話機\",\"\",IF(キー割付!P62=\"\",\"\",キー割付!P62))","v":""},{"$f":"IF(E16=\"ZX-DECLDIV-IPコードレス電話機\",\"\",IF(キー割付!Q62=\"\",\"\",キー割付!Q62))","v":""},{"$f":"IF(E16=\"ZX-DECLDIV-IPコードレス電話機\",\"\",IF(キー割付!R62=\"\",\"\",キー割付!R62))","v":""},{"$f":"IF(E16=\"ZX-DECLDIV-IPコードレス電話機\",\"\",IF(キー割付!S62=\"\",\"\",キー割付!S62))","v":""},{"$f":"IF(E16=\"ZX-DECLDIV-IPコードレス電話機\",\"\",IF(キー割付!N70=\"\",\"\",キー割付!N70))","v":""},{"$f":"IF(E16=\"ZX-DECLDIV-IPコードレス電話機\",\"\",IF(キー割付!O70=\"\",\"\",キー割付!O70))","v":""},{"$f":"IF(E16=\"ZX-DECLDIV-IPコードレス電話機\",\"\",IF(キー割付!P70=\"\",\"\",キー割付!P70))","v":""},{"$f":"IF(E16=\"ZX-DECLDIV-IPコードレス電話機\",\"\",IF(キー割付!Q70=\"\",\"\",キー割付!Q70))","v":""},{"$f":"IF(E16=\"ZX-DECLDIV-IPコードレス電話機\",\"\",IF(キー割付!R70=\"\",\"\",キー割付!R70))","v":""},{"$f":"IF(E16=\"ZX-DECLDIV-IPコードレス電話機\",\"\",IF(キー割付!S70=\"\",\"\",キー割付!S70))","v":""}]
[null,null,null,null,null,{"$f":"IF(キー割付!N47=\"\",\"\",キー割付!N47)","v":""},{"$f":"IF(キー割付!O47=\"\",\"\",キー割付!O47)","v":""},{"$f":"IF(キー割付!P47=\"\",\"\",キー割付!P47)","v":""},{"$f":"IF(キー割付!Q47=\"\",\"\",キー割付!Q47)","v":""},{"$f":"IF(キー割付!R47=\"\",\"\",キー割付!R47)","v":""},{"$f":"IF(キー割付!S47=\"\",\"\",キー割付!S47)","v":""},{"$f":"IF(キー割付!N55=\"\",\"\",キー割付!N55)","v":""},{"$f":"IF(キー割付!O55=\"\",\"\",キー割付!O55)","v":""},{"$f":"IF(E16=\"ZX-DECLDIV-IPコードレス電話機\",\"\",IF(キー割付!P55=\"\",\"\",キー割付!P55))","v":""},{"$f":"IF(E16=\"ZX-DECLDIV-IPコードレス電話機\",\"\",IF(キー割付!Q55=\"\",\"\",キー割付!Q55))","v":""},{"$f":"IF(E16=\"ZX-DECLDIV-IPコードレス電話機\",\"\",IF(キー割付!R55=\"\",\"\",キー割付!R55))","v":""},{"$f":"IF(E16=\"ZX-DECLDIV-IPコードレス電話機\",\"\",IF(キー割付!S55=\"\",\"\",キー割付!S55))","v":""},{"$f":"IF(E16=\"ZX-DECLDIV-IPコードレス電話機\",\"\",IF(キー割付!N63=\"\",\"\",キー割付!N63))","v":""},{"$f":"IF(E16=\"ZX-DECLDIV-IPコードレス電話機\",\"\",IF(キー割付!O63=\"\",\"\",キー割付!O63))","v":""},{"$f":"IF(E16=\"ZX-DECLDIV-IPコードレス電話機\",\"\",IF(キー割付!P63=\"\",\"\",キー割付!P63))","v":""},{"$f":"IF(E16=\"ZX-DECLDIV-IPコードレス電話機\",\"\",IF(キー割付!Q63=\"\",\"\",キー割付!Q63))","v":""},{"$f":"IF(E16=\"ZX-DECLDIV-IPコードレス電話機\",\"\",IF(キー割付!R63=\"\",\"\",キー割付!R63))","v":""},{"$f":"IF(E16=\"ZX-DECLDIV-IPコードレス電話機\",\"\",IF(キー割付!S63=\"\",\"\",キー割付!S63))","v":""},{"$f":"IF(E16=\"ZX-DECLDIV-IPコードレス電話機\",\"\",IF(キー割付!N71=\"\",\"\",キー割付!N71))","v":""},{"$f":"IF(E16=\"ZX-DECLDIV-IPコードレス電話機\",\"\",IF(キー割付!O71=\"\",\"\",キー割付!O71))","v":""},{"$f":"IF(E16=\"ZX-DECLDIV-IPコードレス電話機\",\"\",IF(キー割付!P71=\"\",\"\",キー割付!P71))","v":""},{"$f":"IF(E16=\"ZX-DECLDIV-IPコードレス電話機\",\"\",IF(キー割付!Q71=\"\",\"\",キー割付!Q71))","v":""},{"$f":"IF(E16=\"ZX-DECLDIV-IPコードレス電話機\",\"\",IF(キー割付!R71=\"\",\"\",キー割付!R71))","v":""},{"$f":"IF(E16=\"ZX-DECLDIV-IPコードレス電話機\",\"\",IF(キー割付!S71=\"\",\"\",キー割付!S71))","v":""}]
[null,null,null,null,null,{"$f":"IF(キー割付!N48=\"\",\"\",キー割付!N48)","v":""},{"$f":"IF(キー割付!O48=\"\",\"\",キー割付!O48)","v":""},{"$f":"IF(キー割付!P48=\"\",\"\",キー割付!P48)","v":""},{"$f":"IF(キー割付!Q48=\"\",\"\",キー割付!Q48)","v":""},{"$f":"IF(キー割付!R48=\"\",\"\",キー割付!R48)","v":""},{"$f":"IF(キー割付!S48=\"\",\"\",キー割付!S48)","v":""},{"$f":"IF(キー割付!N56=\"\",\"\",キー割付!N56)","v":""},{"$f":"IF(キー割付!O56=\"\",\"\",キー割付!O56)","v":""},{"$f":"IF(E16=\"ZX-DECLDIV-IPコードレス電話機\",\"\",IF(キー割付!P56=\"\",\"\",キー割付!P56))","v":""},{"$f":"IF(E16=\"ZX-DECLDIV-IPコードレス電話機\",\"\",IF(キー割付!Q56=\"\",\"\",キー割付!Q56))","v":""},{"$f":"IF(E16=\"ZX-DECLDIV-IPコードレス電話機\",\"\",IF(キー割付!R56=\"\",\"\",キー割付!R56))","v":""},{"$f":"IF(E16=\"ZX-DECLDIV-IPコードレス電話機\",\"\",IF(キー割付!S56=\"\",\"\",キー割付!S56))","v":""},{"$f":"IF(E16=\"ZX-DECLDIV-IPコードレス電話機\",\"\",IF(キー割付!N64=\"\",\"\",キー割付!N64))","v":""},{"$f":"IF(E16=\"ZX-DECLDIV-IPコードレス電話機\",\"\",IF(キー割付!O64=\"\",\"\",キー割付!O64))","v":""},{"$f":"IF(E16=\"ZX-DECLDIV-IPコードレス電話機\",\"\",IF(キー割付!P64=\"\",\"\",キー割付!P64))","v":""},{"$f":"IF(E16=\"ZX-DECLDIV-IPコードレス電話機\",\"\",IF(キー割付!Q64=\"\",\"\",キー割付!Q64))","v":""},{"$f":"IF(E16=\"ZX-DECLDIV-IPコードレス電話機\",\"\",IF(キー割付!R64=\"\",\"\",キー割付!R64))","v":""},{"$f":"IF(E16=\"ZX-DECLDIV-IPコードレス電話機\",\"\",IF(キー割付!S64=\"\",\"\",キー割付!S64))","v":""},{"$f":"IF(E16=\"ZX-DECLDIV-IPコードレス電話機\",\"\",IF(キー割付!N72=\"\",\"\",キー割付!N72))","v":""},{"$f":"IF(E16=\"ZX-DECLDIV-IPコードレス電話機\",\"\",IF(キー割付!O72=\"\",\"\",キー割付!O72))","v":""},{"$f":"IF(E16=\"ZX-DECLDIV-IPコードレス電話機\",\"\",IF(キー割付!P72=\"\",\"\",キー割付!P72))","v":""},{"$f":"IF(E16=\"ZX-DECLDIV-IPコードレス電話機\",\"\",IF(キー割付!Q72=\"\",\"\",キー割付!Q72))","v":""},{"$f":"IF(E16=\"ZX-DECLDIV-IPコードレス電話機\",\"\",IF(キー割付!R72=\"\",\"\",キー割付!R72))","v":""},{"$f":"IF(E16=\"ZX-DECLDIV-IPコードレス電話機\",\"\",IF(キー割付!S72=\"\",\"\",キー割付!S72))","v":""}]
[null,5,{"$f":"IF(IFERROR(VALUE(VLOOKUP(B19,内線_キー割用,2,FALSE)),\"\")=0,\"\",IFERROR(VALUE(VLOOKUP(B19,内線_キー割用,2,FALSE)),\"\"))","v":""},{"$f":"IF(IFERROR(VALUE(VLOOKUP(B19,内線_キー割用,4,FALSE)),\"\")=0,\"\",IFERROR(VALUE(VLOOKUP(B19,内線_キー割用,4,FALSE)),\"\"))","v":""},{"$f":"IF(IFERROR(VLOOKUP(B19,内線_キー割用,3,FALSE),\"\")=0,\"\",IFERROR(VLOOKUP(B19,内線_キー割用,3,FALSE),\"\"))","v":""},{"$f":"IF(キー割付!D82=\"\",\"\",キー割付!D82)","v":""},{"$f":"IF(キー割付!E82=\"\",\"\",キー割付!E82)","v":""},{"$f":"IF(キー割付!F82=\"\",\"\",キー割付!F82)","v":""},{"$f":"IF(キー割付!G82=\"\",\"\",キー割付!G82)","v":""},{"$f":"IF(キー割付!H82=\"\",\"\",キー割付!H82)","v":""},{"$f":"IF(キー割付!I82=\"\",\"\",キー割付!I82)","v":""},{"$f":"IF(キー割付!D90=\"\",\"\",キー割付!D90)","v":""},{"$f":"IF(キー割付!E90=\"\",\"\",キー割付!E90)","v":""},{"$f":"IF(E19=\"ZX-DECLDIV-IPコードレス電話機\",\"\",IF(キー割付!F90=\"\",\"\",キー割付!F90))","v":""},{"$f":"IF(E19=\"ZX-DECLDIV-IPコードレス電話機\",\"\",IF(キー割付!G90=\"\",\"\",キー割付!G90))","v":""},{"$f":"IF(E19=\"ZX-DECLDIV-IPコードレス電話機\",\"\",IF(キー割付!H90=\"\",\"\",キー割付!H90))","v":""},{"$f":"IF(E19=\"ZX-DECLDIV-IPコードレス電話機\",\"\",IF(キー割付!I90=\"\",\"\",キー割付!I90))","v":""},{"$f":"IF(E19=\"ZX-DECLDIV-IPコードレス電話機\",\"\",IF(キー割付!D98=\"\",\"\",キー割付!D98))","v":""},{"$f":"IF(E19=\"ZX-DECLDIV-IPコードレス電話機\",\"\",IF(キー割付!E98=\"\",\"\",キー割付!E98))","v":""},{"$f":"IF(E19=\"ZX-DECLDIV-IPコードレス電話機\",\"\",IF(キー割付!F98=\"\",\"\",キー割付!F98))","v":""},{"$f":"IF(E19=\"ZX-DECLDIV-IPコードレス電話機\",\"\",IF(キー割付!G98=\"\",\"\",キー割付!G98))","v":""},{"$f":"IF(E19=\"ZX-DECLDIV-IPコードレス電話機\",\"\",IF(キー割付!H98=\"\",\"\",キー割付!H98))","v":""},{"$f":"IF(E19=\"ZX-DECLDIV-IPコードレス電話機\",\"\",IF(キー割付!I98=\"\",\"\",キー割付!I98))","v":""},{"$f":"IF(E19=\"ZX-DECLDIV-IPコードレス電話機\",\"\",IF(キー割付!D106=\"\",\"\",キー割付!D106))","v":""},{"$f":"IF(E19=\"ZX-DECLDIV-IPコードレス電話機\",\"\",IF(キー割付!E106=\"\",\"\",キー割付!E106))","v":""},{"$f":"IF(E19=\"ZX-DECLDIV-IPコードレス電話機\",\"\",IF(キー割付!F106=\"\",\"\",キー割付!F106))","v":""},{"$f":"IF(E19=\"ZX-DECLDIV-IPコードレス電話機\",\"\",IF(キー割付!G106=\"\",\"\",キー割付!G106))","v":""},{"$f":"IF(E19=\"ZX-DECLDIV-IPコードレス電話機\",\"\",IF(キー割付!H106=\"\",\"\",キー割付!H106))","v":""},{"$f":"IF(E19=\"ZX-DECLDIV-IPコードレス電話機\",\"\",IF(キー割付!I106=\"\",\"\",キー割付!I106))","v":""}]
[null,null,null,null,null,{"$f":"IF(キー割付!D83=\"\",\"\",キー割付!D83)","v":""},{"$f":"IF(キー割付!E83=\"\",\"\",キー割付!E83)","v":""},{"$f":"IF(キー割付!F83=\"\",\"\",キー割付!F83)","v":""},{"$f":"IF(キー割付!G83=\"\",\"\",キー割付!G83)","v":""},{"$f":"IF(キー割付!H83=\"\",\"\",キー割付!H83)","v":""},{"$f":"IF(キー割付!I83=\"\",\"\",キー割付!I83)","v":""},{"$f":"IF(キー割付!D91=\"\",\"\",キー割付!D91)","v":""},{"$f":"IF(キー割付!E91=\"\",\"\",キー割付!E91)","v":""},{"$f":"IF(E19=\"ZX-DECLDIV-IPコードレス電話機\",\"\",IF(キー割付!F91=\"\",\"\",キー割付!F91))","v":""},{"$f":"IF(E19=\"ZX-DECLDIV-IPコードレス電話機\",\"\",IF(キー割付!G91=\"\",\"\",キー割付!G91))","v":""},{"$f":"IF(E19=\"ZX-DECLDIV-IPコードレス電話機\",\"\",IF(キー割付!H91=\"\",\"\",キー割付!H91))","v":""},{"$f":"IF(E19=\"ZX-DECLDIV-IPコードレス電話機\",\"\",IF(キー割付!I91=\"\",\"\",キー割付!I91))","v":""},{"$f":"IF(E19=\"ZX-DECLDIV-IPコードレス電話機\",\"\",IF(キー割付!D99=\"\",\"\",キー割付!D99))","v":""},{"$f":"IF(E19=\"ZX-DECLDIV-IPコードレス電話機\",\"\",IF(キー割付!E99=\"\",\"\",キー割付!E99))","v":""},{"$f":"IF(E19=\"ZX-DECLDIV-IPコードレス電話機\",\"\",IF(キー割付!F99=\"\",\"\",キー割付!F99))","v":""},{"$f":"IF(E19=\"ZX-DECLDIV-IPコードレス電話機\",\"\",IF(キー割付!G99=\"\",\"\",キー割付!G99))","v":""},{"$f":"IF(E19=\"ZX-DECLDIV-IPコードレス電話機\",\"\",IF(キー割付!H99=\"\",\"\",キー割付!H99))","v":""},{"$f":"IF(E19=\"ZX-DECLDIV-IPコードレス電話機\",\"\",IF(キー割付!I99=\"\",\"\",キー割付!I99))","v":""},{"$f":"IF(E19=\"ZX-DECLDIV-IPコードレス電話機\",\"\",IF(キー割付!D107=\"\",\"\",キー割付!D107))","v":""},{"$f":"IF(E19=\"ZX-DECLDIV-IPコードレス電話機\",\"\",IF(キー割付!E107=\"\",\"\",キー割付!E107))","v":""},{"$f":"IF(E19=\"ZX-DECLDIV-IPコードレス電話機\",\"\",IF(キー割付!F107=\"\",\"\",キー割付!F107))","v":""},{"$f":"IF(E19=\"ZX-DECLDIV-IPコードレス電話機\",\"\",IF(キー割付!G107=\"\",\"\",キー割付!G107))","v":""},{"$f":"IF(E19=\"ZX-DECLDIV-IPコードレス電話機\",\"\",IF(キー割付!H107=\"\",\"\",キー割付!H107))","v":""},{"$f":"IF(E19=\"ZX-DECLDIV-IPコードレス電話機\",\"\",IF(キー割付!I107=\"\",\"\",キー割付!I107))","v":""}]
[null,null,null,null,null,{"$f":"IF(キー割付!D84=\"\",\"\",キー割付!D84)","v":""},{"$f":"IF(キー割付!E84=\"\",\"\",キー割付!E84)","v":""},{"$f":"IF(キー割付!F84=\"\",\"\",キー割付!F84)","v":""},{"$f":"IF(キー割付!G84=\"\",\"\",キー割付!G84)","v":""},{"$f":"IF(キー割付!H84=\"\",\"\",キー割付!H84)","v":""},{"$f":"IF(キー割付!I84=\"\",\"\",キー割付!I84)","v":""},{"$f":"IF(キー割付!D92=\"\",\"\",キー割付!D92)","v":""},{"$f":"IF(キー割付!E92=\"\",\"\",キー割付!E92)","v":""},{"$f":"IF(E19=\"ZX-DECLDIV-IPコードレス電話機\",\"\",IF(キー割付!F92=\"\",\"\",キー割付!F92))","v":""},{"$f":"IF(E19=\"ZX-DECLDIV-IPコードレス電話機\",\"\",IF(キー割付!G92=\"\",\"\",キー割付!G92))","v":""},{"$f":"IF(E19=\"ZX-DECLDIV-IPコードレス電話機\",\"\",IF(キー割付!H92=\"\",\"\",キー割付!H92))","v":""},{"$f":"IF(E19=\"ZX-DECLDIV-IPコードレス電話機\",\"\",IF(キー割付!I92=\"\",\"\",キー割付!I92))","v":""},{"$f":"IF(E19=\"ZX-DECLDIV-IPコードレス電話機\",\"\",IF(キー割付!D100=\"\",\"\",キー割付!D100))","v":""},{"$f":"IF(E19=\"ZX-DECLDIV-IPコードレス電話機\",\"\",IF(キー割付!E100=\"\",\"\",キー割付!E100))","v":""},{"$f":"IF(E19=\"ZX-DECLDIV-IPコードレス電話機\",\"\",IF(キー割付!F100=\"\",\"\",キー割付!F100))","v":""},{"$f":"IF(E19=\"ZX-DECLDIV-IPコードレス電話機\",\"\",IF(キー割付!G100=\"\",\"\",キー割付!G100))","v":""},{"$f":"IF(E19=\"ZX-DECLDIV-IPコードレス電話機\",\"\",IF(キー割付!H100=\"\",\"\",キー割付!H100))","v":""},{"$f":"IF(E19=\"ZX-DECLDIV-IPコードレス電話機\",\"\",IF(キー割付!I100=\"\",\"\",キー割付!I100))","v":""},{"$f":"IF(E19=\"ZX-DECLDIV-IPコードレス電話機\",\"\",IF(キー割付!D108=\"\",\"\",キー割付!D108))","v":""},{"$f":"IF(E19=\"ZX-DECLDIV-IPコードレス電話機\",\"\",IF(キー割付!E108=\"\",\"\",キー割付!E108))","v":""},{"$f":"IF(E19=\"ZX-DECLDIV-IPコードレス電話機\",\"\",IF(キー割付!F108=\"\",\"\",キー割付!F108))","v":""},{"$f":"IF(E19=\"ZX-DECLDIV-IPコードレス電話機\",\"\",IF(キー割付!G108=\"\",\"\",キー割付!G108))","v":""},{"$f":"IF(E19=\"ZX-DECLDIV-IPコードレス電話機\",\"\",IF(キー割付!H108=\"\",\"\",キー割付!H108))","v":""},{"$f":"IF(E19=\"ZX-DECLDIV-IPコードレス電話機\",\"\",IF(キー割付!I108=\"\",\"\",キー割付!I108))","v":""}]
[null,6,{"$f":"IF(IFERROR(VALUE(VLOOKUP(B22,内線_キー割用,2,FALSE)),\"\")=0,\"\",IFERROR(VALUE(VLOOKUP(B22,内線_キー割用,2,FALSE)),\"\"))","v":""},{"$f":"IF(IFERROR(VALUE(VLOOKUP(B22,内線_キー割用,4,FALSE)),\"\")=0,\"\",IFERROR(VALUE(VLOOKUP(B22,内線_キー割用,4,FALSE)),\"\"))","v":""},{"$f":"IF(IFERROR(VLOOKUP(B22,内線_キー割用,3,FALSE),\"\")=0,\"\",IFERROR(VLOOKUP(B22,内線_キー割用,3,FALSE),\"\"))","v":""},{"$f":"IF(キー割付!N82=\"\",\"\",キー割付!N82)","v":""},{"$f":"IF(キー割付!O82=\"\",\"\",キー割付!O82)","v":""},{"$f":"IF(キー割付!P82=\"\",\"\",キー割付!P82)","v":""},{"$f":"IF(キー割付!Q82=\"\",\"\",キー割付!Q82)","v":""},{"$f":"IF(キー割付!R82=\"\",\"\",キー割付!R82)","v":""},{"$f":"IF(キー割付!S82=\"\",\"\",キー割付!S82)","v":""},{"$f":"IF(キー割付!N90=\"\",\"\",キー割付!N90)","v":""},{"$f":"IF(キー割付!O90=\"\",\"\",キー割付!O90)","v":""},{"$f":"IF(E22=\"ZX-DECLDIV-IPコードレス電話機\",\"\",IF(キー割付!P90=\"\",\"\",キー割付!P90))","v":""},{"$f":"IF(E22=\"ZX-DECLDIV-IPコードレス電話機\",\"\",IF(キー割付!Q90=\"\",\"\",キー割付!Q90))","v":""},{"$f":"IF(E22=\"ZX-DECLDIV-IPコードレス電話機\",\"\",IF(キー割付!R90=\"\",\"\",キー割付!R90))","v":""},{"$f":"IF(E22=\"ZX-DECLDIV-IPコードレス電話機\",\"\",IF(キー割付!S90=\"\",\"\",キー割付!S90))","v":""},{"$f":"IF(E22=\"ZX-DECLDIV-IPコードレス電話機\",\"\",IF(キー割付!N98=\"\",\"\",キー割付!N98))","v":""},{"$f":"IF(E22=\"ZX-DECLDIV-IPコードレス電話機\",\"\",IF(キー割付!O98=\"\",\"\",キー割付!O98))","v":""},{"$f":"IF(E22=\"ZX-DECLDIV-IPコードレス電話機\",\"\",IF(キー割付!P98=\"\",\"\",キー割付!P98))","v":""},{"$f":"IF(E22=\"ZX-DECLDIV-IPコードレス電話機\",\"\",IF(キー割付!Q98=\"\",\"\",キー割付!Q98))","v":""},{"$f":"IF(E22=\"ZX-DECLDIV-IPコードレス電話機\",\"\",IF(キー割付!R98=\"\",\"\",キー割付!R98))","v":""},{"$f":"IF(E22=\"ZX-DECLDIV-IPコードレス電話機\",\"\",IF(キー割付!S98=\"\",\"\",キー割付!S98))","v":""},{"$f":"IF(E22=\"ZX-DECLDIV-IPコードレス電話機\",\"\",IF(キー割付!N106=\"\",\"\",キー割付!N106))","v":""},{"$f":"IF(E22=\"ZX-DECLDIV-IPコードレス電話機\",\"\",IF(キー割付!O106=\"\",\"\",キー割付!O106))","v":""},{"$f":"IF(E22=\"ZX-DECLDIV-IPコードレス電話機\",\"\",IF(キー割付!P106=\"\",\"\",キー割付!P106))","v":""},{"$f":"IF(E22=\"ZX-DECLDIV-IPコードレス電話機\",\"\",IF(キー割付!Q106=\"\",\"\",キー割付!Q106))","v":""},{"$f":"IF(E22=\"ZX-DECLDIV-IPコードレス電話機\",\"\",IF(キー割付!R106=\"\",\"\",キー割付!R106))","v":""},{"$f":"IF(E22=\"ZX-DECLDIV-IPコードレス電話機\",\"\",IF(キー割付!S106=\"\",\"\",キー割付!S106))","v":""}]
[null,null,null,null,null,{"$f":"IF(キー割付!N83=\"\",\"\",キー割付!N83)","v":""},{"$f":"IF(キー割付!O83=\"\",\"\",キー割付!O83)","v":""},{"$f":"IF(キー割付!P83=\"\",\"\",キー割付!P83)","v":""},{"$f":"IF(キー割付!Q83=\"\",\"\",キー割付!Q83)","v":""},{"$f":"IF(キー割付!R83=\"\",\"\",キー割付!R83)","v":""},{"$f":"IF(キー割付!S83=\"\",\"\",キー割付!S83)","v":""},{"$f":"IF(キー割付!N91=\"\",\"\",キー割付!N91)","v":""},{"$f":"IF(キー割付!O91=\"\",\"\",キー割付!O91)","v":""},{"$f":"IF(E22=\"ZX-DECLDIV-IPコードレス電話機\",\"\",IF(キー割付!P91=\"\",\"\",キー割付!P91))","v":""},{"$f":"IF(E22=\"ZX-DECLDIV-IPコードレス電話機\",\"\",IF(キー割付!Q91=\"\",\"\",キー割付!Q91))","v":""},{"$f":"IF(E22=\"ZX-DECLDIV-IPコードレス電話機\",\"\",IF(キー割付!R91=\"\",\"\",キー割付!R91))","v":""},{"$f":"IF(E22=\"ZX-DECLDIV-IPコードレス電話機\",\"\",IF(キー割付!S91=\"\",\"\",キー割付!S91))","v":""},{"$f":"IF(E22=\"ZX-DECLDIV-IPコードレス電話機\",\"\",IF(キー割付!N99=\"\",\"\",キー割付!N99))","v":""},{"$f":"IF(E22=\"ZX-DECLDIV-IPコードレス電話機\",\"\",IF(キー割付!O99=\"\",\"\",キー割付!O99))","v":""},{"$f":"IF(E22=\"ZX-DECLDIV-IPコードレス電話機\",\"\",IF(キー割付!P99=\"\",\"\",キー割付!P99))","v":""},{"$f":"IF(E22=\"ZX-DECLDIV-IPコードレス電話機\",\"\",IF(キー割付!Q99=\"\",\"\",キー割付!Q99))","v":""},{"$f":"IF(E22=\"ZX-DECLDIV-IPコードレス電話機\",\"\",IF(キー割付!R99=\"\",\"\",キー割付!R99))","v":""},{"$f":"IF(E22=\"ZX-DECLDIV-IPコードレス電話機\",\"\",IF(キー割付!S99=\"\",\"\",キー割付!S99))","v":""},{"$f":"IF(E22=\"ZX-DECLDIV-IPコードレス電話機\",\"\",IF(キー割付!N107=\"\",\"\",キー割付!N107))","v":""},{"$f":"IF(E22=\"ZX-DECLDIV-IPコードレス電話機\",\"\",IF(キー割付!O107=\"\",\"\",キー割付!O107))","v":""},{"$f":"IF(E22=\"ZX-DECLDIV-IPコードレス電話機\",\"\",IF(キー割付!P107=\"\",\"\",キー割付!P107))","v":""},{"$f":"IF(E22=\"ZX-DECLDIV-IPコードレス電話機\",\"\",IF(キー割付!Q107=\"\",\"\",キー割付!Q107))","v":""},{"$f":"IF(E22=\"ZX-DECLDIV-IPコードレス電話機\",\"\",IF(キー割付!R107=\"\",\"\",キー割付!R107))","v":""},{"$f":"IF(E22=\"ZX-DECLDIV-IPコードレス電話機\",\"\",IF(キー割付!S107=\"\",\"\",キー割付!S107))","v":""}]
[null,null,null,null,null,{"$f":"IF(キー割付!N84=\"\",\"\",キー割付!N84)","v":""},{"$f":"IF(キー割付!O84=\"\",\"\",キー割付!O84)","v":""},{"$f":"IF(キー割付!P84=\"\",\"\",キー割付!P84)","v":""},{"$f":"IF(キー割付!Q84=\"\",\"\",キー割付!Q84)","v":""},{"$f":"IF(キー割付!R84=\"\",\"\",キー割付!R84)","v":""},{"$f":"IF(キー割付!S84=\"\",\"\",キー割付!S84)","v":""},{"$f":"IF(キー割付!N92=\"\",\"\",キー割付!N92)","v":""},{"$f":"IF(キー割付!O92=\"\",\"\",キー割付!O92)","v":""},{"$f":"IF(E22=\"ZX-DECLDIV-IPコードレス電話機\",\"\",IF(キー割付!P92=\"\",\"\",キー割付!P92))","v":""},{"$f":"IF(E22=\"ZX-DECLDIV-IPコードレス電話機\",\"\",IF(キー割付!Q92=\"\",\"\",キー割付!Q92))","v":""},{"$f":"IF(E22=\"ZX-DECLDIV-IPコードレス電話機\",\"\",IF(キー割付!R92=\"\",\"\",キー割付!R92))","v":""},{"$f":"IF(E22=\"ZX-DECLDIV-IPコードレス電話機\",\"\",IF(キー割付!S92=\"\",\"\",キー割付!S92))","v":""},{"$f":"IF(E22=\"ZX-DECLDIV-IPコードレス電話機\",\"\",IF(キー割付!N100=\"\",\"\",キー割付!N100))","v":""},{"$f":"IF(E22=\"ZX-DECLDIV-IPコードレス電話機\",\"\",IF(キー割付!O100=\"\",\"\",キー割付!O100))","v":""},{"$f":"IF(E22=\"ZX-DECLDIV-IPコードレス電話機\",\"\",IF(キー割付!P100=\"\",\"\",キー割付!P100))","v":""},{"$f":"IF(E22=\"ZX-DECLDIV-IPコードレス電話機\",\"\",IF(キー割付!Q100=\"\",\"\",キー割付!Q100))","v":""},{"$f":"IF(E22=\"ZX-DECLDIV-IPコードレス電話機\",\"\",IF(キー割付!R100=\"\",\"\",キー割付!R100))","v":""},{"$f":"IF(E22=\"ZX-DECLDIV-IPコードレス電話機\",\"\",IF(キー割付!S100=\"\",\"\",キー割付!S100))","v":""},{"$f":"IF(E22=\"ZX-DECLDIV-IPコードレス電話機\",\"\",IF(キー割付!N108=\"\",\"\",キー割付!N108))","v":""},{"$f":"IF(E22=\"ZX-DECLDIV-IPコードレス電話機\",\"\",IF(キー割付!O108=\"\",\"\",キー割付!O108))","v":""},{"$f":"IF(E22=\"ZX-DECLDIV-IPコードレス電話機\",\"\",IF(キー割付!P108=\"\",\"\",キー割付!P108))","v":""},{"$f":"IF(E22=\"ZX-DECLDIV-IPコードレス電話機\",\"\",IF(キー割付!Q108=\"\",\"\",キー割付!Q108))","v":""},{"$f":"IF(E22=\"ZX-DECLDIV-IPコードレス電話機\",\"\",IF(キー割付!R108=\"\",\"\",キー割付!R108))","v":""},{"$f":"IF(E22=\"ZX-DECLDIV-IPコードレス電話機\",\"\",IF(キー割付!S108=\"\",\"\",キー割付!S108))","v":""}]
[null,7,{"$f":"IF(IFERROR(VALUE(VLOOKUP(B25,内線_キー割用,2,FALSE)),\"\")=0,\"\",IFERROR(VALUE(VLOOKUP(B25,内線_キー割用,2,FALSE)),\"\"))","v":""},{"$f":"IF(IFERROR(VALUE(VLOOKUP(B25,内線_キー割用,4,FALSE)),\"\")=0,\"\",IFERROR(VALUE(VLOOKUP(B25,内線_キー割用,4,FALSE)),\"\"))","v":""},{"$f":"IF(IFERROR(VLOOKUP(B25,内線_キー割用,3,FALSE),\"\")=0,\"\",IFERROR(VLOOKUP(B25,内線_キー割用,3,FALSE),\"\"))","v":""},{"$f":"IF(キー割付!D118=\"\",\"\",キー割付!D118)","v":""},{"$f":"IF(キー割付!E118=\"\",\"\",キー割付!E118)","v":""},{"$f":"IF(キー割付!F118=\"\",\"\",キー割付!F118)","v":""},{"$f":"IF(キー割付!G118=\"\",\"\",キー割付!G118)","v":""},{"$f":"IF(キー割付!H118=\"\",\"\",キー割付!H118)","v":""},{"$f":"IF(キー割付!I118=\"\",\"\",キー割付!I118)","v":""},{"$f":"IF(キー割付!D126=\"\",\"\",キー割付!D126)","v":""},{"$f":"IF(キー割付!E126=\"\",\"\",キー割付!E126)","v":""},{"$f":"IF(E25=\"ZX-DECLDIV-IPコードレス電話機\",\"\",IF(キー割付!F126=\"\",\"\",キー割付!F126))","v":""},{"$f":"IF(E25=\"ZX-DECLDIV-IPコードレス電話機\",\"\",IF(キー割付!G126=\"\",\"\",キー割付!G126))","v":""},{"$f":"IF(E25=\"ZX-DECLDIV-IPコードレス電話機\",\"\",IF(キー割付!H126=\"\",\"\",キー割付!H126))","v":""},{"$f":"IF(E25=\"ZX-DECLDIV-IPコードレス電話機\",\"\",IF(キー割付!I126=\"\",\"\",キー割付!I126))","v":""},{"$f":"IF(E25=\"ZX-DECLDIV-IPコードレス電話機\",\"\",IF(キー割付!D134=\"\",\"\",キー割付!D134))","v":""},{"$f":"IF(E25=\"ZX-DECLDIV-IPコードレス電話機\",\"\",IF(キー割付!E134=\"\",\"\",キー割付!E134))","v":""},{"$f":"IF(E25=\"ZX-DECLDIV-IPコードレス電話機\",\"\",IF(キー割付!F134=\"\",\"\",キー割付!F134))","v":""},{"$f":"IF(E25=\"ZX-DECLDIV-IPコードレス電話機\",\"\",IF(キー割付!G134=\"\",\"\",キー割付!G134))","v":""},{"$f":"IF(E25=\"ZX-DECLDIV-IPコードレス電話機\",\"\",IF(キー割付!H134=\"\",\"\",キー割付!H134))","v":""},{"$f":"IF(E25=\"ZX-DECLDIV-IPコードレス電話機\",\"\",IF(キー割付!I134=\"\",\"\",キー割付!I134))","v":""},{"$f":"IF(E25=\"ZX-DECLDIV-IPコードレス電話機\",\"\",IF(キー割付!D142=\"\",\"\",キー割付!D142))","v":""},{"$f":"IF(E25=\"ZX-DECLDIV-IPコードレス電話機\",\"\",IF(キー割付!E142=\"\",\"\",キー割付!E142))","v":""},{"$f":"IF(E25=\"ZX-DECLDIV-IPコードレス電話機\",\"\",IF(キー割付!F142=\"\",\"\",キー割付!F142))","v":""},{"$f":"IF(E25=\"ZX-DECLDIV-IPコードレス電話機\",\"\",IF(キー割付!G142=\"\",\"\",キー割付!G142))","v":""},{"$f":"IF(E25=\"ZX-DECLDIV-IPコードレス電話機\",\"\",IF(キー割付!H142=\"\",\"\",キー割付!H142))","v":""},{"$f":"IF(E25=\"ZX-DECLDIV-IPコードレス電話機\",\"\",IF(キー割付!I142=\"\",\"\",キー割付!I142))","v":""}]
[null,null,null,null,null,{"$f":"IF(キー割付!D119=\"\",\"\",キー割付!D119)","v":""},{"$f":"IF(キー割付!E119=\"\",\"\",キー割付!E119)","v":""},{"$f":"IF(キー割付!F119=\"\",\"\",キー割付!F119)","v":""},{"$f":"IF(キー割付!G119=\"\",\"\",キー割付!G119)","v":""},{"$f":"IF(キー割付!H119=\"\",\"\",キー割付!H119)","v":""},{"$f":"IF(キー割付!I119=\"\",\"\",キー割付!I119)","v":""},{"$f":"IF(キー割付!D127=\"\",\"\",キー割付!D127)","v":""},{"$f":"IF(キー割付!E127=\"\",\"\",キー割付!E127)","v":""},{"$f":"IF(E25=\"ZX-DECLDIV-IPコードレス電話機\",\"\",IF(キー割付!F127=\"\",\"\",キー割付!F127))","v":""},{"$f":"IF(E25=\"ZX-DECLDIV-IPコードレス電話機\",\"\",IF(キー割付!G127=\"\",\"\",キー割付!G127))","v":""},{"$f":"IF(E25=\"ZX-DECLDIV-IPコードレス電話機\",\"\",IF(キー割付!H127=\"\",\"\",キー割付!H127))","v":""},{"$f":"IF(E25=\"ZX-DECLDIV-IPコードレス電話機\",\"\",IF(キー割付!I127=\"\",\"\",キー割付!I127))","v":""},{"$f":"IF(E25=\"ZX-DECLDIV-IPコードレス電話機\",\"\",IF(キー割付!D135=\"\",\"\",キー割付!D135))","v":""},{"$f":"IF(E25=\"ZX-DECLDIV-IPコードレス電話機\",\"\",IF(キー割付!E135=\"\",\"\",キー割付!E135))","v":""},{"$f":"IF(E25=\"ZX-DECLDIV-IPコードレス電話機\",\"\",IF(キー割付!F135=\"\",\"\",キー割付!F135))","v":""},{"$f":"IF(E25=\"ZX-DECLDIV-IPコードレス電話機\",\"\",IF(キー割付!G135=\"\",\"\",キー割付!G135))","v":""},{"$f":"IF(E25=\"ZX-DECLDIV-IPコードレス電話機\",\"\",IF(キー割付!H135=\"\",\"\",キー割付!H135))","v":""},{"$f":"IF(E25=\"ZX-DECLDIV-IPコードレス電話機\",\"\",IF(キー割付!I135=\"\",\"\",キー割付!I135))","v":""},{"$f":"IF(E25=\"ZX-DECLDIV-IPコードレス電話機\",\"\",IF(キー割付!D143=\"\",\"\",キー割付!D143))","v":""},{"$f":"IF(E25=\"ZX-DECLDIV-IPコードレス電話機\",\"\",IF(キー割付!E143=\"\",\"\",キー割付!E143))","v":""},{"$f":"IF(E25=\"ZX-DECLDIV-IPコードレス電話機\",\"\",IF(キー割付!F143=\"\",\"\",キー割付!F143))","v":""},{"$f":"IF(E25=\"ZX-DECLDIV-IPコードレス電話機\",\"\",IF(キー割付!G143=\"\",\"\",キー割付!G143))","v":""},{"$f":"IF(E25=\"ZX-DECLDIV-IPコードレス電話機\",\"\",IF(キー割付!H143=\"\",\"\",キー割付!H143))","v":""},{"$f":"IF(E25=\"ZX-DECLDIV-IPコードレス電話機\",\"\",IF(キー割付!I143=\"\",\"\",キー割付!I143))","v":""}]
[null,null,null,null,null,{"$f":"IF(キー割付!D120=\"\",\"\",キー割付!D120)","v":""},{"$f":"IF(キー割付!E120=\"\",\"\",キー割付!E120)","v":""},{"$f":"IF(キー割付!F120=\"\",\"\",キー割付!F120)","v":""},{"$f":"IF(キー割付!G120=\"\",\"\",キー割付!G120)","v":""},{"$f":"IF(キー割付!H120=\"\",\"\",キー割付!H120)","v":""},{"$f":"IF(キー割付!I120=\"\",\"\",キー割付!I120)","v":""},{"$f":"IF(キー割付!D128=\"\",\"\",キー割付!D128)","v":""},{"$f":"IF(キー割付!E128=\"\",\"\",キー割付!E128)","v":""},{"$f":"IF(E25=\"ZX-DECLDIV-IPコードレス電話機\",\"\",IF(キー割付!F128=\"\",\"\",キー割付!F128))","v":""},{"$f":"IF(E25=\"ZX-DECLDIV-IPコードレス電話機\",\"\",IF(キー割付!G128=\"\",\"\",キー割付!G128))","v":""},{"$f":"IF(E25=\"ZX-DECLDIV-IPコードレス電話機\",\"\",IF(キー割付!H128=\"\",\"\",キー割付!H128))","v":""},{"$f":"IF(E25=\"ZX-DECLDIV-IPコードレス電話機\",\"\",IF(キー割付!I128=\"\",\"\",キー割付!I128))","v":""},{"$f":"IF(E25=\"ZX-DECLDIV-IPコードレス電話機\",\"\",IF(キー割付!D136=\"\",\"\",キー割付!D136))","v":""},{"$f":"IF(E25=\"ZX-DECLDIV-IPコードレス電話機\",\"\",IF(キー割付!E136=\"\",\"\",キー割付!E136))","v":""},{"$f":"IF(E25=\"ZX-DECLDIV-IPコードレス電話機\",\"\",IF(キー割付!F136=\"\",\"\",キー割付!F136))","v":""},{"$f":"IF(E25=\"ZX-DECLDIV-IPコードレス電話機\",\"\",IF(キー割付!G136=\"\",\"\",キー割付!G136))","v":""},{"$f":"IF(E25=\"ZX-DECLDIV-IPコードレス電話機\",\"\",IF(キー割付!H136=\"\",\"\",キー割付!H136))","v":""},{"$f":"IF(E25=\"ZX-DECLDIV-IPコードレス電話機\",\"\",IF(キー割付!I136=\"\",\"\",キー割付!I136))","v":""},{"$f":"IF(E25=\"ZX-DECLDIV-IPコードレス電話機\",\"\",IF(キー割付!D144=\"\",\"\",キー割付!D144))","v":""},{"$f":"IF(E25=\"ZX-DECLDIV-IPコードレス電話機\",\"\",IF(キー割付!E144=\"\",\"\",キー割付!E144))","v":""},{"$f":"IF(E25=\"ZX-DECLDIV-IPコードレス電話機\",\"\",IF(キー割付!F144=\"\",\"\",キー割付!F144))","v":""},{"$f":"IF(E25=\"ZX-DECLDIV-IPコードレス電話機\",\"\",IF(キー割付!G144=\"\",\"\",キー割付!G144))","v":""},{"$f":"IF(E25=\"ZX-DECLDIV-IPコードレス電話機\",\"\",IF(キー割付!H144=\"\",\"\",キー割付!H144))","v":""},{"$f":"IF(E25=\"ZX-DECLDIV-IPコードレス電話機\",\"\",IF(キー割付!I144=\"\",\"\",キー割付!I144))","v":""}]
[null,8,{"$f":"IF(IFERROR(VALUE(VLOOKUP(B28,内線_キー割用,2,FALSE)),\"\")=0,\"\",IFERROR(VALUE(VLOOKUP(B28,内線_キー割用,2,FALSE)),\"\"))","v":""},{"$f":"IF(IFERROR(VALUE(VLOOKUP(B28,内線_キー割用,4,FALSE)),\"\")=0,\"\",IFERROR(VALUE(VLOOKUP(B28,内線_キー割用,4,FALSE)),\"\"))","v":""},{"$f":"IF(IFERROR(VLOOKUP(B28,内線_キー割用,3,FALSE),\"\")=0,\"\",IFERROR(VLOOKUP(B28,内線_キー割用,3,FALSE),\"\"))","v":""},{"$f":"IF(キー割付!N118=\"\",\"\",キー割付!N118)","v":""},{"$f":"IF(キー割付!O118=\"\",\"\",キー割付!O118)","v":""},{"$f":"IF(キー割付!P118=\"\",\"\",キー割付!P118)","v":""},{"$f":"IF(キー割付!Q118=\"\",\"\",キー割付!Q118)","v":""},{"$f":"IF(キー割付!R118=\"\",\"\",キー割付!R118)","v":""},{"$f":"IF(キー割付!S118=\"\",\"\",キー割付!S118)","v":""},{"$f":"IF(キー割付!N126=\"\",\"\",キー割付!N126)","v":""},{"$f":"IF(キー割付!O126=\"\",\"\",キー割付!O126)","v":""},{"$f":"IF(E28=\"ZX-DECLDIV-IPコードレス電話機\",\"\",IF(キー割付!P126=\"\",\"\",キー割付!P126))","v":""},{"$f":"IF(E28=\"ZX-DECLDIV-IPコードレス電話機\",\"\",IF(キー割付!Q126=\"\",\"\",キー割付!Q126))","v":""},{"$f":"IF(E28=\"ZX-DECLDIV-IPコードレス電話機\",\"\",IF(キー割付!R126=\"\",\"\",キー割付!R126))","v":""},{"$f":"IF(E28=\"ZX-DECLDIV-IPコードレス電話機\",\"\",IF(キー割付!S126=\"\",\"\",キー割付!S126))","v":""},{"$f":"IF(E28=\"ZX-DECLDIV-IPコードレス電話機\",\"\",IF(キー割付!N134=\"\",\"\",キー割付!N134))","v":""},{"$f":"IF(E28=\"ZX-DECLDIV-IPコードレス電話機\",\"\",IF(キー割付!O134=\"\",\"\",キー割付!O134))","v":""},{"$f":"IF(E28=\"ZX-DECLDIV-IPコードレス電話機\",\"\",IF(キー割付!P134=\"\",\"\",キー割付!P134))","v":""},{"$f":"IF(E28=\"ZX-DECLDIV-IPコードレス電話機\",\"\",IF(キー割付!Q134=\"\",\"\",キー割付!Q134))","v":""},{"$f":"IF(E28=\"ZX-DECLDIV-IPコードレス電話機\",\"\",IF(キー割付!R134=\"\",\"\",キー割付!R134))","v":""},{"$f":"IF(E28=\"ZX-DECLDIV-IPコードレス電話機\",\"\",IF(キー割付!S134=\"\",\"\",キー割付!S134))","v":""},{"$f":"IF(E28=\"ZX-DECLDIV-IPコードレス電話機\",\"\",IF(キー割付!N142=\"\",\"\",キー割付!N142))","v":""},{"$f":"IF(E28=\"ZX-DECLDIV-IPコードレス電話機\",\"\",IF(キー割付!O142=\"\",\"\",キー割付!O142))","v":""},{"$f":"IF(E28=\"ZX-DECLDIV-IPコードレス電話機\",\"\",IF(キー割付!P142=\"\",\"\",キー割付!P142))","v":""},{"$f":"IF(E28=\"ZX-DECLDIV-IPコードレス電話機\",\"\",IF(キー割付!Q142=\"\",\"\",キー割付!Q142))","v":""},{"$f":"IF(E28=\"ZX-DECLDIV-IPコードレス電話機\",\"\",IF(キー割付!R142=\"\",\"\",キー割付!R142))","v":""},{"$f":"IF(E28=\"ZX-DECLDIV-IPコードレス電話機\",\"\",IF(キー割付!S142=\"\",\"\",キー割付!S142))","v":""}]
[null,null,null,null,null,{"$f":"IF(キー割付!N119=\"\",\"\",キー割付!N119)","v":""},{"$f":"IF(キー割付!O119=\"\",\"\",キー割付!O119)","v":""},{"$f":"IF(キー割付!P119=\"\",\"\",キー割付!P119)","v":""},{"$f":"IF(キー割付!Q119=\"\",\"\",キー割付!Q119)","v":""},{"$f":"IF(キー割付!R119=\"\",\"\",キー割付!R119)","v":""},{"$f":"IF(キー割付!S119=\"\",\"\",キー割付!S119)","v":""},{"$f":"IF(キー割付!N127=\"\",\"\",キー割付!N127)","v":""},{"$f":"IF(キー割付!O127=\"\",\"\",キー割付!O127)","v":""},{"$f":"IF(E28=\"ZX-DECLDIV-IPコードレス電話機\",\"\",IF(キー割付!P127=\"\",\"\",キー割付!P127))","v":""},{"$f":"IF(E28=\"ZX-DECLDIV-IPコードレス電話機\",\"\",IF(キー割付!Q127=\"\",\"\",キー割付!Q127))","v":""},{"$f":"IF(E28=\"ZX-DECLDIV-IPコードレス電話機\",\"\",IF(キー割付!R127=\"\",\"\",キー割付!R127))","v":""},{"$f":"IF(E28=\"ZX-DECLDIV-IPコードレス電話機\",\"\",IF(キー割付!S127=\"\",\"\",キー割付!S127))","v":""},{"$f":"IF(E28=\"ZX-DECLDIV-IPコードレス電話機\",\"\",IF(キー割付!N135=\"\",\"\",キー割付!N135))","v":""},{"$f":"IF(E28=\"ZX-DECLDIV-IPコードレス電話機\",\"\",IF(キー割付!O135=\"\",\"\",キー割付!O135))","v":""},{"$f":"IF(E28=\"ZX-DECLDIV-IPコードレス電話機\",\"\",IF(キー割付!P135=\"\",\"\",キー割付!P135))","v":""},{"$f":"IF(E28=\"ZX-DECLDIV-IPコードレス電話機\",\"\",IF(キー割付!Q135=\"\",\"\",キー割付!Q135))","v":""},{"$f":"IF(E28=\"ZX-DECLDIV-IPコードレス電話機\",\"\",IF(キー割付!R135=\"\",\"\",キー割付!R135))","v":""},{"$f":"IF(E28=\"ZX-DECLDIV-IPコードレス電話機\",\"\",IF(キー割付!S135=\"\",\"\",キー割付!S135))","v":""},{"$f":"IF(E28=\"ZX-DECLDIV-IPコードレス電話機\",\"\",IF(キー割付!N143=\"\",\"\",キー割付!N143))","v":""},{"$f":"IF(E28=\"ZX-DECLDIV-IPコードレス電話機\",\"\",IF(キー割付!O143=\"\",\"\",キー割付!O143))","v":""},{"$f":"IF(E28=\"ZX-DECLDIV-IPコードレス電話機\",\"\",IF(キー割付!P143=\"\",\"\",キー割付!P143))","v":""},{"$f":"IF(E28=\"ZX-DECLDIV-IPコードレス電話機\",\"\",IF(キー割付!Q143=\"\",\"\",キー割付!Q143))","v":""},{"$f":"IF(E28=\"ZX-DECLDIV-IPコードレス電話機\",\"\",IF(キー割付!R143=\"\",\"\",キー割付!R143))","v":""},{"$f":"IF(E28=\"ZX-DECLDIV-IPコードレス電話機\",\"\",IF(キー割付!S143=\"\",\"\",キー割付!S143))","v":""}]
[null,null,null,null,null,{"$f":"IF(キー割付!N120=\"\",\"\",キー割付!N120)","v":""},{"$f":"IF(キー割付!O120=\"\",\"\",キー割付!O120)","v":""},{"$f":"IF(キー割付!P120=\"\",\"\",キー割付!P120)","v":""},{"$f":"IF(キー割付!Q120=\"\",\"\",キー割付!Q120)","v":""},{"$f":"IF(キー割付!R120=\"\",\"\",キー割付!R120)","v":""},{"$f":"IF(キー割付!S120=\"\",\"\",キー割付!S120)","v":""},{"$f":"IF(キー割付!N128=\"\",\"\",キー割付!N128)","v":""},{"$f":"IF(キー割付!O128=\"\",\"\",キー割付!O128)","v":""},{"$f":"IF(E28=\"ZX-DECLDIV-IPコードレス電話機\",\"\",IF(キー割付!P128=\"\",\"\",キー割付!P128))","v":""},{"$f":"IF(E28=\"ZX-DECLDIV-IPコードレス電話機\",\"\",IF(キー割付!Q128=\"\",\"\",キー割付!Q128))","v":""},{"$f":"IF(E28=\"ZX-DECLDIV-IPコードレス電話機\",\"\",IF(キー割付!R128=\"\",\"\",キー割付!R128))","v":""},{"$f":"IF(E28=\"ZX-DECLDIV-IPコードレス電話機\",\"\",IF(キー割付!S128=\"\",\"\",キー割付!S128))","v":""},{"$f":"IF(E28=\"ZX-DECLDIV-IPコードレス電話機\",\"\",IF(キー割付!N136=\"\",\"\",キー割付!N136))","v":""},{"$f":"IF(E28=\"ZX-DECLDIV-IPコードレス電話機\",\"\",IF(キー割付!O136=\"\",\"\",キー割付!O136))","v":""},{"$f":"IF(E28=\"ZX-DECLDIV-IPコードレス電話機\",\"\",IF(キー割付!P136=\"\",\"\",キー割付!P136))","v":""},{"$f":"IF(E28=\"ZX-DECLDIV-IPコードレス電話機\",\"\",IF(キー割付!Q136=\"\",\"\",キー割付!Q136))","v":""},{"$f":"IF(E28=\"ZX-DECLDIV-IPコードレス電話機\",\"\",IF(キー割付!R136=\"\",\"\",キー割付!R136))","v":""},{"$f":"IF(E28=\"ZX-DECLDIV-IPコードレス電話機\",\"\",IF(キー割付!S136=\"\",\"\",キー割付!S136))","v":""},{"$f":"IF(E28=\"ZX-DECLDIV-IPコードレス電話機\",\"\",IF(キー割付!N144=\"\",\"\",キー割付!N144))","v":""},{"$f":"IF(E28=\"ZX-DECLDIV-IPコードレス電話機\",\"\",IF(キー割付!O144=\"\",\"\",キー割付!O144))","v":""},{"$f":"IF(E28=\"ZX-DECLDIV-IPコードレス電話機\",\"\",IF(キー割付!P144=\"\",\"\",キー割付!P144))","v":""},{"$f":"IF(E28=\"ZX-DECLDIV-IPコードレス電話機\",\"\",IF(キー割付!Q144=\"\",\"\",キー割付!Q144))","v":""},{"$f":"IF(E28=\"ZX-DECLDIV-IPコードレス電話機\",\"\",IF(キー割付!R144=\"\",\"\",キー割付!R144))","v":""},{"$f":"IF(E28=\"ZX-DECLDIV-IPコードレス電話機\",\"\",IF(キー割付!S144=\"\",\"\",キー割付!S144))","v":""}]
[null,9,{"$f":"IF(IFERROR(VALUE(VLOOKUP(B31,内線_キー割用,2,FALSE)),\"\")=0,\"\",IFERROR(VALUE(VLOOKUP(B31,内線_キー割用,2,FALSE)),\"\"))","v":""},{"$f":"IF(IFERROR(VALUE(VLOOKUP(B31,内線_キー割用,4,FALSE)),\"\")=0,\"\",IFERROR(VALUE(VLOOKUP(B31,内線_キー割用,4,FALSE)),\"\"))","v":""},{"$f":"IF(IFERROR(VLOOKUP(B31,内線_キー割用,3,FALSE),\"\")=0,\"\",IFERROR(VLOOKUP(B31,内線_キー割用,3,FALSE),\"\"))","v":""},{"$f":"IF(キー割付!D154=\"\",\"\",キー割付!D154)","v":""},{"$f":"IF(キー割付!E154=\"\",\"\",キー割付!E154)","v":""},{"$f":"IF(キー割付!F154=\"\",\"\",キー割付!F154)","v":""},{"$f":"IF(キー割付!G154=\"\",\"\",キー割付!G154)","v":""},{"$f":"IF(キー割付!H154=\"\",\"\",キー割付!H154)","v":""},{"$f":"IF(キー割付!I154=\"\",\"\",キー割付!I154)","v":""},{"$f":"IF(キー割付!D162=\"\",\"\",キー割付!D162)","v":""},{"$f":"IF(キー割付!E162=\"\",\"\",キー割付!E162)","v":""},{"$f":"IF(E31=\"ZX-DECLDIV-IPコードレス電話機\",\"\",IF(キー割付!F162=\"\",\"\",キー割付!F162))","v":""},{"$f":"IF(E31=\"ZX-DECLDIV-IPコードレス電話機\",\"\",IF(キー割付!G162=\"\",\"\",キー割付!G162))","v":""},{"$f":"IF(E31=\"ZX-DECLDIV-IPコードレス電話機\",\"\",IF(キー割付!H162=\"\",\"\",キー割付!H162))","v":""},{"$f":"IF(E31=\"ZX-DECLDIV-IPコードレス電話機\",\"\",IF(キー割付!I162=\"\",\"\",キー割付!I162))","v":""},{"$f":"IF(E31=\"ZX-DECLDIV-IPコードレス電話機\",\"\",IF(キー割付!D170=\"\",\"\",キー割付!D170))","v":""},{"$f":"IF(E31=\"ZX-DECLDIV-IPコードレス電話機\",\"\",IF(キー割付!E170=\"\",\"\",キー割付!E170))","v":""},{"$f":"IF(E31=\"ZX-DECLDIV-IPコードレス電話機\",\"\",IF(キー割付!F170=\"\",\"\",キー割付!F170))","v":""},{"$f":"IF(E31=\"ZX-DECLDIV-IPコードレス電話機\",\"\",IF(キー割付!G170=\"\",\"\",キー割付!G170))","v":""},{"$f":"IF(E31=\"ZX-DECLDIV-IPコードレス電話機\",\"\",IF(キー割付!H170=\"\",\"\",キー割付!H170))","v":""},{"$f":"IF(E31=\"ZX-DECLDIV-IPコードレス電話機\",\"\",IF(キー割付!I170=\"\",\"\",キー割付!I170))","v":""},{"$f":"IF(E31=\"ZX-DECLDIV-IPコードレス電話機\",\"\",IF(キー割付!D178=\"\",\"\",キー割付!D178))","v":""},{"$f":"IF(E31=\"ZX-DECLDIV-IPコードレス電話機\",\"\",IF(キー割付!E178=\"\",\"\",キー割付!E178))","v":""},{"$f":"IF(E31=\"ZX-DECLDIV-IPコードレス電話機\",\"\",IF(キー割付!F178=\"\",\"\",キー割付!F178))","v":""},{"$f":"IF(E31=\"ZX-DECLDIV-IPコードレス電話機\",\"\",IF(キー割付!G178=\"\",\"\",キー割付!G178))","v":""},{"$f":"IF(E31=\"ZX-DECLDIV-IPコードレス電話機\",\"\",IF(キー割付!H178=\"\",\"\",キー割付!H178))","v":""},{"$f":"IF(E31=\"ZX-DECLDIV-IPコードレス電話機\",\"\",IF(キー割付!I178=\"\",\"\",キー割付!I178))","v":""}]
[null,null,null,null,null,{"$f":"IF(キー割付!D155=\"\",\"\",キー割付!D155)","v":""},{"$f":"IF(キー割付!E155=\"\",\"\",キー割付!E155)","v":""},{"$f":"IF(キー割付!F155=\"\",\"\",キー割付!F155)","v":""},{"$f":"IF(キー割付!G155=\"\",\"\",キー割付!G155)","v":""},{"$f":"IF(キー割付!H155=\"\",\"\",キー割付!H155)","v":""},{"$f":"IF(キー割付!I155=\"\",\"\",キー割付!I155)","v":""},{"$f":"IF(キー割付!D163=\"\",\"\",キー割付!D163)","v":""},{"$f":"IF(キー割付!E163=\"\",\"\",キー割付!E163)","v":""},{"$f":"IF(E31=\"ZX-DECLDIV-IPコードレス電話機\",\"\",IF(キー割付!F163=\"\",\"\",キー割付!F163))","v":""},{"$f":"IF(E31=\"ZX-DECLDIV-IPコードレス電話機\",\"\",IF(キー割付!G163=\"\",\"\",キー割付!G163))","v":""},{"$f":"IF(E31=\"ZX-DECLDIV-IPコードレス電話機\",\"\",IF(キー割付!H163=\"\",\"\",キー割付!H163))","v":""},{"$f":"IF(E31=\"ZX-DECLDIV-IPコードレス電話機\",\"\",IF(キー割付!I163=\"\",\"\",キー割付!I163))","v":""},{"$f":"IF(E31=\"ZX-DECLDIV-IPコードレス電話機\",\"\",IF(キー割付!D171=\"\",\"\",キー割付!D171))","v":""},{"$f":"IF(E31=\"ZX-DECLDIV-IPコードレス電話機\",\"\",IF(キー割付!E171=\"\",\"\",キー割付!E171))","v":""},{"$f":"IF(E31=\"ZX-DECLDIV-IPコードレス電話機\",\"\",IF(キー割付!F171=\"\",\"\",キー割付!F171))","v":""},{"$f":"IF(E31=\"ZX-DECLDIV-IPコードレス電話機\",\"\",IF(キー割付!G171=\"\",\"\",キー割付!G171))","v":""},{"$f":"IF(E31=\"ZX-DECLDIV-IPコードレス電話機\",\"\",IF(キー割付!H171=\"\",\"\",キー割付!H171))","v":""},{"$f":"IF(E31=\"ZX-DECLDIV-IPコードレス電話機\",\"\",IF(キー割付!I171=\"\",\"\",キー割付!I171))","v":""},{"$f":"IF(E31=\"ZX-DECLDIV-IPコードレス電話機\",\"\",IF(キー割付!D179=\"\",\"\",キー割付!D179))","v":""},{"$f":"IF(E31=\"ZX-DECLDIV-IPコードレス電話機\",\"\",IF(キー割付!E179=\"\",\"\",キー割付!E179))","v":""},{"$f":"IF(E31=\"ZX-DECLDIV-IPコードレス電話機\",\"\",IF(キー割付!F179=\"\",\"\",キー割付!F179))","v":""},{"$f":"IF(E31=\"ZX-DECLDIV-IPコードレス電話機\",\"\",IF(キー割付!G179=\"\",\"\",キー割付!G179))","v":""},{"$f":"IF(E31=\"ZX-DECLDIV-IPコードレス電話機\",\"\",IF(キー割付!H179=\"\",\"\",キー割付!H179))","v":""},{"$f":"IF(E31=\"ZX-DECLDIV-IPコードレス電話機\",\"\",IF(キー割付!I179=\"\",\"\",キー割付!I179))","v":""}]
[null,null,null,null,null,{"$f":"IF(キー割付!D156=\"\",\"\",キー割付!D156)","v":""},{"$f":"IF(キー割付!E156=\"\",\"\",キー割付!E156)","v":""},{"$f":"IF(キー割付!F156=\"\",\"\",キー割付!F156)","v":""},{"$f":"IF(キー割付!G156=\"\",\"\",キー割付!G156)","v":""},{"$f":"IF(キー割付!H156=\"\",\"\",キー割付!H156)","v":""},{"$f":"IF(キー割付!I156=\"\",\"\",キー割付!I156)","v":""},{"$f":"IF(キー割付!D164=\"\",\"\",キー割付!D164)","v":""},{"$f":"IF(キー割付!E164=\"\",\"\",キー割付!E164)","v":""},{"$f":"IF(E31=\"ZX-DECLDIV-IPコードレス電話機\",\"\",IF(キー割付!F164=\"\",\"\",キー割付!F164))","v":""},{"$f":"IF(E31=\"ZX-DECLDIV-IPコードレス電話機\",\"\",IF(キー割付!G164=\"\",\"\",キー割付!G164))","v":""},{"$f":"IF(E31=\"ZX-DECLDIV-IPコードレス電話機\",\"\",IF(キー割付!H164=\"\",\"\",キー割付!H164))","v":""},{"$f":"IF(E31=\"ZX-DECLDIV-IPコードレス電話機\",\"\",IF(キー割付!I164=\"\",\"\",キー割付!I164))","v":""},{"$f":"IF(E31=\"ZX-DECLDIV-IPコードレス電話機\",\"\",IF(キー割付!D172=\"\",\"\",キー割付!D172))","v":""},{"$f":"IF(E31=\"ZX-DECLDIV-IPコードレス電話機\",\"\",IF(キー割付!E172=\"\",\"\",キー割付!E172))","v":""},{"$f":"IF(E31=\"ZX-DECLDIV-IPコードレス電話機\",\"\",IF(キー割付!F172=\"\",\"\",キー割付!F172))","v":""},{"$f":"IF(E31=\"ZX-DECLDIV-IPコードレス電話機\",\"\",IF(キー割付!G172=\"\",\"\",キー割付!G172))","v":""},{"$f":"IF(E31=\"ZX-DECLDIV-IPコードレス電話機\",\"\",IF(キー割付!H172=\"\",\"\",キー割付!H172))","v":""},{"$f":"IF(E31=\"ZX-DECLDIV-IPコードレス電話機\",\"\",IF(キー割付!I172=\"\",\"\",キー割付!I172))","v":""},{"$f":"IF(E31=\"ZX-DECLDIV-IPコードレス電話機\",\"\",IF(キー割付!D180=\"\",\"\",キー割付!D180))","v":""},{"$f":"IF(E31=\"ZX-DECLDIV-IPコードレス電話機\",\"\",IF(キー割付!E180=\"\",\"\",キー割付!E180))","v":""},{"$f":"IF(E31=\"ZX-DECLDIV-IPコードレス電話機\",\"\",IF(キー割付!F180=\"\",\"\",キー割付!F180))","v":""},{"$f":"IF(E31=\"ZX-DECLDIV-IPコードレス電話機\",\"\",IF(キー割付!G180=\"\",\"\",キー割付!G180))","v":""},{"$f":"IF(E31=\"ZX-DECLDIV-IPコードレス電話機\",\"\",IF(キー割付!H180=\"\",\"\",キー割付!H180))","v":""},{"$f":"IF(E31=\"ZX-DECLDIV-IPコードレス電話機\",\"\",IF(キー割付!I180=\"\",\"\",キー割付!I180))","v":""}]
[null,10,{"$f":"IF(IFERROR(VALUE(VLOOKUP(B34,内線_キー割用,2,FALSE)),\"\")=0,\"\",IFERROR(VALUE(VLOOKUP(B34,内線_キー割用,2,FALSE)),\"\"))","v":""},{"$f":"IF(IFERROR(VALUE(VLOOKUP(B34,内線_キー割用,4,FALSE)),\"\")=0,\"\",IFERROR(VALUE(VLOOKUP(B34,内線_キー割用,4,FALSE)),\"\"))","v":""},{"$f":"IF(IFERROR(VLOOKUP(B34,内線_キー割用,3,FALSE),\"\")=0,\"\",IFERROR(VLOOKUP(B34,内線_キー割用,3,FALSE),\"\"))","v":""},{"$f":"IF(キー割付!N154=\"\",\"\",キー割付!N154)","v":""},{"$f":"IF(キー割付!O154=\"\",\"\",キー割付!O154)","v":""},{"$f":"IF(キー割付!P154=\"\",\"\",キー割付!P154)","v":""},{"$f":"IF(キー割付!Q154=\"\",\"\",キー割付!Q154)","v":""},{"$f":"IF(キー割付!R154=\"\",\"\",キー割付!R154)","v":""},{"$f":"IF(キー割付!S154=\"\",\"\",キー割付!S154)","v":""},{"$f":"IF(キー割付!N162=\"\",\"\",キー割付!N162)","v":""},{"$f":"IF(キー割付!O162=\"\",\"\",キー割付!O162)","v":""},{"$f":"IF(E34=\"ZX-DECLDIV-IPコードレス電話機\",\"\",IF(キー割付!P162=\"\",\"\",キー割付!P162))","v":""},{"$f":"IF(E34=\"ZX-DECLDIV-IPコードレス電話機\",\"\",IF(キー割付!Q162=\"\",\"\",キー割付!Q162))","v":""},{"$f":"IF(E34=\"ZX-DECLDIV-IPコードレス電話機\",\"\",IF(キー割付!R162=\"\",\"\",キー割付!R162))","v":""},{"$f":"IF(E34=\"ZX-DECLDIV-IPコードレス電話機\",\"\",IF(キー割付!S162=\"\",\"\",キー割付!S162))","v":""},{"$f":"IF(E34=\"ZX-DECLDIV-IPコードレス電話機\",\"\",IF(キー割付!N170=\"\",\"\",キー割付!N170))","v":""},{"$f":"IF(E34=\"ZX-DECLDIV-IPコードレス電話機\",\"\",IF(キー割付!O170=\"\",\"\",キー割付!O170))","v":""},{"$f":"IF(E34=\"ZX-DECLDIV-IPコードレス電話機\",\"\",IF(キー割付!P170=\"\",\"\",キー割付!P170))","v":""},{"$f":"IF(E34=\"ZX-DECLDIV-IPコードレス電話機\",\"\",IF(キー割付!Q170=\"\",\"\",キー割付!Q170))","v":""},{"$f":"IF(E34=\"ZX-DECLDIV-IPコードレス電話機\",\"\",IF(キー割付!R170=\"\",\"\",キー割付!R170))","v":""},{"$f":"IF(E34=\"ZX-DECLDIV-IPコードレス電話機\",\"\",IF(キー割付!S170=\"\",\"\",キー割付!S170))","v":""},{"$f":"IF(E34=\"ZX-DECLDIV-IPコードレス電話機\",\"\",IF(キー割付!N178=\"\",\"\",キー割付!N178))","v":""},{"$f":"IF(E34=\"ZX-DECLDIV-IPコードレス電話機\",\"\",IF(キー割付!O178=\"\",\"\",キー割付!O178))","v":""},{"$f":"IF(E34=\"ZX-DECLDIV-IPコードレス電話機\",\"\",IF(キー割付!P178=\"\",\"\",キー割付!P178))","v":""},{"$f":"IF(E34=\"ZX-DECLDIV-IPコードレス電話機\",\"\",IF(キー割付!Q178=\"\",\"\",キー割付!Q178))","v":""},{"$f":"IF(E34=\"ZX-DECLDIV-IPコードレス電話機\",\"\",IF(キー割付!R178=\"\",\"\",キー割付!R178))","v":""},{"$f":"IF(E34=\"ZX-DECLDIV-IPコードレス電話機\",\"\",IF(キー割付!S178=\"\",\"\",キー割付!S178))","v":""}]
[null,null,null,null,null,{"$f":"IF(キー割付!N155=\"\",\"\",キー割付!N155)","v":""},{"$f":"IF(キー割付!O155=\"\",\"\",キー割付!O155)","v":""},{"$f":"IF(キー割付!P155=\"\",\"\",キー割付!P155)","v":""},{"$f":"IF(キー割付!Q155=\"\",\"\",キー割付!Q155)","v":""},{"$f":"IF(キー割付!R155=\"\",\"\",キー割付!R155)","v":""},{"$f":"IF(キー割付!S155=\"\",\"\",キー割付!S155)","v":""},{"$f":"IF(キー割付!N163=\"\",\"\",キー割付!N163)","v":""},{"$f":"IF(キー割付!O163=\"\",\"\",キー割付!O163)","v":""},{"$f":"IF(E34=\"ZX-DECLDIV-IPコードレス電話機\",\"\",IF(キー割付!P163=\"\",\"\",キー割付!P163))","v":""},{"$f":"IF(E34=\"ZX-DECLDIV-IPコードレス電話機\",\"\",IF(キー割付!Q163=\"\",\"\",キー割付!Q163))","v":""},{"$f":"IF(E34=\"ZX-DECLDIV-IPコードレス電話機\",\"\",IF(キー割付!R163=\"\",\"\",キー割付!R163))","v":""},{"$f":"IF(E34=\"ZX-DECLDIV-IPコードレス電話機\",\"\",IF(キー割付!S163=\"\",\"\",キー割付!S163))","v":""},{"$f":"IF(E34=\"ZX-DECLDIV-IPコードレス電話機\",\"\",IF(キー割付!N171=\"\",\"\",キー割付!N171))","v":""},{"$f":"IF(E34=\"ZX-DECLDIV-IPコードレス電話機\",\"\",IF(キー割付!O171=\"\",\"\",キー割付!O171))","v":""},{"$f":"IF(E34=\"ZX-DECLDIV-IPコードレス電話機\",\"\",IF(キー割付!P171=\"\",\"\",キー割付!P171))","v":""},{"$f":"IF(E34=\"ZX-DECLDIV-IPコードレス電話機\",\"\",IF(キー割付!Q171=\"\",\"\",キー割付!Q171))","v":""},{"$f":"IF(E34=\"ZX-DECLDIV-IPコードレス電話機\",\"\",IF(キー割付!R171=\"\",\"\",キー割付!R171))","v":""},{"$f":"IF(E34=\"ZX-DECLDIV-IPコードレス電話機\",\"\",IF(キー割付!S171=\"\",\"\",キー割付!S171))","v":""},{"$f":"IF(E34=\"ZX-DECLDIV-IPコードレス電話機\",\"\",IF(キー割付!N179=\"\",\"\",キー割付!N179))","v":""},{"$f":"IF(E34=\"ZX-DECLDIV-IPコードレス電話機\",\"\",IF(キー割付!O179=\"\",\"\",キー割付!O179))","v":""},{"$f":"IF(E34=\"ZX-DECLDIV-IPコードレス電話機\",\"\",IF(キー割付!P179=\"\",\"\",キー割付!P179))","v":""},{"$f":"IF(E34=\"ZX-DECLDIV-IPコードレス電話機\",\"\",IF(キー割付!Q179=\"\",\"\",キー割付!Q179))","v":""},{"$f":"IF(E34=\"ZX-DECLDIV-IPコードレス電話機\",\"\",IF(キー割付!R179=\"\",\"\",キー割付!R179))","v":""},{"$f":"IF(E34=\"ZX-DECLDIV-IPコードレス電話機\",\"\",IF(キー割付!S179=\"\",\"\",キー割付!S179))","v":""}]
[null,null,null,null,null,{"$f":"IF(キー割付!N156=\"\",\"\",キー割付!N156)","v":""},{"$f":"IF(キー割付!O156=\"\",\"\",キー割付!O156)","v":""},{"$f":"IF(キー割付!P156=\"\",\"\",キー割付!P156)","v":""},{"$f":"IF(キー割付!Q156=\"\",\"\",キー割付!Q156)","v":""},{"$f":"IF(キー割付!R156=\"\",\"\",キー割付!R156)","v":""},{"$f":"IF(キー割付!S156=\"\",\"\",キー割付!S156)","v":""},{"$f":"IF(キー割付!N164=\"\",\"\",キー割付!N164)","v":""},{"$f":"IF(キー割付!O164=\"\",\"\",キー割付!O164)","v":""},{"$f":"IF(E34=\"ZX-DECLDIV-IPコードレス電話機\",\"\",IF(キー割付!P164=\"\",\"\",キー割付!P164))","v":""},{"$f":"IF(E34=\"ZX-DECLDIV-IPコードレス電話機\",\"\",IF(キー割付!Q164=\"\",\"\",キー割付!Q164))","v":""},{"$f":"IF(E34=\"ZX-DECLDIV-IPコードレス電話機\",\"\",IF(キー割付!R164=\"\",\"\",キー割付!R164))","v":""},{"$f":"IF(E34=\"ZX-DECLDIV-IPコードレス電話機\",\"\",IF(キー割付!S164=\"\",\"\",キー割付!S164))","v":""},{"$f":"IF(E34=\"ZX-DECLDIV-IPコードレス電話機\",\"\",IF(キー割付!N172=\"\",\"\",キー割付!N172))","v":""},{"$f":"IF(E34=\"ZX-DECLDIV-IPコードレス電話機\",\"\",IF(キー割付!O172=\"\",\"\",キー割付!O172))","v":""},{"$f":"IF(E34=\"ZX-DECLDIV-IPコードレス電話機\",\"\",IF(キー割付!P172=\"\",\"\",キー割付!P172))","v":""},{"$f":"IF(E34=\"ZX-DECLDIV-IPコードレス電話機\",\"\",IF(キー割付!Q172=\"\",\"\",キー割付!Q172))","v":""},{"$f":"IF(E34=\"ZX-DECLDIV-IPコードレス電話機\",\"\",IF(キー割付!R172=\"\",\"\",キー割付!R172))","v":""},{"$f":"IF(E34=\"ZX-DECLDIV-IPコードレス電話機\",\"\",IF(キー割付!S172=\"\",\"\",キー割付!S172))","v":""},{"$f":"IF(E34=\"ZX-DECLDIV-IPコードレス電話機\",\"\",IF(キー割付!N180=\"\",\"\",キー割付!N180))","v":""},{"$f":"IF(E34=\"ZX-DECLDIV-IPコードレス電話機\",\"\",IF(キー割付!O180=\"\",\"\",キー割付!O180))","v":""},{"$f":"IF(E34=\"ZX-DECLDIV-IPコードレス電話機\",\"\",IF(キー割付!P180=\"\",\"\",キー割付!P180))","v":""},{"$f":"IF(E34=\"ZX-DECLDIV-IPコードレス電話機\",\"\",IF(キー割付!Q180=\"\",\"\",キー割付!Q180))","v":""},{"$f":"IF(E34=\"ZX-DECLDIV-IPコードレス電話機\",\"\",IF(キー割付!R180=\"\",\"\",キー割付!R180))","v":""},{"$f":"IF(E34=\"ZX-DECLDIV-IPコードレス電話機\",\"\",IF(キー割付!S180=\"\",\"\",キー割付!S180))","v":""}]
[null,11,{"$f":"IF(IFERROR(VALUE(VLOOKUP(B37,内線_キー割用,2,FALSE)),\"\")=0,\"\",IFERROR(VALUE(VLOOKUP(B37,内線_キー割用,2,FALSE)),\"\"))","v":""},{"$f":"IF(IFERROR(VALUE(VLOOKUP(B37,内線_キー割用,4,FALSE)),\"\")=0,\"\",IFERROR(VALUE(VLOOKUP(B37,内線_キー割用,4,FALSE)),\"\"))","v":""},{"$f":"IF(IFERROR(VLOOKUP(B37,内線_キー割用,3,FALSE),\"\")=0,\"\",IFERROR(VLOOKUP(B37,内線_キー割用,3,FALSE),\"\"))","v":""},{"$f":"IF(キー割付!D190=\"\",\"\",キー割付!D190)","v":""},{"$f":"IF(キー割付!E190=\"\",\"\",キー割付!E190)","v":""},{"$f":"IF(キー割付!F190=\"\",\"\",キー割付!F190)","v":""},{"$f":"IF(キー割付!G190=\"\",\"\",キー割付!G190)","v":""},{"$f":"IF(キー割付!H190=\"\",\"\",キー割付!H190)","v":""},{"$f":"IF(キー割付!I190=\"\",\"\",キー割付!I190)","v":""},{"$f":"IF(キー割付!D198=\"\",\"\",キー割付!D198)","v":""},{"$f":"IF(キー割付!E198=\"\",\"\",キー割付!E198)","v":""},{"$f":"IF(E37=\"ZX-DECLDIV-IPコードレス電話機\",\"\",IF(キー割付!F198=\"\",\"\",キー割付!F198))","v":""},{"$f":"IF(E37=\"ZX-DECLDIV-IPコードレス電話機\",\"\",IF(キー割付!G198=\"\",\"\",キー割付!G198))","v":""},{"$f":"IF(E37=\"ZX-DECLDIV-IPコードレス電話機\",\"\",IF(キー割付!H198=\"\",\"\",キー割付!H198))","v":""},{"$f":"IF(E37=\"ZX-DECLDIV-IPコードレス電話機\",\"\",IF(キー割付!I198=\"\",\"\",キー割付!I198))","v":""},{"$f":"IF(E37=\"ZX-DECLDIV-IPコードレス電話機\",\"\",IF(キー割付!D206=\"\",\"\",キー割付!D206))","v":""},{"$f":"IF(E37=\"ZX-DECLDIV-IPコードレス電話機\",\"\",IF(キー割付!E206=\"\",\"\",キー割付!E206))","v":""},{"$f":"IF(E37=\"ZX-DECLDIV-IPコードレス電話機\",\"\",IF(キー割付!F206=\"\",\"\",キー割付!F206))","v":""},{"$f":"IF(E37=\"ZX-DECLDIV-IPコードレス電話機\",\"\",IF(キー割付!G206=\"\",\"\",キー割付!G206))","v":""},{"$f":"IF(E37=\"ZX-DECLDIV-IPコードレス電話機\",\"\",IF(キー割付!H206=\"\",\"\",キー割付!H206))","v":""},{"$f":"IF(E37=\"ZX-DECLDIV-IPコードレス電話機\",\"\",IF(キー割付!I206=\"\",\"\",キー割付!I206))","v":""},{"$f":"IF(E37=\"ZX-DECLDIV-IPコードレス電話機\",\"\",IF(キー割付!D214=\"\",\"\",キー割付!D214))","v":""},{"$f":"IF(E37=\"ZX-DECLDIV-IPコードレス電話機\",\"\",IF(キー割付!E214=\"\",\"\",キー割付!E214))","v":""},{"$f":"IF(E37=\"ZX-DECLDIV-IPコードレス電話機\",\"\",IF(キー割付!F214=\"\",\"\",キー割付!F214))","v":""},{"$f":"IF(E37=\"ZX-DECLDIV-IPコードレス電話機\",\"\",IF(キー割付!G214=\"\",\"\",キー割付!G214))","v":""},{"$f":"IF(E37=\"ZX-DECLDIV-IPコードレス電話機\",\"\",IF(キー割付!H214=\"\",\"\",キー割付!H214))","v":""},{"$f":"IF(E37=\"ZX-DECLDIV-IPコードレス電話機\",\"\",IF(キー割付!I214=\"\",\"\",キー割付!I214))","v":""}]
[null,null,null,null,null,{"$f":"IF(キー割付!D191=\"\",\"\",キー割付!D191)","v":""},{"$f":"IF(キー割付!E191=\"\",\"\",キー割付!E191)","v":""},{"$f":"IF(キー割付!F191=\"\",\"\",キー割付!F191)","v":""},{"$f":"IF(キー割付!G191=\"\",\"\",キー割付!G191)","v":""},{"$f":"IF(キー割付!H191=\"\",\"\",キー割付!H191)","v":""},{"$f":"IF(キー割付!I191=\"\",\"\",キー割付!I191)","v":""},{"$f":"IF(キー割付!D199=\"\",\"\",キー割付!D199)","v":""},{"$f":"IF(キー割付!E199=\"\",\"\",キー割付!E199)","v":""},{"$f":"IF(E37=\"ZX-DECLDIV-IPコードレス電話機\",\"\",IF(キー割付!F199=\"\",\"\",キー割付!F199))","v":""},{"$f":"IF(E37=\"ZX-DECLDIV-IPコードレス電話機\",\"\",IF(キー割付!G199=\"\",\"\",キー割付!G199))","v":""},{"$f":"IF(E37=\"ZX-DECLDIV-IPコードレス電話機\",\"\",IF(キー割付!H199=\"\",\"\",キー割付!H199))","v":""},{"$f":"IF(E37=\"ZX-DECLDIV-IPコードレス電話機\",\"\",IF(キー割付!I199=\"\",\"\",キー割付!I199))","v":""},{"$f":"IF(E37=\"ZX-DECLDIV-IPコードレス電話機\",\"\",IF(キー割付!D207=\"\",\"\",キー割付!D207))","v":""},{"$f":"IF(E37=\"ZX-DECLDIV-IPコードレス電話機\",\"\",IF(キー割付!E207=\"\",\"\",キー割付!E207))","v":""},{"$f":"IF(E37=\"ZX-DECLDIV-IPコードレス電話機\",\"\",IF(キー割付!F207=\"\",\"\",キー割付!F207))","v":""},{"$f":"IF(E37=\"ZX-DECLDIV-IPコードレス電話機\",\"\",IF(キー割付!G207=\"\",\"\",キー割付!G207))","v":""},{"$f":"IF(E37=\"ZX-DECLDIV-IPコードレス電話機\",\"\",IF(キー割付!H207=\"\",\"\",キー割付!H207))","v":""},{"$f":"IF(E37=\"ZX-DECLDIV-IPコードレス電話機\",\"\",IF(キー割付!I207=\"\",\"\",キー割付!I207))","v":""},{"$f":"IF(E37=\"ZX-DECLDIV-IPコードレス電話機\",\"\",IF(キー割付!D215=\"\",\"\",キー割付!D215))","v":""},{"$f":"IF(E37=\"ZX-DECLDIV-IPコードレス電話機\",\"\",IF(キー割付!E215=\"\",\"\",キー割付!E215))","v":""},{"$f":"IF(E37=\"ZX-DECLDIV-IPコードレス電話機\",\"\",IF(キー割付!F215=\"\",\"\",キー割付!F215))","v":""},{"$f":"IF(E37=\"ZX-DECLDIV-IPコードレス電話機\",\"\",IF(キー割付!G215=\"\",\"\",キー割付!G215))","v":""},{"$f":"IF(E37=\"ZX-DECLDIV-IPコードレス電話機\",\"\",IF(キー割付!H215=\"\",\"\",キー割付!H215))","v":""},{"$f":"IF(E37=\"ZX-DECLDIV-IPコードレス電話機\",\"\",IF(キー割付!I215=\"\",\"\",キー割付!I215))","v":""}]
[null,null,null,null,null,{"$f":"IF(キー割付!D192=\"\",\"\",キー割付!D192)","v":""},{"$f":"IF(キー割付!E192=\"\",\"\",キー割付!E192)","v":""},{"$f":"IF(キー割付!F192=\"\",\"\",キー割付!F192)","v":""},{"$f":"IF(キー割付!G192=\"\",\"\",キー割付!G192)","v":""},{"$f":"IF(キー割付!H192=\"\",\"\",キー割付!H192)","v":""},{"$f":"IF(キー割付!I192=\"\",\"\",キー割付!I192)","v":""},{"$f":"IF(キー割付!D200=\"\",\"\",キー割付!D200)","v":""},{"$f":"IF(キー割付!E200=\"\",\"\",キー割付!E200)","v":""},{"$f":"IF(E37=\"ZX-DECLDIV-IPコードレス電話機\",\"\",IF(キー割付!F200=\"\",\"\",キー割付!F200))","v":""},{"$f":"IF(E37=\"ZX-DECLDIV-IPコードレス電話機\",\"\",IF(キー割付!G200=\"\",\"\",キー割付!G200))","v":""},{"$f":"IF(E37=\"ZX-DECLDIV-IPコードレス電話機\",\"\",IF(キー割付!H200=\"\",\"\",キー割付!H200))","v":""},{"$f":"IF(E37=\"ZX-DECLDIV-IPコードレス電話機\",\"\",IF(キー割付!I200=\"\",\"\",キー割付!I200))","v":""},{"$f":"IF(E37=\"ZX-DECLDIV-IPコードレス電話機\",\"\",IF(キー割付!D208=\"\",\"\",キー割付!D208))","v":""},{"$f":"IF(E37=\"ZX-DECLDIV-IPコードレス電話機\",\"\",IF(キー割付!E208=\"\",\"\",キー割付!E208))","v":""},{"$f":"IF(E37=\"ZX-DECLDIV-IPコードレス電話機\",\"\",IF(キー割付!F208=\"\",\"\",キー割付!F208))","v":""},{"$f":"IF(E37=\"ZX-DECLDIV-IPコードレス電話機\",\"\",IF(キー割付!G208=\"\",\"\",キー割付!G208))","v":""},{"$f":"IF(E37=\"ZX-DECLDIV-IPコードレス電話機\",\"\",IF(キー割付!H208=\"\",\"\",キー割付!H208))","v":""},{"$f":"IF(E37=\"ZX-DECLDIV-IPコードレス電話機\",\"\",IF(キー割付!I208=\"\",\"\",キー割付!I208))","v":""},{"$f":"IF(E37=\"ZX-DECLDIV-IPコードレス電話機\",\"\",IF(キー割付!D216=\"\",\"\",キー割付!D216))","v":""},{"$f":"IF(E37=\"ZX-DECLDIV-IPコードレス電話機\",\"\",IF(キー割付!E216=\"\",\"\",キー割付!E216))","v":""},{"$f":"IF(E37=\"ZX-DECLDIV-IPコードレス電話機\",\"\",IF(キー割付!F216=\"\",\"\",キー割付!F216))","v":""},{"$f":"IF(E37=\"ZX-DECLDIV-IPコードレス電話機\",\"\",IF(キー割付!G216=\"\",\"\",キー割付!G216))","v":""},{"$f":"IF(E37=\"ZX-DECLDIV-IPコードレス電話機\",\"\",IF(キー割付!H216=\"\",\"\",キー割付!H216))","v":""},{"$f":"IF(E37=\"ZX-DECLDIV-IPコードレス電話機\",\"\",IF(キー割付!I216=\"\",\"\",キー割付!I216))","v":""}]
[null,12,{"$f":"IF(IFERROR(VALUE(VLOOKUP(B40,内線_キー割用,2,FALSE)),\"\")=0,\"\",IFERROR(VALUE(VLOOKUP(B40,内線_キー割用,2,FALSE)),\"\"))","v":""},{"$f":"IF(IFERROR(VALUE(VLOOKUP(B40,内線_キー割用,4,FALSE)),\"\")=0,\"\",IFERROR(VALUE(VLOOKUP(B40,内線_キー割用,4,FALSE)),\"\"))","v":""},{"$f":"IF(IFERROR(VLOOKUP(B40,内線_キー割用,3,FALSE),\"\")=0,\"\",IFERROR(VLOOKUP(B40,内線_キー割用,3,FALSE),\"\"))","v":""},{"$f":"IF(キー割付!N190=\"\",\"\",キー割付!N190)","v":""},{"$f":"IF(キー割付!O190=\"\",\"\",キー割付!O190)","v":""},{"$f":"IF(キー割付!P190=\"\",\"\",キー割付!P190)","v":""},{"$f":"IF(キー割付!Q190=\"\",\"\",キー割付!Q190)","v":""},{"$f":"IF(キー割付!R190=\"\",\"\",キー割付!R190)","v":""},{"$f":"IF(キー割付!S190=\"\",\"\",キー割付!S190)","v":""},{"$f":"IF(キー割付!N198=\"\",\"\",キー割付!N198)","v":""},{"$f":"IF(キー割付!O198=\"\",\"\",キー割付!O198)","v":""},{"$f":"IF(E40=\"ZX-DECLDIV-IPコードレス電話機\",\"\",IF(キー割付!P198=\"\",\"\",キー割付!P198))","v":""},{"$f":"IF(E40=\"ZX-DECLDIV-IPコードレス電話機\",\"\",IF(キー割付!Q198=\"\",\"\",キー割付!Q198))","v":""},{"$f":"IF(E40=\"ZX-DECLDIV-IPコードレス電話機\",\"\",IF(キー割付!R198=\"\",\"\",キー割付!R198))","v":""},{"$f":"IF(E40=\"ZX-DECLDIV-IPコードレス電話機\",\"\",IF(キー割付!S198=\"\",\"\",キー割付!S198))","v":""},{"$f":"IF(E40=\"ZX-DECLDIV-IPコードレス電話機\",\"\",IF(キー割付!N206=\"\",\"\",キー割付!N206))","v":""},{"$f":"IF(E40=\"ZX-DECLDIV-IPコードレス電話機\",\"\",IF(キー割付!O206=\"\",\"\",キー割付!O206))","v":""},{"$f":"IF(E40=\"ZX-DECLDIV-IPコードレス電話機\",\"\",IF(キー割付!P206=\"\",\"\",キー割付!P206))","v":""},{"$f":"IF(E40=\"ZX-DECLDIV-IPコードレス電話機\",\"\",IF(キー割付!Q206=\"\",\"\",キー割付!Q206))","v":""},{"$f":"IF(E40=\"ZX-DECLDIV-IPコードレス電話機\",\"\",IF(キー割付!R206=\"\",\"\",キー割付!R206))","v":""},{"$f":"IF(E40=\"ZX-DECLDIV-IPコードレス電話機\",\"\",IF(キー割付!S206=\"\",\"\",キー割付!S206))","v":""},{"$f":"IF(E40=\"ZX-DECLDIV-IPコードレス電話機\",\"\",IF(キー割付!N214=\"\",\"\",キー割付!N214))","v":""},{"$f":"IF(E40=\"ZX-DECLDIV-IPコードレス電話機\",\"\",IF(キー割付!O214=\"\",\"\",キー割付!O214))","v":""},{"$f":"IF(E40=\"ZX-DECLDIV-IPコードレス電話機\",\"\",IF(キー割付!P214=\"\",\"\",キー割付!P214))","v":""},{"$f":"IF(E40=\"ZX-DECLDIV-IPコードレス電話機\",\"\",IF(キー割付!Q214=\"\",\"\",キー割付!Q214))","v":""},{"$f":"IF(E40=\"ZX-DECLDIV-IPコードレス電話機\",\"\",IF(キー割付!R214=\"\",\"\",キー割付!R214))","v":""},{"$f":"IF(E40=\"ZX-DECLDIV-IPコードレス電話機\",\"\",IF(キー割付!S214=\"\",\"\",キー割付!S214))","v":""}]
[null,null,null,null,null,{"$f":"IF(キー割付!N191=\"\",\"\",キー割付!N191)","v":""},{"$f":"IF(キー割付!O191=\"\",\"\",キー割付!O191)","v":""},{"$f":"IF(キー割付!P191=\"\",\"\",キー割付!P191)","v":""},{"$f":"IF(キー割付!Q191=\"\",\"\",キー割付!Q191)","v":""},{"$f":"IF(キー割付!R191=\"\",\"\",キー割付!R191)","v":""},{"$f":"IF(キー割付!S191=\"\",\"\",キー割付!S191)","v":""},{"$f":"IF(キー割付!N199=\"\",\"\",キー割付!N199)","v":""},{"$f":"IF(キー割付!O199=\"\",\"\",キー割付!O199)","v":""},{"$f":"IF(E40=\"ZX-DECLDIV-IPコードレス電話機\",\"\",IF(キー割付!P199=\"\",\"\",キー割付!P199))","v":""},{"$f":"IF(E40=\"ZX-DECLDIV-IPコードレス電話機\",\"\",IF(キー割付!Q199=\"\",\"\",キー割付!Q199))","v":""},{"$f":"IF(E40=\"ZX-DECLDIV-IPコードレス電話機\",\"\",IF(キー割付!R199=\"\",\"\",キー割付!R199))","v":""},{"$f":"IF(E40=\"ZX-DECLDIV-IPコードレス電話機\",\"\",IF(キー割付!S199=\"\",\"\",キー割付!S199))","v":""},{"$f":"IF(E40=\"ZX-DECLDIV-IPコードレス電話機\",\"\",IF(キー割付!N207=\"\",\"\",キー割付!N207))","v":""},{"$f":"IF(E40=\"ZX-DECLDIV-IPコードレス電話機\",\"\",IF(キー割付!O207=\"\",\"\",キー割付!O207))","v":""},{"$f":"IF(E40=\"ZX-DECLDIV-IPコードレス電話機\",\"\",IF(キー割付!P207=\"\",\"\",キー割付!P207))","v":""},{"$f":"IF(E40=\"ZX-DECLDIV-IPコードレス電話機\",\"\",IF(キー割付!Q207=\"\",\"\",キー割付!Q207))","v":""},{"$f":"IF(E40=\"ZX-DECLDIV-IPコードレス電話機\",\"\",IF(キー割付!R207=\"\",\"\",キー割付!R207))","v":""},{"$f":"IF(E40=\"ZX-DECLDIV-IPコードレス電話機\",\"\",IF(キー割付!S207=\"\",\"\",キー割付!S207))","v":""},{"$f":"IF(E40=\"ZX-DECLDIV-IPコードレス電話機\",\"\",IF(キー割付!N215=\"\",\"\",キー割付!N215))","v":""},{"$f":"IF(E40=\"ZX-DECLDIV-IPコードレス電話機\",\"\",IF(キー割付!O215=\"\",\"\",キー割付!O215))","v":""},{"$f":"IF(E40=\"ZX-DECLDIV-IPコードレス電話機\",\"\",IF(キー割付!P215=\"\",\"\",キー割付!P215))","v":""},{"$f":"IF(E40=\"ZX-DECLDIV-IPコードレス電話機\",\"\",IF(キー割付!Q215=\"\",\"\",キー割付!Q215))","v":""},{"$f":"IF(E40=\"ZX-DECLDIV-IPコードレス電話機\",\"\",IF(キー割付!R215=\"\",\"\",キー割付!R215))","v":""},{"$f":"IF(E40=\"ZX-DECLDIV-IPコードレス電話機\",\"\",IF(キー割付!S215=\"\",\"\",キー割付!S215))","v":""}]
[null,null,null,null,null,{"$f":"IF(キー割付!N192=\"\",\"\",キー割付!N192)","v":""},{"$f":"IF(キー割付!O192=\"\",\"\",キー割付!O192)","v":""},{"$f":"IF(キー割付!P192=\"\",\"\",キー割付!P192)","v":""},{"$f":"IF(キー割付!Q192=\"\",\"\",キー割付!Q192)","v":""},{"$f":"IF(キー割付!R192=\"\",\"\",キー割付!R192)","v":""},{"$f":"IF(キー割付!S192=\"\",\"\",キー割付!S192)","v":""},{"$f":"IF(キー割付!N200=\"\",\"\",キー割付!N200)","v":""},{"$f":"IF(キー割付!O200=\"\",\"\",キー割付!O200)","v":""},{"$f":"IF(E40=\"ZX-DECLDIV-IPコードレス電話機\",\"\",IF(キー割付!P200=\"\",\"\",キー割付!P200))","v":""},{"$f":"IF(E40=\"ZX-DECLDIV-IPコードレス電話機\",\"\",IF(キー割付!Q200=\"\",\"\",キー割付!Q200))","v":""},{"$f":"IF(E40=\"ZX-DECLDIV-IPコードレス電話機\",\"\",IF(キー割付!R200=\"\",\"\",キー割付!R200))","v":""},{"$f":"IF(E40=\"ZX-DECLDIV-IPコードレス電話機\",\"\",IF(キー割付!S200=\"\",\"\",キー割付!S200))","v":""},{"$f":"IF(E40=\"ZX-DECLDIV-IPコードレス電話機\",\"\",IF(キー割付!N208=\"\",\"\",キー割付!N208))","v":""},{"$f":"IF(E40=\"ZX-DECLDIV-IPコードレス電話機\",\"\",IF(キー割付!O208=\"\",\"\",キー割付!O208))","v":""},{"$f":"IF(E40=\"ZX-DECLDIV-IPコードレス電話機\",\"\",IF(キー割付!P208=\"\",\"\",キー割付!P208))","v":""},{"$f":"IF(E40=\"ZX-DECLDIV-IPコードレス電話機\",\"\",IF(キー割付!Q208=\"\",\"\",キー割付!Q208))","v":""},{"$f":"IF(E40=\"ZX-DECLDIV-IPコードレス電話機\",\"\",IF(キー割付!R208=\"\",\"\",キー割付!R208))","v":""},{"$f":"IF(E40=\"ZX-DECLDIV-IPコードレス電話機\",\"\",IF(キー割付!S208=\"\",\"\",キー割付!S208))","v":""},{"$f":"IF(E40=\"ZX-DECLDIV-IPコードレス電話機\",\"\",IF(キー割付!N216=\"\",\"\",キー割付!N216))","v":""},{"$f":"IF(E40=\"ZX-DECLDIV-IPコードレス電話機\",\"\",IF(キー割付!O216=\"\",\"\",キー割付!O216))","v":""},{"$f":"IF(E40=\"ZX-DECLDIV-IPコードレス電話機\",\"\",IF(キー割付!P216=\"\",\"\",キー割付!P216))","v":""},{"$f":"IF(E40=\"ZX-DECLDIV-IPコードレス電話機\",\"\",IF(キー割付!Q216=\"\",\"\",キー割付!Q216))","v":""},{"$f":"IF(E40=\"ZX-DECLDIV-IPコードレス電話機\",\"\",IF(キー割付!R216=\"\",\"\",キー割付!R216))","v":""},{"$f":"IF(E40=\"ZX-DECLDIV-IPコードレス電話機\",\"\",IF(キー割付!S216=\"\",\"\",キー割付!S216))","v":""}]
[null,13,{"$f":"IF(IFERROR(VALUE(VLOOKUP(B43,内線_キー割用,2,FALSE)),\"\")=0,\"\",IFERROR(VALUE(VLOOKUP(B43,内線_キー割用,2,FALSE)),\"\"))","v":""},{"$f":"IF(IFERROR(VALUE(VLOOKUP(B43,内線_キー割用,4,FALSE)),\"\")=0,\"\",IFERROR(VALUE(VLOOKUP(B43,内線_キー割用,4,FALSE)),\"\"))","v":""},{"$f":"IF(IFERROR(VLOOKUP(B43,内線_キー割用,3,FALSE),\"\")=0,\"\",IFERROR(VLOOKUP(B43,内線_キー割用,3,FALSE),\"\"))","v":""},{"$f":"IF(キー割付!D226=\"\",\"\",キー割付!D226)","v":""},{"$f":"IF(キー割付!E226=\"\",\"\",キー割付!E226)","v":""},{"$f":"IF(キー割付!F226=\"\",\"\",キー割付!F226)","v":""},{"$f":"IF(キー割付!G226=\"\",\"\",キー割付!G226)","v":""},{"$f":"IF(キー割付!H226=\"\",\"\",キー割付!H226)","v":""},{"$f":"IF(キー割付!I226=\"\",\"\",キー割付!I226)","v":""},{"$f":"IF(キー割付!D234=\"\",\"\",キー割付!D234)","v":""},{"$f":"IF(キー割付!E234=\"\",\"\",キー割付!E234)","v":""},{"$f":"IF(E43=\"ZX-DECLDIV-IPコードレス電話機\",\"\",IF(キー割付!F234=\"\",\"\",キー割付!F234))","v":""},{"$f":"IF(E43=\"ZX-DECLDIV-IPコードレス電話機\",\"\",IF(キー割付!G234=\"\",\"\",キー割付!G234))","v":""},{"$f":"IF(E43=\"ZX-DECLDIV-IPコードレス電話機\",\"\",IF(キー割付!H234=\"\",\"\",キー割付!H234))","v":""},{"$f":"IF(E43=\"ZX-DECLDIV-IPコードレス電話機\",\"\",IF(キー割付!I234=\"\",\"\",キー割付!I234))","v":""},{"$f":"IF(E43=\"ZX-DECLDIV-IPコードレス電話機\",\"\",IF(キー割付!D242=\"\",\"\",キー割付!D242))","v":""},{"$f":"IF(E43=\"ZX-DECLDIV-IPコードレス電話機\",\"\",IF(キー割付!E242=\"\",\"\",キー割付!E242))","v":""},{"$f":"IF(E43=\"ZX-DECLDIV-IPコードレス電話機\",\"\",IF(キー割付!F242=\"\",\"\",キー割付!F242))","v":""},{"$f":"IF(E43=\"ZX-DECLDIV-IPコードレス電話機\",\"\",IF(キー割付!G242=\"\",\"\",キー割付!G242))","v":""},{"$f":"IF(E43=\"ZX-DECLDIV-IPコードレス電話機\",\"\",IF(キー割付!H242=\"\",\"\",キー割付!H242))","v":""},{"$f":"IF(E43=\"ZX-DECLDIV-IPコードレス電話機\",\"\",IF(キー割付!I242=\"\",\"\",キー割付!I242))","v":""},{"$f":"IF(E43=\"ZX-DECLDIV-IPコードレス電話機\",\"\",IF(キー割付!D250=\"\",\"\",キー割付!D250))","v":""},{"$f":"IF(E43=\"ZX-DECLDIV-IPコードレス電話機\",\"\",IF(キー割付!E250=\"\",\"\",キー割付!E250))","v":""},{"$f":"IF(E43=\"ZX-DECLDIV-IPコードレス電話機\",\"\",IF(キー割付!F250=\"\",\"\",キー割付!F250))","v":""},{"$f":"IF(E43=\"ZX-DECLDIV-IPコードレス電話機\",\"\",IF(キー割付!G250=\"\",\"\",キー割付!G250))","v":""},{"$f":"IF(E43=\"ZX-DECLDIV-IPコードレス電話機\",\"\",IF(キー割付!H250=\"\",\"\",キー割付!H250))","v":""},{"$f":"IF(E43=\"ZX-DECLDIV-IPコードレス電話機\",\"\",IF(キー割付!I250=\"\",\"\",キー割付!I250))","v":""}]
[null,null,null,null,null,{"$f":"IF(キー割付!D227=\"\",\"\",キー割付!D227)","v":""},{"$f":"IF(キー割付!E227=\"\",\"\",キー割付!E227)","v":""},{"$f":"IF(キー割付!F227=\"\",\"\",キー割付!F227)","v":""},{"$f":"IF(キー割付!G227=\"\",\"\",キー割付!G227)","v":""},{"$f":"IF(キー割付!H227=\"\",\"\",キー割付!H227)","v":""},{"$f":"IF(キー割付!I227=\"\",\"\",キー割付!I227)","v":""},{"$f":"IF(キー割付!D235=\"\",\"\",キー割付!D235)","v":""},{"$f":"IF(キー割付!E235=\"\",\"\",キー割付!E235)","v":""},{"$f":"IF(E43=\"ZX-DECLDIV-IPコードレス電話機\",\"\",IF(キー割付!F235=\"\",\"\",キー割付!F235))","v":""},{"$f":"IF(E43=\"ZX-DECLDIV-IPコードレス電話機\",\"\",IF(キー割付!G235=\"\",\"\",キー割付!G235))","v":""},{"$f":"IF(E43=\"ZX-DECLDIV-IPコードレス電話機\",\"\",IF(キー割付!H235=\"\",\"\",キー割付!H235))","v":""},{"$f":"IF(E43=\"ZX-DECLDIV-IPコードレス電話機\",\"\",IF(キー割付!I235=\"\",\"\",キー割付!I235))","v":""},{"$f":"IF(E43=\"ZX-DECLDIV-IPコードレス電話機\",\"\",IF(キー割付!D243=\"\",\"\",キー割付!D243))","v":""},{"$f":"IF(E43=\"ZX-DECLDIV-IPコードレス電話機\",\"\",IF(キー割付!E243=\"\",\"\",キー割付!E243))","v":""},{"$f":"IF(E43=\"ZX-DECLDIV-IPコードレス電話機\",\"\",IF(キー割付!F243=\"\",\"\",キー割付!F243))","v":""},{"$f":"IF(E43=\"ZX-DECLDIV-IPコードレス電話機\",\"\",IF(キー割付!G243=\"\",\"\",キー割付!G243))","v":""},{"$f":"IF(E43=\"ZX-DECLDIV-IPコードレス電話機\",\"\",IF(キー割付!H243=\"\",\"\",キー割付!H243))","v":""},{"$f":"IF(E43=\"ZX-DECLDIV-IPコードレス電話機\",\"\",IF(キー割付!I243=\"\",\"\",キー割付!I243))","v":""},{"$f":"IF(E43=\"ZX-DECLDIV-IPコードレス電話機\",\"\",IF(キー割付!D251=\"\",\"\",キー割付!D251))","v":""},{"$f":"IF(E43=\"ZX-DECLDIV-IPコードレス電話機\",\"\",IF(キー割付!E251=\"\",\"\",キー割付!E251))","v":""},{"$f":"IF(E43=\"ZX-DECLDIV-IPコードレス電話機\",\"\",IF(キー割付!F251=\"\",\"\",キー割付!F251))","v":""},{"$f":"IF(E43=\"ZX-DECLDIV-IPコードレス電話機\",\"\",IF(キー割付!G251=\"\",\"\",キー割付!G251))","v":""},{"$f":"IF(E43=\"ZX-DECLDIV-IPコードレス電話機\",\"\",IF(キー割付!H251=\"\",\"\",キー割付!H251))","v":""},{"$f":"IF(E43=\"ZX-DECLDIV-IPコードレス電話機\",\"\",IF(キー割付!I251=\"\",\"\",キー割付!I251))","v":""}]
[null,null,null,null,null,{"$f":"IF(キー割付!D228=\"\",\"\",キー割付!D228)","v":""},{"$f":"IF(キー割付!E228=\"\",\"\",キー割付!E228)","v":""},{"$f":"IF(キー割付!F228=\"\",\"\",キー割付!F228)","v":""},{"$f":"IF(キー割付!G228=\"\",\"\",キー割付!G228)","v":""},{"$f":"IF(キー割付!H228=\"\",\"\",キー割付!H228)","v":""},{"$f":"IF(キー割付!I228=\"\",\"\",キー割付!I228)","v":""},{"$f":"IF(キー割付!D236=\"\",\"\",キー割付!D236)","v":""},{"$f":"IF(キー割付!E236=\"\",\"\",キー割付!E236)","v":""},{"$f":"IF(E43=\"ZX-DECLDIV-IPコードレス電話機\",\"\",IF(キー割付!F236=\"\",\"\",キー割付!F236))","v":""},{"$f":"IF(E43=\"ZX-DECLDIV-IPコードレス電話機\",\"\",IF(キー割付!G236=\"\",\"\",キー割付!G236))","v":""},{"$f":"IF(E43=\"ZX-DECLDIV-IPコードレス電話機\",\"\",IF(キー割付!H236=\"\",\"\",キー割付!H236))","v":""},{"$f":"IF(E43=\"ZX-DECLDIV-IPコードレス電話機\",\"\",IF(キー割付!I236=\"\",\"\",キー割付!I236))","v":""},{"$f":"IF(E43=\"ZX-DECLDIV-IPコードレス電話機\",\"\",IF(キー割付!D244=\"\",\"\",キー割付!D244))","v":""},{"$f":"IF(E43=\"ZX-DECLDIV-IPコードレス電話機\",\"\",IF(キー割付!E244=\"\",\"\",キー割付!E244))","v":""},{"$f":"IF(E43=\"ZX-DECLDIV-IPコードレス電話機\",\"\",IF(キー割付!F244=\"\",\"\",キー割付!F244))","v":""},{"$f":"IF(E43=\"ZX-DECLDIV-IPコードレス電話機\",\"\",IF(キー割付!G244=\"\",\"\",キー割付!G244))","v":""},{"$f":"IF(E43=\"ZX-DECLDIV-IPコードレス電話機\",\"\",IF(キー割付!H244=\"\",\"\",キー割付!H244))","v":""},{"$f":"IF(E43=\"ZX-DECLDIV-IPコードレス電話機\",\"\",IF(キー割付!I244=\"\",\"\",キー割付!I244))","v":""},{"$f":"IF(E43=\"ZX-DECLDIV-IPコードレス電話機\",\"\",IF(キー割付!D252=\"\",\"\",キー割付!D252))","v":""},{"$f":"IF(E43=\"ZX-DECLDIV-IPコードレス電話機\",\"\",IF(キー割付!E252=\"\",\"\",キー割付!E252))","v":""},{"$f":"IF(E43=\"ZX-DECLDIV-IPコードレス電話機\",\"\",IF(キー割付!F252=\"\",\"\",キー割付!F252))","v":""},{"$f":"IF(E43=\"ZX-DECLDIV-IPコードレス電話機\",\"\",IF(キー割付!G252=\"\",\"\",キー割付!G252))","v":""},{"$f":"IF(E43=\"ZX-DECLDIV-IPコードレス電話機\",\"\",IF(キー割付!H252=\"\",\"\",キー割付!H252))","v":""},{"$f":"IF(E43=\"ZX-DECLDIV-IPコードレス電話機\",\"\",IF(キー割付!I252=\"\",\"\",キー割付!I252))","v":""}]
[null,14,{"$f":"IF(IFERROR(VALUE(VLOOKUP(B46,内線_キー割用,2,FALSE)),\"\")=0,\"\",IFERROR(VALUE(VLOOKUP(B46,内線_キー割用,2,FALSE)),\"\"))","v":""},{"$f":"IF(IFERROR(VALUE(VLOOKUP(B46,内線_キー割用,4,FALSE)),\"\")=0,\"\",IFERROR(VALUE(VLOOKUP(B46,内線_キー割用,4,FALSE)),\"\"))","v":""},{"$f":"IF(IFERROR(VLOOKUP(B46,内線_キー割用,3,FALSE),\"\")=0,\"\",IFERROR(VLOOKUP(B46,内線_キー割用,3,FALSE),\"\"))","v":""},{"$f":"IF(キー割付!N226=\"\",\"\",キー割付!N226)","v":""},{"$f":"IF(キー割付!O226=\"\",\"\",キー割付!O226)","v":""},{"$f":"IF(キー割付!P226=\"\",\"\",キー割付!P226)","v":""},{"$f":"IF(キー割付!Q226=\"\",\"\",キー割付!Q226)","v":""},{"$f":"IF(キー割付!R226=\"\",\"\",キー割付!R226)","v":""},{"$f":"IF(キー割付!S226=\"\",\"\",キー割付!S226)","v":""},{"$f":"IF(キー割付!N234=\"\",\"\",キー割付!N234)","v":""},{"$f":"IF(キー割付!O234=\"\",\"\",キー割付!O234)","v":""},{"$f":"IF(E46=\"ZX-DECLDIV-IPコードレス電話機\",\"\",IF(キー割付!P234=\"\",\"\",キー割付!P234))","v":""},{"$f":"IF(E46=\"ZX-DECLDIV-IPコードレス電話機\",\"\",IF(キー割付!Q234=\"\",\"\",キー割付!Q234))","v":""},{"$f":"IF(E46=\"ZX-DECLDIV-IPコードレス電話機\",\"\",IF(キー割付!R234=\"\",\"\",キー割付!R234))","v":""},{"$f":"IF(E46=\"ZX-DECLDIV-IPコードレス電話機\",\"\",IF(キー割付!S234=\"\",\"\",キー割付!S234))","v":""},{"$f":"IF(E46=\"ZX-DECLDIV-IPコードレス電話機\",\"\",IF(キー割付!N242=\"\",\"\",キー割付!N242))","v":""},{"$f":"IF(E46=\"ZX-DECLDIV-IPコードレス電話機\",\"\",IF(キー割付!O242=\"\",\"\",キー割付!O242))","v":""},{"$f":"IF(E46=\"ZX-DECLDIV-IPコードレス電話機\",\"\",IF(キー割付!P242=\"\",\"\",キー割付!P242))","v":""},{"$f":"IF(E46=\"ZX-DECLDIV-IPコードレス電話機\",\"\",IF(キー割付!Q242=\"\",\"\",キー割付!Q242))","v":""},{"$f":"IF(E46=\"ZX-DECLDIV-IPコードレス電話機\",\"\",IF(キー割付!R242=\"\",\"\",キー割付!R242))","v":""},{"$f":"IF(E46=\"ZX-DECLDIV-IPコードレス電話機\",\"\",IF(キー割付!S242=\"\",\"\",キー割付!S242))","v":""},{"$f":"IF(E46=\"ZX-DECLDIV-IPコードレス電話機\",\"\",IF(キー割付!N250=\"\",\"\",キー割付!N250))","v":""},{"$f":"IF(E46=\"ZX-DECLDIV-IPコードレス電話機\",\"\",IF(キー割付!O250=\"\",\"\",キー割付!O250))","v":""},{"$f":"IF(E46=\"ZX-DECLDIV-IPコードレス電話機\",\"\",IF(キー割付!P250=\"\",\"\",キー割付!P250))","v":""},{"$f":"IF(E46=\"ZX-DECLDIV-IPコードレス電話機\",\"\",IF(キー割付!Q250=\"\",\"\",キー割付!Q250))","v":""},{"$f":"IF(E46=\"ZX-DECLDIV-IPコードレス電話機\",\"\",IF(キー割付!R250=\"\",\"\",キー割付!R250))","v":""},{"$f":"IF(E46=\"ZX-DECLDIV-IPコードレス電話機\",\"\",IF(キー割付!S250=\"\",\"\",キー割付!S250))","v":""}]
[null,null,null,null,null,{"$f":"IF(キー割付!N227=\"\",\"\",キー割付!N227)","v":""},{"$f":"IF(キー割付!O227=\"\",\"\",キー割付!O227)","v":""},{"$f":"IF(キー割付!P227=\"\",\"\",キー割付!P227)","v":""},{"$f":"IF(キー割付!Q227=\"\",\"\",キー割付!Q227)","v":""},{"$f":"IF(キー割付!R227=\"\",\"\",キー割付!R227)","v":""},{"$f":"IF(キー割付!S227=\"\",\"\",キー割付!S227)","v":""},{"$f":"IF(キー割付!N235=\"\",\"\",キー割付!N235)","v":""},{"$f":"IF(キー割付!O235=\"\",\"\",キー割付!O235)","v":""},{"$f":"IF(E46=\"ZX-DECLDIV-IPコードレス電話機\",\"\",IF(キー割付!P235=\"\",\"\",キー割付!P235))","v":""},{"$f":"IF(E46=\"ZX-DECLDIV-IPコードレス電話機\",\"\",IF(キー割付!Q235=\"\",\"\",キー割付!Q235))","v":""},{"$f":"IF(E46=\"ZX-DECLDIV-IPコードレス電話機\",\"\",IF(キー割付!R235=\"\",\"\",キー割付!R235))","v":""},{"$f":"IF(E46=\"ZX-DECLDIV-IPコードレス電話機\",\"\",IF(キー割付!S235=\"\",\"\",キー割付!S235))","v":""},{"$f":"IF(E46=\"ZX-DECLDIV-IPコードレス電話機\",\"\",IF(キー割付!N243=\"\",\"\",キー割付!N243))","v":""},{"$f":"IF(E46=\"ZX-DECLDIV-IPコードレス電話機\",\"\",IF(キー割付!O243=\"\",\"\",キー割付!O243))","v":""},{"$f":"IF(E46=\"ZX-DECLDIV-IPコードレス電話機\",\"\",IF(キー割付!P243=\"\",\"\",キー割付!P243))","v":""},{"$f":"IF(E46=\"ZX-DECLDIV-IPコードレス電話機\",\"\",IF(キー割付!Q243=\"\",\"\",キー割付!Q243))","v":""},{"$f":"IF(E46=\"ZX-DECLDIV-IPコードレス電話機\",\"\",IF(キー割付!R243=\"\",\"\",キー割付!R243))","v":""},{"$f":"IF(E46=\"ZX-DECLDIV-IPコードレス電話機\",\"\",IF(キー割付!S243=\"\",\"\",キー割付!S243))","v":""},{"$f":"IF(E46=\"ZX-DECLDIV-IPコードレス電話機\",\"\",IF(キー割付!N251=\"\",\"\",キー割付!N251))","v":""},{"$f":"IF(E46=\"ZX-DECLDIV-IPコードレス電話機\",\"\",IF(キー割付!O251=\"\",\"\",キー割付!O251))","v":""},{"$f":"IF(E46=\"ZX-DECLDIV-IPコードレス電話機\",\"\",IF(キー割付!P251=\"\",\"\",キー割付!P251))","v":""},{"$f":"IF(E46=\"ZX-DECLDIV-IPコードレス電話機\",\"\",IF(キー割付!Q251=\"\",\"\",キー割付!Q251))","v":""},{"$f":"IF(E46=\"ZX-DECLDIV-IPコードレス電話機\",\"\",IF(キー割付!R251=\"\",\"\",キー割付!R251))","v":""},{"$f":"IF(E46=\"ZX-DECLDIV-IPコードレス電話機\",\"\",IF(キー割付!S251=\"\",\"\",キー割付!S251))","v":""}]
[null,null,null,null,null,{"$f":"IF(キー割付!N228=\"\",\"\",キー割付!N228)","v":""},{"$f":"IF(キー割付!O228=\"\",\"\",キー割付!O228)","v":""},{"$f":"IF(キー割付!P228=\"\",\"\",キー割付!P228)","v":""},{"$f":"IF(キー割付!Q228=\"\",\"\",キー割付!Q228)","v":""},{"$f":"IF(キー割付!R228=\"\",\"\",キー割付!R228)","v":""},{"$f":"IF(キー割付!S228=\"\",\"\",キー割付!S228)","v":""},{"$f":"IF(キー割付!N236=\"\",\"\",キー割付!N236)","v":""},{"$f":"IF(キー割付!O236=\"\",\"\",キー割付!O236)","v":""},{"$f":"IF(E46=\"ZX-DECLDIV-IPコードレス電話機\",\"\",IF(キー割付!P236=\"\",\"\",キー割付!P236))","v":""},{"$f":"IF(E46=\"ZX-DECLDIV-IPコードレス電話機\",\"\",IF(キー割付!Q236=\"\",\"\",キー割付!Q236))","v":""},{"$f":"IF(E46=\"ZX-DECLDIV-IPコードレス電話機\",\"\",IF(キー割付!R236=\"\",\"\",キー割付!R236))","v":""},{"$f":"IF(E46=\"ZX-DECLDIV-IPコードレス電話機\",\"\",IF(キー割付!S236=\"\",\"\",キー割付!S236))","v":""},{"$f":"IF(E46=\"ZX-DECLDIV-IPコードレス電話機\",\"\",IF(キー割付!N244=\"\",\"\",キー割付!N244))","v":""},{"$f":"IF(E46=\"ZX-DECLDIV-IPコードレス電話機\",\"\",IF(キー割付!O244=\"\",\"\",キー割付!O244))","v":""},{"$f":"IF(E46=\"ZX-DECLDIV-IPコードレス電話機\",\"\",IF(キー割付!P244=\"\",\"\",キー割付!P244))","v":""},{"$f":"IF(E46=\"ZX-DECLDIV-IPコードレス電話機\",\"\",IF(キー割付!Q244=\"\",\"\",キー割付!Q244))","v":""},{"$f":"IF(E46=\"ZX-DECLDIV-IPコードレス電話機\",\"\",IF(キー割付!R244=\"\",\"\",キー割付!R244))","v":""},{"$f":"IF(E46=\"ZX-DECLDIV-IPコードレス電話機\",\"\",IF(キー割付!S244=\"\",\"\",キー割付!S244))","v":""},{"$f":"IF(E46=\"ZX-DECLDIV-IPコードレス電話機\",\"\",IF(キー割付!N252=\"\",\"\",キー割付!N252))","v":""},{"$f":"IF(E46=\"ZX-DECLDIV-IPコードレス電話機\",\"\",IF(キー割付!O252=\"\",\"\",キー割付!O252))","v":""},{"$f":"IF(E46=\"ZX-DECLDIV-IPコードレス電話機\",\"\",IF(キー割付!P252=\"\",\"\",キー割付!P252))","v":""},{"$f":"IF(E46=\"ZX-DECLDIV-IPコードレス電話機\",\"\",IF(キー割付!Q252=\"\",\"\",キー割付!Q252))","v":""},{"$f":"IF(E46=\"ZX-DECLDIV-IPコードレス電話機\",\"\",IF(キー割付!R252=\"\",\"\",キー割付!R252))","v":""},{"$f":"IF(E46=\"ZX-DECLDIV-IPコードレス電話機\",\"\",IF(キー割付!S252=\"\",\"\",キー割付!S252))","v":""}]
[null,15,{"$f":"IF(IFERROR(VALUE(VLOOKUP(B49,内線_キー割用,2,FALSE)),\"\")=0,\"\",IFERROR(VALUE(VLOOKUP(B49,内線_キー割用,2,FALSE)),\"\"))","v":""},{"$f":"IF(IFERROR(VALUE(VLOOKUP(B49,内線_キー割用,4,FALSE)),\"\")=0,\"\",IFERROR(VALUE(VLOOKUP(B49,内線_キー割用,4,FALSE)),\"\"))","v":""},{"$f":"IF(IFERROR(VLOOKUP(B49,内線_キー割用,3,FALSE),\"\")=0,\"\",IFERROR(VLOOKUP(B49,内線_キー割用,3,FALSE),\"\"))","v":""},{"$f":"IF(キー割付!D262=\"\",\"\",キー割付!D262)","v":""},{"$f":"IF(キー割付!E262=\"\",\"\",キー割付!E262)","v":""},{"$f":"IF(キー割付!F262=\"\",\"\",キー割付!F262)","v":""},{"$f":"IF(キー割付!G262=\"\",\"\",キー割付!G262)","v":""},{"$f":"IF(キー割付!H262=\"\",\"\",キー割付!H262)","v":""},{"$f":"IF(キー割付!I262=\"\",\"\",キー割付!I262)","v":""},{"$f":"IF(キー割付!D270=\"\",\"\",キー割付!D270)","v":""},{"$f":"IF(キー割付!E270=\"\",\"\",キー割付!E270)","v":""},{"$f":"IF(E49=\"ZX-DECLDIV-IPコードレス電話機\",\"\",IF(キー割付!F270=\"\",\"\",キー割付!F270))","v":""},{"$f":"IF(E49=\"ZX-DECLDIV-IPコードレス電話機\",\"\",IF(キー割付!G270=\"\",\"\",キー割付!G270))","v":""},{"$f":"IF(E49=\"ZX-DECLDIV-IPコードレス電話機\",\"\",IF(キー割付!H270=\"\",\"\",キー割付!H270))","v":""},{"$f":"IF(E49=\"ZX-DECLDIV-IPコードレス電話機\",\"\",IF(キー割付!I270=\"\",\"\",キー割付!I270))","v":""},{"$f":"IF(E49=\"ZX-DECLDIV-IPコードレス電話機\",\"\",IF(キー割付!D278=\"\",\"\",キー割付!D278))","v":""},{"$f":"IF(E49=\"ZX-DECLDIV-IPコードレス電話機\",\"\",IF(キー割付!E278=\"\",\"\",キー割付!E278))","v":""},{"$f":"IF(E49=\"ZX-DECLDIV-IPコードレス電話機\",\"\",IF(キー割付!F278=\"\",\"\",キー割付!F278))","v":""},{"$f":"IF(E49=\"ZX-DECLDIV-IPコードレス電話機\",\"\",IF(キー割付!G278=\"\",\"\",キー割付!G278))","v":""},{"$f":"IF(E49=\"ZX-DECLDIV-IPコードレス電話機\",\"\",IF(キー割付!H278=\"\",\"\",キー割付!H278))","v":""},{"$f":"IF(E49=\"ZX-DECLDIV-IPコードレス電話機\",\"\",IF(キー割付!I278=\"\",\"\",キー割付!I278))","v":""},{"$f":"IF(E49=\"ZX-DECLDIV-IPコードレス電話機\",\"\",IF(キー割付!D286=\"\",\"\",キー割付!D286))","v":""},{"$f":"IF(E49=\"ZX-DECLDIV-IPコードレス電話機\",\"\",IF(キー割付!E286=\"\",\"\",キー割付!E286))","v":""},{"$f":"IF(E49=\"ZX-DECLDIV-IPコードレス電話機\",\"\",IF(キー割付!F286=\"\",\"\",キー割付!F286))","v":""},{"$f":"IF(E49=\"ZX-DECLDIV-IPコードレス電話機\",\"\",IF(キー割付!G286=\"\",\"\",キー割付!G286))","v":""},{"$f":"IF(E49=\"ZX-DECLDIV-IPコードレス電話機\",\"\",IF(キー割付!H286=\"\",\"\",キー割付!H286))","v":""},{"$f":"IF(E49=\"ZX-DECLDIV-IPコードレス電話機\",\"\",IF(キー割付!I286=\"\",\"\",キー割付!I286))","v":""}]
[null,null,null,null,null,{"$f":"IF(キー割付!D263=\"\",\"\",キー割付!D263)","v":""},{"$f":"IF(キー割付!E263=\"\",\"\",キー割付!E263)","v":""},{"$f":"IF(キー割付!F263=\"\",\"\",キー割付!F263)","v":""},{"$f":"IF(キー割付!G263=\"\",\"\",キー割付!G263)","v":""},{"$f":"IF(キー割付!H263=\"\",\"\",キー割付!H263)","v":""},{"$f":"IF(キー割付!I263=\"\",\"\",キー割付!I263)","v":""},{"$f":"IF(キー割付!D271=\"\",\"\",キー割付!D271)","v":""},{"$f":"IF(キー割付!E271=\"\",\"\",キー割付!E271)","v":""},{"$f":"IF(E49=\"ZX-DECLDIV-IPコードレス電話機\",\"\",IF(キー割付!F271=\"\",\"\",キー割付!F271))","v":""},{"$f":"IF(E49=\"ZX-DECLDIV-IPコードレス電話機\",\"\",IF(キー割付!G271=\"\",\"\",キー割付!G271))","v":""},{"$f":"IF(E49=\"ZX-DECLDIV-IPコードレス電話機\",\"\",IF(キー割付!H271=\"\",\"\",キー割付!H271))","v":""},{"$f":"IF(E49=\"ZX-DECLDIV-IPコードレス電話機\",\"\",IF(キー割付!I271=\"\",\"\",キー割付!I271))","v":""},{"$f":"IF(E49=\"ZX-DECLDIV-IPコードレス電話機\",\"\",IF(キー割付!D279=\"\",\"\",キー割付!D279))","v":""},{"$f":"IF(E49=\"ZX-DECLDIV-IPコードレス電話機\",\"\",IF(キー割付!E279=\"\",\"\",キー割付!E279))","v":""},{"$f":"IF(E49=\"ZX-DECLDIV-IPコードレス電話機\",\"\",IF(キー割付!F279=\"\",\"\",キー割付!F279))","v":""},{"$f":"IF(E49=\"ZX-DECLDIV-IPコードレス電話機\",\"\",IF(キー割付!G279=\"\",\"\",キー割付!G279))","v":""},{"$f":"IF(E49=\"ZX-DECLDIV-IPコードレス電話機\",\"\",IF(キー割付!H279=\"\",\"\",キー割付!H279))","v":""},{"$f":"IF(E49=\"ZX-DECLDIV-IPコードレス電話機\",\"\",IF(キー割付!I279=\"\",\"\",キー割付!I279))","v":""},{"$f":"IF(E49=\"ZX-DECLDIV-IPコードレス電話機\",\"\",IF(キー割付!D287=\"\",\"\",キー割付!D287))","v":""},{"$f":"IF(E49=\"ZX-DECLDIV-IPコードレス電話機\",\"\",IF(キー割付!E287=\"\",\"\",キー割付!E287))","v":""},{"$f":"IF(E49=\"ZX-DECLDIV-IPコードレス電話機\",\"\",IF(キー割付!F287=\"\",\"\",キー割付!F287))","v":""},{"$f":"IF(E49=\"ZX-DECLDIV-IPコードレス電話機\",\"\",IF(キー割付!G287=\"\",\"\",キー割付!G287))","v":""},{"$f":"IF(E49=\"ZX-DECLDIV-IPコードレス電話機\",\"\",IF(キー割付!H287=\"\",\"\",キー割付!H287))","v":""},{"$f":"IF(E49=\"ZX-DECLDIV-IPコードレス電話機\",\"\",IF(キー割付!I287=\"\",\"\",キー割付!I287))","v":""}]
[null,null,null,null,null,{"$f":"IF(キー割付!D264=\"\",\"\",キー割付!D264)","v":""},{"$f":"IF(キー割付!E264=\"\",\"\",キー割付!E264)","v":""},{"$f":"IF(キー割付!F264=\"\",\"\",キー割付!F264)","v":""},{"$f":"IF(キー割付!G264=\"\",\"\",キー割付!G264)","v":""},{"$f":"IF(キー割付!H264=\"\",\"\",キー割付!H264)","v":""},{"$f":"IF(キー割付!I264=\"\",\"\",キー割付!I264)","v":""},{"$f":"IF(キー割付!D272=\"\",\"\",キー割付!D272)","v":""},{"$f":"IF(キー割付!E272=\"\",\"\",キー割付!E272)","v":""},{"$f":"IF(E49=\"ZX-DECLDIV-IPコードレス電話機\",\"\",IF(キー割付!F272=\"\",\"\",キー割付!F272))","v":""},{"$f":"IF(E49=\"ZX-DECLDIV-IPコードレス電話機\",\"\",IF(キー割付!G272=\"\",\"\",キー割付!G272))","v":""},{"$f":"IF(E49=\"ZX-DECLDIV-IPコードレス電話機\",\"\",IF(キー割付!H272=\"\",\"\",キー割付!H272))","v":""},{"$f":"IF(E49=\"ZX-DECLDIV-IPコードレス電話機\",\"\",IF(キー割付!I272=\"\",\"\",キー割付!I272))","v":""},{"$f":"IF(E49=\"ZX-DECLDIV-IPコードレス電話機\",\"\",IF(キー割付!D280=\"\",\"\",キー割付!D280))","v":""},{"$f":"IF(E49=\"ZX-DECLDIV-IPコードレス電話機\",\"\",IF(キー割付!E280=\"\",\"\",キー割付!E280))","v":""},{"$f":"IF(E49=\"ZX-DECLDIV-IPコードレス電話機\",\"\",IF(キー割付!F280=\"\",\"\",キー割付!F280))","v":""},{"$f":"IF(E49=\"ZX-DECLDIV-IPコードレス電話機\",\"\",IF(キー割付!G280=\"\",\"\",キー割付!G280))","v":""},{"$f":"IF(E49=\"ZX-DECLDIV-IPコードレス電話機\",\"\",IF(キー割付!H280=\"\",\"\",キー割付!H280))","v":""},{"$f":"IF(E49=\"ZX-DECLDIV-IPコードレス電話機\",\"\",IF(キー割付!I280=\"\",\"\",キー割付!I280))","v":""},{"$f":"IF(E49=\"ZX-DECLDIV-IPコードレス電話機\",\"\",IF(キー割付!D288=\"\",\"\",キー割付!D288))","v":""},{"$f":"IF(E49=\"ZX-DECLDIV-IPコードレス電話機\",\"\",IF(キー割付!E288=\"\",\"\",キー割付!E288))","v":""},{"$f":"IF(E49=\"ZX-DECLDIV-IPコードレス電話機\",\"\",IF(キー割付!F288=\"\",\"\",キー割付!F288))","v":""},{"$f":"IF(E49=\"ZX-DECLDIV-IPコードレス電話機\",\"\",IF(キー割付!G288=\"\",\"\",キー割付!G288))","v":""},{"$f":"IF(E49=\"ZX-DECLDIV-IPコードレス電話機\",\"\",IF(キー割付!H288=\"\",\"\",キー割付!H288))","v":""},{"$f":"IF(E49=\"ZX-DECLDIV-IPコードレス電話機\",\"\",IF(キー割付!I288=\"\",\"\",キー割付!I288))","v":""}]
[null,16,{"$f":"IF(IFERROR(VALUE(VLOOKUP(B52,内線_キー割用,2,FALSE)),\"\")=0,\"\",IFERROR(VALUE(VLOOKUP(B52,内線_キー割用,2,FALSE)),\"\"))","v":""},{"$f":"IF(IFERROR(VALUE(VLOOKUP(B52,内線_キー割用,4,FALSE)),\"\")=0,\"\",IFERROR(VALUE(VLOOKUP(B52,内線_キー割用,4,FALSE)),\"\"))","v":""},{"$f":"IF(IFERROR(VLOOKUP(B52,内線_キー割用,3,FALSE),\"\")=0,\"\",IFERROR(VLOOKUP(B52,内線_キー割用,3,FALSE),\"\"))","v":""},{"$f":"IF(キー割付!N262=\"\",\"\",キー割付!N262)","v":""},{"$f":"IF(キー割付!O262=\"\",\"\",キー割付!O262)","v":""},{"$f":"IF(キー割付!P262=\"\",\"\",キー割付!P262)","v":""},{"$f":"IF(キー割付!Q262=\"\",\"\",キー割付!Q262)","v":""},{"$f":"IF(キー割付!R262=\"\",\"\",キー割付!R262)","v":""},{"$f":"IF(キー割付!S262=\"\",\"\",キー割付!S262)","v":""},{"$f":"IF(キー割付!N270=\"\",\"\",キー割付!N270)","v":""},{"$f":"IF(キー割付!O270=\"\",\"\",キー割付!O270)","v":""},{"$f":"IF(E52=\"ZX-DECLDIV-IPコードレス電話機\",\"\",IF(キー割付!P270=\"\",\"\",キー割付!P270))","v":""},{"$f":"IF(E52=\"ZX-DECLDIV-IPコードレス電話機\",\"\",IF(キー割付!Q270=\"\",\"\",キー割付!Q270))","v":""},{"$f":"IF(E52=\"ZX-DECLDIV-IPコードレス電話機\",\"\",IF(キー割付!R270=\"\",\"\",キー割付!R270))","v":""},{"$f":"IF(E52=\"ZX-DECLDIV-IPコードレス電話機\",\"\",IF(キー割付!S270=\"\",\"\",キー割付!S270))","v":""},{"$f":"IF(E52=\"ZX-DECLDIV-IPコードレス電話機\",\"\",IF(キー割付!N278=\"\",\"\",キー割付!N278))","v":""},{"$f":"IF(E52=\"ZX-DECLDIV-IPコードレス電話機\",\"\",IF(キー割付!O278=\"\",\"\",キー割付!O278))","v":""},{"$f":"IF(E52=\"ZX-DECLDIV-IPコードレス電話機\",\"\",IF(キー割付!P278=\"\",\"\",キー割付!P278))","v":""},{"$f":"IF(E52=\"ZX-DECLDIV-IPコードレス電話機\",\"\",IF(キー割付!Q278=\"\",\"\",キー割付!Q278))","v":""},{"$f":"IF(E52=\"ZX-DECLDIV-IPコードレス電話機\",\"\",IF(キー割付!R278=\"\",\"\",キー割付!R278))","v":""},{"$f":"IF(E52=\"ZX-DECLDIV-IPコードレス電話機\",\"\",IF(キー割付!S278=\"\",\"\",キー割付!S278))","v":""},{"$f":"IF(E52=\"ZX-DECLDIV-IPコードレス電話機\",\"\",IF(キー割付!N286=\"\",\"\",キー割付!N286))","v":""},{"$f":"IF(E52=\"ZX-DECLDIV-IPコードレス電話機\",\"\",IF(キー割付!O286=\"\",\"\",キー割付!O286))","v":""},{"$f":"IF(E52=\"ZX-DECLDIV-IPコードレス電話機\",\"\",IF(キー割付!P286=\"\",\"\",キー割付!P286))","v":""},{"$f":"IF(E52=\"ZX-DECLDIV-IPコードレス電話機\",\"\",IF(キー割付!Q286=\"\",\"\",キー割付!Q286))","v":""},{"$f":"IF(E52=\"ZX-DECLDIV-IPコードレス電話機\",\"\",IF(キー割付!R286=\"\",\"\",キー割付!R286))","v":""},{"$f":"IF(E52=\"ZX-DECLDIV-IPコードレス電話機\",\"\",IF(キー割付!S286=\"\",\"\",キー割付!S286))","v":""}]
[null,null,null,null,null,{"$f":"IF(キー割付!N263=\"\",\"\",キー割付!N263)","v":""},{"$f":"IF(キー割付!O263=\"\",\"\",キー割付!O263)","v":""},{"$f":"IF(キー割付!P263=\"\",\"\",キー割付!P263)","v":""},{"$f":"IF(キー割付!Q263=\"\",\"\",キー割付!Q263)","v":""},{"$f":"IF(キー割付!R263=\"\",\"\",キー割付!R263)","v":""},{"$f":"IF(キー割付!S263=\"\",\"\",キー割付!S263)","v":""},{"$f":"IF(キー割付!N271=\"\",\"\",キー割付!N271)","v":""},{"$f":"IF(キー割付!O271=\"\",\"\",キー割付!O271)","v":""},{"$f":"IF(E52=\"ZX-DECLDIV-IPコードレス電話機\",\"\",IF(キー割付!P271=\"\",\"\",キー割付!P271))","v":""},{"$f":"IF(E52=\"ZX-DECLDIV-IPコードレス電話機\",\"\",IF(キー割付!Q271=\"\",\"\",キー割付!Q271))","v":""},{"$f":"IF(E52=\"ZX-DECLDIV-IPコードレス電話機\",\"\",IF(キー割付!R271=\"\",\"\",キー割付!R271))","v":""},{"$f":"IF(E52=\"ZX-DECLDIV-IPコードレス電話機\",\"\",IF(キー割付!S271=\"\",\"\",キー割付!S271))","v":""},{"$f":"IF(E52=\"ZX-DECLDIV-IPコードレス電話機\",\"\",IF(キー割付!N279=\"\",\"\",キー割付!N279))","v":""},{"$f":"IF(E52=\"ZX-DECLDIV-IPコードレス電話機\",\"\",IF(キー割付!O279=\"\",\"\",キー割付!O279))","v":""},{"$f":"IF(E52=\"ZX-DECLDIV-IPコードレス電話機\",\"\",IF(キー割付!P279=\"\",\"\",キー割付!P279))","v":""},{"$f":"IF(E52=\"ZX-DECLDIV-IPコードレス電話機\",\"\",IF(キー割付!Q279=\"\",\"\",キー割付!Q279))","v":""},{"$f":"IF(E52=\"ZX-DECLDIV-IPコードレス電話機\",\"\",IF(キー割付!R279=\"\",\"\",キー割付!R279))","v":""},{"$f":"IF(E52=\"ZX-DECLDIV-IPコードレス電話機\",\"\",IF(キー割付!S279=\"\",\"\",キー割付!S279))","v":""},{"$f":"IF(E52=\"ZX-DECLDIV-IPコードレス電話機\",\"\",IF(キー割付!N287=\"\",\"\",キー割付!N287))","v":""},{"$f":"IF(E52=\"ZX-DECLDIV-IPコードレス電話機\",\"\",IF(キー割付!O287=\"\",\"\",キー割付!O287))","v":""},{"$f":"IF(E52=\"ZX-DECLDIV-IPコードレス電話機\",\"\",IF(キー割付!P287=\"\",\"\",キー割付!P287))","v":""},{"$f":"IF(E52=\"ZX-DECLDIV-IPコードレス電話機\",\"\",IF(キー割付!Q287=\"\",\"\",キー割付!Q287))","v":""},{"$f":"IF(E52=\"ZX-DECLDIV-IPコードレス電話機\",\"\",IF(キー割付!R287=\"\",\"\",キー割付!R287))","v":""},{"$f":"IF(E52=\"ZX-DECLDIV-IPコードレス電話機\",\"\",IF(キー割付!S287=\"\",\"\",キー割付!S287))","v":""}]
[null,null,null,null,null,{"$f":"IF(キー割付!N264=\"\",\"\",キー割付!N264)","v":""},{"$f":"IF(キー割付!O264=\"\",\"\",キー割付!O264)","v":""},{"$f":"IF(キー割付!P264=\"\",\"\",キー割付!P264)","v":""},{"$f":"IF(キー割付!Q264=\"\",\"\",キー割付!Q264)","v":""},{"$f":"IF(キー割付!R264=\"\",\"\",キー割付!R264)","v":""},{"$f":"IF(キー割付!S264=\"\",\"\",キー割付!S264)","v":""},{"$f":"IF(キー割付!N272=\"\",\"\",キー割付!N272)","v":""},{"$f":"IF(キー割付!O272=\"\",\"\",キー割付!O272)","v":""},{"$f":"IF(E52=\"ZX-DECLDIV-IPコードレス電話機\",\"\",IF(キー割付!P272=\"\",\"\",キー割付!P272))","v":""},{"$f":"IF(E52=\"ZX-DECLDIV-IPコードレス電話機\",\"\",IF(キー割付!Q272=\"\",\"\",キー割付!Q272))","v":""},{"$f":"IF(E52=\"ZX-DECLDIV-IPコードレス電話機\",\"\",IF(キー割付!R272=\"\",\"\",キー割付!R272))","v":""},{"$f":"IF(E52=\"ZX-DECLDIV-IPコードレス電話機\",\"\",IF(キー割付!S272=\"\",\"\",キー割付!S272))","v":""},{"$f":"IF(E52=\"ZX-DECLDIV-IPコードレス電話機\",\"\",IF(キー割付!N280=\"\",\"\",キー割付!N280))","v":""},{"$f":"IF(E52=\"ZX-DECLDIV-IPコードレス電話機\",\"\",IF(キー割付!O280=\"\",\"\",キー割付!O280))","v":""},{"$f":"IF(E52=\"ZX-DECLDIV-IPコードレス電話機\",\"\",IF(キー割付!P280=\"\",\"\",キー割付!P280))","v":""},{"$f":"IF(E52=\"ZX-DECLDIV-IPコードレス電話機\",\"\",IF(キー割付!Q280=\"\",\"\",キー割付!Q280))","v":""},{"$f":"IF(E52=\"ZX-DECLDIV-IPコードレス電話機\",\"\",IF(キー割付!R280=\"\",\"\",キー割付!R280))","v":""},{"$f":"IF(E52=\"ZX-DECLDIV-IPコードレス電話機\",\"\",IF(キー割付!S280=\"\",\"\",キー割付!S280))","v":""},{"$f":"IF(E52=\"ZX-DECLDIV-IPコードレス電話機\",\"\",IF(キー割付!N288=\"\",\"\",キー割付!N288))","v":""},{"$f":"IF(E52=\"ZX-DECLDIV-IPコードレス電話機\",\"\",IF(キー割付!O288=\"\",\"\",キー割付!O288))","v":""},{"$f":"IF(E52=\"ZX-DECLDIV-IPコードレス電話機\",\"\",IF(キー割付!P288=\"\",\"\",キー割付!P288))","v":""},{"$f":"IF(E52=\"ZX-DECLDIV-IPコードレス電話機\",\"\",IF(キー割付!Q288=\"\",\"\",キー割付!Q288))","v":""},{"$f":"IF(E52=\"ZX-DECLDIV-IPコードレス電話機\",\"\",IF(キー割付!R288=\"\",\"\",キー割付!R288))","v":""},{"$f":"IF(E52=\"ZX-DECLDIV-IPコードレス電話機\",\"\",IF(キー割付!S288=\"\",\"\",キー割付!S288))","v":""}]
[null,17,{"$f":"IF(IFERROR(VALUE(VLOOKUP(B55,内線_キー割用,2,FALSE)),\"\")=0,\"\",IFERROR(VALUE(VLOOKUP(B55,内線_キー割用,2,FALSE)),\"\"))","v":""},{"$f":"IF(IFERROR(VALUE(VLOOKUP(B55,内線_キー割用,4,FALSE)),\"\")=0,\"\",IFERROR(VALUE(VLOOKUP(B55,内線_キー割用,4,FALSE)),\"\"))","v":""},{"$f":"IF(IFERROR(VLOOKUP(B55,内線_キー割用,3,FALSE),\"\")=0,\"\",IFERROR(VLOOKUP(B55,内線_キー割用,3,FALSE),\"\"))","v":""},{"$f":"IF(キー割付!D298=\"\",\"\",キー割付!D298)","v":""},{"$f":"IF(キー割付!E298=\"\",\"\",キー割付!E298)","v":""},{"$f":"IF(キー割付!F298=\"\",\"\",キー割付!F298)","v":""},{"$f":"IF(キー割付!G298=\"\",\"\",キー割付!G298)","v":""},{"$f":"IF(キー割付!H298=\"\",\"\",キー割付!H298)","v":""},{"$f":"IF(キー割付!I298=\"\",\"\",キー割付!I298)","v":""},{"$f":"IF(キー割付!D306=\"\",\"\",キー割付!D306)","v":""},{"$f":"IF(キー割付!E306=\"\",\"\",キー割付!E306)","v":""},{"$f":"IF(E55=\"ZX-DECLDIV-IPコードレス電話機\",\"\",IF(キー割付!F306=\"\",\"\",キー割付!F306))","v":""},{"$f":"IF(E55=\"ZX-DECLDIV-IPコードレス電話機\",\"\",IF(キー割付!G306=\"\",\"\",キー割付!G306))","v":""},{"$f":"IF(E55=\"ZX-DECLDIV-IPコードレス電話機\",\"\",IF(キー割付!H306=\"\",\"\",キー割付!H306))","v":""},{"$f":"IF(E55=\"ZX-DECLDIV-IPコードレス電話機\",\"\",IF(キー割付!I306=\"\",\"\",キー割付!I306))","v":""},{"$f":"IF(E55=\"ZX-DECLDIV-IPコードレス電話機\",\"\",IF(キー割付!D314=\"\",\"\",キー割付!D314))","v":""},{"$f":"IF(E55=\"ZX-DECLDIV-IPコードレス電話機\",\"\",IF(キー割付!E314=\"\",\"\",キー割付!E314))","v":""},{"$f":"IF(E55=\"ZX-DECLDIV-IPコードレス電話機\",\"\",IF(キー割付!F314=\"\",\"\",キー割付!F314))","v":""},{"$f":"IF(E55=\"ZX-DECLDIV-IPコードレス電話機\",\"\",IF(キー割付!G314=\"\",\"\",キー割付!G314))","v":""},{"$f":"IF(E55=\"ZX-DECLDIV-IPコードレス電話機\",\"\",IF(キー割付!H314=\"\",\"\",キー割付!H314))","v":""},{"$f":"IF(E55=\"ZX-DECLDIV-IPコードレス電話機\",\"\",IF(キー割付!I314=\"\",\"\",キー割付!I314))","v":""},{"$f":"IF(E55=\"ZX-DECLDIV-IPコードレス電話機\",\"\",IF(キー割付!D322=\"\",\"\",キー割付!D322))","v":""},{"$f":"IF(E55=\"ZX-DECLDIV-IPコードレス電話機\",\"\",IF(キー割付!E322=\"\",\"\",キー割付!E322))","v":""},{"$f":"IF(E55=\"ZX-DECLDIV-IPコードレス電話機\",\"\",IF(キー割付!F322=\"\",\"\",キー割付!F322))","v":""},{"$f":"IF(E55=\"ZX-DECLDIV-IPコードレス電話機\",\"\",IF(キー割付!G322=\"\",\"\",キー割付!G322))","v":""},{"$f":"IF(E55=\"ZX-DECLDIV-IPコードレス電話機\",\"\",IF(キー割付!H322=\"\",\"\",キー割付!H322))","v":""},{"$f":"IF(E55=\"ZX-DECLDIV-IPコードレス電話機\",\"\",IF(キー割付!I322=\"\",\"\",キー割付!I322))","v":""}]
[null,null,null,null,null,{"$f":"IF(キー割付!D299=\"\",\"\",キー割付!D299)","v":""},{"$f":"IF(キー割付!E299=\"\",\"\",キー割付!E299)","v":""},{"$f":"IF(キー割付!F299=\"\",\"\",キー割付!F299)","v":""},{"$f":"IF(キー割付!G299=\"\",\"\",キー割付!G299)","v":""},{"$f":"IF(キー割付!H299=\"\",\"\",キー割付!H299)","v":""},{"$f":"IF(キー割付!I299=\"\",\"\",キー割付!I299)","v":""},{"$f":"IF(キー割付!D307=\"\",\"\",キー割付!D307)","v":""},{"$f":"IF(キー割付!E307=\"\",\"\",キー割付!E307)","v":""},{"$f":"IF(E55=\"ZX-DECLDIV-IPコードレス電話機\",\"\",IF(キー割付!F307=\"\",\"\",キー割付!F307))","v":""},{"$f":"IF(E55=\"ZX-DECLDIV-IPコードレス電話機\",\"\",IF(キー割付!G307=\"\",\"\",キー割付!G307))","v":""},{"$f":"IF(E55=\"ZX-DECLDIV-IPコードレス電話機\",\"\",IF(キー割付!H307=\"\",\"\",キー割付!H307))","v":""},{"$f":"IF(E55=\"ZX-DECLDIV-IPコードレス電話機\",\"\",IF(キー割付!I307=\"\",\"\",キー割付!I307))","v":""},{"$f":"IF(E55=\"ZX-DECLDIV-IPコードレス電話機\",\"\",IF(キー割付!D315=\"\",\"\",キー割付!D315))","v":""},{"$f":"IF(E55=\"ZX-DECLDIV-IPコードレス電話機\",\"\",IF(キー割付!E315=\"\",\"\",キー割付!E315))","v":""},{"$f":"IF(E55=\"ZX-DECLDIV-IPコードレス電話機\",\"\",IF(キー割付!F315=\"\",\"\",キー割付!F315))","v":""},{"$f":"IF(E55=\"ZX-DECLDIV-IPコードレス電話機\",\"\",IF(キー割付!G315=\"\",\"\",キー割付!G315))","v":""},{"$f":"IF(E55=\"ZX-DECLDIV-IPコードレス電話機\",\"\",IF(キー割付!H315=\"\",\"\",キー割付!H315))","v":""},{"$f":"IF(E55=\"ZX-DECLDIV-IPコードレス電話機\",\"\",IF(キー割付!I315=\"\",\"\",キー割付!I315))","v":""},{"$f":"IF(E55=\"ZX-DECLDIV-IPコードレス電話機\",\"\",IF(キー割付!D323=\"\",\"\",キー割付!D323))","v":""},{"$f":"IF(E55=\"ZX-DECLDIV-IPコードレス電話機\",\"\",IF(キー割付!E323=\"\",\"\",キー割付!E323))","v":""},{"$f":"IF(E55=\"ZX-DECLDIV-IPコードレス電話機\",\"\",IF(キー割付!F323=\"\",\"\",キー割付!F323))","v":""},{"$f":"IF(E55=\"ZX-DECLDIV-IPコードレス電話機\",\"\",IF(キー割付!G323=\"\",\"\",キー割付!G323))","v":""},{"$f":"IF(E55=\"ZX-DECLDIV-IPコードレス電話機\",\"\",IF(キー割付!H323=\"\",\"\",キー割付!H323))","v":""},{"$f":"IF(E55=\"ZX-DECLDIV-IPコードレス電話機\",\"\",IF(キー割付!I323=\"\",\"\",キー割付!I323))","v":""}]
[null,null,null,null,null,{"$f":"IF(キー割付!D300=\"\",\"\",キー割付!D300)","v":""},{"$f":"IF(キー割付!E300=\"\",\"\",キー割付!E300)","v":""},{"$f":"IF(キー割付!F300=\"\",\"\",キー割付!F300)","v":""},{"$f":"IF(キー割付!G300=\"\",\"\",キー割付!G300)","v":""},{"$f":"IF(キー割付!H300=\"\",\"\",キー割付!H300)","v":""},{"$f":"IF(キー割付!I300=\"\",\"\",キー割付!I300)","v":""},{"$f":"IF(キー割付!D308=\"\",\"\",キー割付!D308)","v":""},{"$f":"IF(キー割付!E308=\"\",\"\",キー割付!E308)","v":""},{"$f":"IF(E55=\"ZX-DECLDIV-IPコードレス電話機\",\"\",IF(キー割付!F308=\"\",\"\",キー割付!F308))","v":""},{"$f":"IF(E55=\"ZX-DECLDIV-IPコードレス電話機\",\"\",IF(キー割付!G308=\"\",\"\",キー割付!G308))","v":""},{"$f":"IF(E55=\"ZX-DECLDIV-IPコードレス電話機\",\"\",IF(キー割付!H308=\"\",\"\",キー割付!H308))","v":""},{"$f":"IF(E55=\"ZX-DECLDIV-IPコードレス電話機\",\"\",IF(キー割付!I308=\"\",\"\",キー割付!I308))","v":""},{"$f":"IF(E55=\"ZX-DECLDIV-IPコードレス電話機\",\"\",IF(キー割付!D316=\"\",\"\",キー割付!D316))","v":""},{"$f":"IF(E55=\"ZX-DECLDIV-IPコードレス電話機\",\"\",IF(キー割付!E316=\"\",\"\",キー割付!E316))","v":""},{"$f":"IF(E55=\"ZX-DECLDIV-IPコードレス電話機\",\"\",IF(キー割付!F316=\"\",\"\",キー割付!F316))","v":""},{"$f":"IF(E55=\"ZX-DECLDIV-IPコードレス電話機\",\"\",IF(キー割付!G316=\"\",\"\",キー割付!G316))","v":""},{"$f":"IF(E55=\"ZX-DECLDIV-IPコードレス電話機\",\"\",IF(キー割付!H316=\"\",\"\",キー割付!H316))","v":""},{"$f":"IF(E55=\"ZX-DECLDIV-IPコードレス電話機\",\"\",IF(キー割付!I316=\"\",\"\",キー割付!I316))","v":""},{"$f":"IF(E55=\"ZX-DECLDIV-IPコードレス電話機\",\"\",IF(キー割付!D324=\"\",\"\",キー割付!D324))","v":""},{"$f":"IF(E55=\"ZX-DECLDIV-IPコードレス電話機\",\"\",IF(キー割付!E324=\"\",\"\",キー割付!E324))","v":""},{"$f":"IF(E55=\"ZX-DECLDIV-IPコードレス電話機\",\"\",IF(キー割付!F324=\"\",\"\",キー割付!F324))","v":""},{"$f":"IF(E55=\"ZX-DECLDIV-IPコードレス電話機\",\"\",IF(キー割付!G324=\"\",\"\",キー割付!G324))","v":""},{"$f":"IF(E55=\"ZX-DECLDIV-IPコードレス電話機\",\"\",IF(キー割付!H324=\"\",\"\",キー割付!H324))","v":""},{"$f":"IF(E55=\"ZX-DECLDIV-IPコードレス電話機\",\"\",IF(キー割付!I324=\"\",\"\",キー割付!I324))","v":""}]
[null,18,{"$f":"IF(IFERROR(VALUE(VLOOKUP(B58,内線_キー割用,2,FALSE)),\"\")=0,\"\",IFERROR(VALUE(VLOOKUP(B58,内線_キー割用,2,FALSE)),\"\"))","v":""},{"$f":"IF(IFERROR(VALUE(VLOOKUP(B58,内線_キー割用,4,FALSE)),\"\")=0,\"\",IFERROR(VALUE(VLOOKUP(B58,内線_キー割用,4,FALSE)),\"\"))","v":""},{"$f":"IF(IFERROR(VLOOKUP(B58,内線_キー割用,3,FALSE),\"\")=0,\"\",IFERROR(VLOOKUP(B58,内線_キー割用,3,FALSE),\"\"))","v":""},{"$f":"IF(キー割付!N298=\"\",\"\",キー割付!N298)","v":""},{"$f":"IF(キー割付!O298=\"\",\"\",キー割付!O298)","v":""},{"$f":"IF(キー割付!P298=\"\",\"\",キー割付!P298)","v":""},{"$f":"IF(キー割付!Q298=\"\",\"\",キー割付!Q298)","v":""},{"$f":"IF(キー割付!R298=\"\",\"\",キー割付!R298)","v":""},{"$f":"IF(キー割付!S298=\"\",\"\",キー割付!S298)","v":""},{"$f":"IF(キー割付!N306=\"\",\"\",キー割付!N306)","v":""},{"$f":"IF(キー割付!O306=\"\",\"\",キー割付!O306)","v":""},{"$f":"IF(E58=\"ZX-DECLDIV-IPコードレス電話機\",\"\",IF(キー割付!P306=\"\",\"\",キー割付!P306))","v":""},{"$f":"IF(E58=\"ZX-DECLDIV-IPコードレス電話機\",\"\",IF(キー割付!Q306=\"\",\"\",キー割付!Q306))","v":""},{"$f":"IF(E58=\"ZX-DECLDIV-IPコードレス電話機\",\"\",IF(キー割付!R306=\"\",\"\",キー割付!R306))","v":""},{"$f":"IF(E58=\"ZX-DECLDIV-IPコードレス電話機\",\"\",IF(キー割付!S306=\"\",\"\",キー割付!S306))","v":""},{"$f":"IF(E58=\"ZX-DECLDIV-IPコードレス電話機\",\"\",IF(キー割付!N314=\"\",\"\",キー割付!N314))","v":""},{"$f":"IF(E58=\"ZX-DECLDIV-IPコードレス電話機\",\"\",IF(キー割付!O314=\"\",\"\",キー割付!O314))","v":""},{"$f":"IF(E58=\"ZX-DECLDIV-IPコードレス電話機\",\"\",IF(キー割付!P314=\"\",\"\",キー割付!P314))","v":""},{"$f":"IF(E58=\"ZX-DECLDIV-IPコードレス電話機\",\"\",IF(キー割付!Q314=\"\",\"\",キー割付!Q314))","v":""},{"$f":"IF(E58=\"ZX-DECLDIV-IPコードレス電話機\",\"\",IF(キー割付!R314=\"\",\"\",キー割付!R314))","v":""},{"$f":"IF(E58=\"ZX-DECLDIV-IPコードレス電話機\",\"\",IF(キー割付!S314=\"\",\"\",キー割付!S314))","v":""},{"$f":"IF(E58=\"ZX-DECLDIV-IPコードレス電話機\",\"\",IF(キー割付!N322=\"\",\"\",キー割付!N322))","v":""},{"$f":"IF(E58=\"ZX-DECLDIV-IPコードレス電話機\",\"\",IF(キー割付!O322=\"\",\"\",キー割付!O322))","v":""},{"$f":"IF(E58=\"ZX-DECLDIV-IPコードレス電話機\",\"\",IF(キー割付!P322=\"\",\"\",キー割付!P322))","v":""},{"$f":"IF(E58=\"ZX-DECLDIV-IPコードレス電話機\",\"\",IF(キー割付!Q322=\"\",\"\",キー割付!Q322))","v":""},{"$f":"IF(E58=\"ZX-DECLDIV-IPコードレス電話機\",\"\",IF(キー割付!R322=\"\",\"\",キー割付!R322))","v":""},{"$f":"IF(E58=\"ZX-DECLDIV-IPコードレス電話機\",\"\",IF(キー割付!S322=\"\",\"\",キー割付!S322))","v":""}]
[null,null,null,null,null,{"$f":"IF(キー割付!N299=\"\",\"\",キー割付!N299)","v":""},{"$f":"IF(キー割付!O299=\"\",\"\",キー割付!O299)","v":""},{"$f":"IF(キー割付!P299=\"\",\"\",キー割付!P299)","v":""},{"$f":"IF(キー割付!Q299=\"\",\"\",キー割付!Q299)","v":""},{"$f":"IF(キー割付!R299=\"\",\"\",キー割付!R299)","v":""},{"$f":"IF(キー割付!S299=\"\",\"\",キー割付!S299)","v":""},{"$f":"IF(キー割付!N307=\"\",\"\",キー割付!N307)","v":""},{"$f":"IF(キー割付!O307=\"\",\"\",キー割付!O307)","v":""},{"$f":"IF(E58=\"ZX-DECLDIV-IPコードレス電話機\",\"\",IF(キー割付!P307=\"\",\"\",キー割付!P307))","v":""},{"$f":"IF(E58=\"ZX-DECLDIV-IPコードレス電話機\",\"\",IF(キー割付!Q307=\"\",\"\",キー割付!Q307))","v":""},{"$f":"IF(E58=\"ZX-DECLDIV-IPコードレス電話機\",\"\",IF(キー割付!R307=\"\",\"\",キー割付!R307))","v":""},{"$f":"IF(E58=\"ZX-DECLDIV-IPコードレス電話機\",\"\",IF(キー割付!S307=\"\",\"\",キー割付!S307))","v":""},{"$f":"IF(E58=\"ZX-DECLDIV-IPコードレス電話機\",\"\",IF(キー割付!N315=\"\",\"\",キー割付!N315))","v":""},{"$f":"IF(E58=\"ZX-DECLDIV-IPコードレス電話機\",\"\",IF(キー割付!O315=\"\",\"\",キー割付!O315))","v":""},{"$f":"IF(E58=\"ZX-DECLDIV-IPコードレス電話機\",\"\",IF(キー割付!P315=\"\",\"\",キー割付!P315))","v":""},{"$f":"IF(E58=\"ZX-DECLDIV-IPコードレス電話機\",\"\",IF(キー割付!Q315=\"\",\"\",キー割付!Q315))","v":""},{"$f":"IF(E58=\"ZX-DECLDIV-IPコードレス電話機\",\"\",IF(キー割付!R315=\"\",\"\",キー割付!R315))","v":""},{"$f":"IF(E58=\"ZX-DECLDIV-IPコードレス電話機\",\"\",IF(キー割付!S315=\"\",\"\",キー割付!S315))","v":""},{"$f":"IF(E58=\"ZX-DECLDIV-IPコードレス電話機\",\"\",IF(キー割付!N323=\"\",\"\",キー割付!N323))","v":""},{"$f":"IF(E58=\"ZX-DECLDIV-IPコードレス電話機\",\"\",IF(キー割付!O323=\"\",\"\",キー割付!O323))","v":""},{"$f":"IF(E58=\"ZX-DECLDIV-IPコードレス電話機\",\"\",IF(キー割付!P323=\"\",\"\",キー割付!P323))","v":""},{"$f":"IF(E58=\"ZX-DECLDIV-IPコードレス電話機\",\"\",IF(キー割付!Q323=\"\",\"\",キー割付!Q323))","v":""},{"$f":"IF(E58=\"ZX-DECLDIV-IPコードレス電話機\",\"\",IF(キー割付!R323=\"\",\"\",キー割付!R323))","v":""},{"$f":"IF(E58=\"ZX-DECLDIV-IPコードレス電話機\",\"\",IF(キー割付!S323=\"\",\"\",キー割付!S323))","v":""}]
[null,null,null,null,null,{"$f":"IF(キー割付!N300=\"\",\"\",キー割付!N300)","v":""},{"$f":"IF(キー割付!O300=\"\",\"\",キー割付!O300)","v":""},{"$f":"IF(キー割付!P300=\"\",\"\",キー割付!P300)","v":""},{"$f":"IF(キー割付!Q300=\"\",\"\",キー割付!Q300)","v":""},{"$f":"IF(キー割付!R300=\"\",\"\",キー割付!R300)","v":""},{"$f":"IF(キー割付!S300=\"\",\"\",キー割付!S300)","v":""},{"$f":"IF(キー割付!N308=\"\",\"\",キー割付!N308)","v":""},{"$f":"IF(キー割付!O308=\"\",\"\",キー割付!O308)","v":""},{"$f":"IF(E58=\"ZX-DECLDIV-IPコードレス電話機\",\"\",IF(キー割付!P308=\"\",\"\",キー割付!P308))","v":""},{"$f":"IF(E58=\"ZX-DECLDIV-IPコードレス電話機\",\"\",IF(キー割付!Q308=\"\",\"\",キー割付!Q308))","v":""},{"$f":"IF(E58=\"ZX-DECLDIV-IPコードレス電話機\",\"\",IF(キー割付!R308=\"\",\"\",キー割付!R308))","v":""},{"$f":"IF(E58=\"ZX-DECLDIV-IPコードレス電話機\",\"\",IF(キー割付!S308=\"\",\"\",キー割付!S308))","v":""},{"$f":"IF(E58=\"ZX-DECLDIV-IPコードレス電話機\",\"\",IF(キー割付!N316=\"\",\"\",キー割付!N316))","v":""},{"$f":"IF(E58=\"ZX-DECLDIV-IPコードレス電話機\",\"\",IF(キー割付!O316=\"\",\"\",キー割付!O316))","v":""},{"$f":"IF(E58=\"ZX-DECLDIV-IPコードレス電話機\",\"\",IF(キー割付!P316=\"\",\"\",キー割付!P316))","v":""},{"$f":"IF(E58=\"ZX-DECLDIV-IPコードレス電話機\",\"\",IF(キー割付!Q316=\"\",\"\",キー割付!Q316))","v":""},{"$f":"IF(E58=\"ZX-DECLDIV-IPコードレス電話機\",\"\",IF(キー割付!R316=\"\",\"\",キー割付!R316))","v":""},{"$f":"IF(E58=\"ZX-DECLDIV-IPコードレス電話機\",\"\",IF(キー割付!S316=\"\",\"\",キー割付!S316))","v":""},{"$f":"IF(E58=\"ZX-DECLDIV-IPコードレス電話機\",\"\",IF(キー割付!N324=\"\",\"\",キー割付!N324))","v":""},{"$f":"IF(E58=\"ZX-DECLDIV-IPコードレス電話機\",\"\",IF(キー割付!O324=\"\",\"\",キー割付!O324))","v":""},{"$f":"IF(E58=\"ZX-DECLDIV-IPコードレス電話機\",\"\",IF(キー割付!P324=\"\",\"\",キー割付!P324))","v":""},{"$f":"IF(E58=\"ZX-DECLDIV-IPコードレス電話機\",\"\",IF(キー割付!Q324=\"\",\"\",キー割付!Q324))","v":""},{"$f":"IF(E58=\"ZX-DECLDIV-IPコードレス電話機\",\"\",IF(キー割付!R324=\"\",\"\",キー割付!R324))","v":""},{"$f":"IF(E58=\"ZX-DECLDIV-IPコードレス電話機\",\"\",IF(キー割付!S324=\"\",\"\",キー割付!S324))","v":""}]
[null,19,{"$f":"IF(IFERROR(VALUE(VLOOKUP(B61,内線_キー割用,2,FALSE)),\"\")=0,\"\",IFERROR(VALUE(VLOOKUP(B61,内線_キー割用,2,FALSE)),\"\"))","v":""},{"$f":"IF(IFERROR(VALUE(VLOOKUP(B61,内線_キー割用,4,FALSE)),\"\")=0,\"\",IFERROR(VALUE(VLOOKUP(B61,内線_キー割用,4,FALSE)),\"\"))","v":""},{"$f":"IF(IFERROR(VLOOKUP(B61,内線_キー割用,3,FALSE),\"\")=0,\"\",IFERROR(VLOOKUP(B61,内線_キー割用,3,FALSE),\"\"))","v":""},{"$f":"IF(キー割付!D334=\"\",\"\",キー割付!D334)","v":""},{"$f":"IF(キー割付!E334=\"\",\"\",キー割付!E334)","v":""},{"$f":"IF(キー割付!F334=\"\",\"\",キー割付!F334)","v":""},{"$f":"IF(キー割付!G334=\"\",\"\",キー割付!G334)","v":""},{"$f":"IF(キー割付!H334=\"\",\"\",キー割付!H334)","v":""},{"$f":"IF(キー割付!I334=\"\",\"\",キー割付!I334)","v":""},{"$f":"IF(キー割付!D342=\"\",\"\",キー割付!D342)","v":""},{"$f":"IF(キー割付!E342=\"\",\"\",キー割付!E342)","v":""},{"$f":"IF(E61=\"ZX-DECLDIV-IPコードレス電話機\",\"\",IF(キー割付!F342=\"\",\"\",キー割付!F342))","v":""},{"$f":"IF(E61=\"ZX-DECLDIV-IPコードレス電話機\",\"\",IF(キー割付!G342=\"\",\"\",キー割付!G342))","v":""},{"$f":"IF(E61=\"ZX-DECLDIV-IPコードレス電話機\",\"\",IF(キー割付!H342=\"\",\"\",キー割付!H342))","v":""},{"$f":"IF(E61=\"ZX-DECLDIV-IPコードレス電話機\",\"\",IF(キー割付!I342=\"\",\"\",キー割付!I342))","v":""},{"$f":"IF(E61=\"ZX-DECLDIV-IPコードレス電話機\",\"\",IF(キー割付!D350=\"\",\"\",キー割付!D350))","v":""},{"$f":"IF(E61=\"ZX-DECLDIV-IPコードレス電話機\",\"\",IF(キー割付!E350=\"\",\"\",キー割付!E350))","v":""},{"$f":"IF(E61=\"ZX-DECLDIV-IPコードレス電話機\",\"\",IF(キー割付!F350=\"\",\"\",キー割付!F350))","v":""},{"$f":"IF(E61=\"ZX-DECLDIV-IPコードレス電話機\",\"\",IF(キー割付!G350=\"\",\"\",キー割付!G350))","v":""},{"$f":"IF(E61=\"ZX-DECLDIV-IPコードレス電話機\",\"\",IF(キー割付!H350=\"\",\"\",キー割付!H350))","v":""},{"$f":"IF(E61=\"ZX-DECLDIV-IPコードレス電話機\",\"\",IF(キー割付!I350=\"\",\"\",キー割付!I350))","v":""},{"$f":"IF(E61=\"ZX-DECLDIV-IPコードレス電話機\",\"\",IF(キー割付!D358=\"\",\"\",キー割付!D358))","v":""},{"$f":"IF(E61=\"ZX-DECLDIV-IPコードレス電話機\",\"\",IF(キー割付!E358=\"\",\"\",キー割付!E358))","v":""},{"$f":"IF(E61=\"ZX-DECLDIV-IPコードレス電話機\",\"\",IF(キー割付!F358=\"\",\"\",キー割付!F358))","v":""},{"$f":"IF(E61=\"ZX-DECLDIV-IPコードレス電話機\",\"\",IF(キー割付!G358=\"\",\"\",キー割付!G358))","v":""},{"$f":"IF(E61=\"ZX-DECLDIV-IPコードレス電話機\",\"\",IF(キー割付!H358=\"\",\"\",キー割付!H358))","v":""},{"$f":"IF(E61=\"ZX-DECLDIV-IPコードレス電話機\",\"\",IF(キー割付!I358=\"\",\"\",キー割付!I358))","v":""}]
[null,null,null,null,null,{"$f":"IF(キー割付!D335=\"\",\"\",キー割付!D335)","v":""},{"$f":"IF(キー割付!E335=\"\",\"\",キー割付!E335)","v":""},{"$f":"IF(キー割付!F335=\"\",\"\",キー割付!F335)","v":""},{"$f":"IF(キー割付!G335=\"\",\"\",キー割付!G335)","v":""},{"$f":"IF(キー割付!H335=\"\",\"\",キー割付!H335)","v":""},{"$f":"IF(キー割付!I335=\"\",\"\",キー割付!I335)","v":""},{"$f":"IF(キー割付!D343=\"\",\"\",キー割付!D343)","v":""},{"$f":"IF(キー割付!E343=\"\",\"\",キー割付!E343)","v":""},{"$f":"IF(E61=\"ZX-DECLDIV-IPコードレス電話機\",\"\",IF(キー割付!F343=\"\",\"\",キー割付!F343))","v":""},{"$f":"IF(E61=\"ZX-DECLDIV-IPコードレス電話機\",\"\",IF(キー割付!G343=\"\",\"\",キー割付!G343))","v":""},{"$f":"IF(E61=\"ZX-DECLDIV-IPコードレス電話機\",\"\",IF(キー割付!H343=\"\",\"\",キー割付!H343))","v":""},{"$f":"IF(E61=\"ZX-DECLDIV-IPコードレス電話機\",\"\",IF(キー割付!I343=\"\",\"\",キー割付!I343))","v":""},{"$f":"IF(E61=\"ZX-DECLDIV-IPコードレス電話機\",\"\",IF(キー割付!D351=\"\",\"\",キー割付!D351))","v":""},{"$f":"IF(E61=\"ZX-DECLDIV-IPコードレス電話機\",\"\",IF(キー割付!E351=\"\",\"\",キー割付!E351))","v":""},{"$f":"IF(E61=\"ZX-DECLDIV-IPコードレス電話機\",\"\",IF(キー割付!F351=\"\",\"\",キー割付!F351))","v":""},{"$f":"IF(E61=\"ZX-DECLDIV-IPコードレス電話機\",\"\",IF(キー割付!G351=\"\",\"\",キー割付!G351))","v":""},{"$f":"IF(E61=\"ZX-DECLDIV-IPコードレス電話機\",\"\",IF(キー割付!H351=\"\",\"\",キー割付!H351))","v":""},{"$f":"IF(E61=\"ZX-DECLDIV-IPコードレス電話機\",\"\",IF(キー割付!I351=\"\",\"\",キー割付!I351))","v":""},{"$f":"IF(E61=\"ZX-DECLDIV-IPコードレス電話機\",\"\",IF(キー割付!D359=\"\",\"\",キー割付!D359))","v":""},{"$f":"IF(E61=\"ZX-DECLDIV-IPコードレス電話機\",\"\",IF(キー割付!E359=\"\",\"\",キー割付!E359))","v":""},{"$f":"IF(E61=\"ZX-DECLDIV-IPコードレス電話機\",\"\",IF(キー割付!F359=\"\",\"\",キー割付!F359))","v":""},{"$f":"IF(E61=\"ZX-DECLDIV-IPコードレス電話機\",\"\",IF(キー割付!G359=\"\",\"\",キー割付!G359))","v":""},{"$f":"IF(E61=\"ZX-DECLDIV-IPコードレス電話機\",\"\",IF(キー割付!H359=\"\",\"\",キー割付!H359))","v":""},{"$f":"IF(E61=\"ZX-DECLDIV-IPコードレス電話機\",\"\",IF(キー割付!I359=\"\",\"\",キー割付!I359))","v":""}]
[null,null,null,null,null,{"$f":"IF(キー割付!D336=\"\",\"\",キー割付!D336)","v":""},{"$f":"IF(キー割付!E336=\"\",\"\",キー割付!E336)","v":""},{"$f":"IF(キー割付!F336=\"\",\"\",キー割付!F336)","v":""},{"$f":"IF(キー割付!G336=\"\",\"\",キー割付!G336)","v":""},{"$f":"IF(キー割付!H336=\"\",\"\",キー割付!H336)","v":""},{"$f":"IF(キー割付!I336=\"\",\"\",キー割付!I336)","v":""},{"$f":"IF(キー割付!D344=\"\",\"\",キー割付!D344)","v":""},{"$f":"IF(キー割付!E344=\"\",\"\",キー割付!E344)","v":""},{"$f":"IF(E61=\"ZX-DECLDIV-IPコードレス電話機\",\"\",IF(キー割付!F344=\"\",\"\",キー割付!F344))","v":""},{"$f":"IF(E61=\"ZX-DECLDIV-IPコードレス電話機\",\"\",IF(キー割付!G344=\"\",\"\",キー割付!G344))","v":""},{"$f":"IF(E61=\"ZX-DECLDIV-IPコードレス電話機\",\"\",IF(キー割付!H344=\"\",\"\",キー割付!H344))","v":""},{"$f":"IF(E61=\"ZX-DECLDIV-IPコードレス電話機\",\"\",IF(キー割付!I344=\"\",\"\",キー割付!I344))","v":""},{"$f":"IF(E61=\"ZX-DECLDIV-IPコードレス電話機\",\"\",IF(キー割付!D352=\"\",\"\",キー割付!D352))","v":""},{"$f":"IF(E61=\"ZX-DECLDIV-IPコードレス電話機\",\"\",IF(キー割付!E352=\"\",\"\",キー割付!E352))","v":""},{"$f":"IF(E61=\"ZX-DECLDIV-IPコードレス電話機\",\"\",IF(キー割付!F352=\"\",\"\",キー割付!F352))","v":""},{"$f":"IF(E61=\"ZX-DECLDIV-IPコードレス電話機\",\"\",IF(キー割付!G352=\"\",\"\",キー割付!G352))","v":""},{"$f":"IF(E61=\"ZX-DECLDIV-IPコードレス電話機\",\"\",IF(キー割付!H352=\"\",\"\",キー割付!H352))","v":""},{"$f":"IF(E61=\"ZX-DECLDIV-IPコードレス電話機\",\"\",IF(キー割付!I352=\"\",\"\",キー割付!I352))","v":""},{"$f":"IF(E61=\"ZX-DECLDIV-IPコードレス電話機\",\"\",IF(キー割付!D360=\"\",\"\",キー割付!D360))","v":""},{"$f":"IF(E61=\"ZX-DECLDIV-IPコードレス電話機\",\"\",IF(キー割付!E360=\"\",\"\",キー割付!E360))","v":""},{"$f":"IF(E61=\"ZX-DECLDIV-IPコードレス電話機\",\"\",IF(キー割付!F360=\"\",\"\",キー割付!F360))","v":""},{"$f":"IF(E61=\"ZX-DECLDIV-IPコードレス電話機\",\"\",IF(キー割付!G360=\"\",\"\",キー割付!G360))","v":""},{"$f":"IF(E61=\"ZX-DECLDIV-IPコードレス電話機\",\"\",IF(キー割付!H360=\"\",\"\",キー割付!H360))","v":""},{"$f":"IF(E61=\"ZX-DECLDIV-IPコードレス電話機\",\"\",IF(キー割付!I360=\"\",\"\",キー割付!I360))","v":""}]
[null,20,{"$f":"IF(IFERROR(VALUE(VLOOKUP(B64,内線_キー割用,2,FALSE)),\"\")=0,\"\",IFERROR(VALUE(VLOOKUP(B64,内線_キー割用,2,FALSE)),\"\"))","v":""},{"$f":"IF(IFERROR(VALUE(VLOOKUP(B64,内線_キー割用,4,FALSE)),\"\")=0,\"\",IFERROR(VALUE(VLOOKUP(B64,内線_キー割用,4,FALSE)),\"\"))","v":""},{"$f":"IF(IFERROR(VLOOKUP(B64,内線_キー割用,3,FALSE),\"\")=0,\"\",IFERROR(VLOOKUP(B64,内線_キー割用,3,FALSE),\"\"))","v":""},{"$f":"IF(キー割付!N334=\"\",\"\",キー割付!N334)","v":""},{"$f":"IF(キー割付!O334=\"\",\"\",キー割付!O334)","v":""},{"$f":"IF(キー割付!P334=\"\",\"\",キー割付!P334)","v":""},{"$f":"IF(キー割付!Q334=\"\",\"\",キー割付!Q334)","v":""},{"$f":"IF(キー割付!R334=\"\",\"\",キー割付!R334)","v":""},{"$f":"IF(キー割付!S334=\"\",\"\",キー割付!S334)","v":""},{"$f":"IF(キー割付!N342=\"\",\"\",キー割付!N342)","v":""},{"$f":"IF(キー割付!O342=\"\",\"\",キー割付!O342)","v":""},{"$f":"IF(E64=\"ZX-DECLDIV-IPコードレス電話機\",\"\",IF(キー割付!P342=\"\",\"\",キー割付!P342))","v":""},{"$f":"IF(E64=\"ZX-DECLDIV-IPコードレス電話機\",\"\",IF(キー割付!Q342=\"\",\"\",キー割付!Q342))","v":""},{"$f":"IF(E64=\"ZX-DECLDIV-IPコードレス電話機\",\"\",IF(キー割付!R342=\"\",\"\",キー割付!R342))","v":""},{"$f":"IF(E64=\"ZX-DECLDIV-IPコードレス電話機\",\"\",IF(キー割付!S342=\"\",\"\",キー割付!S342))","v":""},{"$f":"IF(E64=\"ZX-DECLDIV-IPコードレス電話機\",\"\",IF(キー割付!N350=\"\",\"\",キー割付!N350))","v":""},{"$f":"IF(E64=\"ZX-DECLDIV-IPコードレス電話機\",\"\",IF(キー割付!O350=\"\",\"\",キー割付!O350))","v":""},{"$f":"IF(E64=\"ZX-DECLDIV-IPコードレス電話機\",\"\",IF(キー割付!P350=\"\",\"\",キー割付!P350))","v":""},{"$f":"IF(E64=\"ZX-DECLDIV-IPコードレス電話機\",\"\",IF(キー割付!Q350=\"\",\"\",キー割付!Q350))","v":""},{"$f":"IF(E64=\"ZX-DECLDIV-IPコードレス電話機\",\"\",IF(キー割付!R350=\"\",\"\",キー割付!R350))","v":""},{"$f":"IF(E64=\"ZX-DECLDIV-IPコードレス電話機\",\"\",IF(キー割付!S350=\"\",\"\",キー割付!S350))","v":""},{"$f":"IF(E64=\"ZX-DECLDIV-IPコードレス電話機\",\"\",IF(キー割付!N358=\"\",\"\",キー割付!N358))","v":""},{"$f":"IF(E64=\"ZX-DECLDIV-IPコードレス電話機\",\"\",IF(キー割付!O358=\"\",\"\",キー割付!O358))","v":""},{"$f":"IF(E64=\"ZX-DECLDIV-IPコードレス電話機\",\"\",IF(キー割付!P358=\"\",\"\",キー割付!P358))","v":""},{"$f":"IF(E64=\"ZX-DECLDIV-IPコードレス電話機\",\"\",IF(キー割付!Q358=\"\",\"\",キー割付!Q358))","v":""},{"$f":"IF(E64=\"ZX-DECLDIV-IPコードレス電話機\",\"\",IF(キー割付!R358=\"\",\"\",キー割付!R358))","v":""},{"$f":"IF(E64=\"ZX-DECLDIV-IPコードレス電話機\",\"\",IF(キー割付!S358=\"\",\"\",キー割付!S358))","v":""}]
[null,null,null,null,null,{"$f":"IF(キー割付!N335=\"\",\"\",キー割付!N335)","v":""},{"$f":"IF(キー割付!O335=\"\",\"\",キー割付!O335)","v":""},{"$f":"IF(キー割付!P335=\"\",\"\",キー割付!P335)","v":""},{"$f":"IF(キー割付!Q335=\"\",\"\",キー割付!Q335)","v":""},{"$f":"IF(キー割付!R335=\"\",\"\",キー割付!R335)","v":""},{"$f":"IF(キー割付!S335=\"\",\"\",キー割付!S335)","v":""},{"$f":"IF(キー割付!N343=\"\",\"\",キー割付!N343)","v":""},{"$f":"IF(キー割付!O343=\"\",\"\",キー割付!O343)","v":""},{"$f":"IF(E64=\"ZX-DECLDIV-IPコードレス電話機\",\"\",IF(キー割付!P343=\"\",\"\",キー割付!P343))","v":""},{"$f":"IF(E64=\"ZX-DECLDIV-IPコードレス電話機\",\"\",IF(キー割付!Q343=\"\",\"\",キー割付!Q343))","v":""},{"$f":"IF(E64=\"ZX-DECLDIV-IPコードレス電話機\",\"\",IF(キー割付!R343=\"\",\"\",キー割付!R343))","v":""},{"$f":"IF(E64=\"ZX-DECLDIV-IPコードレス電話機\",\"\",IF(キー割付!S343=\"\",\"\",キー割付!S343))","v":""},{"$f":"IF(E64=\"ZX-DECLDIV-IPコードレス電話機\",\"\",IF(キー割付!N351=\"\",\"\",キー割付!N351))","v":""},{"$f":"IF(E64=\"ZX-DECLDIV-IPコードレス電話機\",\"\",IF(キー割付!O351=\"\",\"\",キー割付!O351))","v":""},{"$f":"IF(E64=\"ZX-DECLDIV-IPコードレス電話機\",\"\",IF(キー割付!P351=\"\",\"\",キー割付!P351))","v":""},{"$f":"IF(E64=\"ZX-DECLDIV-IPコードレス電話機\",\"\",IF(キー割付!Q351=\"\",\"\",キー割付!Q351))","v":""},{"$f":"IF(E64=\"ZX-DECLDIV-IPコードレス電話機\",\"\",IF(キー割付!R351=\"\",\"\",キー割付!R351))","v":""},{"$f":"IF(E64=\"ZX-DECLDIV-IPコードレス電話機\",\"\",IF(キー割付!S351=\"\",\"\",キー割付!S351))","v":""},{"$f":"IF(E64=\"ZX-DECLDIV-IPコードレス電話機\",\"\",IF(キー割付!N359=\"\",\"\",キー割付!N359))","v":""},{"$f":"IF(E64=\"ZX-DECLDIV-IPコードレス電話機\",\"\",IF(キー割付!O359=\"\",\"\",キー割付!O359))","v":""},{"$f":"IF(E64=\"ZX-DECLDIV-IPコードレス電話機\",\"\",IF(キー割付!P359=\"\",\"\",キー割付!P359))","v":""},{"$f":"IF(E64=\"ZX-DECLDIV-IPコードレス電話機\",\"\",IF(キー割付!Q359=\"\",\"\",キー割付!Q359))","v":""},{"$f":"IF(E64=\"ZX-DECLDIV-IPコードレス電話機\",\"\",IF(キー割付!R359=\"\",\"\",キー割付!R359))","v":""},{"$f":"IF(E64=\"ZX-DECLDIV-IPコードレス電話機\",\"\",IF(キー割付!S359=\"\",\"\",キー割付!S359))","v":""}]
[null,null,null,null,null,{"$f":"IF(キー割付!N336=\"\",\"\",キー割付!N336)","v":""},{"$f":"IF(キー割付!O336=\"\",\"\",キー割付!O336)","v":""},{"$f":"IF(キー割付!P336=\"\",\"\",キー割付!P336)","v":""},{"$f":"IF(キー割付!Q336=\"\",\"\",キー割付!Q336)","v":""},{"$f":"IF(キー割付!R336=\"\",\"\",キー割付!R336)","v":""},{"$f":"IF(キー割付!S336=\"\",\"\",キー割付!S336)","v":""},{"$f":"IF(キー割付!N344=\"\",\"\",キー割付!N344)","v":""},{"$f":"IF(キー割付!O344=\"\",\"\",キー割付!O344)","v":""},{"$f":"IF(E64=\"ZX-DECLDIV-IPコードレス電話機\",\"\",IF(キー割付!P344=\"\",\"\",キー割付!P344))","v":""},{"$f":"IF(E64=\"ZX-DECLDIV-IPコードレス電話機\",\"\",IF(キー割付!Q344=\"\",\"\",キー割付!Q344))","v":""},{"$f":"IF(E64=\"ZX-DECLDIV-IPコードレス電話機\",\"\",IF(キー割付!R344=\"\",\"\",キー割付!R344))","v":""},{"$f":"IF(E64=\"ZX-DECLDIV-IPコードレス電話機\",\"\",IF(キー割付!S344=\"\",\"\",キー割付!S344))","v":""},{"$f":"IF(E64=\"ZX-DECLDIV-IPコードレス電話機\",\"\",IF(キー割付!N352=\"\",\"\",キー割付!N352))","v":""},{"$f":"IF(E64=\"ZX-DECLDIV-IPコードレス電話機\",\"\",IF(キー割付!O352=\"\",\"\",キー割付!O352))","v":""},{"$f":"IF(E64=\"ZX-DECLDIV-IPコードレス電話機\",\"\",IF(キー割付!P352=\"\",\"\",キー割付!P352))","v":""},{"$f":"IF(E64=\"ZX-DECLDIV-IPコードレス電話機\",\"\",IF(キー割付!Q352=\"\",\"\",キー割付!Q352))","v":""},{"$f":"IF(E64=\"ZX-DECLDIV-IPコードレス電話機\",\"\",IF(キー割付!R352=\"\",\"\",キー割付!R352))","v":""},{"$f":"IF(E64=\"ZX-DECLDIV-IPコードレス電話機\",\"\",IF(キー割付!S352=\"\",\"\",キー割付!S352))","v":""},{"$f":"IF(E64=\"ZX-DECLDIV-IPコードレス電話機\",\"\",IF(キー割付!N360=\"\",\"\",キー割付!N360))","v":""},{"$f":"IF(E64=\"ZX-DECLDIV-IPコードレス電話機\",\"\",IF(キー割付!O360=\"\",\"\",キー割付!O360))","v":""},{"$f":"IF(E64=\"ZX-DECLDIV-IPコードレス電話機\",\"\",IF(キー割付!P360=\"\",\"\",キー割付!P360))","v":""},{"$f":"IF(E64=\"ZX-DECLDIV-IPコードレス電話機\",\"\",IF(キー割付!Q360=\"\",\"\",キー割付!Q360))","v":""},{"$f":"IF(E64=\"ZX-DECLDIV-IPコードレス電話機\",\"\",IF(キー割付!R360=\"\",\"\",キー割付!R360))","v":""},{"$f":"IF(E64=\"ZX-DECLDIV-IPコードレス電話機\",\"\",IF(キー割付!S360=\"\",\"\",キー割付!S360))","v":""}]
[null,21,{"$f":"IF(IFERROR(VALUE(VLOOKUP(B67,内線_キー割用,2,FALSE)),\"\")=0,\"\",IFERROR(VALUE(VLOOKUP(B67,内線_キー割用,2,FALSE)),\"\"))","v":""},{"$f":"IF(IFERROR(VALUE(VLOOKUP(B67,内線_キー割用,4,FALSE)),\"\")=0,\"\",IFERROR(VALUE(VLOOKUP(B67,内線_キー割用,4,FALSE)),\"\"))","v":""},{"$f":"IF(IFERROR(VLOOKUP(B67,内線_キー割用,3,FALSE),\"\")=0,\"\",IFERROR(VLOOKUP(B67,内線_キー割用,3,FALSE),\"\"))","v":""},{"$f":"IF(キー割付!D370=\"\",\"\",キー割付!D370)","v":""},{"$f":"IF(キー割付!E370=\"\",\"\",キー割付!E370)","v":""},{"$f":"IF(キー割付!F370=\"\",\"\",キー割付!F370)","v":""},{"$f":"IF(キー割付!G370=\"\",\"\",キー割付!G370)","v":""},{"$f":"IF(キー割付!H370=\"\",\"\",キー割付!H370)","v":""},{"$f":"IF(キー割付!I370=\"\",\"\",キー割付!I370)","v":""},{"$f":"IF(キー割付!D378=\"\",\"\",キー割付!D378)","v":""},{"$f":"IF(キー割付!E378=\"\",\"\",キー割付!E378)","v":""},{"$f":"IF(E67=\"ZX-DECLDIV-IPコードレス電話機\",\"\",IF(キー割付!F378=\"\",\"\",キー割付!F378))","v":""},{"$f":"IF(E67=\"ZX-DECLDIV-IPコードレス電話機\",\"\",IF(キー割付!G378=\"\",\"\",キー割付!G378))","v":""},{"$f":"IF(E67=\"ZX-DECLDIV-IPコードレス電話機\",\"\",IF(キー割付!H378=\"\",\"\",キー割付!H378))","v":""},{"$f":"IF(E67=\"ZX-DECLDIV-IPコードレス電話機\",\"\",IF(キー割付!I378=\"\",\"\",キー割付!I378))","v":""},{"$f":"IF(E67=\"ZX-DECLDIV-IPコードレス電話機\",\"\",IF(キー割付!D386=\"\",\"\",キー割付!D386))","v":""},{"$f":"IF(E67=\"ZX-DECLDIV-IPコードレス電話機\",\"\",IF(キー割付!E386=\"\",\"\",キー割付!E386))","v":""},{"$f":"IF(E67=\"ZX-DECLDIV-IPコードレス電話機\",\"\",IF(キー割付!F386=\"\",\"\",キー割付!F386))","v":""},{"$f":"IF(E67=\"ZX-DECLDIV-IPコードレス電話機\",\"\",IF(キー割付!G386=\"\",\"\",キー割付!G386))","v":""},{"$f":"IF(E67=\"ZX-DECLDIV-IPコードレス電話機\",\"\",IF(キー割付!H386=\"\",\"\",キー割付!H386))","v":""},{"$f":"IF(E67=\"ZX-DECLDIV-IPコードレス電話機\",\"\",IF(キー割付!I386=\"\",\"\",キー割付!I386))","v":""},{"$f":"IF(E67=\"ZX-DECLDIV-IPコードレス電話機\",\"\",IF(キー割付!D394=\"\",\"\",キー割付!D394))","v":""},{"$f":"IF(E67=\"ZX-DECLDIV-IPコードレス電話機\",\"\",IF(キー割付!E394=\"\",\"\",キー割付!E394))","v":""},{"$f":"IF(E67=\"ZX-DECLDIV-IPコードレス電話機\",\"\",IF(キー割付!F394=\"\",\"\",キー割付!F394))","v":""},{"$f":"IF(E67=\"ZX-DECLDIV-IPコードレス電話機\",\"\",IF(キー割付!G394=\"\",\"\",キー割付!G394))","v":""},{"$f":"IF(E67=\"ZX-DECLDIV-IPコードレス電話機\",\"\",IF(キー割付!H394=\"\",\"\",キー割付!H394))","v":""},{"$f":"IF(E67=\"ZX-DECLDIV-IPコードレス電話機\",\"\",IF(キー割付!I394=\"\",\"\",キー割付!I394))","v":""}]
[null,null,null,null,null,{"$f":"IF(キー割付!D371=\"\",\"\",キー割付!D371)","v":""},{"$f":"IF(キー割付!E371=\"\",\"\",キー割付!E371)","v":""},{"$f":"IF(キー割付!F371=\"\",\"\",キー割付!F371)","v":""},{"$f":"IF(キー割付!G371=\"\",\"\",キー割付!G371)","v":""},{"$f":"IF(キー割付!H371=\"\",\"\",キー割付!H371)","v":""},{"$f":"IF(キー割付!I371=\"\",\"\",キー割付!I371)","v":""},{"$f":"IF(キー割付!D379=\"\",\"\",キー割付!D379)","v":""},{"$f":"IF(キー割付!E379=\"\",\"\",キー割付!E379)","v":""},{"$f":"IF(E67=\"ZX-DECLDIV-IPコードレス電話機\",\"\",IF(キー割付!F379=\"\",\"\",キー割付!F379))","v":""},{"$f":"IF(E67=\"ZX-DECLDIV-IPコードレス電話機\",\"\",IF(キー割付!G379=\"\",\"\",キー割付!G379))","v":""},{"$f":"IF(E67=\"ZX-DECLDIV-IPコードレス電話機\",\"\",IF(キー割付!H379=\"\",\"\",キー割付!H379))","v":""},{"$f":"IF(E67=\"ZX-DECLDIV-IPコードレス電話機\",\"\",IF(キー割付!I379=\"\",\"\",キー割付!I379))","v":""},{"$f":"IF(E67=\"ZX-DECLDIV-IPコードレス電話機\",\"\",IF(キー割付!D387=\"\",\"\",キー割付!D387))","v":""},{"$f":"IF(E67=\"ZX-DECLDIV-IPコードレス電話機\",\"\",IF(キー割付!E387=\"\",\"\",キー割付!E387))","v":""},{"$f":"IF(E67=\"ZX-DECLDIV-IPコードレス電話機\",\"\",IF(キー割付!F387=\"\",\"\",キー割付!F387))","v":""},{"$f":"IF(E67=\"ZX-DECLDIV-IPコードレス電話機\",\"\",IF(キー割付!G387=\"\",\"\",キー割付!G387))","v":""},{"$f":"IF(E67=\"ZX-DECLDIV-IPコードレス電話機\",\"\",IF(キー割付!H387=\"\",\"\",キー割付!H387))","v":""},{"$f":"IF(E67=\"ZX-DECLDIV-IPコードレス電話機\",\"\",IF(キー割付!I387=\"\",\"\",キー割付!I387))","v":""},{"$f":"IF(E67=\"ZX-DECLDIV-IPコードレス電話機\",\"\",IF(キー割付!D395=\"\",\"\",キー割付!D395))","v":""},{"$f":"IF(E67=\"ZX-DECLDIV-IPコードレス電話機\",\"\",IF(キー割付!E395=\"\",\"\",キー割付!E395))","v":""},{"$f":"IF(E67=\"ZX-DECLDIV-IPコードレス電話機\",\"\",IF(キー割付!F395=\"\",\"\",キー割付!F395))","v":""},{"$f":"IF(E67=\"ZX-DECLDIV-IPコードレス電話機\",\"\",IF(キー割付!G395=\"\",\"\",キー割付!G395))","v":""},{"$f":"IF(E67=\"ZX-DECLDIV-IPコードレス電話機\",\"\",IF(キー割付!H395=\"\",\"\",キー割付!H395))","v":""},{"$f":"IF(E67=\"ZX-DECLDIV-IPコードレス電話機\",\"\",IF(キー割付!I395=\"\",\"\",キー割付!I395))","v":""}]
[null,null,null,null,null,{"$f":"IF(キー割付!D372=\"\",\"\",キー割付!D372)","v":""},{"$f":"IF(キー割付!E372=\"\",\"\",キー割付!E372)","v":""},{"$f":"IF(キー割付!F372=\"\",\"\",キー割付!F372)","v":""},{"$f":"IF(キー割付!G372=\"\",\"\",キー割付!G372)","v":""},{"$f":"IF(キー割付!H372=\"\",\"\",キー割付!H372)","v":""},{"$f":"IF(キー割付!I372=\"\",\"\",キー割付!I372)","v":""},{"$f":"IF(キー割付!D380=\"\",\"\",キー割付!D380)","v":""},{"$f":"IF(キー割付!E380=\"\",\"\",キー割付!E380)","v":""},{"$f":"IF(E67=\"ZX-DECLDIV-IPコードレス電話機\",\"\",IF(キー割付!F380=\"\",\"\",キー割付!F380))","v":""},{"$f":"IF(E67=\"ZX-DECLDIV-IPコードレス電話機\",\"\",IF(キー割付!G380=\"\",\"\",キー割付!G380))","v":""},{"$f":"IF(E67=\"ZX-DECLDIV-IPコードレス電話機\",\"\",IF(キー割付!H380=\"\",\"\",キー割付!H380))","v":""},{"$f":"IF(E67=\"ZX-DECLDIV-IPコードレス電話機\",\"\",IF(キー割付!I380=\"\",\"\",キー割付!I380))","v":""},{"$f":"IF(E67=\"ZX-DECLDIV-IPコードレス電話機\",\"\",IF(キー割付!D388=\"\",\"\",キー割付!D388))","v":""},{"$f":"IF(E67=\"ZX-DECLDIV-IPコードレス電話機\",\"\",IF(キー割付!E388=\"\",\"\",キー割付!E388))","v":""},{"$f":"IF(E67=\"ZX-DECLDIV-IPコードレス電話機\",\"\",IF(キー割付!F388=\"\",\"\",キー割付!F388))","v":""},{"$f":"IF(E67=\"ZX-DECLDIV-IPコードレス電話機\",\"\",IF(キー割付!G388=\"\",\"\",キー割付!G388))","v":""},{"$f":"IF(E67=\"ZX-DECLDIV-IPコードレス電話機\",\"\",IF(キー割付!H388=\"\",\"\",キー割付!H388))","v":""},{"$f":"IF(E67=\"ZX-DECLDIV-IPコードレス電話機\",\"\",IF(キー割付!I388=\"\",\"\",キー割付!I388))","v":""},{"$f":"IF(E67=\"ZX-DECLDIV-IPコードレス電話機\",\"\",IF(キー割付!D396=\"\",\"\",キー割付!D396))","v":""},{"$f":"IF(E67=\"ZX-DECLDIV-IPコードレス電話機\",\"\",IF(キー割付!E396=\"\",\"\",キー割付!E396))","v":""},{"$f":"IF(E67=\"ZX-DECLDIV-IPコードレス電話機\",\"\",IF(キー割付!F396=\"\",\"\",キー割付!F396))","v":""},{"$f":"IF(E67=\"ZX-DECLDIV-IPコードレス電話機\",\"\",IF(キー割付!G396=\"\",\"\",キー割付!G396))","v":""},{"$f":"IF(E67=\"ZX-DECLDIV-IPコードレス電話機\",\"\",IF(キー割付!H396=\"\",\"\",キー割付!H396))","v":""},{"$f":"IF(E67=\"ZX-DECLDIV-IPコードレス電話機\",\"\",IF(キー割付!I396=\"\",\"\",キー割付!I396))","v":""}]
[null,22,{"$f":"IF(IFERROR(VALUE(VLOOKUP(B70,内線_キー割用,2,FALSE)),\"\")=0,\"\",IFERROR(VALUE(VLOOKUP(B70,内線_キー割用,2,FALSE)),\"\"))","v":""},{"$f":"IF(IFERROR(VALUE(VLOOKUP(B70,内線_キー割用,4,FALSE)),\"\")=0,\"\",IFERROR(VALUE(VLOOKUP(B70,内線_キー割用,4,FALSE)),\"\"))","v":""},{"$f":"IF(IFERROR(VLOOKUP(B70,内線_キー割用,3,FALSE),\"\")=0,\"\",IFERROR(VLOOKUP(B70,内線_キー割用,3,FALSE),\"\"))","v":""},{"$f":"IF(キー割付!N370=\"\",\"\",キー割付!N370)","v":""},{"$f":"IF(キー割付!O370=\"\",\"\",キー割付!O370)","v":""},{"$f":"IF(キー割付!P370=\"\",\"\",キー割付!P370)","v":""},{"$f":"IF(キー割付!Q370=\"\",\"\",キー割付!Q370)","v":""},{"$f":"IF(キー割付!R370=\"\",\"\",キー割付!R370)","v":""},{"$f":"IF(キー割付!S370=\"\",\"\",キー割付!S370)","v":""},{"$f":"IF(キー割付!N378=\"\",\"\",キー割付!N378)","v":""},{"$f":"IF(キー割付!O378=\"\",\"\",キー割付!O378)","v":""},{"$f":"IF(E70=\"ZX-DECLDIV-IPコードレス電話機\",\"\",IF(キー割付!P378=\"\",\"\",キー割付!P378))","v":""},{"$f":"IF(E70=\"ZX-DECLDIV-IPコードレス電話機\",\"\",IF(キー割付!Q378=\"\",\"\",キー割付!Q378))","v":""},{"$f":"IF(E70=\"ZX-DECLDIV-IPコードレス電話機\",\"\",IF(キー割付!R378=\"\",\"\",キー割付!R378))","v":""},{"$f":"IF(E70=\"ZX-DECLDIV-IPコードレス電話機\",\"\",IF(キー割付!S378=\"\",\"\",キー割付!S378))","v":""},{"$f":"IF(E70=\"ZX-DECLDIV-IPコードレス電話機\",\"\",IF(キー割付!N386=\"\",\"\",キー割付!N386))","v":""},{"$f":"IF(E70=\"ZX-DECLDIV-IPコードレス電話機\",\"\",IF(キー割付!O386=\"\",\"\",キー割付!O386))","v":""},{"$f":"IF(E70=\"ZX-DECLDIV-IPコードレス電話機\",\"\",IF(キー割付!P386=\"\",\"\",キー割付!P386))","v":""},{"$f":"IF(E70=\"ZX-DECLDIV-IPコードレス電話機\",\"\",IF(キー割付!Q386=\"\",\"\",キー割付!Q386))","v":""},{"$f":"IF(E70=\"ZX-DECLDIV-IPコードレス電話機\",\"\",IF(キー割付!R386=\"\",\"\",キー割付!R386))","v":""},{"$f":"IF(E70=\"ZX-DECLDIV-IPコードレス電話機\",\"\",IF(キー割付!S386=\"\",\"\",キー割付!S386))","v":""},{"$f":"IF(E70=\"ZX-DECLDIV-IPコードレス電話機\",\"\",IF(キー割付!N394=\"\",\"\",キー割付!N394))","v":""},{"$f":"IF(E70=\"ZX-DECLDIV-IPコードレス電話機\",\"\",IF(キー割付!O394=\"\",\"\",キー割付!O394))","v":""},{"$f":"IF(E70=\"ZX-DECLDIV-IPコードレス電話機\",\"\",IF(キー割付!P394=\"\",\"\",キー割付!P394))","v":""},{"$f":"IF(E70=\"ZX-DECLDIV-IPコードレス電話機\",\"\",IF(キー割付!Q394=\"\",\"\",キー割付!Q394))","v":""},{"$f":"IF(E70=\"ZX-DECLDIV-IPコードレス電話機\",\"\",IF(キー割付!R394=\"\",\"\",キー割付!R394))","v":""},{"$f":"IF(E70=\"ZX-DECLDIV-IPコードレス電話機\",\"\",IF(キー割付!S394=\"\",\"\",キー割付!S394))","v":""}]
[null,null,null,null,null,{"$f":"IF(キー割付!N371=\"\",\"\",キー割付!N371)","v":""},{"$f":"IF(キー割付!O371=\"\",\"\",キー割付!O371)","v":""},{"$f":"IF(キー割付!P371=\"\",\"\",キー割付!P371)","v":""},{"$f":"IF(キー割付!Q371=\"\",\"\",キー割付!Q371)","v":""},{"$f":"IF(キー割付!R371=\"\",\"\",キー割付!R371)","v":""},{"$f":"IF(キー割付!S371=\"\",\"\",キー割付!S371)","v":""},{"$f":"IF(キー割付!N379=\"\",\"\",キー割付!N379)","v":""},{"$f":"IF(キー割付!O379=\"\",\"\",キー割付!O379)","v":""},{"$f":"IF(E70=\"ZX-DECLDIV-IPコードレス電話機\",\"\",IF(キー割付!P379=\"\",\"\",キー割付!P379))","v":""},{"$f":"IF(E70=\"ZX-DECLDIV-IPコードレス電話機\",\"\",IF(キー割付!Q379=\"\",\"\",キー割付!Q379))","v":""},{"$f":"IF(E70=\"ZX-DECLDIV-IPコードレス電話機\",\"\",IF(キー割付!R379=\"\",\"\",キー割付!R379))","v":""},{"$f":"IF(E70=\"ZX-DECLDIV-IPコードレス電話機\",\"\",IF(キー割付!S379=\"\",\"\",キー割付!S379))","v":""},{"$f":"IF(E70=\"ZX-DECLDIV-IPコードレス電話機\",\"\",IF(キー割付!N387=\"\",\"\",キー割付!N387))","v":""},{"$f":"IF(E70=\"ZX-DECLDIV-IPコードレス電話機\",\"\",IF(キー割付!O387=\"\",\"\",キー割付!O387))","v":""},{"$f":"IF(E70=\"ZX-DECLDIV-IPコードレス電話機\",\"\",IF(キー割付!P387=\"\",\"\",キー割付!P387))","v":""},{"$f":"IF(E70=\"ZX-DECLDIV-IPコードレス電話機\",\"\",IF(キー割付!Q387=\"\",\"\",キー割付!Q387))","v":""},{"$f":"IF(E70=\"ZX-DECLDIV-IPコードレス電話機\",\"\",IF(キー割付!R387=\"\",\"\",キー割付!R387))","v":""},{"$f":"IF(E70=\"ZX-DECLDIV-IPコードレス電話機\",\"\",IF(キー割付!S387=\"\",\"\",キー割付!S387))","v":""},{"$f":"IF(E70=\"ZX-DECLDIV-IPコードレス電話機\",\"\",IF(キー割付!N395=\"\",\"\",キー割付!N395))","v":""},{"$f":"IF(E70=\"ZX-DECLDIV-IPコードレス電話機\",\"\",IF(キー割付!O395=\"\",\"\",キー割付!O395))","v":""},{"$f":"IF(E70=\"ZX-DECLDIV-IPコードレス電話機\",\"\",IF(キー割付!P395=\"\",\"\",キー割付!P395))","v":""},{"$f":"IF(E70=\"ZX-DECLDIV-IPコードレス電話機\",\"\",IF(キー割付!Q395=\"\",\"\",キー割付!Q395))","v":""},{"$f":"IF(E70=\"ZX-DECLDIV-IPコードレス電話機\",\"\",IF(キー割付!R395=\"\",\"\",キー割付!R395))","v":""},{"$f":"IF(E70=\"ZX-DECLDIV-IPコードレス電話機\",\"\",IF(キー割付!S395=\"\",\"\",キー割付!S395))","v":""}]
[null,null,null,null,null,{"$f":"IF(キー割付!N372=\"\",\"\",キー割付!N372)","v":""},{"$f":"IF(キー割付!O372=\"\",\"\",キー割付!O372)","v":""},{"$f":"IF(キー割付!P372=\"\",\"\",キー割付!P372)","v":""},{"$f":"IF(キー割付!Q372=\"\",\"\",キー割付!Q372)","v":""},{"$f":"IF(キー割付!R372=\"\",\"\",キー割付!R372)","v":""},{"$f":"IF(キー割付!S372=\"\",\"\",キー割付!S372)","v":""},{"$f":"IF(キー割付!N380=\"\",\"\",キー割付!N380)","v":""},{"$f":"IF(キー割付!O380=\"\",\"\",キー割付!O380)","v":""},{"$f":"IF(E70=\"ZX-DECLDIV-IPコードレス電話機\",\"\",IF(キー割付!P380=\"\",\"\",キー割付!P380))","v":""},{"$f":"IF(E70=\"ZX-DECLDIV-IPコードレス電話機\",\"\",IF(キー割付!Q380=\"\",\"\",キー割付!Q380))","v":""},{"$f":"IF(E70=\"ZX-DECLDIV-IPコードレス電話機\",\"\",IF(キー割付!R380=\"\",\"\",キー割付!R380))","v":""},{"$f":"IF(E70=\"ZX-DECLDIV-IPコードレス電話機\",\"\",IF(キー割付!S380=\"\",\"\",キー割付!S380))","v":""},{"$f":"IF(E70=\"ZX-DECLDIV-IPコードレス電話機\",\"\",IF(キー割付!N388=\"\",\"\",キー割付!N388))","v":""},{"$f":"IF(E70=\"ZX-DECLDIV-IPコードレス電話機\",\"\",IF(キー割付!O388=\"\",\"\",キー割付!O388))","v":""},{"$f":"IF(E70=\"ZX-DECLDIV-IPコードレス電話機\",\"\",IF(キー割付!P388=\"\",\"\",キー割付!P388))","v":""},{"$f":"IF(E70=\"ZX-DECLDIV-IPコードレス電話機\",\"\",IF(キー割付!Q388=\"\",\"\",キー割付!Q388))","v":""},{"$f":"IF(E70=\"ZX-DECLDIV-IPコードレス電話機\",\"\",IF(キー割付!R388=\"\",\"\",キー割付!R388))","v":""},{"$f":"IF(E70=\"ZX-DECLDIV-IPコードレス電話機\",\"\",IF(キー割付!S388=\"\",\"\",キー割付!S388))","v":""},{"$f":"IF(E70=\"ZX-DECLDIV-IPコードレス電話機\",\"\",IF(キー割付!N396=\"\",\"\",キー割付!N396))","v":""},{"$f":"IF(E70=\"ZX-DECLDIV-IPコードレス電話機\",\"\",IF(キー割付!O396=\"\",\"\",キー割付!O396))","v":""},{"$f":"IF(E70=\"ZX-DECLDIV-IPコードレス電話機\",\"\",IF(キー割付!P396=\"\",\"\",キー割付!P396))","v":""},{"$f":"IF(E70=\"ZX-DECLDIV-IPコードレス電話機\",\"\",IF(キー割付!Q396=\"\",\"\",キー割付!Q396))","v":""},{"$f":"IF(E70=\"ZX-DECLDIV-IPコードレス電話機\",\"\",IF(キー割付!R396=\"\",\"\",キー割付!R396))","v":""},{"$f":"IF(E70=\"ZX-DECLDIV-IPコードレス電話機\",\"\",IF(キー割付!S396=\"\",\"\",キー割付!S396))","v":""}]
[null,23,{"$f":"IF(IFERROR(VALUE(VLOOKUP(B73,内線_キー割用,2,FALSE)),\"\")=0,\"\",IFERROR(VALUE(VLOOKUP(B73,内線_キー割用,2,FALSE)),\"\"))","v":""},{"$f":"IF(IFERROR(VALUE(VLOOKUP(B73,内線_キー割用,4,FALSE)),\"\")=0,\"\",IFERROR(VALUE(VLOOKUP(B73,内線_キー割用,4,FALSE)),\"\"))","v":""},{"$f":"IF(IFERROR(VLOOKUP(B73,内線_キー割用,3,FALSE),\"\")=0,\"\",IFERROR(VLOOKUP(B73,内線_キー割用,3,FALSE),\"\"))","v":""},{"$f":"IF(キー割付!D406=\"\",\"\",キー割付!D406)","v":""},{"$f":"IF(キー割付!E406=\"\",\"\",キー割付!E406)","v":""},{"$f":"IF(キー割付!F406=\"\",\"\",キー割付!F406)","v":""},{"$f":"IF(キー割付!G406=\"\",\"\",キー割付!G406)","v":""},{"$f":"IF(キー割付!H406=\"\",\"\",キー割付!H406)","v":""},{"$f":"IF(キー割付!I406=\"\",\"\",キー割付!I406)","v":""},{"$f":"IF(キー割付!D414=\"\",\"\",キー割付!D414)","v":""},{"$f":"IF(キー割付!E414=\"\",\"\",キー割付!E414)","v":""},{"$f":"IF(E73=\"ZX-DECLDIV-IPコードレス電話機\",\"\",IF(キー割付!F414=\"\",\"\",キー割付!F414))","v":""},{"$f":"IF(E73=\"ZX-DECLDIV-IPコードレス電話機\",\"\",IF(キー割付!G414=\"\",\"\",キー割付!G414))","v":""},{"$f":"IF(E73=\"ZX-DECLDIV-IPコードレス電話機\",\"\",IF(キー割付!H414=\"\",\"\",キー割付!H414))","v":""},{"$f":"IF(E73=\"ZX-DECLDIV-IPコードレス電話機\",\"\",IF(キー割付!I414=\"\",\"\",キー割付!I414))","v":""},{"$f":"IF(E73=\"ZX-DECLDIV-IPコードレス電話機\",\"\",IF(キー割付!D422=\"\",\"\",キー割付!D422))","v":""},{"$f":"IF(E73=\"ZX-DECLDIV-IPコードレス電話機\",\"\",IF(キー割付!E422=\"\",\"\",キー割付!E422))","v":""},{"$f":"IF(E73=\"ZX-DECLDIV-IPコードレス電話機\",\"\",IF(キー割付!F422=\"\",\"\",キー割付!F422))","v":""},{"$f":"IF(E73=\"ZX-DECLDIV-IPコードレス電話機\",\"\",IF(キー割付!G422=\"\",\"\",キー割付!G422))","v":""},{"$f":"IF(E73=\"ZX-DECLDIV-IPコードレス電話機\",\"\",IF(キー割付!H422=\"\",\"\",キー割付!H422))","v":""},{"$f":"IF(E73=\"ZX-DECLDIV-IPコードレス電話機\",\"\",IF(キー割付!I422=\"\",\"\",キー割付!I422))","v":""},{"$f":"IF(E73=\"ZX-DECLDIV-IPコードレス電話機\",\"\",IF(キー割付!D430=\"\",\"\",キー割付!D430))","v":""},{"$f":"IF(E73=\"ZX-DECLDIV-IPコードレス電話機\",\"\",IF(キー割付!E430=\"\",\"\",キー割付!E430))","v":""},{"$f":"IF(E73=\"ZX-DECLDIV-IPコードレス電話機\",\"\",IF(キー割付!F430=\"\",\"\",キー割付!F430))","v":""},{"$f":"IF(E73=\"ZX-DECLDIV-IPコードレス電話機\",\"\",IF(キー割付!G430=\"\",\"\",キー割付!G430))","v":""},{"$f":"IF(E73=\"ZX-DECLDIV-IPコードレス電話機\",\"\",IF(キー割付!H430=\"\",\"\",キー割付!H430))","v":""},{"$f":"IF(E73=\"ZX-DECLDIV-IPコードレス電話機\",\"\",IF(キー割付!I430=\"\",\"\",キー割付!I430))","v":""}]
[null,null,null,null,null,{"$f":"IF(キー割付!D407=\"\",\"\",キー割付!D407)","v":""},{"$f":"IF(キー割付!E407=\"\",\"\",キー割付!E407)","v":""},{"$f":"IF(キー割付!F407=\"\",\"\",キー割付!F407)","v":""},{"$f":"IF(キー割付!G407=\"\",\"\",キー割付!G407)","v":""},{"$f":"IF(キー割付!H407=\"\",\"\",キー割付!H407)","v":""},{"$f":"IF(キー割付!I407=\"\",\"\",キー割付!I407)","v":""},{"$f":"IF(キー割付!D415=\"\",\"\",キー割付!D415)","v":""},{"$f":"IF(キー割付!E415=\"\",\"\",キー割付!E415)","v":""},{"$f":"IF(E73=\"ZX-DECLDIV-IPコードレス電話機\",\"\",IF(キー割付!F415=\"\",\"\",キー割付!F415))","v":""},{"$f":"IF(E73=\"ZX-DECLDIV-IPコードレス電話機\",\"\",IF(キー割付!G415=\"\",\"\",キー割付!G415))","v":""},{"$f":"IF(E73=\"ZX-DECLDIV-IPコードレス電話機\",\"\",IF(キー割付!H415=\"\",\"\",キー割付!H415))","v":""},{"$f":"IF(E73=\"ZX-DECLDIV-IPコードレス電話機\",\"\",IF(キー割付!I415=\"\",\"\",キー割付!I415))","v":""},{"$f":"IF(E73=\"ZX-DECLDIV-IPコードレス電話機\",\"\",IF(キー割付!D423=\"\",\"\",キー割付!D423))","v":""},{"$f":"IF(E73=\"ZX-DECLDIV-IPコードレス電話機\",\"\",IF(キー割付!E423=\"\",\"\",キー割付!E423))","v":""},{"$f":"IF(E73=\"ZX-DECLDIV-IPコードレス電話機\",\"\",IF(キー割付!F423=\"\",\"\",キー割付!F423))","v":""},{"$f":"IF(E73=\"ZX-DECLDIV-IPコードレス電話機\",\"\",IF(キー割付!G423=\"\",\"\",キー割付!G423))","v":""},{"$f":"IF(E73=\"ZX-DECLDIV-IPコードレス電話機\",\"\",IF(キー割付!H423=\"\",\"\",キー割付!H423))","v":""},{"$f":"IF(E73=\"ZX-DECLDIV-IPコードレス電話機\",\"\",IF(キー割付!I423=\"\",\"\",キー割付!I423))","v":""},{"$f":"IF(E73=\"ZX-DECLDIV-IPコードレス電話機\",\"\",IF(キー割付!D431=\"\",\"\",キー割付!D431))","v":""},{"$f":"IF(E73=\"ZX-DECLDIV-IPコードレス電話機\",\"\",IF(キー割付!E431=\"\",\"\",キー割付!E431))","v":""},{"$f":"IF(E73=\"ZX-DECLDIV-IPコードレス電話機\",\"\",IF(キー割付!F431=\"\",\"\",キー割付!F431))","v":""},{"$f":"IF(E73=\"ZX-DECLDIV-IPコードレス電話機\",\"\",IF(キー割付!G431=\"\",\"\",キー割付!G431))","v":""},{"$f":"IF(E73=\"ZX-DECLDIV-IPコードレス電話機\",\"\",IF(キー割付!H431=\"\",\"\",キー割付!H431))","v":""},{"$f":"IF(E73=\"ZX-DECLDIV-IPコードレス電話機\",\"\",IF(キー割付!I431=\"\",\"\",キー割付!I431))","v":""}]
[null,null,null,null,null,{"$f":"IF(キー割付!D408=\"\",\"\",キー割付!D408)","v":""},{"$f":"IF(キー割付!E408=\"\",\"\",キー割付!E408)","v":""},{"$f":"IF(キー割付!F408=\"\",\"\",キー割付!F408)","v":""},{"$f":"IF(キー割付!G408=\"\",\"\",キー割付!G408)","v":""},{"$f":"IF(キー割付!H408=\"\",\"\",キー割付!H408)","v":""},{"$f":"IF(キー割付!I408=\"\",\"\",キー割付!I408)","v":""},{"$f":"IF(キー割付!D416=\"\",\"\",キー割付!D416)","v":""},{"$f":"IF(キー割付!E416=\"\",\"\",キー割付!E416)","v":""},{"$f":"IF(E73=\"ZX-DECLDIV-IPコードレス電話機\",\"\",IF(キー割付!F416=\"\",\"\",キー割付!F416))","v":""},{"$f":"IF(E73=\"ZX-DECLDIV-IPコードレス電話機\",\"\",IF(キー割付!G416=\"\",\"\",キー割付!G416))","v":""},{"$f":"IF(E73=\"ZX-DECLDIV-IPコードレス電話機\",\"\",IF(キー割付!H416=\"\",\"\",キー割付!H416))","v":""},{"$f":"IF(E73=\"ZX-DECLDIV-IPコードレス電話機\",\"\",IF(キー割付!I416=\"\",\"\",キー割付!I416))","v":""},{"$f":"IF(E73=\"ZX-DECLDIV-IPコードレス電話機\",\"\",IF(キー割付!D424=\"\",\"\",キー割付!D424))","v":""},{"$f":"IF(E73=\"ZX-DECLDIV-IPコードレス電話機\",\"\",IF(キー割付!E424=\"\",\"\",キー割付!E424))","v":""},{"$f":"IF(E73=\"ZX-DECLDIV-IPコードレス電話機\",\"\",IF(キー割付!F424=\"\",\"\",キー割付!F424))","v":""},{"$f":"IF(E73=\"ZX-DECLDIV-IPコードレス電話機\",\"\",IF(キー割付!G424=\"\",\"\",キー割付!G424))","v":""},{"$f":"IF(E73=\"ZX-DECLDIV-IPコードレス電話機\",\"\",IF(キー割付!H424=\"\",\"\",キー割付!H424))","v":""},{"$f":"IF(E73=\"ZX-DECLDIV-IPコードレス電話機\",\"\",IF(キー割付!I424=\"\",\"\",キー割付!I424))","v":""},{"$f":"IF(E73=\"ZX-DECLDIV-IPコードレス電話機\",\"\",IF(キー割付!D432=\"\",\"\",キー割付!D432))","v":""},{"$f":"IF(E73=\"ZX-DECLDIV-IPコードレス電話機\",\"\",IF(キー割付!E432=\"\",\"\",キー割付!E432))","v":""},{"$f":"IF(E73=\"ZX-DECLDIV-IPコードレス電話機\",\"\",IF(キー割付!F432=\"\",\"\",キー割付!F432))","v":""},{"$f":"IF(E73=\"ZX-DECLDIV-IPコードレス電話機\",\"\",IF(キー割付!G432=\"\",\"\",キー割付!G432))","v":""},{"$f":"IF(E73=\"ZX-DECLDIV-IPコードレス電話機\",\"\",IF(キー割付!H432=\"\",\"\",キー割付!H432))","v":""},{"$f":"IF(E73=\"ZX-DECLDIV-IPコードレス電話機\",\"\",IF(キー割付!I432=\"\",\"\",キー割付!I432))","v":""}]
[null,24,{"$f":"IF(IFERROR(VALUE(VLOOKUP(B76,内線_キー割用,2,FALSE)),\"\")=0,\"\",IFERROR(VALUE(VLOOKUP(B76,内線_キー割用,2,FALSE)),\"\"))","v":""},{"$f":"IF(IFERROR(VALUE(VLOOKUP(B76,内線_キー割用,4,FALSE)),\"\")=0,\"\",IFERROR(VALUE(VLOOKUP(B76,内線_キー割用,4,FALSE)),\"\"))","v":""},{"$f":"IF(IFERROR(VLOOKUP(B76,内線_キー割用,3,FALSE),\"\")=0,\"\",IFERROR(VLOOKUP(B76,内線_キー割用,3,FALSE),\"\"))","v":""},{"$f":"IF(キー割付!N406=\"\",\"\",キー割付!N406)","v":""},{"$f":"IF(キー割付!O406=\"\",\"\",キー割付!O406)","v":""},{"$f":"IF(キー割付!P406=\"\",\"\",キー割付!P406)","v":""},{"$f":"IF(キー割付!Q406=\"\",\"\",キー割付!Q406)","v":""},{"$f":"IF(キー割付!R406=\"\",\"\",キー割付!R406)","v":""},{"$f":"IF(キー割付!S406=\"\",\"\",キー割付!S406)","v":""},{"$f":"IF(キー割付!N414=\"\",\"\",キー割付!N414)","v":""},{"$f":"IF(キー割付!O414=\"\",\"\",キー割付!O414)","v":""},{"$f":"IF(E76=\"ZX-DECLDIV-IPコードレス電話機\",\"\",IF(キー割付!P414=\"\",\"\",キー割付!P414))","v":""},{"$f":"IF(E76=\"ZX-DECLDIV-IPコードレス電話機\",\"\",IF(キー割付!Q414=\"\",\"\",キー割付!Q414))","v":""},{"$f":"IF(E76=\"ZX-DECLDIV-IPコードレス電話機\",\"\",IF(キー割付!R414=\"\",\"\",キー割付!R414))","v":""},{"$f":"IF(E76=\"ZX-DECLDIV-IPコードレス電話機\",\"\",IF(キー割付!S414=\"\",\"\",キー割付!S414))","v":""},{"$f":"IF(E76=\"ZX-DECLDIV-IPコードレス電話機\",\"\",IF(キー割付!N422=\"\",\"\",キー割付!N422))","v":""},{"$f":"IF(E76=\"ZX-DECLDIV-IPコードレス電話機\",\"\",IF(キー割付!O422=\"\",\"\",キー割付!O422))","v":""},{"$f":"IF(E76=\"ZX-DECLDIV-IPコードレス電話機\",\"\",IF(キー割付!P422=\"\",\"\",キー割付!P422))","v":""},{"$f":"IF(E76=\"ZX-DECLDIV-IPコードレス電話機\",\"\",IF(キー割付!Q422=\"\",\"\",キー割付!Q422))","v":""},{"$f":"IF(E76=\"ZX-DECLDIV-IPコードレス電話機\",\"\",IF(キー割付!R422=\"\",\"\",キー割付!R422))","v":""},{"$f":"IF(E76=\"ZX-DECLDIV-IPコードレス電話機\",\"\",IF(キー割付!S422=\"\",\"\",キー割付!S422))","v":""},{"$f":"IF(E76=\"ZX-DECLDIV-IPコードレス電話機\",\"\",IF(キー割付!N430=\"\",\"\",キー割付!N430))","v":""},{"$f":"IF(E76=\"ZX-DECLDIV-IPコードレス電話機\",\"\",IF(キー割付!O430=\"\",\"\",キー割付!O430))","v":""},{"$f":"IF(E76=\"ZX-DECLDIV-IPコードレス電話機\",\"\",IF(キー割付!P430=\"\",\"\",キー割付!P430))","v":""},{"$f":"IF(E76=\"ZX-DECLDIV-IPコードレス電話機\",\"\",IF(キー割付!Q430=\"\",\"\",キー割付!Q430))","v":""},{"$f":"IF(E76=\"ZX-DECLDIV-IPコードレス電話機\",\"\",IF(キー割付!R430=\"\",\"\",キー割付!R430))","v":""},{"$f":"IF(E76=\"ZX-DECLDIV-IPコードレス電話機\",\"\",IF(キー割付!S430=\"\",\"\",キー割付!S430))","v":""}]
[null,null,null,null,null,{"$f":"IF(キー割付!N407=\"\",\"\",キー割付!N407)","v":""},{"$f":"IF(キー割付!O407=\"\",\"\",キー割付!O407)","v":""},{"$f":"IF(キー割付!P407=\"\",\"\",キー割付!P407)","v":""},{"$f":"IF(キー割付!Q407=\"\",\"\",キー割付!Q407)","v":""},{"$f":"IF(キー割付!R407=\"\",\"\",キー割付!R407)","v":""},{"$f":"IF(キー割付!S407=\"\",\"\",キー割付!S407)","v":""},{"$f":"IF(キー割付!N415=\"\",\"\",キー割付!N415)","v":""},{"$f":"IF(キー割付!O415=\"\",\"\",キー割付!O415)","v":""},{"$f":"IF(E76=\"ZX-DECLDIV-IPコードレス電話機\",\"\",IF(キー割付!P415=\"\",\"\",キー割付!P415))","v":""},{"$f":"IF(E76=\"ZX-DECLDIV-IPコードレス電話機\",\"\",IF(キー割付!Q415=\"\",\"\",キー割付!Q415))","v":""},{"$f":"IF(E76=\"ZX-DECLDIV-IPコードレス電話機\",\"\",IF(キー割付!R415=\"\",\"\",キー割付!R415))","v":""},{"$f":"IF(E76=\"ZX-DECLDIV-IPコードレス電話機\",\"\",IF(キー割付!S415=\"\",\"\",キー割付!S415))","v":""},{"$f":"IF(E76=\"ZX-DECLDIV-IPコードレス電話機\",\"\",IF(キー割付!N423=\"\",\"\",キー割付!N423))","v":""},{"$f":"IF(E76=\"ZX-DECLDIV-IPコードレス電話機\",\"\",IF(キー割付!O423=\"\",\"\",キー割付!O423))","v":""},{"$f":"IF(E76=\"ZX-DECLDIV-IPコードレス電話機\",\"\",IF(キー割付!P423=\"\",\"\",キー割付!P423))","v":""},{"$f":"IF(E76=\"ZX-DECLDIV-IPコードレス電話機\",\"\",IF(キー割付!Q423=\"\",\"\",キー割付!Q423))","v":""},{"$f":"IF(E76=\"ZX-DECLDIV-IPコードレス電話機\",\"\",IF(キー割付!R423=\"\",\"\",キー割付!R423))","v":""},{"$f":"IF(E76=\"ZX-DECLDIV-IPコードレス電話機\",\"\",IF(キー割付!S423=\"\",\"\",キー割付!S423))","v":""},{"$f":"IF(E76=\"ZX-DECLDIV-IPコードレス電話機\",\"\",IF(キー割付!N431=\"\",\"\",キー割付!N431))","v":""},{"$f":"IF(E76=\"ZX-DECLDIV-IPコードレス電話機\",\"\",IF(キー割付!O431=\"\",\"\",キー割付!O431))","v":""},{"$f":"IF(E76=\"ZX-DECLDIV-IPコードレス電話機\",\"\",IF(キー割付!P431=\"\",\"\",キー割付!P431))","v":""},{"$f":"IF(E76=\"ZX-DECLDIV-IPコードレス電話機\",\"\",IF(キー割付!Q431=\"\",\"\",キー割付!Q431))","v":""},{"$f":"IF(E76=\"ZX-DECLDIV-IPコードレス電話機\",\"\",IF(キー割付!R431=\"\",\"\",キー割付!R431))","v":""},{"$f":"IF(E76=\"ZX-DECLDIV-IPコードレス電話機\",\"\",IF(キー割付!S431=\"\",\"\",キー割付!S431))","v":""}]
[null,null,null,null,null,{"$f":"IF(キー割付!N408=\"\",\"\",キー割付!N408)","v":""},{"$f":"IF(キー割付!O408=\"\",\"\",キー割付!O408)","v":""},{"$f":"IF(キー割付!P408=\"\",\"\",キー割付!P408)","v":""},{"$f":"IF(キー割付!Q408=\"\",\"\",キー割付!Q408)","v":""},{"$f":"IF(キー割付!R408=\"\",\"\",キー割付!R408)","v":""},{"$f":"IF(キー割付!S408=\"\",\"\",キー割付!S408)","v":""},{"$f":"IF(キー割付!N416=\"\",\"\",キー割付!N416)","v":""},{"$f":"IF(キー割付!O416=\"\",\"\",キー割付!O416)","v":""},{"$f":"IF(E76=\"ZX-DECLDIV-IPコードレス電話機\",\"\",IF(キー割付!P416=\"\",\"\",キー割付!P416))","v":""},{"$f":"IF(E76=\"ZX-DECLDIV-IPコードレス電話機\",\"\",IF(キー割付!Q416=\"\",\"\",キー割付!Q416))","v":""},{"$f":"IF(E76=\"ZX-DECLDIV-IPコードレス電話機\",\"\",IF(キー割付!R416=\"\",\"\",キー割付!R416))","v":""},{"$f":"IF(E76=\"ZX-DECLDIV-IPコードレス電話機\",\"\",IF(キー割付!S416=\"\",\"\",キー割付!S416))","v":""},{"$f":"IF(E76=\"ZX-DECLDIV-IPコードレス電話機\",\"\",IF(キー割付!N424=\"\",\"\",キー割付!N424))","v":""},{"$f":"IF(E76=\"ZX-DECLDIV-IPコードレス電話機\",\"\",IF(キー割付!O424=\"\",\"\",キー割付!O424))","v":""},{"$f":"IF(E76=\"ZX-DECLDIV-IPコードレス電話機\",\"\",IF(キー割付!P424=\"\",\"\",キー割付!P424))","v":""},{"$f":"IF(E76=\"ZX-DECLDIV-IPコードレス電話機\",\"\",IF(キー割付!Q424=\"\",\"\",キー割付!Q424))","v":""},{"$f":"IF(E76=\"ZX-DECLDIV-IPコードレス電話機\",\"\",IF(キー割付!R424=\"\",\"\",キー割付!R424))","v":""},{"$f":"IF(E76=\"ZX-DECLDIV-IPコードレス電話機\",\"\",IF(キー割付!S424=\"\",\"\",キー割付!S424))","v":""},{"$f":"IF(E76=\"ZX-DECLDIV-IPコードレス電話機\",\"\",IF(キー割付!N432=\"\",\"\",キー割付!N432))","v":""},{"$f":"IF(E76=\"ZX-DECLDIV-IPコードレス電話機\",\"\",IF(キー割付!O432=\"\",\"\",キー割付!O432))","v":""},{"$f":"IF(E76=\"ZX-DECLDIV-IPコードレス電話機\",\"\",IF(キー割付!P432=\"\",\"\",キー割付!P432))","v":""},{"$f":"IF(E76=\"ZX-DECLDIV-IPコードレス電話機\",\"\",IF(キー割付!Q432=\"\",\"\",キー割付!Q432))","v":""},{"$f":"IF(E76=\"ZX-DECLDIV-IPコードレス電話機\",\"\",IF(キー割付!R432=\"\",\"\",キー割付!R432))","v":""},{"$f":"IF(E76=\"ZX-DECLDIV-IPコードレス電話機\",\"\",IF(キー割付!S432=\"\",\"\",キー割付!S432))","v":""}]
[null,25,{"$f":"IF(IFERROR(VALUE(VLOOKUP(B79,内線_キー割用,2,FALSE)),\"\")=0,\"\",IFERROR(VALUE(VLOOKUP(B79,内線_キー割用,2,FALSE)),\"\"))","v":""},{"$f":"IF(IFERROR(VALUE(VLOOKUP(B79,内線_キー割用,4,FALSE)),\"\")=0,\"\",IFERROR(VALUE(VLOOKUP(B79,内線_キー割用,4,FALSE)),\"\"))","v":""},{"$f":"IF(IFERROR(VLOOKUP(B79,内線_キー割用,3,FALSE),\"\")=0,\"\",IFERROR(VLOOKUP(B79,内線_キー割用,3,FALSE),\"\"))","v":""},{"$f":"IF(キー割付!D442=\"\",\"\",キー割付!D442)","v":""},{"$f":"IF(キー割付!E442=\"\",\"\",キー割付!E442)","v":""},{"$f":"IF(キー割付!F442=\"\",\"\",キー割付!F442)","v":""},{"$f":"IF(キー割付!G442=\"\",\"\",キー割付!G442)","v":""},{"$f":"IF(キー割付!H442=\"\",\"\",キー割付!H442)","v":""},{"$f":"IF(キー割付!I442=\"\",\"\",キー割付!I442)","v":""},{"$f":"IF(キー割付!D450=\"\",\"\",キー割付!D450)","v":""},{"$f":"IF(キー割付!E450=\"\",\"\",キー割付!E450)","v":""},{"$f":"IF(E79=\"ZX-DECLDIV-IPコードレス電話機\",\"\",IF(キー割付!F450=\"\",\"\",キー割付!F450))","v":""},{"$f":"IF(E79=\"ZX-DECLDIV-IPコードレス電話機\",\"\",IF(キー割付!G450=\"\",\"\",キー割付!G450))","v":""},{"$f":"IF(E79=\"ZX-DECLDIV-IPコードレス電話機\",\"\",IF(キー割付!H450=\"\",\"\",キー割付!H450))","v":""},{"$f":"IF(E79=\"ZX-DECLDIV-IPコードレス電話機\",\"\",IF(キー割付!I450=\"\",\"\",キー割付!I450))","v":""},{"$f":"IF(E79=\"ZX-DECLDIV-IPコードレス電話機\",\"\",IF(キー割付!D458=\"\",\"\",キー割付!D458))","v":""},{"$f":"IF(E79=\"ZX-DECLDIV-IPコードレス電話機\",\"\",IF(キー割付!E458=\"\",\"\",キー割付!E458))","v":""},{"$f":"IF(E79=\"ZX-DECLDIV-IPコードレス電話機\",\"\",IF(キー割付!F458=\"\",\"\",キー割付!F458))","v":""},{"$f":"IF(E79=\"ZX-DECLDIV-IPコードレス電話機\",\"\",IF(キー割付!G458=\"\",\"\",キー割付!G458))","v":""},{"$f":"IF(E79=\"ZX-DECLDIV-IPコードレス電話機\",\"\",IF(キー割付!H458=\"\",\"\",キー割付!H458))","v":""},{"$f":"IF(E79=\"ZX-DECLDIV-IPコードレス電話機\",\"\",IF(キー割付!I458=\"\",\"\",キー割付!I458))","v":""},{"$f":"IF(E79=\"ZX-DECLDIV-IPコードレス電話機\",\"\",IF(キー割付!D466=\"\",\"\",キー割付!D466))","v":""},{"$f":"IF(E79=\"ZX-DECLDIV-IPコードレス電話機\",\"\",IF(キー割付!E466=\"\",\"\",キー割付!E466))","v":""},{"$f":"IF(E79=\"ZX-DECLDIV-IPコードレス電話機\",\"\",IF(キー割付!F466=\"\",\"\",キー割付!F466))","v":""},{"$f":"IF(E79=\"ZX-DECLDIV-IPコードレス電話機\",\"\",IF(キー割付!G466=\"\",\"\",キー割付!G466))","v":""},{"$f":"IF(E79=\"ZX-DECLDIV-IPコードレス電話機\",\"\",IF(キー割付!H466=\"\",\"\",キー割付!H466))","v":""},{"$f":"IF(E79=\"ZX-DECLDIV-IPコードレス電話機\",\"\",IF(キー割付!I466=\"\",\"\",キー割付!I466))","v":""}]
[null,null,null,null,null,{"$f":"IF(キー割付!D443=\"\",\"\",キー割付!D443)","v":""},{"$f":"IF(キー割付!E443=\"\",\"\",キー割付!E443)","v":""},{"$f":"IF(キー割付!F443=\"\",\"\",キー割付!F443)","v":""},{"$f":"IF(キー割付!G443=\"\",\"\",キー割付!G443)","v":""},{"$f":"IF(キー割付!H443=\"\",\"\",キー割付!H443)","v":""},{"$f":"IF(キー割付!I443=\"\",\"\",キー割付!I443)","v":""},{"$f":"IF(キー割付!D451=\"\",\"\",キー割付!D451)","v":""},{"$f":"IF(キー割付!E451=\"\",\"\",キー割付!E451)","v":""},{"$f":"IF(E79=\"ZX-DECLDIV-IPコードレス電話機\",\"\",IF(キー割付!F451=\"\",\"\",キー割付!F451))","v":""},{"$f":"IF(E79=\"ZX-DECLDIV-IPコードレス電話機\",\"\",IF(キー割付!G451=\"\",\"\",キー割付!G451))","v":""},{"$f":"IF(E79=\"ZX-DECLDIV-IPコードレス電話機\",\"\",IF(キー割付!H451=\"\",\"\",キー割付!H451))","v":""},{"$f":"IF(E79=\"ZX-DECLDIV-IPコードレス電話機\",\"\",IF(キー割付!I451=\"\",\"\",キー割付!I451))","v":""},{"$f":"IF(E79=\"ZX-DECLDIV-IPコードレス電話機\",\"\",IF(キー割付!D459=\"\",\"\",キー割付!D459))","v":""},{"$f":"IF(E79=\"ZX-DECLDIV-IPコードレス電話機\",\"\",IF(キー割付!E459=\"\",\"\",キー割付!E459))","v":""},{"$f":"IF(E79=\"ZX-DECLDIV-IPコードレス電話機\",\"\",IF(キー割付!F459=\"\",\"\",キー割付!F459))","v":""},{"$f":"IF(E79=\"ZX-DECLDIV-IPコードレス電話機\",\"\",IF(キー割付!G459=\"\",\"\",キー割付!G459))","v":""},{"$f":"IF(E79=\"ZX-DECLDIV-IPコードレス電話機\",\"\",IF(キー割付!H459=\"\",\"\",キー割付!H459))","v":""},{"$f":"IF(E79=\"ZX-DECLDIV-IPコードレス電話機\",\"\",IF(キー割付!I459=\"\",\"\",キー割付!I459))","v":""},{"$f":"IF(E79=\"ZX-DECLDIV-IPコードレス電話機\",\"\",IF(キー割付!D467=\"\",\"\",キー割付!D467))","v":""},{"$f":"IF(E79=\"ZX-DECLDIV-IPコードレス電話機\",\"\",IF(キー割付!E467=\"\",\"\",キー割付!E467))","v":""},{"$f":"IF(E79=\"ZX-DECLDIV-IPコードレス電話機\",\"\",IF(キー割付!F467=\"\",\"\",キー割付!F467))","v":""},{"$f":"IF(E79=\"ZX-DECLDIV-IPコードレス電話機\",\"\",IF(キー割付!G467=\"\",\"\",キー割付!G467))","v":""},{"$f":"IF(E79=\"ZX-DECLDIV-IPコードレス電話機\",\"\",IF(キー割付!H467=\"\",\"\",キー割付!H467))","v":""},{"$f":"IF(E79=\"ZX-DECLDIV-IPコードレス電話機\",\"\",IF(キー割付!I467=\"\",\"\",キー割付!I467))","v":""}]
[null,null,null,null,null,{"$f":"IF(キー割付!D444=\"\",\"\",キー割付!D444)","v":""},{"$f":"IF(キー割付!E444=\"\",\"\",キー割付!E444)","v":""},{"$f":"IF(キー割付!F444=\"\",\"\",キー割付!F444)","v":""},{"$f":"IF(キー割付!G444=\"\",\"\",キー割付!G444)","v":""},{"$f":"IF(キー割付!H444=\"\",\"\",キー割付!H444)","v":""},{"$f":"IF(キー割付!I444=\"\",\"\",キー割付!I444)","v":""},{"$f":"IF(キー割付!D452=\"\",\"\",キー割付!D452)","v":""},{"$f":"IF(キー割付!E452=\"\",\"\",キー割付!E452)","v":""},{"$f":"IF(E79=\"ZX-DECLDIV-IPコードレス電話機\",\"\",IF(キー割付!F452=\"\",\"\",キー割付!F452))","v":""},{"$f":"IF(E79=\"ZX-DECLDIV-IPコードレス電話機\",\"\",IF(キー割付!G452=\"\",\"\",キー割付!G452))","v":""},{"$f":"IF(E79=\"ZX-DECLDIV-IPコードレス電話機\",\"\",IF(キー割付!H452=\"\",\"\",キー割付!H452))","v":""},{"$f":"IF(E79=\"ZX-DECLDIV-IPコードレス電話機\",\"\",IF(キー割付!I452=\"\",\"\",キー割付!I452))","v":""},{"$f":"IF(E79=\"ZX-DECLDIV-IPコードレス電話機\",\"\",IF(キー割付!D460=\"\",\"\",キー割付!D460))","v":""},{"$f":"IF(E79=\"ZX-DECLDIV-IPコードレス電話機\",\"\",IF(キー割付!E460=\"\",\"\",キー割付!E460))","v":""},{"$f":"IF(E79=\"ZX-DECLDIV-IPコードレス電話機\",\"\",IF(キー割付!F460=\"\",\"\",キー割付!F460))","v":""},{"$f":"IF(E79=\"ZX-DECLDIV-IPコードレス電話機\",\"\",IF(キー割付!G460=\"\",\"\",キー割付!G460))","v":""},{"$f":"IF(E79=\"ZX-DECLDIV-IPコードレス電話機\",\"\",IF(キー割付!H460=\"\",\"\",キー割付!H460))","v":""},{"$f":"IF(E79=\"ZX-DECLDIV-IPコードレス電話機\",\"\",IF(キー割付!I460=\"\",\"\",キー割付!I460))","v":""},{"$f":"IF(E79=\"ZX-DECLDIV-IPコードレス電話機\",\"\",IF(キー割付!D468=\"\",\"\",キー割付!D468))","v":""},{"$f":"IF(E79=\"ZX-DECLDIV-IPコードレス電話機\",\"\",IF(キー割付!E468=\"\",\"\",キー割付!E468))","v":""},{"$f":"IF(E79=\"ZX-DECLDIV-IPコードレス電話機\",\"\",IF(キー割付!F468=\"\",\"\",キー割付!F468))","v":""},{"$f":"IF(E79=\"ZX-DECLDIV-IPコードレス電話機\",\"\",IF(キー割付!G468=\"\",\"\",キー割付!G468))","v":""},{"$f":"IF(E79=\"ZX-DECLDIV-IPコードレス電話機\",\"\",IF(キー割付!H468=\"\",\"\",キー割付!H468))","v":""},{"$f":"IF(E79=\"ZX-DECLDIV-IPコードレス電話機\",\"\",IF(キー割付!I468=\"\",\"\",キー割付!I468))","v":""}]
[null,26,{"$f":"IF(IFERROR(VALUE(VLOOKUP(B82,内線_キー割用,2,FALSE)),\"\")=0,\"\",IFERROR(VALUE(VLOOKUP(B82,内線_キー割用,2,FALSE)),\"\"))","v":""},{"$f":"IF(IFERROR(VALUE(VLOOKUP(B82,内線_キー割用,4,FALSE)),\"\")=0,\"\",IFERROR(VALUE(VLOOKUP(B82,内線_キー割用,4,FALSE)),\"\"))","v":""},{"$f":"IF(IFERROR(VLOOKUP(B82,内線_キー割用,3,FALSE),\"\")=0,\"\",IFERROR(VLOOKUP(B82,内線_キー割用,3,FALSE),\"\"))","v":""},{"$f":"IF(キー割付!N442=\"\",\"\",キー割付!N442)","v":""},{"$f":"IF(キー割付!O442=\"\",\"\",キー割付!O442)","v":""},{"$f":"IF(キー割付!P442=\"\",\"\",キー割付!P442)","v":""},{"$f":"IF(キー割付!Q442=\"\",\"\",キー割付!Q442)","v":""},{"$f":"IF(キー割付!R442=\"\",\"\",キー割付!R442)","v":""},{"$f":"IF(キー割付!S442=\"\",\"\",キー割付!S442)","v":""},{"$f":"IF(キー割付!N450=\"\",\"\",キー割付!N450)","v":""},{"$f":"IF(キー割付!O450=\"\",\"\",キー割付!O450)","v":""},{"$f":"IF(E82=\"ZX-DECLDIV-IPコードレス電話機\",\"\",IF(キー割付!P450=\"\",\"\",キー割付!P450))","v":""},{"$f":"IF(E82=\"ZX-DECLDIV-IPコードレス電話機\",\"\",IF(キー割付!Q450=\"\",\"\",キー割付!Q450))","v":""},{"$f":"IF(E82=\"ZX-DECLDIV-IPコードレス電話機\",\"\",IF(キー割付!R450=\"\",\"\",キー割付!R450))","v":""},{"$f":"IF(E82=\"ZX-DECLDIV-IPコードレス電話機\",\"\",IF(キー割付!S450=\"\",\"\",キー割付!S450))","v":""},{"$f":"IF(E82=\"ZX-DECLDIV-IPコードレス電話機\",\"\",IF(キー割付!N458=\"\",\"\",キー割付!N458))","v":""},{"$f":"IF(E82=\"ZX-DECLDIV-IPコードレス電話機\",\"\",IF(キー割付!O458=\"\",\"\",キー割付!O458))","v":""},{"$f":"IF(E82=\"ZX-DECLDIV-IPコードレス電話機\",\"\",IF(キー割付!P458=\"\",\"\",キー割付!P458))","v":""},{"$f":"IF(E82=\"ZX-DECLDIV-IPコードレス電話機\",\"\",IF(キー割付!Q458=\"\",\"\",キー割付!Q458))","v":""},{"$f":"IF(E82=\"ZX-DECLDIV-IPコードレス電話機\",\"\",IF(キー割付!R458=\"\",\"\",キー割付!R458))","v":""},{"$f":"IF(E82=\"ZX-DECLDIV-IPコードレス電話機\",\"\",IF(キー割付!S458=\"\",\"\",キー割付!S458))","v":""},{"$f":"IF(E82=\"ZX-DECLDIV-IPコードレス電話機\",\"\",IF(キー割付!N466=\"\",\"\",キー割付!N466))","v":""},{"$f":"IF(E82=\"ZX-DECLDIV-IPコードレス電話機\",\"\",IF(キー割付!O466=\"\",\"\",キー割付!O466))","v":""},{"$f":"IF(E82=\"ZX-DECLDIV-IPコードレス電話機\",\"\",IF(キー割付!P466=\"\",\"\",キー割付!P466))","v":""},{"$f":"IF(E82=\"ZX-DECLDIV-IPコードレス電話機\",\"\",IF(キー割付!Q466=\"\",\"\",キー割付!Q466))","v":""},{"$f":"IF(E82=\"ZX-DECLDIV-IPコードレス電話機\",\"\",IF(キー割付!R466=\"\",\"\",キー割付!R466))","v":""},{"$f":"IF(E82=\"ZX-DECLDIV-IPコードレス電話機\",\"\",IF(キー割付!S466=\"\",\"\",キー割付!S466))","v":""}]
[null,null,null,null,null,{"$f":"IF(キー割付!N443=\"\",\"\",キー割付!N443)","v":""},{"$f":"IF(キー割付!O443=\"\",\"\",キー割付!O443)","v":""},{"$f":"IF(キー割付!P443=\"\",\"\",キー割付!P443)","v":""},{"$f":"IF(キー割付!Q443=\"\",\"\",キー割付!Q443)","v":""},{"$f":"IF(キー割付!R443=\"\",\"\",キー割付!R443)","v":""},{"$f":"IF(キー割付!S443=\"\",\"\",キー割付!S443)","v":""},{"$f":"IF(キー割付!N451=\"\",\"\",キー割付!N451)","v":""},{"$f":"IF(キー割付!O451=\"\",\"\",キー割付!O451)","v":""},{"$f":"IF(E82=\"ZX-DECLDIV-IPコードレス電話機\",\"\",IF(キー割付!P451=\"\",\"\",キー割付!P451))","v":""},{"$f":"IF(E82=\"ZX-DECLDIV-IPコードレス電話機\",\"\",IF(キー割付!Q451=\"\",\"\",キー割付!Q451))","v":""},{"$f":"IF(E82=\"ZX-DECLDIV-IPコードレス電話機\",\"\",IF(キー割付!R451=\"\",\"\",キー割付!R451))","v":""},{"$f":"IF(E82=\"ZX-DECLDIV-IPコードレス電話機\",\"\",IF(キー割付!S451=\"\",\"\",キー割付!S451))","v":""},{"$f":"IF(E82=\"ZX-DECLDIV-IPコードレス電話機\",\"\",IF(キー割付!N459=\"\",\"\",キー割付!N459))","v":""},{"$f":"IF(E82=\"ZX-DECLDIV-IPコードレス電話機\",\"\",IF(キー割付!O459=\"\",\"\",キー割付!O459))","v":""},{"$f":"IF(E82=\"ZX-DECLDIV-IPコードレス電話機\",\"\",IF(キー割付!P459=\"\",\"\",キー割付!P459))","v":""},{"$f":"IF(E82=\"ZX-DECLDIV-IPコードレス電話機\",\"\",IF(キー割付!Q459=\"\",\"\",キー割付!Q459))","v":""},{"$f":"IF(E82=\"ZX-DECLDIV-IPコードレス電話機\",\"\",IF(キー割付!R459=\"\",\"\",キー割付!R459))","v":""},{"$f":"IF(E82=\"ZX-DECLDIV-IPコードレス電話機\",\"\",IF(キー割付!S459=\"\",\"\",キー割付!S459))","v":""},{"$f":"IF(E82=\"ZX-DECLDIV-IPコードレス電話機\",\"\",IF(キー割付!N467=\"\",\"\",キー割付!N467))","v":""},{"$f":"IF(E82=\"ZX-DECLDIV-IPコードレス電話機\",\"\",IF(キー割付!O467=\"\",\"\",キー割付!O467))","v":""},{"$f":"IF(E82=\"ZX-DECLDIV-IPコードレス電話機\",\"\",IF(キー割付!P467=\"\",\"\",キー割付!P467))","v":""},{"$f":"IF(E82=\"ZX-DECLDIV-IPコードレス電話機\",\"\",IF(キー割付!Q467=\"\",\"\",キー割付!Q467))","v":""},{"$f":"IF(E82=\"ZX-DECLDIV-IPコードレス電話機\",\"\",IF(キー割付!R467=\"\",\"\",キー割付!R467))","v":""},{"$f":"IF(E82=\"ZX-DECLDIV-IPコードレス電話機\",\"\",IF(キー割付!S467=\"\",\"\",キー割付!S467))","v":""}]
[null,null,null,null,null,{"$f":"IF(キー割付!N444=\"\",\"\",キー割付!N444)","v":""},{"$f":"IF(キー割付!O444=\"\",\"\",キー割付!O444)","v":""},{"$f":"IF(キー割付!P444=\"\",\"\",キー割付!P444)","v":""},{"$f":"IF(キー割付!Q444=\"\",\"\",キー割付!Q444)","v":""},{"$f":"IF(キー割付!R444=\"\",\"\",キー割付!R444)","v":""},{"$f":"IF(キー割付!S444=\"\",\"\",キー割付!S444)","v":""},{"$f":"IF(キー割付!N452=\"\",\"\",キー割付!N452)","v":""},{"$f":"IF(キー割付!O452=\"\",\"\",キー割付!O452)","v":""},{"$f":"IF(E82=\"ZX-DECLDIV-IPコードレス電話機\",\"\",IF(キー割付!P452=\"\",\"\",キー割付!P452))","v":""},{"$f":"IF(E82=\"ZX-DECLDIV-IPコードレス電話機\",\"\",IF(キー割付!Q452=\"\",\"\",キー割付!Q452))","v":""},{"$f":"IF(E82=\"ZX-DECLDIV-IPコードレス電話機\",\"\",IF(キー割付!R452=\"\",\"\",キー割付!R452))","v":""},{"$f":"IF(E82=\"ZX-DECLDIV-IPコードレス電話機\",\"\",IF(キー割付!S452=\"\",\"\",キー割付!S452))","v":""},{"$f":"IF(E82=\"ZX-DECLDIV-IPコードレス電話機\",\"\",IF(キー割付!N460=\"\",\"\",キー割付!N460))","v":""},{"$f":"IF(E82=\"ZX-DECLDIV-IPコードレス電話機\",\"\",IF(キー割付!O460=\"\",\"\",キー割付!O460))","v":""},{"$f":"IF(E82=\"ZX-DECLDIV-IPコードレス電話機\",\"\",IF(キー割付!P460=\"\",\"\",キー割付!P460))","v":""},{"$f":"IF(E82=\"ZX-DECLDIV-IPコードレス電話機\",\"\",IF(キー割付!Q460=\"\",\"\",キー割付!Q460))","v":""},{"$f":"IF(E82=\"ZX-DECLDIV-IPコードレス電話機\",\"\",IF(キー割付!R460=\"\",\"\",キー割付!R460))","v":""},{"$f":"IF(E82=\"ZX-DECLDIV-IPコードレス電話機\",\"\",IF(キー割付!S460=\"\",\"\",キー割付!S460))","v":""},{"$f":"IF(E82=\"ZX-DECLDIV-IPコードレス電話機\",\"\",IF(キー割付!N468=\"\",\"\",キー割付!N468))","v":""},{"$f":"IF(E82=\"ZX-DECLDIV-IPコードレス電話機\",\"\",IF(キー割付!O468=\"\",\"\",キー割付!O468))","v":""},{"$f":"IF(E82=\"ZX-DECLDIV-IPコードレス電話機\",\"\",IF(キー割付!P468=\"\",\"\",キー割付!P468))","v":""},{"$f":"IF(E82=\"ZX-DECLDIV-IPコードレス電話機\",\"\",IF(キー割付!Q468=\"\",\"\",キー割付!Q468))","v":""},{"$f":"IF(E82=\"ZX-DECLDIV-IPコードレス電話機\",\"\",IF(キー割付!R468=\"\",\"\",キー割付!R468))","v":""},{"$f":"IF(E82=\"ZX-DECLDIV-IPコードレス電話機\",\"\",IF(キー割付!S468=\"\",\"\",キー割付!S468))","v":""}]
[null,27,{"$f":"IF(IFERROR(VALUE(VLOOKUP(B85,内線_キー割用,2,FALSE)),\"\")=0,\"\",IFERROR(VALUE(VLOOKUP(B85,内線_キー割用,2,FALSE)),\"\"))","v":""},{"$f":"IF(IFERROR(VALUE(VLOOKUP(B85,内線_キー割用,4,FALSE)),\"\")=0,\"\",IFERROR(VALUE(VLOOKUP(B85,内線_キー割用,4,FALSE)),\"\"))","v":""},{"$f":"IF(IFERROR(VLOOKUP(B85,内線_キー割用,3,FALSE),\"\")=0,\"\",IFERROR(VLOOKUP(B85,内線_キー割用,3,FALSE),\"\"))","v":""},{"$f":"IF(キー割付!D478=\"\",\"\",キー割付!D478)","v":""},{"$f":"IF(キー割付!E478=\"\",\"\",キー割付!E478)","v":""},{"$f":"IF(キー割付!F478=\"\",\"\",キー割付!F478)","v":""},{"$f":"IF(キー割付!G478=\"\",\"\",キー割付!G478)","v":""},{"$f":"IF(キー割付!H478=\"\",\"\",キー割付!H478)","v":""},{"$f":"IF(キー割付!I478=\"\",\"\",キー割付!I478)","v":""},{"$f":"IF(キー割付!D486=\"\",\"\",キー割付!D486)","v":""},{"$f":"IF(キー割付!E486=\"\",\"\",キー割付!E486)","v":""},{"$f":"IF(E85=\"ZX-DECLDIV-IPコードレス電話機\",\"\",IF(キー割付!F486=\"\",\"\",キー割付!F486))","v":""},{"$f":"IF(E85=\"ZX-DECLDIV-IPコードレス電話機\",\"\",IF(キー割付!G486=\"\",\"\",キー割付!G486))","v":""},{"$f":"IF(E85=\"ZX-DECLDIV-IPコードレス電話機\",\"\",IF(キー割付!H486=\"\",\"\",キー割付!H486))","v":""},{"$f":"IF(E85=\"ZX-DECLDIV-IPコードレス電話機\",\"\",IF(キー割付!I486=\"\",\"\",キー割付!I486))","v":""},{"$f":"IF(E85=\"ZX-DECLDIV-IPコードレス電話機\",\"\",IF(キー割付!D494=\"\",\"\",キー割付!D494))","v":""},{"$f":"IF(E85=\"ZX-DECLDIV-IPコードレス電話機\",\"\",IF(キー割付!E494=\"\",\"\",キー割付!E494))","v":""},{"$f":"IF(E85=\"ZX-DECLDIV-IPコードレス電話機\",\"\",IF(キー割付!F494=\"\",\"\",キー割付!F494))","v":""},{"$f":"IF(E85=\"ZX-DECLDIV-IPコードレス電話機\",\"\",IF(キー割付!G494=\"\",\"\",キー割付!G494))","v":""},{"$f":"IF(E85=\"ZX-DECLDIV-IPコードレス電話機\",\"\",IF(キー割付!H494=\"\",\"\",キー割付!H494))","v":""},{"$f":"IF(E85=\"ZX-DECLDIV-IPコードレス電話機\",\"\",IF(キー割付!I494=\"\",\"\",キー割付!I494))","v":""},{"$f":"IF(E85=\"ZX-DECLDIV-IPコードレス電話機\",\"\",IF(キー割付!D502=\"\",\"\",キー割付!D502))","v":""},{"$f":"IF(E85=\"ZX-DECLDIV-IPコードレス電話機\",\"\",IF(キー割付!E502=\"\",\"\",キー割付!E502))","v":""},{"$f":"IF(E85=\"ZX-DECLDIV-IPコードレス電話機\",\"\",IF(キー割付!F502=\"\",\"\",キー割付!F502))","v":""},{"$f":"IF(E85=\"ZX-DECLDIV-IPコードレス電話機\",\"\",IF(キー割付!G502=\"\",\"\",キー割付!G502))","v":""},{"$f":"IF(E85=\"ZX-DECLDIV-IPコードレス電話機\",\"\",IF(キー割付!H502=\"\",\"\",キー割付!H502))","v":""},{"$f":"IF(E85=\"ZX-DECLDIV-IPコードレス電話機\",\"\",IF(キー割付!I502=\"\",\"\",キー割付!I502))","v":""}]
[null,null,null,null,null,{"$f":"IF(キー割付!D479=\"\",\"\",キー割付!D479)","v":""},{"$f":"IF(キー割付!E479=\"\",\"\",キー割付!E479)","v":""},{"$f":"IF(キー割付!F479=\"\",\"\",キー割付!F479)","v":""},{"$f":"IF(キー割付!G479=\"\",\"\",キー割付!G479)","v":""},{"$f":"IF(キー割付!H479=\"\",\"\",キー割付!H479)","v":""},{"$f":"IF(キー割付!I479=\"\",\"\",キー割付!I479)","v":""},{"$f":"IF(キー割付!D487=\"\",\"\",キー割付!D487)","v":""},{"$f":"IF(キー割付!E487=\"\",\"\",キー割付!E487)","v":""},{"$f":"IF(E85=\"ZX-DECLDIV-IPコードレス電話機\",\"\",IF(キー割付!F487=\"\",\"\",キー割付!F487))","v":""},{"$f":"IF(E85=\"ZX-DECLDIV-IPコードレス電話機\",\"\",IF(キー割付!G487=\"\",\"\",キー割付!G487))","v":""},{"$f":"IF(E85=\"ZX-DECLDIV-IPコードレス電話機\",\"\",IF(キー割付!H487=\"\",\"\",キー割付!H487))","v":""},{"$f":"IF(E85=\"ZX-DECLDIV-IPコードレス電話機\",\"\",IF(キー割付!I487=\"\",\"\",キー割付!I487))","v":""},{"$f":"IF(E85=\"ZX-DECLDIV-IPコードレス電話機\",\"\",IF(キー割付!D495=\"\",\"\",キー割付!D495))","v":""},{"$f":"IF(E85=\"ZX-DECLDIV-IPコードレス電話機\",\"\",IF(キー割付!E495=\"\",\"\",キー割付!E495))","v":""},{"$f":"IF(E85=\"ZX-DECLDIV-IPコードレス電話機\",\"\",IF(キー割付!F495=\"\",\"\",キー割付!F495))","v":""},{"$f":"IF(E85=\"ZX-DECLDIV-IPコードレス電話機\",\"\",IF(キー割付!G495=\"\",\"\",キー割付!G495))","v":""},{"$f":"IF(E85=\"ZX-DECLDIV-IPコードレス電話機\",\"\",IF(キー割付!H495=\"\",\"\",キー割付!H495))","v":""},{"$f":"IF(E85=\"ZX-DECLDIV-IPコードレス電話機\",\"\",IF(キー割付!I495=\"\",\"\",キー割付!I495))","v":""},{"$f":"IF(E85=\"ZX-DECLDIV-IPコードレス電話機\",\"\",IF(キー割付!D503=\"\",\"\",キー割付!D503))","v":""},{"$f":"IF(E85=\"ZX-DECLDIV-IPコードレス電話機\",\"\",IF(キー割付!E503=\"\",\"\",キー割付!E503))","v":""},{"$f":"IF(E85=\"ZX-DECLDIV-IPコードレス電話機\",\"\",IF(キー割付!F503=\"\",\"\",キー割付!F503))","v":""},{"$f":"IF(E85=\"ZX-DECLDIV-IPコードレス電話機\",\"\",IF(キー割付!G503=\"\",\"\",キー割付!G503))","v":""},{"$f":"IF(E85=\"ZX-DECLDIV-IPコードレス電話機\",\"\",IF(キー割付!H503=\"\",\"\",キー割付!H503))","v":""},{"$f":"IF(E85=\"ZX-DECLDIV-IPコードレス電話機\",\"\",IF(キー割付!I503=\"\",\"\",キー割付!I503))","v":""}]
[null,null,null,null,null,{"$f":"IF(キー割付!D480=\"\",\"\",キー割付!D480)","v":""},{"$f":"IF(キー割付!E480=\"\",\"\",キー割付!E480)","v":""},{"$f":"IF(キー割付!F480=\"\",\"\",キー割付!F480)","v":""},{"$f":"IF(キー割付!G480=\"\",\"\",キー割付!G480)","v":""},{"$f":"IF(キー割付!H480=\"\",\"\",キー割付!H480)","v":""},{"$f":"IF(キー割付!I480=\"\",\"\",キー割付!I480)","v":""},{"$f":"IF(キー割付!D488=\"\",\"\",キー割付!D488)","v":""},{"$f":"IF(キー割付!E488=\"\",\"\",キー割付!E488)","v":""},{"$f":"IF(E85=\"ZX-DECLDIV-IPコードレス電話機\",\"\",IF(キー割付!F488=\"\",\"\",キー割付!F488))","v":""},{"$f":"IF(E85=\"ZX-DECLDIV-IPコードレス電話機\",\"\",IF(キー割付!G488=\"\",\"\",キー割付!G488))","v":""},{"$f":"IF(E85=\"ZX-DECLDIV-IPコードレス電話機\",\"\",IF(キー割付!H488=\"\",\"\",キー割付!H488))","v":""},{"$f":"IF(E85=\"ZX-DECLDIV-IPコードレス電話機\",\"\",IF(キー割付!I488=\"\",\"\",キー割付!I488))","v":""},{"$f":"IF(E85=\"ZX-DECLDIV-IPコードレス電話機\",\"\",IF(キー割付!D496=\"\",\"\",キー割付!D496))","v":""},{"$f":"IF(E85=\"ZX-DECLDIV-IPコードレス電話機\",\"\",IF(キー割付!E496=\"\",\"\",キー割付!E496))","v":""},{"$f":"IF(E85=\"ZX-DECLDIV-IPコードレス電話機\",\"\",IF(キー割付!F496=\"\",\"\",キー割付!F496))","v":""},{"$f":"IF(E85=\"ZX-DECLDIV-IPコードレス電話機\",\"\",IF(キー割付!G496=\"\",\"\",キー割付!G496))","v":""},{"$f":"IF(E85=\"ZX-DECLDIV-IPコードレス電話機\",\"\",IF(キー割付!H496=\"\",\"\",キー割付!H496))","v":""},{"$f":"IF(E85=\"ZX-DECLDIV-IPコードレス電話機\",\"\",IF(キー割付!I496=\"\",\"\",キー割付!I496))","v":""},{"$f":"IF(E85=\"ZX-DECLDIV-IPコードレス電話機\",\"\",IF(キー割付!D504=\"\",\"\",キー割付!D504))","v":""},{"$f":"IF(E85=\"ZX-DECLDIV-IPコードレス電話機\",\"\",IF(キー割付!E504=\"\",\"\",キー割付!E504))","v":""},{"$f":"IF(E85=\"ZX-DECLDIV-IPコードレス電話機\",\"\",IF(キー割付!F504=\"\",\"\",キー割付!F504))","v":""},{"$f":"IF(E85=\"ZX-DECLDIV-IPコードレス電話機\",\"\",IF(キー割付!G504=\"\",\"\",キー割付!G504))","v":""},{"$f":"IF(E85=\"ZX-DECLDIV-IPコードレス電話機\",\"\",IF(キー割付!H504=\"\",\"\",キー割付!H504))","v":""},{"$f":"IF(E85=\"ZX-DECLDIV-IPコードレス電話機\",\"\",IF(キー割付!I504=\"\",\"\",キー割付!I504))","v":""}]
[null,28,{"$f":"IF(IFERROR(VALUE(VLOOKUP(B88,内線_キー割用,2,FALSE)),\"\")=0,\"\",IFERROR(VALUE(VLOOKUP(B88,内線_キー割用,2,FALSE)),\"\"))","v":""},{"$f":"IF(IFERROR(VALUE(VLOOKUP(B88,内線_キー割用,4,FALSE)),\"\")=0,\"\",IFERROR(VALUE(VLOOKUP(B88,内線_キー割用,4,FALSE)),\"\"))","v":""},{"$f":"IF(IFERROR(VLOOKUP(B88,内線_キー割用,3,FALSE),\"\")=0,\"\",IFERROR(VLOOKUP(B88,内線_キー割用,3,FALSE),\"\"))","v":""},{"$f":"IF(キー割付!N478=\"\",\"\",キー割付!N478)","v":""},{"$f":"IF(キー割付!O478=\"\",\"\",キー割付!O478)","v":""},{"$f":"IF(キー割付!P478=\"\",\"\",キー割付!P478)","v":""},{"$f":"IF(キー割付!Q478=\"\",\"\",キー割付!Q478)","v":""},{"$f":"IF(キー割付!R478=\"\",\"\",キー割付!R478)","v":""},{"$f":"IF(キー割付!S478=\"\",\"\",キー割付!S478)","v":""},{"$f":"IF(キー割付!N486=\"\",\"\",キー割付!N486)","v":""},{"$f":"IF(キー割付!O486=\"\",\"\",キー割付!O486)","v":""},{"$f":"IF(E88=\"ZX-DECLDIV-IPコードレス電話機\",\"\",IF(キー割付!P486=\"\",\"\",キー割付!P486))","v":""},{"$f":"IF(E88=\"ZX-DECLDIV-IPコードレス電話機\",\"\",IF(キー割付!Q486=\"\",\"\",キー割付!Q486))","v":""},{"$f":"IF(E88=\"ZX-DECLDIV-IPコードレス電話機\",\"\",IF(キー割付!R486=\"\",\"\",キー割付!R486))","v":""},{"$f":"IF(E88=\"ZX-DECLDIV-IPコードレス電話機\",\"\",IF(キー割付!S486=\"\",\"\",キー割付!S486))","v":""},{"$f":"IF(E88=\"ZX-DECLDIV-IPコードレス電話機\",\"\",IF(キー割付!N494=\"\",\"\",キー割付!N494))","v":""},{"$f":"IF(E88=\"ZX-DECLDIV-IPコードレス電話機\",\"\",IF(キー割付!O494=\"\",\"\",キー割付!O494))","v":""},{"$f":"IF(E88=\"ZX-DECLDIV-IPコードレス電話機\",\"\",IF(キー割付!P494=\"\",\"\",キー割付!P494))","v":""},{"$f":"IF(E88=\"ZX-DECLDIV-IPコードレス電話機\",\"\",IF(キー割付!Q494=\"\",\"\",キー割付!Q494))","v":""},{"$f":"IF(E88=\"ZX-DECLDIV-IPコードレス電話機\",\"\",IF(キー割付!R494=\"\",\"\",キー割付!R494))","v":""},{"$f":"IF(E88=\"ZX-DECLDIV-IPコードレス電話機\",\"\",IF(キー割付!S494=\"\",\"\",キー割付!S494))","v":""},{"$f":"IF(E88=\"ZX-DECLDIV-IPコードレス電話機\",\"\",IF(キー割付!N502=\"\",\"\",キー割付!N502))","v":""},{"$f":"IF(E88=\"ZX-DECLDIV-IPコードレス電話機\",\"\",IF(キー割付!O502=\"\",\"\",キー割付!O502))","v":""},{"$f":"IF(E88=\"ZX-DECLDIV-IPコードレス電話機\",\"\",IF(キー割付!P502=\"\",\"\",キー割付!P502))","v":""},{"$f":"IF(E88=\"ZX-DECLDIV-IPコードレス電話機\",\"\",IF(キー割付!Q502=\"\",\"\",キー割付!Q502))","v":""},{"$f":"IF(E88=\"ZX-DECLDIV-IPコードレス電話機\",\"\",IF(キー割付!R502=\"\",\"\",キー割付!R502))","v":""},{"$f":"IF(E88=\"ZX-DECLDIV-IPコードレス電話機\",\"\",IF(キー割付!S502=\"\",\"\",キー割付!S502))","v":""}]
[null,null,null,null,null,{"$f":"IF(キー割付!N479=\"\",\"\",キー割付!N479)","v":""},{"$f":"IF(キー割付!O479=\"\",\"\",キー割付!O479)","v":""},{"$f":"IF(キー割付!P479=\"\",\"\",キー割付!P479)","v":""},{"$f":"IF(キー割付!Q479=\"\",\"\",キー割付!Q479)","v":""},{"$f":"IF(キー割付!R479=\"\",\"\",キー割付!R479)","v":""},{"$f":"IF(キー割付!S479=\"\",\"\",キー割付!S479)","v":""},{"$f":"IF(キー割付!N487=\"\",\"\",キー割付!N487)","v":""},{"$f":"IF(キー割付!O487=\"\",\"\",キー割付!O487)","v":""},{"$f":"IF(E88=\"ZX-DECLDIV-IPコードレス電話機\",\"\",IF(キー割付!P487=\"\",\"\",キー割付!P487))","v":""},{"$f":"IF(E88=\"ZX-DECLDIV-IPコードレス電話機\",\"\",IF(キー割付!Q487=\"\",\"\",キー割付!Q487))","v":""},{"$f":"IF(E88=\"ZX-DECLDIV-IPコードレス電話機\",\"\",IF(キー割付!R487=\"\",\"\",キー割付!R487))","v":""},{"$f":"IF(E88=\"ZX-DECLDIV-IPコードレス電話機\",\"\",IF(キー割付!S487=\"\",\"\",キー割付!S487))","v":""},{"$f":"IF(E88=\"ZX-DECLDIV-IPコードレス電話機\",\"\",IF(キー割付!N495=\"\",\"\",キー割付!N495))","v":""},{"$f":"IF(E88=\"ZX-DECLDIV-IPコードレス電話機\",\"\",IF(キー割付!O495=\"\",\"\",キー割付!O495))","v":""},{"$f":"IF(E88=\"ZX-DECLDIV-IPコードレス電話機\",\"\",IF(キー割付!P495=\"\",\"\",キー割付!P495))","v":""},{"$f":"IF(E88=\"ZX-DECLDIV-IPコードレス電話機\",\"\",IF(キー割付!Q495=\"\",\"\",キー割付!Q495))","v":""},{"$f":"IF(E88=\"ZX-DECLDIV-IPコードレス電話機\",\"\",IF(キー割付!R495=\"\",\"\",キー割付!R495))","v":""},{"$f":"IF(E88=\"ZX-DECLDIV-IPコードレス電話機\",\"\",IF(キー割付!S495=\"\",\"\",キー割付!S495))","v":""},{"$f":"IF(E88=\"ZX-DECLDIV-IPコードレス電話機\",\"\",IF(キー割付!N503=\"\",\"\",キー割付!N503))","v":""},{"$f":"IF(E88=\"ZX-DECLDIV-IPコードレス電話機\",\"\",IF(キー割付!O503=\"\",\"\",キー割付!O503))","v":""},{"$f":"IF(E88=\"ZX-DECLDIV-IPコードレス電話機\",\"\",IF(キー割付!P503=\"\",\"\",キー割付!P503))","v":""},{"$f":"IF(E88=\"ZX-DECLDIV-IPコードレス電話機\",\"\",IF(キー割付!Q503=\"\",\"\",キー割付!Q503))","v":""},{"$f":"IF(E88=\"ZX-DECLDIV-IPコードレス電話機\",\"\",IF(キー割付!R503=\"\",\"\",キー割付!R503))","v":""},{"$f":"IF(E88=\"ZX-DECLDIV-IPコードレス電話機\",\"\",IF(キー割付!S503=\"\",\"\",キー割付!S503))","v":""}]
[null,null,null,null,null,{"$f":"IF(キー割付!N480=\"\",\"\",キー割付!N480)","v":""},{"$f":"IF(キー割付!O480=\"\",\"\",キー割付!O480)","v":""},{"$f":"IF(キー割付!P480=\"\",\"\",キー割付!P480)","v":""},{"$f":"IF(キー割付!Q480=\"\",\"\",キー割付!Q480)","v":""},{"$f":"IF(キー割付!R480=\"\",\"\",キー割付!R480)","v":""},{"$f":"IF(キー割付!S480=\"\",\"\",キー割付!S480)","v":""},{"$f":"IF(キー割付!N488=\"\",\"\",キー割付!N488)","v":""},{"$f":"IF(キー割付!O488=\"\",\"\",キー割付!O488)","v":""},{"$f":"IF(E88=\"ZX-DECLDIV-IPコードレス電話機\",\"\",IF(キー割付!P488=\"\",\"\",キー割付!P488))","v":""},{"$f":"IF(E88=\"ZX-DECLDIV-IPコードレス電話機\",\"\",IF(キー割付!Q488=\"\",\"\",キー割付!Q488))","v":""},{"$f":"IF(E88=\"ZX-DECLDIV-IPコードレス電話機\",\"\",IF(キー割付!R488=\"\",\"\",キー割付!R488))","v":""},{"$f":"IF(E88=\"ZX-DECLDIV-IPコードレス電話機\",\"\",IF(キー割付!S488=\"\",\"\",キー割付!S488))","v":""},{"$f":"IF(E88=\"ZX-DECLDIV-IPコードレス電話機\",\"\",IF(キー割付!N496=\"\",\"\",キー割付!N496))","v":""},{"$f":"IF(E88=\"ZX-DECLDIV-IPコードレス電話機\",\"\",IF(キー割付!O496=\"\",\"\",キー割付!O496))","v":""},{"$f":"IF(E88=\"ZX-DECLDIV-IPコードレス電話機\",\"\",IF(キー割付!P496=\"\",\"\",キー割付!P496))","v":""},{"$f":"IF(E88=\"ZX-DECLDIV-IPコードレス電話機\",\"\",IF(キー割付!Q496=\"\",\"\",キー割付!Q496))","v":""},{"$f":"IF(E88=\"ZX-DECLDIV-IPコードレス電話機\",\"\",IF(キー割付!R496=\"\",\"\",キー割付!R496))","v":""},{"$f":"IF(E88=\"ZX-DECLDIV-IPコードレス電話機\",\"\",IF(キー割付!S496=\"\",\"\",キー割付!S496))","v":""},{"$f":"IF(E88=\"ZX-DECLDIV-IPコードレス電話機\",\"\",IF(キー割付!N504=\"\",\"\",キー割付!N504))","v":""},{"$f":"IF(E88=\"ZX-DECLDIV-IPコードレス電話機\",\"\",IF(キー割付!O504=\"\",\"\",キー割付!O504))","v":""},{"$f":"IF(E88=\"ZX-DECLDIV-IPコードレス電話機\",\"\",IF(キー割付!P504=\"\",\"\",キー割付!P504))","v":""},{"$f":"IF(E88=\"ZX-DECLDIV-IPコードレス電話機\",\"\",IF(キー割付!Q504=\"\",\"\",キー割付!Q504))","v":""},{"$f":"IF(E88=\"ZX-DECLDIV-IPコードレス電話機\",\"\",IF(キー割付!R504=\"\",\"\",キー割付!R504))","v":""},{"$f":"IF(E88=\"ZX-DECLDIV-IPコードレス電話機\",\"\",IF(キー割付!S504=\"\",\"\",キー割付!S504))","v":""}]
[null,29,{"$f":"IF(IFERROR(VALUE(VLOOKUP(B91,内線_キー割用,2,FALSE)),\"\")=0,\"\",IFERROR(VALUE(VLOOKUP(B91,内線_キー割用,2,FALSE)),\"\"))","v":""},{"$f":"IF(IFERROR(VALUE(VLOOKUP(B91,内線_キー割用,4,FALSE)),\"\")=0,\"\",IFERROR(VALUE(VLOOKUP(B91,内線_キー割用,4,FALSE)),\"\"))","v":""},{"$f":"IF(IFERROR(VLOOKUP(B91,内線_キー割用,3,FALSE),\"\")=0,\"\",IFERROR(VLOOKUP(B91,内線_キー割用,3,FALSE),\"\"))","v":""},{"$f":"IF(キー割付!D514=\"\",\"\",キー割付!D514)","v":""},{"$f":"IF(キー割付!E514=\"\",\"\",キー割付!E514)","v":""},{"$f":"IF(キー割付!F514=\"\",\"\",キー割付!F514)","v":""},{"$f":"IF(キー割付!G514=\"\",\"\",キー割付!G514)","v":""},{"$f":"IF(キー割付!H514=\"\",\"\",キー割付!H514)","v":""},{"$f":"IF(キー割付!I514=\"\",\"\",キー割付!I514)","v":""},{"$f":"IF(キー割付!D522=\"\",\"\",キー割付!D522)","v":""},{"$f":"IF(キー割付!E522=\"\",\"\",キー割付!E522)","v":""},{"$f":"IF(E91=\"ZX-DECLDIV-IPコードレス電話機\",\"\",IF(キー割付!F522=\"\",\"\",キー割付!F522))","v":""},{"$f":"IF(E91=\"ZX-DECLDIV-IPコードレス電話機\",\"\",IF(キー割付!G522=\"\",\"\",キー割付!G522))","v":""},{"$f":"IF(E91=\"ZX-DECLDIV-IPコードレス電話機\",\"\",IF(キー割付!H522=\"\",\"\",キー割付!H522))","v":""},{"$f":"IF(E91=\"ZX-DECLDIV-IPコードレス電話機\",\"\",IF(キー割付!I522=\"\",\"\",キー割付!I522))","v":""},{"$f":"IF(E91=\"ZX-DECLDIV-IPコードレス電話機\",\"\",IF(キー割付!D530=\"\",\"\",キー割付!D530))","v":""},{"$f":"IF(E91=\"ZX-DECLDIV-IPコードレス電話機\",\"\",IF(キー割付!E530=\"\",\"\",キー割付!E530))","v":""},{"$f":"IF(E91=\"ZX-DECLDIV-IPコードレス電話機\",\"\",IF(キー割付!F530=\"\",\"\",キー割付!F530))","v":""},{"$f":"IF(E91=\"ZX-DECLDIV-IPコードレス電話機\",\"\",IF(キー割付!G530=\"\",\"\",キー割付!G530))","v":""},{"$f":"IF(E91=\"ZX-DECLDIV-IPコードレス電話機\",\"\",IF(キー割付!H530=\"\",\"\",キー割付!H530))","v":""},{"$f":"IF(E91=\"ZX-DECLDIV-IPコードレス電話機\",\"\",IF(キー割付!I530=\"\",\"\",キー割付!I530))","v":""},{"$f":"IF(E91=\"ZX-DECLDIV-IPコードレス電話機\",\"\",IF(キー割付!D538=\"\",\"\",キー割付!D538))","v":""},{"$f":"IF(E91=\"ZX-DECLDIV-IPコードレス電話機\",\"\",IF(キー割付!E538=\"\",\"\",キー割付!E538))","v":""},{"$f":"IF(E91=\"ZX-DECLDIV-IPコードレス電話機\",\"\",IF(キー割付!F538=\"\",\"\",キー割付!F538))","v":""},{"$f":"IF(E91=\"ZX-DECLDIV-IPコードレス電話機\",\"\",IF(キー割付!G538=\"\",\"\",キー割付!G538))","v":""},{"$f":"IF(E91=\"ZX-DECLDIV-IPコードレス電話機\",\"\",IF(キー割付!H538=\"\",\"\",キー割付!H538))","v":""},{"$f":"IF(E91=\"ZX-DECLDIV-IPコードレス電話機\",\"\",IF(キー割付!I538=\"\",\"\",キー割付!I538))","v":""}]
[null,null,null,null,null,{"$f":"IF(キー割付!D515=\"\",\"\",キー割付!D515)","v":""},{"$f":"IF(キー割付!E515=\"\",\"\",キー割付!E515)","v":""},{"$f":"IF(キー割付!F515=\"\",\"\",キー割付!F515)","v":""},{"$f":"IF(キー割付!G515=\"\",\"\",キー割付!G515)","v":""},{"$f":"IF(キー割付!H515=\"\",\"\",キー割付!H515)","v":""},{"$f":"IF(キー割付!I515=\"\",\"\",キー割付!I515)","v":""},{"$f":"IF(キー割付!D523=\"\",\"\",キー割付!D523)","v":""},{"$f":"IF(キー割付!E523=\"\",\"\",キー割付!E523)","v":""},{"$f":"IF(E91=\"ZX-DECLDIV-IPコードレス電話機\",\"\",IF(キー割付!F523=\"\",\"\",キー割付!F523))","v":""},{"$f":"IF(E91=\"ZX-DECLDIV-IPコードレス電話機\",\"\",IF(キー割付!G523=\"\",\"\",キー割付!G523))","v":""},{"$f":"IF(E91=\"ZX-DECLDIV-IPコードレス電話機\",\"\",IF(キー割付!H523=\"\",\"\",キー割付!H523))","v":""},{"$f":"IF(E91=\"ZX-DECLDIV-IPコードレス電話機\",\"\",IF(キー割付!I523=\"\",\"\",キー割付!I523))","v":""},{"$f":"IF(E91=\"ZX-DECLDIV-IPコードレス電話機\",\"\",IF(キー割付!D531=\"\",\"\",キー割付!D531))","v":""},{"$f":"IF(E91=\"ZX-DECLDIV-IPコードレス電話機\",\"\",IF(キー割付!E531=\"\",\"\",キー割付!E531))","v":""},{"$f":"IF(E91=\"ZX-DECLDIV-IPコードレス電話機\",\"\",IF(キー割付!F531=\"\",\"\",キー割付!F531))","v":""},{"$f":"IF(E91=\"ZX-DECLDIV-IPコードレス電話機\",\"\",IF(キー割付!G531=\"\",\"\",キー割付!G531))","v":""},{"$f":"IF(E91=\"ZX-DECLDIV-IPコードレス電話機\",\"\",IF(キー割付!H531=\"\",\"\",キー割付!H531))","v":""},{"$f":"IF(E91=\"ZX-DECLDIV-IPコードレス電話機\",\"\",IF(キー割付!I531=\"\",\"\",キー割付!I531))","v":""},{"$f":"IF(E91=\"ZX-DECLDIV-IPコードレス電話機\",\"\",IF(キー割付!D539=\"\",\"\",キー割付!D539))","v":""},{"$f":"IF(E91=\"ZX-DECLDIV-IPコードレス電話機\",\"\",IF(キー割付!E539=\"\",\"\",キー割付!E539))","v":""},{"$f":"IF(E91=\"ZX-DECLDIV-IPコードレス電話機\",\"\",IF(キー割付!F539=\"\",\"\",キー割付!F539))","v":""},{"$f":"IF(E91=\"ZX-DECLDIV-IPコードレス電話機\",\"\",IF(キー割付!G539=\"\",\"\",キー割付!G539))","v":""},{"$f":"IF(E91=\"ZX-DECLDIV-IPコードレス電話機\",\"\",IF(キー割付!H539=\"\",\"\",キー割付!H539))","v":""},{"$f":"IF(E91=\"ZX-DECLDIV-IPコードレス電話機\",\"\",IF(キー割付!I539=\"\",\"\",キー割付!I539))","v":""}]
[null,null,null,null,null,{"$f":"IF(キー割付!D516=\"\",\"\",キー割付!D516)","v":""},{"$f":"IF(キー割付!E516=\"\",\"\",キー割付!E516)","v":""},{"$f":"IF(キー割付!F516=\"\",\"\",キー割付!F516)","v":""},{"$f":"IF(キー割付!G516=\"\",\"\",キー割付!G516)","v":""},{"$f":"IF(キー割付!H516=\"\",\"\",キー割付!H516)","v":""},{"$f":"IF(キー割付!I516=\"\",\"\",キー割付!I516)","v":""},{"$f":"IF(キー割付!D524=\"\",\"\",キー割付!D524)","v":""},{"$f":"IF(キー割付!E524=\"\",\"\",キー割付!E524)","v":""},{"$f":"IF(E91=\"ZX-DECLDIV-IPコードレス電話機\",\"\",IF(キー割付!F524=\"\",\"\",キー割付!F524))","v":""},{"$f":"IF(E91=\"ZX-DECLDIV-IPコードレス電話機\",\"\",IF(キー割付!G524=\"\",\"\",キー割付!G524))","v":""},{"$f":"IF(E91=\"ZX-DECLDIV-IPコードレス電話機\",\"\",IF(キー割付!H524=\"\",\"\",キー割付!H524))","v":""},{"$f":"IF(E91=\"ZX-DECLDIV-IPコードレス電話機\",\"\",IF(キー割付!I524=\"\",\"\",キー割付!I524))","v":""},{"$f":"IF(E91=\"ZX-DECLDIV-IPコードレス電話機\",\"\",IF(キー割付!D532=\"\",\"\",キー割付!D532))","v":""},{"$f":"IF(E91=\"ZX-DECLDIV-IPコードレス電話機\",\"\",IF(キー割付!E532=\"\",\"\",キー割付!E532))","v":""},{"$f":"IF(E91=\"ZX-DECLDIV-IPコードレス電話機\",\"\",IF(キー割付!F532=\"\",\"\",キー割付!F532))","v":""},{"$f":"IF(E91=\"ZX-DECLDIV-IPコードレス電話機\",\"\",IF(キー割付!G532=\"\",\"\",キー割付!G532))","v":""},{"$f":"IF(E91=\"ZX-DECLDIV-IPコードレス電話機\",\"\",IF(キー割付!H532=\"\",\"\",キー割付!H532))","v":""},{"$f":"IF(E91=\"ZX-DECLDIV-IPコードレス電話機\",\"\",IF(キー割付!I532=\"\",\"\",キー割付!I532))","v":""},{"$f":"IF(E91=\"ZX-DECLDIV-IPコードレス電話機\",\"\",IF(キー割付!D540=\"\",\"\",キー割付!D540))","v":""},{"$f":"IF(E91=\"ZX-DECLDIV-IPコードレス電話機\",\"\",IF(キー割付!E540=\"\",\"\",キー割付!E540))","v":""},{"$f":"IF(E91=\"ZX-DECLDIV-IPコードレス電話機\",\"\",IF(キー割付!F540=\"\",\"\",キー割付!F540))","v":""},{"$f":"IF(E91=\"ZX-DECLDIV-IPコードレス電話機\",\"\",IF(キー割付!G540=\"\",\"\",キー割付!G540))","v":""},{"$f":"IF(E91=\"ZX-DECLDIV-IPコードレス電話機\",\"\",IF(キー割付!H540=\"\",\"\",キー割付!H540))","v":""},{"$f":"IF(E91=\"ZX-DECLDIV-IPコードレス電話機\",\"\",IF(キー割付!I540=\"\",\"\",キー割付!I540))","v":""}]
[null,30,{"$f":"IF(IFERROR(VALUE(VLOOKUP(B94,内線_キー割用,2,FALSE)),\"\")=0,\"\",IFERROR(VALUE(VLOOKUP(B94,内線_キー割用,2,FALSE)),\"\"))","v":""},{"$f":"IF(IFERROR(VALUE(VLOOKUP(B94,内線_キー割用,4,FALSE)),\"\")=0,\"\",IFERROR(VALUE(VLOOKUP(B94,内線_キー割用,4,FALSE)),\"\"))","v":""},{"$f":"IF(IFERROR(VLOOKUP(B94,内線_キー割用,3,FALSE),\"\")=0,\"\",IFERROR(VLOOKUP(B94,内線_キー割用,3,FALSE),\"\"))","v":""},{"$f":"IF(キー割付!N514=\"\",\"\",キー割付!N514)","v":""},{"$f":"IF(キー割付!O514=\"\",\"\",キー割付!O514)","v":""},{"$f":"IF(キー割付!P514=\"\",\"\",キー割付!P514)","v":""},{"$f":"IF(キー割付!Q514=\"\",\"\",キー割付!Q514)","v":""},{"$f":"IF(キー割付!R514=\"\",\"\",キー割付!R514)","v":""},{"$f":"IF(キー割付!S514=\"\",\"\",キー割付!S514)","v":""},{"$f":"IF(キー割付!N522=\"\",\"\",キー割付!N522)","v":""},{"$f":"IF(キー割付!O522=\"\",\"\",キー割付!O522)","v":""},{"$f":"IF(E94=\"ZX-DECLDIV-IPコードレス電話機\",\"\",IF(キー割付!P522=\"\",\"\",キー割付!P522))","v":""},{"$f":"IF(E94=\"ZX-DECLDIV-IPコードレス電話機\",\"\",IF(キー割付!Q522=\"\",\"\",キー割付!Q522))","v":""},{"$f":"IF(E94=\"ZX-DECLDIV-IPコードレス電話機\",\"\",IF(キー割付!R522=\"\",\"\",キー割付!R522))","v":""},{"$f":"IF(E94=\"ZX-DECLDIV-IPコードレス電話機\",\"\",IF(キー割付!S522=\"\",\"\",キー割付!S522))","v":""},{"$f":"IF(E94=\"ZX-DECLDIV-IPコードレス電話機\",\"\",IF(キー割付!N530=\"\",\"\",キー割付!N530))","v":""},{"$f":"IF(E94=\"ZX-DECLDIV-IPコードレス電話機\",\"\",IF(キー割付!O530=\"\",\"\",キー割付!O530))","v":""},{"$f":"IF(E94=\"ZX-DECLDIV-IPコードレス電話機\",\"\",IF(キー割付!P530=\"\",\"\",キー割付!P530))","v":""},{"$f":"IF(E94=\"ZX-DECLDIV-IPコードレス電話機\",\"\",IF(キー割付!Q530=\"\",\"\",キー割付!Q530))","v":""},{"$f":"IF(E94=\"ZX-DECLDIV-IPコードレス電話機\",\"\",IF(キー割付!R530=\"\",\"\",キー割付!R530))","v":""},{"$f":"IF(E94=\"ZX-DECLDIV-IPコードレス電話機\",\"\",IF(キー割付!S530=\"\",\"\",キー割付!S530))","v":""},{"$f":"IF(E94=\"ZX-DECLDIV-IPコードレス電話機\",\"\",IF(キー割付!N538=\"\",\"\",キー割付!N538))","v":""},{"$f":"IF(E94=\"ZX-DECLDIV-IPコードレス電話機\",\"\",IF(キー割付!O538=\"\",\"\",キー割付!O538))","v":""},{"$f":"IF(E94=\"ZX-DECLDIV-IPコードレス電話機\",\"\",IF(キー割付!P538=\"\",\"\",キー割付!P538))","v":""},{"$f":"IF(E94=\"ZX-DECLDIV-IPコードレス電話機\",\"\",IF(キー割付!Q538=\"\",\"\",キー割付!Q538))","v":""},{"$f":"IF(E94=\"ZX-DECLDIV-IPコードレス電話機\",\"\",IF(キー割付!R538=\"\",\"\",キー割付!R538))","v":""},{"$f":"IF(E94=\"ZX-DECLDIV-IPコードレス電話機\",\"\",IF(キー割付!S538=\"\",\"\",キー割付!S538))","v":""}]
[null,null,null,null,null,{"$f":"IF(キー割付!N515=\"\",\"\",キー割付!N515)","v":""},{"$f":"IF(キー割付!O515=\"\",\"\",キー割付!O515)","v":""},{"$f":"IF(キー割付!P515=\"\",\"\",キー割付!P515)","v":""},{"$f":"IF(キー割付!Q515=\"\",\"\",キー割付!Q515)","v":""},{"$f":"IF(キー割付!R515=\"\",\"\",キー割付!R515)","v":""},{"$f":"IF(キー割付!S515=\"\",\"\",キー割付!S515)","v":""},{"$f":"IF(キー割付!N523=\"\",\"\",キー割付!N523)","v":""},{"$f":"IF(キー割付!O523=\"\",\"\",キー割付!O523)","v":""},{"$f":"IF(E94=\"ZX-DECLDIV-IPコードレス電話機\",\"\",IF(キー割付!P523=\"\",\"\",キー割付!P523))","v":""},{"$f":"IF(E94=\"ZX-DECLDIV-IPコードレス電話機\",\"\",IF(キー割付!Q523=\"\",\"\",キー割付!Q523))","v":""},{"$f":"IF(E94=\"ZX-DECLDIV-IPコードレス電話機\",\"\",IF(キー割付!R523=\"\",\"\",キー割付!R523))","v":""},{"$f":"IF(E94=\"ZX-DECLDIV-IPコードレス電話機\",\"\",IF(キー割付!S523=\"\",\"\",キー割付!S523))","v":""},{"$f":"IF(E94=\"ZX-DECLDIV-IPコードレス電話機\",\"\",IF(キー割付!N531=\"\",\"\",キー割付!N531))","v":""},{"$f":"IF(E94=\"ZX-DECLDIV-IPコードレス電話機\",\"\",IF(キー割付!O531=\"\",\"\",キー割付!O531))","v":""},{"$f":"IF(E94=\"ZX-DECLDIV-IPコードレス電話機\",\"\",IF(キー割付!P531=\"\",\"\",キー割付!P531))","v":""},{"$f":"IF(E94=\"ZX-DECLDIV-IPコードレス電話機\",\"\",IF(キー割付!Q531=\"\",\"\",キー割付!Q531))","v":""},{"$f":"IF(E94=\"ZX-DECLDIV-IPコードレス電話機\",\"\",IF(キー割付!R531=\"\",\"\",キー割付!R531))","v":""},{"$f":"IF(E94=\"ZX-DECLDIV-IPコードレス電話機\",\"\",IF(キー割付!S531=\"\",\"\",キー割付!S531))","v":""},{"$f":"IF(E94=\"ZX-DECLDIV-IPコードレス電話機\",\"\",IF(キー割付!N539=\"\",\"\",キー割付!N539))","v":""},{"$f":"IF(E94=\"ZX-DECLDIV-IPコードレス電話機\",\"\",IF(キー割付!O539=\"\",\"\",キー割付!O539))","v":""},{"$f":"IF(E94=\"ZX-DECLDIV-IPコードレス電話機\",\"\",IF(キー割付!P539=\"\",\"\",キー割付!P539))","v":""},{"$f":"IF(E94=\"ZX-DECLDIV-IPコードレス電話機\",\"\",IF(キー割付!Q539=\"\",\"\",キー割付!Q539))","v":""},{"$f":"IF(E94=\"ZX-DECLDIV-IPコードレス電話機\",\"\",IF(キー割付!R539=\"\",\"\",キー割付!R539))","v":""},{"$f":"IF(E94=\"ZX-DECLDIV-IPコードレス電話機\",\"\",IF(キー割付!S539=\"\",\"\",キー割付!S539))","v":""}]
[null,null,null,null,null,{"$f":"IF(キー割付!N516=\"\",\"\",キー割付!N516)","v":""},{"$f":"IF(キー割付!O516=\"\",\"\",キー割付!O516)","v":""},{"$f":"IF(キー割付!P516=\"\",\"\",キー割付!P516)","v":""},{"$f":"IF(キー割付!Q516=\"\",\"\",キー割付!Q516)","v":""},{"$f":"IF(キー割付!R516=\"\",\"\",キー割付!R516)","v":""},{"$f":"IF(キー割付!S516=\"\",\"\",キー割付!S516)","v":""},{"$f":"IF(キー割付!N524=\"\",\"\",キー割付!N524)","v":""},{"$f":"IF(キー割付!O524=\"\",\"\",キー割付!O524)","v":""},{"$f":"IF(E94=\"ZX-DECLDIV-IPコードレス電話機\",\"\",IF(キー割付!P524=\"\",\"\",キー割付!P524))","v":""},{"$f":"IF(E94=\"ZX-DECLDIV-IPコードレス電話機\",\"\",IF(キー割付!Q524=\"\",\"\",キー割付!Q524))","v":""},{"$f":"IF(E94=\"ZX-DECLDIV-IPコードレス電話機\",\"\",IF(キー割付!R524=\"\",\"\",キー割付!R524))","v":""},{"$f":"IF(E94=\"ZX-DECLDIV-IPコードレス電話機\",\"\",IF(キー割付!S524=\"\",\"\",キー割付!S524))","v":""},{"$f":"IF(E94=\"ZX-DECLDIV-IPコードレス電話機\",\"\",IF(キー割付!N532=\"\",\"\",キー割付!N532))","v":""},{"$f":"IF(E94=\"ZX-DECLDIV-IPコードレス電話機\",\"\",IF(キー割付!O532=\"\",\"\",キー割付!O532))","v":""},{"$f":"IF(E94=\"ZX-DECLDIV-IPコードレス電話機\",\"\",IF(キー割付!P532=\"\",\"\",キー割付!P532))","v":""},{"$f":"IF(E94=\"ZX-DECLDIV-IPコードレス電話機\",\"\",IF(キー割付!Q532=\"\",\"\",キー割付!Q532))","v":""},{"$f":"IF(E94=\"ZX-DECLDIV-IPコードレス電話機\",\"\",IF(キー割付!R532=\"\",\"\",キー割付!R532))","v":""},{"$f":"IF(E94=\"ZX-DECLDIV-IPコードレス電話機\",\"\",IF(キー割付!S532=\"\",\"\",キー割付!S532))","v":""},{"$f":"IF(E94=\"ZX-DECLDIV-IPコードレス電話機\",\"\",IF(キー割付!N540=\"\",\"\",キー割付!N540))","v":""},{"$f":"IF(E94=\"ZX-DECLDIV-IPコードレス電話機\",\"\",IF(キー割付!O540=\"\",\"\",キー割付!O540))","v":""},{"$f":"IF(E94=\"ZX-DECLDIV-IPコードレス電話機\",\"\",IF(キー割付!P540=\"\",\"\",キー割付!P540))","v":""},{"$f":"IF(E94=\"ZX-DECLDIV-IPコードレス電話機\",\"\",IF(キー割付!Q540=\"\",\"\",キー割付!Q540))","v":""},{"$f":"IF(E94=\"ZX-DECLDIV-IPコードレス電話機\",\"\",IF(キー割付!R540=\"\",\"\",キー割付!R540))","v":""},{"$f":"IF(E94=\"ZX-DECLDIV-IPコードレス電話機\",\"\",IF(キー割付!S540=\"\",\"\",キー割付!S540))","v":""}]
[null,31,{"$f":"IF(IFERROR(VALUE(VLOOKUP(B97,内線_キー割用,2,FALSE)),\"\")=0,\"\",IFERROR(VALUE(VLOOKUP(B97,内線_キー割用,2,FALSE)),\"\"))","v":""},{"$f":"IF(IFERROR(VALUE(VLOOKUP(B97,内線_キー割用,4,FALSE)),\"\")=0,\"\",IFERROR(VALUE(VLOOKUP(B97,内線_キー割用,4,FALSE)),\"\"))","v":""},{"$f":"IF(IFERROR(VLOOKUP(B97,内線_キー割用,3,FALSE),\"\")=0,\"\",IFERROR(VLOOKUP(B97,内線_キー割用,3,FALSE),\"\"))","v":""},{"$f":"IF(キー割付!D550=\"\",\"\",キー割付!D550)","v":""},{"$f":"IF(キー割付!E550=\"\",\"\",キー割付!E550)","v":""},{"$f":"IF(キー割付!F550=\"\",\"\",キー割付!F550)","v":""},{"$f":"IF(キー割付!G550=\"\",\"\",キー割付!G550)","v":""},{"$f":"IF(キー割付!H550=\"\",\"\",キー割付!H550)","v":""},{"$f":"IF(キー割付!I550=\"\",\"\",キー割付!I550)","v":""},{"$f":"IF(キー割付!D558=\"\",\"\",キー割付!D558)","v":""},{"$f":"IF(キー割付!E558=\"\",\"\",キー割付!E558)","v":""},{"$f":"IF(E97=\"ZX-DECLDIV-IPコードレス電話機\",\"\",IF(キー割付!F558=\"\",\"\",キー割付!F558))","v":""},{"$f":"IF(E97=\"ZX-DECLDIV-IPコードレス電話機\",\"\",IF(キー割付!G558=\"\",\"\",キー割付!G558))","v":""},{"$f":"IF(E97=\"ZX-DECLDIV-IPコードレス電話機\",\"\",IF(キー割付!H558=\"\",\"\",キー割付!H558))","v":""},{"$f":"IF(E97=\"ZX-DECLDIV-IPコードレス電話機\",\"\",IF(キー割付!I558=\"\",\"\",キー割付!I558))","v":""},{"$f":"IF(E97=\"ZX-DECLDIV-IPコードレス電話機\",\"\",IF(キー割付!D566=\"\",\"\",キー割付!D566))","v":""},{"$f":"IF(E97=\"ZX-DECLDIV-IPコードレス電話機\",\"\",IF(キー割付!E566=\"\",\"\",キー割付!E566))","v":""},{"$f":"IF(E97=\"ZX-DECLDIV-IPコードレス電話機\",\"\",IF(キー割付!F566=\"\",\"\",キー割付!F566))","v":""},{"$f":"IF(E97=\"ZX-DECLDIV-IPコードレス電話機\",\"\",IF(キー割付!G566=\"\",\"\",キー割付!G566))","v":""},{"$f":"IF(E97=\"ZX-DECLDIV-IPコードレス電話機\",\"\",IF(キー割付!H566=\"\",\"\",キー割付!H566))","v":""},{"$f":"IF(E97=\"ZX-DECLDIV-IPコードレス電話機\",\"\",IF(キー割付!I566=\"\",\"\",キー割付!I566))","v":""},{"$f":"IF(E97=\"ZX-DECLDIV-IPコードレス電話機\",\"\",IF(キー割付!D574=\"\",\"\",キー割付!D574))","v":""},{"$f":"IF(E97=\"ZX-DECLDIV-IPコードレス電話機\",\"\",IF(キー割付!E574=\"\",\"\",キー割付!E574))","v":""},{"$f":"IF(E97=\"ZX-DECLDIV-IPコードレス電話機\",\"\",IF(キー割付!F574=\"\",\"\",キー割付!F574))","v":""},{"$f":"IF(E97=\"ZX-DECLDIV-IPコードレス電話機\",\"\",IF(キー割付!G574=\"\",\"\",キー割付!G574))","v":""},{"$f":"IF(E97=\"ZX-DECLDIV-IPコードレス電話機\",\"\",IF(キー割付!H574=\"\",\"\",キー割付!H574))","v":""},{"$f":"IF(E97=\"ZX-DECLDIV-IPコードレス電話機\",\"\",IF(キー割付!I574=\"\",\"\",キー割付!I574))","v":""}]
[null,null,null,null,null,{"$f":"IF(キー割付!D551=\"\",\"\",キー割付!D551)","v":""},{"$f":"IF(キー割付!E551=\"\",\"\",キー割付!E551)","v":""},{"$f":"IF(キー割付!F551=\"\",\"\",キー割付!F551)","v":""},{"$f":"IF(キー割付!G551=\"\",\"\",キー割付!G551)","v":""},{"$f":"IF(キー割付!H551=\"\",\"\",キー割付!H551)","v":""},{"$f":"IF(キー割付!I551=\"\",\"\",キー割付!I551)","v":""},{"$f":"IF(キー割付!D559=\"\",\"\",キー割付!D559)","v":""},{"$f":"IF(キー割付!E559=\"\",\"\",キー割付!E559)","v":""},{"$f":"IF(E97=\"ZX-DECLDIV-IPコードレス電話機\",\"\",IF(キー割付!F559=\"\",\"\",キー割付!F559))","v":""},{"$f":"IF(E97=\"ZX-DECLDIV-IPコードレス電話機\",\"\",IF(キー割付!G559=\"\",\"\",キー割付!G559))","v":""},{"$f":"IF(E97=\"ZX-DECLDIV-IPコードレス電話機\",\"\",IF(キー割付!H559=\"\",\"\",キー割付!H559))","v":""},{"$f":"IF(E97=\"ZX-DECLDIV-IPコードレス電話機\",\"\",IF(キー割付!I559=\"\",\"\",キー割付!I559))","v":""},{"$f":"IF(E97=\"ZX-DECLDIV-IPコードレス電話機\",\"\",IF(キー割付!D567=\"\",\"\",キー割付!D567))","v":""},{"$f":"IF(E97=\"ZX-DECLDIV-IPコードレス電話機\",\"\",IF(キー割付!E567=\"\",\"\",キー割付!E567))","v":""},{"$f":"IF(E97=\"ZX-DECLDIV-IPコードレス電話機\",\"\",IF(キー割付!F567=\"\",\"\",キー割付!F567))","v":""},{"$f":"IF(E97=\"ZX-DECLDIV-IPコードレス電話機\",\"\",IF(キー割付!G567=\"\",\"\",キー割付!G567))","v":""},{"$f":"IF(E97=\"ZX-DECLDIV-IPコードレス電話機\",\"\",IF(キー割付!H567=\"\",\"\",キー割付!H567))","v":""},{"$f":"IF(E97=\"ZX-DECLDIV-IPコードレス電話機\",\"\",IF(キー割付!I567=\"\",\"\",キー割付!I567))","v":""},{"$f":"IF(E97=\"ZX-DECLDIV-IPコードレス電話機\",\"\",IF(キー割付!D575=\"\",\"\",キー割付!D575))","v":""},{"$f":"IF(E97=\"ZX-DECLDIV-IPコードレス電話機\",\"\",IF(キー割付!E575=\"\",\"\",キー割付!E575))","v":""},{"$f":"IF(E97=\"ZX-DECLDIV-IPコードレス電話機\",\"\",IF(キー割付!F575=\"\",\"\",キー割付!F575))","v":""},{"$f":"IF(E97=\"ZX-DECLDIV-IPコードレス電話機\",\"\",IF(キー割付!G575=\"\",\"\",キー割付!G575))","v":""},{"$f":"IF(E97=\"ZX-DECLDIV-IPコードレス電話機\",\"\",IF(キー割付!H575=\"\",\"\",キー割付!H575))","v":""},{"$f":"IF(E97=\"ZX-DECLDIV-IPコードレス電話機\",\"\",IF(キー割付!I575=\"\",\"\",キー割付!I575))","v":""}]
[null,null,null,null,null,{"$f":"IF(キー割付!D552=\"\",\"\",キー割付!D552)","v":""},{"$f":"IF(キー割付!E552=\"\",\"\",キー割付!E552)","v":""},{"$f":"IF(キー割付!F552=\"\",\"\",キー割付!F552)","v":""},{"$f":"IF(キー割付!G552=\"\",\"\",キー割付!G552)","v":""},{"$f":"IF(キー割付!H552=\"\",\"\",キー割付!H552)","v":""},{"$f":"IF(キー割付!I552=\"\",\"\",キー割付!I552)","v":""},{"$f":"IF(キー割付!D560=\"\",\"\",キー割付!D560)","v":""},{"$f":"IF(キー割付!E560=\"\",\"\",キー割付!E560)","v":""},{"$f":"IF(E97=\"ZX-DECLDIV-IPコードレス電話機\",\"\",IF(キー割付!F560=\"\",\"\",キー割付!F560))","v":""},{"$f":"IF(E97=\"ZX-DECLDIV-IPコードレス電話機\",\"\",IF(キー割付!G560=\"\",\"\",キー割付!G560))","v":""},{"$f":"IF(E97=\"ZX-DECLDIV-IPコードレス電話機\",\"\",IF(キー割付!H560=\"\",\"\",キー割付!H560))","v":""},{"$f":"IF(E97=\"ZX-DECLDIV-IPコードレス電話機\",\"\",IF(キー割付!I560=\"\",\"\",キー割付!I560))","v":""},{"$f":"IF(E97=\"ZX-DECLDIV-IPコードレス電話機\",\"\",IF(キー割付!D568=\"\",\"\",キー割付!D568))","v":""},{"$f":"IF(E97=\"ZX-DECLDIV-IPコードレス電話機\",\"\",IF(キー割付!E568=\"\",\"\",キー割付!E568))","v":""},{"$f":"IF(E97=\"ZX-DECLDIV-IPコードレス電話機\",\"\",IF(キー割付!F568=\"\",\"\",キー割付!F568))","v":""},{"$f":"IF(E97=\"ZX-DECLDIV-IPコードレス電話機\",\"\",IF(キー割付!G568=\"\",\"\",キー割付!G568))","v":""},{"$f":"IF(E97=\"ZX-DECLDIV-IPコードレス電話機\",\"\",IF(キー割付!H568=\"\",\"\",キー割付!H568))","v":""},{"$f":"IF(E97=\"ZX-DECLDIV-IPコードレス電話機\",\"\",IF(キー割付!I568=\"\",\"\",キー割付!I568))","v":""},{"$f":"IF(E97=\"ZX-DECLDIV-IPコードレス電話機\",\"\",IF(キー割付!D576=\"\",\"\",キー割付!D576))","v":""},{"$f":"IF(E97=\"ZX-DECLDIV-IPコードレス電話機\",\"\",IF(キー割付!E576=\"\",\"\",キー割付!E576))","v":""},{"$f":"IF(E97=\"ZX-DECLDIV-IPコードレス電話機\",\"\",IF(キー割付!F576=\"\",\"\",キー割付!F576))","v":""},{"$f":"IF(E97=\"ZX-DECLDIV-IPコードレス電話機\",\"\",IF(キー割付!G576=\"\",\"\",キー割付!G576))","v":""},{"$f":"IF(E97=\"ZX-DECLDIV-IPコードレス電話機\",\"\",IF(キー割付!H576=\"\",\"\",キー割付!H576))","v":""},{"$f":"IF(E97=\"ZX-DECLDIV-IPコードレス電話機\",\"\",IF(キー割付!I576=\"\",\"\",キー割付!I576))","v":""}]
[null,32,{"$f":"IF(IFERROR(VALUE(VLOOKUP(B100,内線_キー割用,2,FALSE)),\"\")=0,\"\",IFERROR(VALUE(VLOOKUP(B100,内線_キー割用,2,FALSE)),\"\"))","v":""},{"$f":"IF(IFERROR(VALUE(VLOOKUP(B100,内線_キー割用,4,FALSE)),\"\")=0,\"\",IFERROR(VALUE(VLOOKUP(B100,内線_キー割用,4,FALSE)),\"\"))","v":""},{"$f":"IF(IFERROR(VLOOKUP(B100,内線_キー割用,3,FALSE),\"\")=0,\"\",IFERROR(VLOOKUP(B100,内線_キー割用,3,FALSE),\"\"))","v":""},{"$f":"IF(キー割付!N550=\"\",\"\",キー割付!N550)","v":""},{"$f":"IF(キー割付!O550=\"\",\"\",キー割付!O550)","v":""},{"$f":"IF(キー割付!P550=\"\",\"\",キー割付!P550)","v":""},{"$f":"IF(キー割付!Q550=\"\",\"\",キー割付!Q550)","v":""},{"$f":"IF(キー割付!R550=\"\",\"\",キー割付!R550)","v":""},{"$f":"IF(キー割付!S550=\"\",\"\",キー割付!S550)","v":""},{"$f":"IF(キー割付!N558=\"\",\"\",キー割付!N558)","v":""},{"$f":"IF(キー割付!O558=\"\",\"\",キー割付!O558)","v":""},{"$f":"IF(E100=\"ZX-DECLDIV-IPコードレス電話機\",\"\",IF(キー割付!P558=\"\",\"\",キー割付!P558))","v":""},{"$f":"IF(E100=\"ZX-DECLDIV-IPコードレス電話機\",\"\",IF(キー割付!Q558=\"\",\"\",キー割付!Q558))","v":""},{"$f":"IF(E100=\"ZX-DECLDIV-IPコードレス電話機\",\"\",IF(キー割付!R558=\"\",\"\",キー割付!R558))","v":""},{"$f":"IF(E100=\"ZX-DECLDIV-IPコードレス電話機\",\"\",IF(キー割付!S558=\"\",\"\",キー割付!S558))","v":""},{"$f":"IF(E100=\"ZX-DECLDIV-IPコードレス電話機\",\"\",IF(キー割付!N566=\"\",\"\",キー割付!N566))","v":""},{"$f":"IF(E100=\"ZX-DECLDIV-IPコードレス電話機\",\"\",IF(キー割付!O566=\"\",\"\",キー割付!O566))","v":""},{"$f":"IF(E100=\"ZX-DECLDIV-IPコードレス電話機\",\"\",IF(キー割付!P566=\"\",\"\",キー割付!P566))","v":""},{"$f":"IF(E100=\"ZX-DECLDIV-IPコードレス電話機\",\"\",IF(キー割付!Q566=\"\",\"\",キー割付!Q566))","v":""},{"$f":"IF(E100=\"ZX-DECLDIV-IPコードレス電話機\",\"\",IF(キー割付!R566=\"\",\"\",キー割付!R566))","v":""},{"$f":"IF(E100=\"ZX-DECLDIV-IPコードレス電話機\",\"\",IF(キー割付!S566=\"\",\"\",キー割付!S566))","v":""},{"$f":"IF(E100=\"ZX-DECLDIV-IPコードレス電話機\",\"\",IF(キー割付!N574=\"\",\"\",キー割付!N574))","v":""},{"$f":"IF(E100=\"ZX-DECLDIV-IPコードレス電話機\",\"\",IF(キー割付!O574=\"\",\"\",キー割付!O574))","v":""},{"$f":"IF(E100=\"ZX-DECLDIV-IPコードレス電話機\",\"\",IF(キー割付!P574=\"\",\"\",キー割付!P574))","v":""},{"$f":"IF(E100=\"ZX-DECLDIV-IPコードレス電話機\",\"\",IF(キー割付!Q574=\"\",\"\",キー割付!Q574))","v":""},{"$f":"IF(E100=\"ZX-DECLDIV-IPコードレス電話機\",\"\",IF(キー割付!R574=\"\",\"\",キー割付!R574))","v":""},{"$f":"IF(E100=\"ZX-DECLDIV-IPコードレス電話機\",\"\",IF(キー割付!S574=\"\",\"\",キー割付!S574))","v":""}]
[null,null,null,null,null,{"$f":"IF(キー割付!N551=\"\",\"\",キー割付!N551)","v":""},{"$f":"IF(キー割付!O551=\"\",\"\",キー割付!O551)","v":""},{"$f":"IF(キー割付!P551=\"\",\"\",キー割付!P551)","v":""},{"$f":"IF(キー割付!Q551=\"\",\"\",キー割付!Q551)","v":""},{"$f":"IF(キー割付!R551=\"\",\"\",キー割付!R551)","v":""},{"$f":"IF(キー割付!S551=\"\",\"\",キー割付!S551)","v":""},{"$f":"IF(キー割付!N559=\"\",\"\",キー割付!N559)","v":""},{"$f":"IF(キー割付!O559=\"\",\"\",キー割付!O559)","v":""},{"$f":"IF(E100=\"ZX-DECLDIV-IPコードレス電話機\",\"\",IF(キー割付!P559=\"\",\"\",キー割付!P559))","v":""},{"$f":"IF(E100=\"ZX-DECLDIV-IPコードレス電話機\",\"\",IF(キー割付!Q559=\"\",\"\",キー割付!Q559))","v":""},{"$f":"IF(E100=\"ZX-DECLDIV-IPコードレス電話機\",\"\",IF(キー割付!R559=\"\",\"\",キー割付!R559))","v":""},{"$f":"IF(E100=\"ZX-DECLDIV-IPコードレス電話機\",\"\",IF(キー割付!S559=\"\",\"\",キー割付!S559))","v":""},{"$f":"IF(E100=\"ZX-DECLDIV-IPコードレス電話機\",\"\",IF(キー割付!N567=\"\",\"\",キー割付!N567))","v":""},{"$f":"IF(E100=\"ZX-DECLDIV-IPコードレス電話機\",\"\",IF(キー割付!O567=\"\",\"\",キー割付!O567))","v":""},{"$f":"IF(E100=\"ZX-DECLDIV-IPコードレス電話機\",\"\",IF(キー割付!P567=\"\",\"\",キー割付!P567))","v":""},{"$f":"IF(E100=\"ZX-DECLDIV-IPコードレス電話機\",\"\",IF(キー割付!Q567=\"\",\"\",キー割付!Q567))","v":""},{"$f":"IF(E100=\"ZX-DECLDIV-IPコードレス電話機\",\"\",IF(キー割付!R567=\"\",\"\",キー割付!R567))","v":""},{"$f":"IF(E100=\"ZX-DECLDIV-IPコードレス電話機\",\"\",IF(キー割付!S567=\"\",\"\",キー割付!S567))","v":""},{"$f":"IF(E100=\"ZX-DECLDIV-IPコードレス電話機\",\"\",IF(キー割付!N575=\"\",\"\",キー割付!N575))","v":""},{"$f":"IF(E100=\"ZX-DECLDIV-IPコードレス電話機\",\"\",IF(キー割付!O575=\"\",\"\",キー割付!O575))","v":""},{"$f":"IF(E100=\"ZX-DECLDIV-IPコードレス電話機\",\"\",IF(キー割付!P575=\"\",\"\",キー割付!P575))","v":""},{"$f":"IF(E100=\"ZX-DECLDIV-IPコードレス電話機\",\"\",IF(キー割付!Q575=\"\",\"\",キー割付!Q575))","v":""},{"$f":"IF(E100=\"ZX-DECLDIV-IPコードレス電話機\",\"\",IF(キー割付!R575=\"\",\"\",キー割付!R575))","v":""},{"$f":"IF(E100=\"ZX-DECLDIV-IPコードレス電話機\",\"\",IF(キー割付!S575=\"\",\"\",キー割付!S575))","v":""}]
[null,null,null,null,null,{"$f":"IF(キー割付!N552=\"\",\"\",キー割付!N552)","v":""},{"$f":"IF(キー割付!O552=\"\",\"\",キー割付!O552)","v":""},{"$f":"IF(キー割付!P552=\"\",\"\",キー割付!P552)","v":""},{"$f":"IF(キー割付!Q552=\"\",\"\",キー割付!Q552)","v":""},{"$f":"IF(キー割付!R552=\"\",\"\",キー割付!R552)","v":""},{"$f":"IF(キー割付!S552=\"\",\"\",キー割付!S552)","v":""},{"$f":"IF(キー割付!N560=\"\",\"\",キー割付!N560)","v":""},{"$f":"IF(キー割付!O560=\"\",\"\",キー割付!O560)","v":""},{"$f":"IF(E100=\"ZX-DECLDIV-IPコードレス電話機\",\"\",IF(キー割付!P560=\"\",\"\",キー割付!P560))","v":""},{"$f":"IF(E100=\"ZX-DECLDIV-IPコードレス電話機\",\"\",IF(キー割付!Q560=\"\",\"\",キー割付!Q560))","v":""},{"$f":"IF(E100=\"ZX-DECLDIV-IPコードレス電話機\",\"\",IF(キー割付!R560=\"\",\"\",キー割付!R560))","v":""},{"$f":"IF(E100=\"ZX-DECLDIV-IPコードレス電話機\",\"\",IF(キー割付!S560=\"\",\"\",キー割付!S560))","v":""},{"$f":"IF(E100=\"ZX-DECLDIV-IPコードレス電話機\",\"\",IF(キー割付!N568=\"\",\"\",キー割付!N568))","v":""},{"$f":"IF(E100=\"ZX-DECLDIV-IPコードレス電話機\",\"\",IF(キー割付!O568=\"\",\"\",キー割付!O568))","v":""},{"$f":"IF(E100=\"ZX-DECLDIV-IPコードレス電話機\",\"\",IF(キー割付!P568=\"\",\"\",キー割付!P568))","v":""},{"$f":"IF(E100=\"ZX-DECLDIV-IPコードレス電話機\",\"\",IF(キー割付!Q568=\"\",\"\",キー割付!Q568))","v":""},{"$f":"IF(E100=\"ZX-DECLDIV-IPコードレス電話機\",\"\",IF(キー割付!R568=\"\",\"\",キー割付!R568))","v":""},{"$f":"IF(E100=\"ZX-DECLDIV-IPコードレス電話機\",\"\",IF(キー割付!S568=\"\",\"\",キー割付!S568))","v":""},{"$f":"IF(E100=\"ZX-DECLDIV-IPコードレス電話機\",\"\",IF(キー割付!N576=\"\",\"\",キー割付!N576))","v":""},{"$f":"IF(E100=\"ZX-DECLDIV-IPコードレス電話機\",\"\",IF(キー割付!O576=\"\",\"\",キー割付!O576))","v":""},{"$f":"IF(E100=\"ZX-DECLDIV-IPコードレス電話機\",\"\",IF(キー割付!P576=\"\",\"\",キー割付!P576))","v":""},{"$f":"IF(E100=\"ZX-DECLDIV-IPコードレス電話機\",\"\",IF(キー割付!Q576=\"\",\"\",キー割付!Q576))","v":""},{"$f":"IF(E100=\"ZX-DECLDIV-IPコードレス電話機\",\"\",IF(キー割付!R576=\"\",\"\",キー割付!R576))","v":""},{"$f":"IF(E100=\"ZX-DECLDIV-IPコードレス電話機\",\"\",IF(キー割付!S576=\"\",\"\",キー割付!S576))","v":""}]
[null,33,{"$f":"IF(IFERROR(VALUE(VLOOKUP(B103,内線_キー割用,2,FALSE)),\"\")=0,\"\",IFERROR(VALUE(VLOOKUP(B103,内線_キー割用,2,FALSE)),\"\"))","v":""},{"$f":"IF(IFERROR(VALUE(VLOOKUP(B103,内線_キー割用,4,FALSE)),\"\")=0,\"\",IFERROR(VALUE(VLOOKUP(B103,内線_キー割用,4,FALSE)),\"\"))","v":""},{"$f":"IF(IFERROR(VLOOKUP(B103,内線_キー割用,3,FALSE),\"\")=0,\"\",IFERROR(VLOOKUP(B103,内線_キー割用,3,FALSE),\"\"))","v":""},{"$f":"IF(キー割付!D586=\"\",\"\",キー割付!D586)","v":""},{"$f":"IF(キー割付!E586=\"\",\"\",キー割付!E586)","v":""},{"$f":"IF(キー割付!F586=\"\",\"\",キー割付!F586)","v":""},{"$f":"IF(キー割付!G586=\"\",\"\",キー割付!G586)","v":""},{"$f":"IF(キー割付!H586=\"\",\"\",キー割付!H586)","v":""},{"$f":"IF(キー割付!I586=\"\",\"\",キー割付!I586)","v":""},{"$f":"IF(キー割付!D594=\"\",\"\",キー割付!D594)","v":""},{"$f":"IF(キー割付!E594=\"\",\"\",キー割付!E594)","v":""},{"$f":"IF(E103=\"ZX-DECLDIV-IPコードレス電話機\",\"\",IF(キー割付!F594=\"\",\"\",キー割付!F594))","v":""},{"$f":"IF(E103=\"ZX-DECLDIV-IPコードレス電話機\",\"\",IF(キー割付!G594=\"\",\"\",キー割付!G594))","v":""},{"$f":"IF(E103=\"ZX-DECLDIV-IPコードレス電話機\",\"\",IF(キー割付!H594=\"\",\"\",キー割付!H594))","v":""},{"$f":"IF(E103=\"ZX-DECLDIV-IPコードレス電話機\",\"\",IF(キー割付!I594=\"\",\"\",キー割付!I594))","v":""},{"$f":"IF(E103=\"ZX-DECLDIV-IPコードレス電話機\",\"\",IF(キー割付!D602=\"\",\"\",キー割付!D602))","v":""},{"$f":"IF(E103=\"ZX-DECLDIV-IPコードレス電話機\",\"\",IF(キー割付!E602=\"\",\"\",キー割付!E602))","v":""},{"$f":"IF(E103=\"ZX-DECLDIV-IPコードレス電話機\",\"\",IF(キー割付!F602=\"\",\"\",キー割付!F602))","v":""},{"$f":"IF(E103=\"ZX-DECLDIV-IPコードレス電話機\",\"\",IF(キー割付!G602=\"\",\"\",キー割付!G602))","v":""},{"$f":"IF(E103=\"ZX-DECLDIV-IPコードレス電話機\",\"\",IF(キー割付!H602=\"\",\"\",キー割付!H602))","v":""},{"$f":"IF(E103=\"ZX-DECLDIV-IPコードレス電話機\",\"\",IF(キー割付!I602=\"\",\"\",キー割付!I602))","v":""},{"$f":"IF(E103=\"ZX-DECLDIV-IPコードレス電話機\",\"\",IF(キー割付!D610=\"\",\"\",キー割付!D610))","v":""},{"$f":"IF(E103=\"ZX-DECLDIV-IPコードレス電話機\",\"\",IF(キー割付!E610=\"\",\"\",キー割付!E610))","v":""},{"$f":"IF(E103=\"ZX-DECLDIV-IPコードレス電話機\",\"\",IF(キー割付!F610=\"\",\"\",キー割付!F610))","v":""},{"$f":"IF(E103=\"ZX-DECLDIV-IPコードレス電話機\",\"\",IF(キー割付!G610=\"\",\"\",キー割付!G610))","v":""},{"$f":"IF(E103=\"ZX-DECLDIV-IPコードレス電話機\",\"\",IF(キー割付!H610=\"\",\"\",キー割付!H610))","v":""},{"$f":"IF(E103=\"ZX-DECLDIV-IPコードレス電話機\",\"\",IF(キー割付!I610=\"\",\"\",キー割付!I610))","v":""}]
[null,null,null,null,null,{"$f":"IF(キー割付!D587=\"\",\"\",キー割付!D587)","v":""},{"$f":"IF(キー割付!E587=\"\",\"\",キー割付!E587)","v":""},{"$f":"IF(キー割付!F587=\"\",\"\",キー割付!F587)","v":""},{"$f":"IF(キー割付!G587=\"\",\"\",キー割付!G587)","v":""},{"$f":"IF(キー割付!H587=\"\",\"\",キー割付!H587)","v":""},{"$f":"IF(キー割付!I587=\"\",\"\",キー割付!I587)","v":""},{"$f":"IF(キー割付!D595=\"\",\"\",キー割付!D595)","v":""},{"$f":"IF(キー割付!E595=\"\",\"\",キー割付!E595)","v":""},{"$f":"IF(E103=\"ZX-DECLDIV-IPコードレス電話機\",\"\",IF(キー割付!F595=\"\",\"\",キー割付!F595))","v":""},{"$f":"IF(E103=\"ZX-DECLDIV-IPコードレス電話機\",\"\",IF(キー割付!G595=\"\",\"\",キー割付!G595))","v":""},{"$f":"IF(E103=\"ZX-DECLDIV-IPコードレス電話機\",\"\",IF(キー割付!H595=\"\",\"\",キー割付!H595))","v":""},{"$f":"IF(E103=\"ZX-DECLDIV-IPコードレス電話機\",\"\",IF(キー割付!I595=\"\",\"\",キー割付!I595))","v":""},{"$f":"IF(E103=\"ZX-DECLDIV-IPコードレス電話機\",\"\",IF(キー割付!D603=\"\",\"\",キー割付!D603))","v":""},{"$f":"IF(E103=\"ZX-DECLDIV-IPコードレス電話機\",\"\",IF(キー割付!E603=\"\",\"\",キー割付!E603))","v":""},{"$f":"IF(E103=\"ZX-DECLDIV-IPコードレス電話機\",\"\",IF(キー割付!F603=\"\",\"\",キー割付!F603))","v":""},{"$f":"IF(E103=\"ZX-DECLDIV-IPコードレス電話機\",\"\",IF(キー割付!G603=\"\",\"\",キー割付!G603))","v":""},{"$f":"IF(E103=\"ZX-DECLDIV-IPコードレス電話機\",\"\",IF(キー割付!H603=\"\",\"\",キー割付!H603))","v":""},{"$f":"IF(E103=\"ZX-DECLDIV-IPコードレス電話機\",\"\",IF(キー割付!I603=\"\",\"\",キー割付!I603))","v":""},{"$f":"IF(E103=\"ZX-DECLDIV-IPコードレス電話機\",\"\",IF(キー割付!D611=\"\",\"\",キー割付!D611))","v":""},{"$f":"IF(E103=\"ZX-DECLDIV-IPコードレス電話機\",\"\",IF(キー割付!E611=\"\",\"\",キー割付!E611))","v":""},{"$f":"IF(E103=\"ZX-DECLDIV-IPコードレス電話機\",\"\",IF(キー割付!F611=\"\",\"\",キー割付!F611))","v":""},{"$f":"IF(E103=\"ZX-DECLDIV-IPコードレス電話機\",\"\",IF(キー割付!G611=\"\",\"\",キー割付!G611))","v":""},{"$f":"IF(E103=\"ZX-DECLDIV-IPコードレス電話機\",\"\",IF(キー割付!H611=\"\",\"\",キー割付!H611))","v":""},{"$f":"IF(E103=\"ZX-DECLDIV-IPコードレス電話機\",\"\",IF(キー割付!I611=\"\",\"\",キー割付!I611))","v":""}]
[null,null,null,null,null,{"$f":"IF(キー割付!D588=\"\",\"\",キー割付!D588)","v":""},{"$f":"IF(キー割付!E588=\"\",\"\",キー割付!E588)","v":""},{"$f":"IF(キー割付!F588=\"\",\"\",キー割付!F588)","v":""},{"$f":"IF(キー割付!G588=\"\",\"\",キー割付!G588)","v":""},{"$f":"IF(キー割付!H588=\"\",\"\",キー割付!H588)","v":""},{"$f":"IF(キー割付!I588=\"\",\"\",キー割付!I588)","v":""},{"$f":"IF(キー割付!D596=\"\",\"\",キー割付!D596)","v":""},{"$f":"IF(キー割付!E596=\"\",\"\",キー割付!E596)","v":""},{"$f":"IF(E103=\"ZX-DECLDIV-IPコードレス電話機\",\"\",IF(キー割付!F596=\"\",\"\",キー割付!F596))","v":""},{"$f":"IF(E103=\"ZX-DECLDIV-IPコードレス電話機\",\"\",IF(キー割付!G596=\"\",\"\",キー割付!G596))","v":""},{"$f":"IF(E103=\"ZX-DECLDIV-IPコードレス電話機\",\"\",IF(キー割付!H596=\"\",\"\",キー割付!H596))","v":""},{"$f":"IF(E103=\"ZX-DECLDIV-IPコードレス電話機\",\"\",IF(キー割付!I596=\"\",\"\",キー割付!I596))","v":""},{"$f":"IF(E103=\"ZX-DECLDIV-IPコードレス電話機\",\"\",IF(キー割付!D604=\"\",\"\",キー割付!D604))","v":""},{"$f":"IF(E103=\"ZX-DECLDIV-IPコードレス電話機\",\"\",IF(キー割付!E604=\"\",\"\",キー割付!E604))","v":""},{"$f":"IF(E103=\"ZX-DECLDIV-IPコードレス電話機\",\"\",IF(キー割付!F604=\"\",\"\",キー割付!F604))","v":""},{"$f":"IF(E103=\"ZX-DECLDIV-IPコードレス電話機\",\"\",IF(キー割付!G604=\"\",\"\",キー割付!G604))","v":""},{"$f":"IF(E103=\"ZX-DECLDIV-IPコードレス電話機\",\"\",IF(キー割付!H604=\"\",\"\",キー割付!H604))","v":""},{"$f":"IF(E103=\"ZX-DECLDIV-IPコードレス電話機\",\"\",IF(キー割付!I604=\"\",\"\",キー割付!I604))","v":""},{"$f":"IF(E103=\"ZX-DECLDIV-IPコードレス電話機\",\"\",IF(キー割付!D612=\"\",\"\",キー割付!D612))","v":""},{"$f":"IF(E103=\"ZX-DECLDIV-IPコードレス電話機\",\"\",IF(キー割付!E612=\"\",\"\",キー割付!E612))","v":""},{"$f":"IF(E103=\"ZX-DECLDIV-IPコードレス電話機\",\"\",IF(キー割付!F612=\"\",\"\",キー割付!F612))","v":""},{"$f":"IF(E103=\"ZX-DECLDIV-IPコードレス電話機\",\"\",IF(キー割付!G612=\"\",\"\",キー割付!G612))","v":""},{"$f":"IF(E103=\"ZX-DECLDIV-IPコードレス電話機\",\"\",IF(キー割付!H612=\"\",\"\",キー割付!H612))","v":""},{"$f":"IF(E103=\"ZX-DECLDIV-IPコードレス電話機\",\"\",IF(キー割付!I612=\"\",\"\",キー割付!I612))","v":""}]
[null,34,{"$f":"IF(IFERROR(VALUE(VLOOKUP(B106,内線_キー割用,2,FALSE)),\"\")=0,\"\",IFERROR(VALUE(VLOOKUP(B106,内線_キー割用,2,FALSE)),\"\"))","v":""},{"$f":"IF(IFERROR(VALUE(VLOOKUP(B106,内線_キー割用,4,FALSE)),\"\")=0,\"\",IFERROR(VALUE(VLOOKUP(B106,内線_キー割用,4,FALSE)),\"\"))","v":""},{"$f":"IF(IFERROR(VLOOKUP(B106,内線_キー割用,3,FALSE),\"\")=0,\"\",IFERROR(VLOOKUP(B106,内線_キー割用,3,FALSE),\"\"))","v":""},{"$f":"IF(キー割付!N586=\"\",\"\",キー割付!N586)","v":""},{"$f":"IF(キー割付!O586=\"\",\"\",キー割付!O586)","v":""},{"$f":"IF(キー割付!P586=\"\",\"\",キー割付!P586)","v":""},{"$f":"IF(キー割付!Q586=\"\",\"\",キー割付!Q586)","v":""},{"$f":"IF(キー割付!R586=\"\",\"\",キー割付!R586)","v":""},{"$f":"IF(キー割付!S586=\"\",\"\",キー割付!S586)","v":""},{"$f":"IF(キー割付!N594=\"\",\"\",キー割付!N594)","v":""},{"$f":"IF(キー割付!O594=\"\",\"\",キー割付!O594)","v":""},{"$f":"IF(E106=\"ZX-DECLDIV-IPコードレス電話機\",\"\",IF(キー割付!P594=\"\",\"\",キー割付!P594))","v":""},{"$f":"IF(E106=\"ZX-DECLDIV-IPコードレス電話機\",\"\",IF(キー割付!Q594=\"\",\"\",キー割付!Q594))","v":""},{"$f":"IF(E106=\"ZX-DECLDIV-IPコードレス電話機\",\"\",IF(キー割付!R594=\"\",\"\",キー割付!R594))","v":""},{"$f":"IF(E106=\"ZX-DECLDIV-IPコードレス電話機\",\"\",IF(キー割付!S594=\"\",\"\",キー割付!S594))","v":""},{"$f":"IF(E106=\"ZX-DECLDIV-IPコードレス電話機\",\"\",IF(キー割付!N602=\"\",\"\",キー割付!N602))","v":""},{"$f":"IF(E106=\"ZX-DECLDIV-IPコードレス電話機\",\"\",IF(キー割付!O602=\"\",\"\",キー割付!O602))","v":""},{"$f":"IF(E106=\"ZX-DECLDIV-IPコードレス電話機\",\"\",IF(キー割付!P602=\"\",\"\",キー割付!P602))","v":""},{"$f":"IF(E106=\"ZX-DECLDIV-IPコードレス電話機\",\"\",IF(キー割付!Q602=\"\",\"\",キー割付!Q602))","v":""},{"$f":"IF(E106=\"ZX-DECLDIV-IPコードレス電話機\",\"\",IF(キー割付!R602=\"\",\"\",キー割付!R602))","v":""},{"$f":"IF(E106=\"ZX-DECLDIV-IPコードレス電話機\",\"\",IF(キー割付!S602=\"\",\"\",キー割付!S602))","v":""},{"$f":"IF(E106=\"ZX-DECLDIV-IPコードレス電話機\",\"\",IF(キー割付!N610=\"\",\"\",キー割付!N610))","v":""},{"$f":"IF(E106=\"ZX-DECLDIV-IPコードレス電話機\",\"\",IF(キー割付!O610=\"\",\"\",キー割付!O610))","v":""},{"$f":"IF(E106=\"ZX-DECLDIV-IPコードレス電話機\",\"\",IF(キー割付!P610=\"\",\"\",キー割付!P610))","v":""},{"$f":"IF(E106=\"ZX-DECLDIV-IPコードレス電話機\",\"\",IF(キー割付!Q610=\"\",\"\",キー割付!Q610))","v":""},{"$f":"IF(E106=\"ZX-DECLDIV-IPコードレス電話機\",\"\",IF(キー割付!R610=\"\",\"\",キー割付!R610))","v":""},{"$f":"IF(E106=\"ZX-DECLDIV-IPコードレス電話機\",\"\",IF(キー割付!S610=\"\",\"\",キー割付!S610))","v":""}]
[null,null,null,null,null,{"$f":"IF(キー割付!N587=\"\",\"\",キー割付!N587)","v":""},{"$f":"IF(キー割付!O587=\"\",\"\",キー割付!O587)","v":""},{"$f":"IF(キー割付!P587=\"\",\"\",キー割付!P587)","v":""},{"$f":"IF(キー割付!Q587=\"\",\"\",キー割付!Q587)","v":""},{"$f":"IF(キー割付!R587=\"\",\"\",キー割付!R587)","v":""},{"$f":"IF(キー割付!S587=\"\",\"\",キー割付!S587)","v":""},{"$f":"IF(キー割付!N595=\"\",\"\",キー割付!N595)","v":""},{"$f":"IF(キー割付!O595=\"\",\"\",キー割付!O595)","v":""},{"$f":"IF(E106=\"ZX-DECLDIV-IPコードレス電話機\",\"\",IF(キー割付!P595=\"\",\"\",キー割付!P595))","v":""},{"$f":"IF(E106=\"ZX-DECLDIV-IPコードレス電話機\",\"\",IF(キー割付!Q595=\"\",\"\",キー割付!Q595))","v":""},{"$f":"IF(E106=\"ZX-DECLDIV-IPコードレス電話機\",\"\",IF(キー割付!R595=\"\",\"\",キー割付!R595))","v":""},{"$f":"IF(E106=\"ZX-DECLDIV-IPコードレス電話機\",\"\",IF(キー割付!S595=\"\",\"\",キー割付!S595))","v":""},{"$f":"IF(E106=\"ZX-DECLDIV-IPコードレス電話機\",\"\",IF(キー割付!N603=\"\",\"\",キー割付!N603))","v":""},{"$f":"IF(E106=\"ZX-DECLDIV-IPコードレス電話機\",\"\",IF(キー割付!O603=\"\",\"\",キー割付!O603))","v":""},{"$f":"IF(E106=\"ZX-DECLDIV-IPコードレス電話機\",\"\",IF(キー割付!P603=\"\",\"\",キー割付!P603))","v":""},{"$f":"IF(E106=\"ZX-DECLDIV-IPコードレス電話機\",\"\",IF(キー割付!Q603=\"\",\"\",キー割付!Q603))","v":""},{"$f":"IF(E106=\"ZX-DECLDIV-IPコードレス電話機\",\"\",IF(キー割付!R603=\"\",\"\",キー割付!R603))","v":""},{"$f":"IF(E106=\"ZX-DECLDIV-IPコードレス電話機\",\"\",IF(キー割付!S603=\"\",\"\",キー割付!S603))","v":""},{"$f":"IF(E106=\"ZX-DECLDIV-IPコードレス電話機\",\"\",IF(キー割付!N611=\"\",\"\",キー割付!N611))","v":""},{"$f":"IF(E106=\"ZX-DECLDIV-IPコードレス電話機\",\"\",IF(キー割付!O611=\"\",\"\",キー割付!O611))","v":""},{"$f":"IF(E106=\"ZX-DECLDIV-IPコードレス電話機\",\"\",IF(キー割付!P611=\"\",\"\",キー割付!P611))","v":""},{"$f":"IF(E106=\"ZX-DECLDIV-IPコードレス電話機\",\"\",IF(キー割付!Q611=\"\",\"\",キー割付!Q611))","v":""},{"$f":"IF(E106=\"ZX-DECLDIV-IPコードレス電話機\",\"\",IF(キー割付!R611=\"\",\"\",キー割付!R611))","v":""},{"$f":"IF(E106=\"ZX-DECLDIV-IPコードレス電話機\",\"\",IF(キー割付!S611=\"\",\"\",キー割付!S611))","v":""}]
[null,null,null,null,null,{"$f":"IF(キー割付!N588=\"\",\"\",キー割付!N588)","v":""},{"$f":"IF(キー割付!O588=\"\",\"\",キー割付!O588)","v":""},{"$f":"IF(キー割付!P588=\"\",\"\",キー割付!P588)","v":""},{"$f":"IF(キー割付!Q588=\"\",\"\",キー割付!Q588)","v":""},{"$f":"IF(キー割付!R588=\"\",\"\",キー割付!R588)","v":""},{"$f":"IF(キー割付!S588=\"\",\"\",キー割付!S588)","v":""},{"$f":"IF(キー割付!N596=\"\",\"\",キー割付!N596)","v":""},{"$f":"IF(キー割付!O596=\"\",\"\",キー割付!O596)","v":""},{"$f":"IF(E106=\"ZX-DECLDIV-IPコードレス電話機\",\"\",IF(キー割付!P596=\"\",\"\",キー割付!P596))","v":""},{"$f":"IF(E106=\"ZX-DECLDIV-IPコードレス電話機\",\"\",IF(キー割付!Q596=\"\",\"\",キー割付!Q596))","v":""},{"$f":"IF(E106=\"ZX-DECLDIV-IPコードレス電話機\",\"\",IF(キー割付!R596=\"\",\"\",キー割付!R596))","v":""},{"$f":"IF(E106=\"ZX-DECLDIV-IPコードレス電話機\",\"\",IF(キー割付!S596=\"\",\"\",キー割付!S596))","v":""},{"$f":"IF(E106=\"ZX-DECLDIV-IPコードレス電話機\",\"\",IF(キー割付!N604=\"\",\"\",キー割付!N604))","v":""},{"$f":"IF(E106=\"ZX-DECLDIV-IPコードレス電話機\",\"\",IF(キー割付!O604=\"\",\"\",キー割付!O604))","v":""},{"$f":"IF(E106=\"ZX-DECLDIV-IPコードレス電話機\",\"\",IF(キー割付!P604=\"\",\"\",キー割付!P604))","v":""},{"$f":"IF(E106=\"ZX-DECLDIV-IPコードレス電話機\",\"\",IF(キー割付!Q604=\"\",\"\",キー割付!Q604))","v":""},{"$f":"IF(E106=\"ZX-DECLDIV-IPコードレス電話機\",\"\",IF(キー割付!R604=\"\",\"\",キー割付!R604))","v":""},{"$f":"IF(E106=\"ZX-DECLDIV-IPコードレス電話機\",\"\",IF(キー割付!S604=\"\",\"\",キー割付!S604))","v":""},{"$f":"IF(E106=\"ZX-DECLDIV-IPコードレス電話機\",\"\",IF(キー割付!N612=\"\",\"\",キー割付!N612))","v":""},{"$f":"IF(E106=\"ZX-DECLDIV-IPコードレス電話機\",\"\",IF(キー割付!O612=\"\",\"\",キー割付!O612))","v":""},{"$f":"IF(E106=\"ZX-DECLDIV-IPコードレス電話機\",\"\",IF(キー割付!P612=\"\",\"\",キー割付!P612))","v":""},{"$f":"IF(E106=\"ZX-DECLDIV-IPコードレス電話機\",\"\",IF(キー割付!Q612=\"\",\"\",キー割付!Q612))","v":""},{"$f":"IF(E106=\"ZX-DECLDIV-IPコードレス電話機\",\"\",IF(キー割付!R612=\"\",\"\",キー割付!R612))","v":""},{"$f":"IF(E106=\"ZX-DECLDIV-IPコードレス電話機\",\"\",IF(キー割付!S612=\"\",\"\",キー割付!S612))","v":""}]
[null,35,{"$f":"IF(IFERROR(VALUE(VLOOKUP(B109,内線_キー割用,2,FALSE)),\"\")=0,\"\",IFERROR(VALUE(VLOOKUP(B109,内線_キー割用,2,FALSE)),\"\"))","v":""},{"$f":"IF(IFERROR(VALUE(VLOOKUP(B109,内線_キー割用,4,FALSE)),\"\")=0,\"\",IFERROR(VALUE(VLOOKUP(B109,内線_キー割用,4,FALSE)),\"\"))","v":""},{"$f":"IF(IFERROR(VLOOKUP(B109,内線_キー割用,3,FALSE),\"\")=0,\"\",IFERROR(VLOOKUP(B109,内線_キー割用,3,FALSE),\"\"))","v":""},{"$f":"IF(キー割付!D622=\"\",\"\",キー割付!D622)","v":""},{"$f":"IF(キー割付!E622=\"\",\"\",キー割付!E622)","v":""},{"$f":"IF(キー割付!F622=\"\",\"\",キー割付!F622)","v":""},{"$f":"IF(キー割付!G622=\"\",\"\",キー割付!G622)","v":""},{"$f":"IF(キー割付!H622=\"\",\"\",キー割付!H622)","v":""},{"$f":"IF(キー割付!I622=\"\",\"\",キー割付!I622)","v":""},{"$f":"IF(キー割付!D630=\"\",\"\",キー割付!D630)","v":""},{"$f":"IF(キー割付!E630=\"\",\"\",キー割付!E630)","v":""},{"$f":"IF(E109=\"ZX-DECLDIV-IPコードレス電話機\",\"\",IF(キー割付!F630=\"\",\"\",キー割付!F630))","v":""},{"$f":"IF(E109=\"ZX-DECLDIV-IPコードレス電話機\",\"\",IF(キー割付!G630=\"\",\"\",キー割付!G630))","v":""},{"$f":"IF(E109=\"ZX-DECLDIV-IPコードレス電話機\",\"\",IF(キー割付!H630=\"\",\"\",キー割付!H630))","v":""},{"$f":"IF(E109=\"ZX-DECLDIV-IPコードレス電話機\",\"\",IF(キー割付!I630=\"\",\"\",キー割付!I630))","v":""},{"$f":"IF(E109=\"ZX-DECLDIV-IPコードレス電話機\",\"\",IF(キー割付!D638=\"\",\"\",キー割付!D638))","v":""},{"$f":"IF(E109=\"ZX-DECLDIV-IPコードレス電話機\",\"\",IF(キー割付!E638=\"\",\"\",キー割付!E638))","v":""},{"$f":"IF(E109=\"ZX-DECLDIV-IPコードレス電話機\",\"\",IF(キー割付!F638=\"\",\"\",キー割付!F638))","v":""},{"$f":"IF(E109=\"ZX-DECLDIV-IPコードレス電話機\",\"\",IF(キー割付!G638=\"\",\"\",キー割付!G638))","v":""},{"$f":"IF(E109=\"ZX-DECLDIV-IPコードレス電話機\",\"\",IF(キー割付!H638=\"\",\"\",キー割付!H638))","v":""},{"$f":"IF(E109=\"ZX-DECLDIV-IPコードレス電話機\",\"\",IF(キー割付!I638=\"\",\"\",キー割付!I638))","v":""},{"$f":"IF(E109=\"ZX-DECLDIV-IPコードレス電話機\",\"\",IF(キー割付!D646=\"\",\"\",キー割付!D646))","v":""},{"$f":"IF(E109=\"ZX-DECLDIV-IPコードレス電話機\",\"\",IF(キー割付!E646=\"\",\"\",キー割付!E646))","v":""},{"$f":"IF(E109=\"ZX-DECLDIV-IPコードレス電話機\",\"\",IF(キー割付!F646=\"\",\"\",キー割付!F646))","v":""},{"$f":"IF(E109=\"ZX-DECLDIV-IPコードレス電話機\",\"\",IF(キー割付!G646=\"\",\"\",キー割付!G646))","v":""},{"$f":"IF(E109=\"ZX-DECLDIV-IPコードレス電話機\",\"\",IF(キー割付!H646=\"\",\"\",キー割付!H646))","v":""},{"$f":"IF(E109=\"ZX-DECLDIV-IPコードレス電話機\",\"\",IF(キー割付!I646=\"\",\"\",キー割付!I646))","v":""}]
[null,null,null,null,null,{"$f":"IF(キー割付!D623=\"\",\"\",キー割付!D623)","v":""},{"$f":"IF(キー割付!E623=\"\",\"\",キー割付!E623)","v":""},{"$f":"IF(キー割付!F623=\"\",\"\",キー割付!F623)","v":""},{"$f":"IF(キー割付!G623=\"\",\"\",キー割付!G623)","v":""},{"$f":"IF(キー割付!H623=\"\",\"\",キー割付!H623)","v":""},{"$f":"IF(キー割付!I623=\"\",\"\",キー割付!I623)","v":""},{"$f":"IF(キー割付!D631=\"\",\"\",キー割付!D631)","v":""},{"$f":"IF(キー割付!E631=\"\",\"\",キー割付!E631)","v":""},{"$f":"IF(E109=\"ZX-DECLDIV-IPコードレス電話機\",\"\",IF(キー割付!F631=\"\",\"\",キー割付!F631))","v":""},{"$f":"IF(E109=\"ZX-DECLDIV-IPコードレス電話機\",\"\",IF(キー割付!G631=\"\",\"\",キー割付!G631))","v":""},{"$f":"IF(E109=\"ZX-DECLDIV-IPコードレス電話機\",\"\",IF(キー割付!H631=\"\",\"\",キー割付!H631))","v":""},{"$f":"IF(E109=\"ZX-DECLDIV-IPコードレス電話機\",\"\",IF(キー割付!I631=\"\",\"\",キー割付!I631))","v":""},{"$f":"IF(E109=\"ZX-DECLDIV-IPコードレス電話機\",\"\",IF(キー割付!D639=\"\",\"\",キー割付!D639))","v":""},{"$f":"IF(E109=\"ZX-DECLDIV-IPコードレス電話機\",\"\",IF(キー割付!E639=\"\",\"\",キー割付!E639))","v":""},{"$f":"IF(E109=\"ZX-DECLDIV-IPコードレス電話機\",\"\",IF(キー割付!F639=\"\",\"\",キー割付!F639))","v":""},{"$f":"IF(E109=\"ZX-DECLDIV-IPコードレス電話機\",\"\",IF(キー割付!G639=\"\",\"\",キー割付!G639))","v":""},{"$f":"IF(E109=\"ZX-DECLDIV-IPコードレス電話機\",\"\",IF(キー割付!H639=\"\",\"\",キー割付!H639))","v":""},{"$f":"IF(E109=\"ZX-DECLDIV-IPコードレス電話機\",\"\",IF(キー割付!I639=\"\",\"\",キー割付!I639))","v":""},{"$f":"IF(E109=\"ZX-DECLDIV-IPコードレス電話機\",\"\",IF(キー割付!D647=\"\",\"\",キー割付!D647))","v":""},{"$f":"IF(E109=\"ZX-DECLDIV-IPコードレス電話機\",\"\",IF(キー割付!E647=\"\",\"\",キー割付!E647))","v":""},{"$f":"IF(E109=\"ZX-DECLDIV-IPコードレス電話機\",\"\",IF(キー割付!F647=\"\",\"\",キー割付!F647))","v":""},{"$f":"IF(E109=\"ZX-DECLDIV-IPコードレス電話機\",\"\",IF(キー割付!G647=\"\",\"\",キー割付!G647))","v":""},{"$f":"IF(E109=\"ZX-DECLDIV-IPコードレス電話機\",\"\",IF(キー割付!H647=\"\",\"\",キー割付!H647))","v":""},{"$f":"IF(E109=\"ZX-DECLDIV-IPコードレス電話機\",\"\",IF(キー割付!I647=\"\",\"\",キー割付!I647))","v":""}]
[null,null,null,null,null,{"$f":"IF(キー割付!D624=\"\",\"\",キー割付!D624)","v":""},{"$f":"IF(キー割付!E624=\"\",\"\",キー割付!E624)","v":""},{"$f":"IF(キー割付!F624=\"\",\"\",キー割付!F624)","v":""},{"$f":"IF(キー割付!G624=\"\",\"\",キー割付!G624)","v":""},{"$f":"IF(キー割付!H624=\"\",\"\",キー割付!H624)","v":""},{"$f":"IF(キー割付!I624=\"\",\"\",キー割付!I624)","v":""},{"$f":"IF(キー割付!D632=\"\",\"\",キー割付!D632)","v":""},{"$f":"IF(キー割付!E632=\"\",\"\",キー割付!E632)","v":""},{"$f":"IF(E109=\"ZX-DECLDIV-IPコードレス電話機\",\"\",IF(キー割付!F632=\"\",\"\",キー割付!F632))","v":""},{"$f":"IF(E109=\"ZX-DECLDIV-IPコードレス電話機\",\"\",IF(キー割付!G632=\"\",\"\",キー割付!G632))","v":""},{"$f":"IF(E109=\"ZX-DECLDIV-IPコードレス電話機\",\"\",IF(キー割付!H632=\"\",\"\",キー割付!H632))","v":""},{"$f":"IF(E109=\"ZX-DECLDIV-IPコードレス電話機\",\"\",IF(キー割付!I632=\"\",\"\",キー割付!I632))","v":""},{"$f":"IF(E109=\"ZX-DECLDIV-IPコードレス電話機\",\"\",IF(キー割付!D640=\"\",\"\",キー割付!D640))","v":""},{"$f":"IF(E109=\"ZX-DECLDIV-IPコードレス電話機\",\"\",IF(キー割付!E640=\"\",\"\",キー割付!E640))","v":""},{"$f":"IF(E109=\"ZX-DECLDIV-IPコードレス電話機\",\"\",IF(キー割付!F640=\"\",\"\",キー割付!F640))","v":""},{"$f":"IF(E109=\"ZX-DECLDIV-IPコードレス電話機\",\"\",IF(キー割付!G640=\"\",\"\",キー割付!G640))","v":""},{"$f":"IF(E109=\"ZX-DECLDIV-IPコードレス電話機\",\"\",IF(キー割付!H640=\"\",\"\",キー割付!H640))","v":""},{"$f":"IF(E109=\"ZX-DECLDIV-IPコードレス電話機\",\"\",IF(キー割付!I640=\"\",\"\",キー割付!I640))","v":""},{"$f":"IF(E109=\"ZX-DECLDIV-IPコードレス電話機\",\"\",IF(キー割付!D648=\"\",\"\",キー割付!D648))","v":""},{"$f":"IF(E109=\"ZX-DECLDIV-IPコードレス電話機\",\"\",IF(キー割付!E648=\"\",\"\",キー割付!E648))","v":""},{"$f":"IF(E109=\"ZX-DECLDIV-IPコードレス電話機\",\"\",IF(キー割付!F648=\"\",\"\",キー割付!F648))","v":""},{"$f":"IF(E109=\"ZX-DECLDIV-IPコードレス電話機\",\"\",IF(キー割付!G648=\"\",\"\",キー割付!G648))","v":""},{"$f":"IF(E109=\"ZX-DECLDIV-IPコードレス電話機\",\"\",IF(キー割付!H648=\"\",\"\",キー割付!H648))","v":""},{"$f":"IF(E109=\"ZX-DECLDIV-IPコードレス電話機\",\"\",IF(キー割付!I648=\"\",\"\",キー割付!I648))","v":""}]
[null,36,{"$f":"IF(IFERROR(VALUE(VLOOKUP(B112,内線_キー割用,2,FALSE)),\"\")=0,\"\",IFERROR(VALUE(VLOOKUP(B112,内線_キー割用,2,FALSE)),\"\"))","v":""},{"$f":"IF(IFERROR(VALUE(VLOOKUP(B112,内線_キー割用,4,FALSE)),\"\")=0,\"\",IFERROR(VALUE(VLOOKUP(B112,内線_キー割用,4,FALSE)),\"\"))","v":""},{"$f":"IF(IFERROR(VLOOKUP(B112,内線_キー割用,3,FALSE),\"\")=0,\"\",IFERROR(VLOOKUP(B112,内線_キー割用,3,FALSE),\"\"))","v":""},{"$f":"IF(キー割付!N622=\"\",\"\",キー割付!N622)","v":""},{"$f":"IF(キー割付!O622=\"\",\"\",キー割付!O622)","v":""},{"$f":"IF(キー割付!P622=\"\",\"\",キー割付!P622)","v":""},{"$f":"IF(キー割付!Q622=\"\",\"\",キー割付!Q622)","v":""},{"$f":"IF(キー割付!R622=\"\",\"\",キー割付!R622)","v":""},{"$f":"IF(キー割付!S622=\"\",\"\",キー割付!S622)","v":""},{"$f":"IF(キー割付!N630=\"\",\"\",キー割付!N630)","v":""},{"$f":"IF(キー割付!O630=\"\",\"\",キー割付!O630)","v":""},{"$f":"IF(E112=\"ZX-DECLDIV-IPコードレス電話機\",\"\",IF(キー割付!P630=\"\",\"\",キー割付!P630))","v":""},{"$f":"IF(E112=\"ZX-DECLDIV-IPコードレス電話機\",\"\",IF(キー割付!Q630=\"\",\"\",キー割付!Q630))","v":""},{"$f":"IF(E112=\"ZX-DECLDIV-IPコードレス電話機\",\"\",IF(キー割付!R630=\"\",\"\",キー割付!R630))","v":""},{"$f":"IF(E112=\"ZX-DECLDIV-IPコードレス電話機\",\"\",IF(キー割付!S630=\"\",\"\",キー割付!S630))","v":""},{"$f":"IF(E112=\"ZX-DECLDIV-IPコードレス電話機\",\"\",IF(キー割付!N638=\"\",\"\",キー割付!N638))","v":""},{"$f":"IF(E112=\"ZX-DECLDIV-IPコードレス電話機\",\"\",IF(キー割付!O638=\"\",\"\",キー割付!O638))","v":""},{"$f":"IF(E112=\"ZX-DECLDIV-IPコードレス電話機\",\"\",IF(キー割付!P638=\"\",\"\",キー割付!P638))","v":""},{"$f":"IF(E112=\"ZX-DECLDIV-IPコードレス電話機\",\"\",IF(キー割付!Q638=\"\",\"\",キー割付!Q638))","v":""},{"$f":"IF(E112=\"ZX-DECLDIV-IPコードレス電話機\",\"\",IF(キー割付!R638=\"\",\"\",キー割付!R638))","v":""},{"$f":"IF(E112=\"ZX-DECLDIV-IPコードレス電話機\",\"\",IF(キー割付!S638=\"\",\"\",キー割付!S638))","v":""},{"$f":"IF(E112=\"ZX-DECLDIV-IPコードレス電話機\",\"\",IF(キー割付!N646=\"\",\"\",キー割付!N646))","v":""},{"$f":"IF(E112=\"ZX-DECLDIV-IPコードレス電話機\",\"\",IF(キー割付!O646=\"\",\"\",キー割付!O646))","v":""},{"$f":"IF(E112=\"ZX-DECLDIV-IPコードレス電話機\",\"\",IF(キー割付!P646=\"\",\"\",キー割付!P646))","v":""},{"$f":"IF(E112=\"ZX-DECLDIV-IPコードレス電話機\",\"\",IF(キー割付!Q646=\"\",\"\",キー割付!Q646))","v":""},{"$f":"IF(E112=\"ZX-DECLDIV-IPコードレス電話機\",\"\",IF(キー割付!R646=\"\",\"\",キー割付!R646))","v":""},{"$f":"IF(E112=\"ZX-DECLDIV-IPコードレス電話機\",\"\",IF(キー割付!S646=\"\",\"\",キー割付!S646))","v":""}]
[null,null,null,null,null,{"$f":"IF(キー割付!N623=\"\",\"\",キー割付!N623)","v":""},{"$f":"IF(キー割付!O623=\"\",\"\",キー割付!O623)","v":""},{"$f":"IF(キー割付!P623=\"\",\"\",キー割付!P623)","v":""},{"$f":"IF(キー割付!Q623=\"\",\"\",キー割付!Q623)","v":""},{"$f":"IF(キー割付!R623=\"\",\"\",キー割付!R623)","v":""},{"$f":"IF(キー割付!S623=\"\",\"\",キー割付!S623)","v":""},{"$f":"IF(キー割付!N631=\"\",\"\",キー割付!N631)","v":""},{"$f":"IF(キー割付!O631=\"\",\"\",キー割付!O631)","v":""},{"$f":"IF(E112=\"ZX-DECLDIV-IPコードレス電話機\",\"\",IF(キー割付!P631=\"\",\"\",キー割付!P631))","v":""},{"$f":"IF(E112=\"ZX-DECLDIV-IPコードレス電話機\",\"\",IF(キー割付!Q631=\"\",\"\",キー割付!Q631))","v":""},{"$f":"IF(E112=\"ZX-DECLDIV-IPコードレス電話機\",\"\",IF(キー割付!R631=\"\",\"\",キー割付!R631))","v":""},{"$f":"IF(E112=\"ZX-DECLDIV-IPコードレス電話機\",\"\",IF(キー割付!S631=\"\",\"\",キー割付!S631))","v":""},{"$f":"IF(E112=\"ZX-DECLDIV-IPコードレス電話機\",\"\",IF(キー割付!N639=\"\",\"\",キー割付!N639))","v":""},{"$f":"IF(E112=\"ZX-DECLDIV-IPコードレス電話機\",\"\",IF(キー割付!O639=\"\",\"\",キー割付!O639))","v":""},{"$f":"IF(E112=\"ZX-DECLDIV-IPコードレス電話機\",\"\",IF(キー割付!P639=\"\",\"\",キー割付!P639))","v":""},{"$f":"IF(E112=\"ZX-DECLDIV-IPコードレス電話機\",\"\",IF(キー割付!Q639=\"\",\"\",キー割付!Q639))","v":""},{"$f":"IF(E112=\"ZX-DECLDIV-IPコードレス電話機\",\"\",IF(キー割付!R639=\"\",\"\",キー割付!R639))","v":""},{"$f":"IF(E112=\"ZX-DECLDIV-IPコードレス電話機\",\"\",IF(キー割付!S639=\"\",\"\",キー割付!S639))","v":""},{"$f":"IF(E112=\"ZX-DECLDIV-IPコードレス電話機\",\"\",IF(キー割付!N647=\"\",\"\",キー割付!N647))","v":""},{"$f":"IF(E112=\"ZX-DECLDIV-IPコードレス電話機\",\"\",IF(キー割付!O647=\"\",\"\",キー割付!O647))","v":""},{"$f":"IF(E112=\"ZX-DECLDIV-IPコードレス電話機\",\"\",IF(キー割付!P647=\"\",\"\",キー割付!P647))","v":""},{"$f":"IF(E112=\"ZX-DECLDIV-IPコードレス電話機\",\"\",IF(キー割付!Q647=\"\",\"\",キー割付!Q647))","v":""},{"$f":"IF(E112=\"ZX-DECLDIV-IPコードレス電話機\",\"\",IF(キー割付!R647=\"\",\"\",キー割付!R647))","v":""},{"$f":"IF(E112=\"ZX-DECLDIV-IPコードレス電話機\",\"\",IF(キー割付!S647=\"\",\"\",キー割付!S647))","v":""}]
[null,null,null,null,null,{"$f":"IF(キー割付!N624=\"\",\"\",キー割付!N624)","v":""},{"$f":"IF(キー割付!O624=\"\",\"\",キー割付!O624)","v":""},{"$f":"IF(キー割付!P624=\"\",\"\",キー割付!P624)","v":""},{"$f":"IF(キー割付!Q624=\"\",\"\",キー割付!Q624)","v":""},{"$f":"IF(キー割付!R624=\"\",\"\",キー割付!R624)","v":""},{"$f":"IF(キー割付!S624=\"\",\"\",キー割付!S624)","v":""},{"$f":"IF(キー割付!N632=\"\",\"\",キー割付!N632)","v":""},{"$f":"IF(キー割付!O632=\"\",\"\",キー割付!O632)","v":""},{"$f":"IF(E112=\"ZX-DECLDIV-IPコードレス電話機\",\"\",IF(キー割付!P632=\"\",\"\",キー割付!P632))","v":""},{"$f":"IF(E112=\"ZX-DECLDIV-IPコードレス電話機\",\"\",IF(キー割付!Q632=\"\",\"\",キー割付!Q632))","v":""},{"$f":"IF(E112=\"ZX-DECLDIV-IPコードレス電話機\",\"\",IF(キー割付!R632=\"\",\"\",キー割付!R632))","v":""},{"$f":"IF(E112=\"ZX-DECLDIV-IPコードレス電話機\",\"\",IF(キー割付!S632=\"\",\"\",キー割付!S632))","v":""},{"$f":"IF(E112=\"ZX-DECLDIV-IPコードレス電話機\",\"\",IF(キー割付!N640=\"\",\"\",キー割付!N640))","v":""},{"$f":"IF(E112=\"ZX-DECLDIV-IPコードレス電話機\",\"\",IF(キー割付!O640=\"\",\"\",キー割付!O640))","v":""},{"$f":"IF(E112=\"ZX-DECLDIV-IPコードレス電話機\",\"\",IF(キー割付!P640=\"\",\"\",キー割付!P640))","v":""},{"$f":"IF(E112=\"ZX-DECLDIV-IPコードレス電話機\",\"\",IF(キー割付!Q640=\"\",\"\",キー割付!Q640))","v":""},{"$f":"IF(E112=\"ZX-DECLDIV-IPコードレス電話機\",\"\",IF(キー割付!R640=\"\",\"\",キー割付!R640))","v":""},{"$f":"IF(E112=\"ZX-DECLDIV-IPコードレス電話機\",\"\",IF(キー割付!S640=\"\",\"\",キー割付!S640))","v":""},{"$f":"IF(E112=\"ZX-DECLDIV-IPコードレス電話機\",\"\",IF(キー割付!N648=\"\",\"\",キー割付!N648))","v":""},{"$f":"IF(E112=\"ZX-DECLDIV-IPコードレス電話機\",\"\",IF(キー割付!O648=\"\",\"\",キー割付!O648))","v":""},{"$f":"IF(E112=\"ZX-DECLDIV-IPコードレス電話機\",\"\",IF(キー割付!P648=\"\",\"\",キー割付!P648))","v":""},{"$f":"IF(E112=\"ZX-DECLDIV-IPコードレス電話機\",\"\",IF(キー割付!Q648=\"\",\"\",キー割付!Q648))","v":""},{"$f":"IF(E112=\"ZX-DECLDIV-IPコードレス電話機\",\"\",IF(キー割付!R648=\"\",\"\",キー割付!R648))","v":""},{"$f":"IF(E112=\"ZX-DECLDIV-IPコードレス電話機\",\"\",IF(キー割付!S648=\"\",\"\",キー割付!S648))","v":""}]
[null,37,{"$f":"IF(IFERROR(VALUE(VLOOKUP(B115,内線_キー割用,2,FALSE)),\"\")=0,\"\",IFERROR(VALUE(VLOOKUP(B115,内線_キー割用,2,FALSE)),\"\"))","v":""},{"$f":"IF(IFERROR(VALUE(VLOOKUP(B115,内線_キー割用,4,FALSE)),\"\")=0,\"\",IFERROR(VALUE(VLOOKUP(B115,内線_キー割用,4,FALSE)),\"\"))","v":""},{"$f":"IF(IFERROR(VLOOKUP(B115,内線_キー割用,3,FALSE),\"\")=0,\"\",IFERROR(VLOOKUP(B115,内線_キー割用,3,FALSE),\"\"))","v":""},{"$f":"IF(キー割付!D658=\"\",\"\",キー割付!D658)","v":""},{"$f":"IF(キー割付!E658=\"\",\"\",キー割付!E658)","v":""},{"$f":"IF(キー割付!F658=\"\",\"\",キー割付!F658)","v":""},{"$f":"IF(キー割付!G658=\"\",\"\",キー割付!G658)","v":""},{"$f":"IF(キー割付!H658=\"\",\"\",キー割付!H658)","v":""},{"$f":"IF(キー割付!I658=\"\",\"\",キー割付!I658)","v":""},{"$f":"IF(キー割付!D666=\"\",\"\",キー割付!D666)","v":""},{"$f":"IF(キー割付!E666=\"\",\"\",キー割付!E666)","v":""},{"$f":"IF(E115=\"ZX-DECLDIV-IPコードレス電話機\",\"\",IF(キー割付!F666=\"\",\"\",キー割付!F666))","v":""},{"$f":"IF(E115=\"ZX-DECLDIV-IPコードレス電話機\",\"\",IF(キー割付!G666=\"\",\"\",キー割付!G666))","v":""},{"$f":"IF(E115=\"ZX-DECLDIV-IPコードレス電話機\",\"\",IF(キー割付!H666=\"\",\"\",キー割付!H666))","v":""},{"$f":"IF(E115=\"ZX-DECLDIV-IPコードレス電話機\",\"\",IF(キー割付!I666=\"\",\"\",キー割付!I666))","v":""},{"$f":"IF(E115=\"ZX-DECLDIV-IPコードレス電話機\",\"\",IF(キー割付!D674=\"\",\"\",キー割付!D674))","v":""},{"$f":"IF(E115=\"ZX-DECLDIV-IPコードレス電話機\",\"\",IF(キー割付!E674=\"\",\"\",キー割付!E674))","v":""},{"$f":"IF(E115=\"ZX-DECLDIV-IPコードレス電話機\",\"\",IF(キー割付!F674=\"\",\"\",キー割付!F674))","v":""},{"$f":"IF(E115=\"ZX-DECLDIV-IPコードレス電話機\",\"\",IF(キー割付!G674=\"\",\"\",キー割付!G674))","v":""},{"$f":"IF(E115=\"ZX-DECLDIV-IPコードレス電話機\",\"\",IF(キー割付!H674=\"\",\"\",キー割付!H674))","v":""},{"$f":"IF(E115=\"ZX-DECLDIV-IPコードレス電話機\",\"\",IF(キー割付!I674=\"\",\"\",キー割付!I674))","v":""},{"$f":"IF(E115=\"ZX-DECLDIV-IPコードレス電話機\",\"\",IF(キー割付!D682=\"\",\"\",キー割付!D682))","v":""},{"$f":"IF(E115=\"ZX-DECLDIV-IPコードレス電話機\",\"\",IF(キー割付!E682=\"\",\"\",キー割付!E682))","v":""},{"$f":"IF(E115=\"ZX-DECLDIV-IPコードレス電話機\",\"\",IF(キー割付!F682=\"\",\"\",キー割付!F682))","v":""},{"$f":"IF(E115=\"ZX-DECLDIV-IPコードレス電話機\",\"\",IF(キー割付!G682=\"\",\"\",キー割付!G682))","v":""},{"$f":"IF(E115=\"ZX-DECLDIV-IPコードレス電話機\",\"\",IF(キー割付!H682=\"\",\"\",キー割付!H682))","v":""},{"$f":"IF(E115=\"ZX-DECLDIV-IPコードレス電話機\",\"\",IF(キー割付!I682=\"\",\"\",キー割付!I682))","v":""}]
[null,null,null,null,null,{"$f":"IF(キー割付!D659=\"\",\"\",キー割付!D659)","v":""},{"$f":"IF(キー割付!E659=\"\",\"\",キー割付!E659)","v":""},{"$f":"IF(キー割付!F659=\"\",\"\",キー割付!F659)","v":""},{"$f":"IF(キー割付!G659=\"\",\"\",キー割付!G659)","v":""},{"$f":"IF(キー割付!H659=\"\",\"\",キー割付!H659)","v":""},{"$f":"IF(キー割付!I659=\"\",\"\",キー割付!I659)","v":""},{"$f":"IF(キー割付!D667=\"\",\"\",キー割付!D667)","v":""},{"$f":"IF(キー割付!E667=\"\",\"\",キー割付!E667)","v":""},{"$f":"IF(E115=\"ZX-DECLDIV-IPコードレス電話機\",\"\",IF(キー割付!F667=\"\",\"\",キー割付!F667))","v":""},{"$f":"IF(E115=\"ZX-DECLDIV-IPコードレス電話機\",\"\",IF(キー割付!G667=\"\",\"\",キー割付!G667))","v":""},{"$f":"IF(E115=\"ZX-DECLDIV-IPコードレス電話機\",\"\",IF(キー割付!H667=\"\",\"\",キー割付!H667))","v":""},{"$f":"IF(E115=\"ZX-DECLDIV-IPコードレス電話機\",\"\",IF(キー割付!I667=\"\",\"\",キー割付!I667))","v":""},{"$f":"IF(E115=\"ZX-DECLDIV-IPコードレス電話機\",\"\",IF(キー割付!D675=\"\",\"\",キー割付!D675))","v":""},{"$f":"IF(E115=\"ZX-DECLDIV-IPコードレス電話機\",\"\",IF(キー割付!E675=\"\",\"\",キー割付!E675))","v":""},{"$f":"IF(E115=\"ZX-DECLDIV-IPコードレス電話機\",\"\",IF(キー割付!F675=\"\",\"\",キー割付!F675))","v":""},{"$f":"IF(E115=\"ZX-DECLDIV-IPコードレス電話機\",\"\",IF(キー割付!G675=\"\",\"\",キー割付!G675))","v":""},{"$f":"IF(E115=\"ZX-DECLDIV-IPコードレス電話機\",\"\",IF(キー割付!H675=\"\",\"\",キー割付!H675))","v":""},{"$f":"IF(E115=\"ZX-DECLDIV-IPコードレス電話機\",\"\",IF(キー割付!I675=\"\",\"\",キー割付!I675))","v":""},{"$f":"IF(E115=\"ZX-DECLDIV-IPコードレス電話機\",\"\",IF(キー割付!D683=\"\",\"\",キー割付!D683))","v":""},{"$f":"IF(E115=\"ZX-DECLDIV-IPコードレス電話機\",\"\",IF(キー割付!E683=\"\",\"\",キー割付!E683))","v":""},{"$f":"IF(E115=\"ZX-DECLDIV-IPコードレス電話機\",\"\",IF(キー割付!F683=\"\",\"\",キー割付!F683))","v":""},{"$f":"IF(E115=\"ZX-DECLDIV-IPコードレス電話機\",\"\",IF(キー割付!G683=\"\",\"\",キー割付!G683))","v":""},{"$f":"IF(E115=\"ZX-DECLDIV-IPコードレス電話機\",\"\",IF(キー割付!H683=\"\",\"\",キー割付!H683))","v":""},{"$f":"IF(E115=\"ZX-DECLDIV-IPコードレス電話機\",\"\",IF(キー割付!I683=\"\",\"\",キー割付!I683))","v":""}]
[null,null,null,null,null,{"$f":"IF(キー割付!D660=\"\",\"\",キー割付!D660)","v":""},{"$f":"IF(キー割付!E660=\"\",\"\",キー割付!E660)","v":""},{"$f":"IF(キー割付!F660=\"\",\"\",キー割付!F660)","v":""},{"$f":"IF(キー割付!G660=\"\",\"\",キー割付!G660)","v":""},{"$f":"IF(キー割付!H660=\"\",\"\",キー割付!H660)","v":""},{"$f":"IF(キー割付!I660=\"\",\"\",キー割付!I660)","v":""},{"$f":"IF(キー割付!D668=\"\",\"\",キー割付!D668)","v":""},{"$f":"IF(キー割付!E668=\"\",\"\",キー割付!E668)","v":""},{"$f":"IF(E115=\"ZX-DECLDIV-IPコードレス電話機\",\"\",IF(キー割付!F668=\"\",\"\",キー割付!F668))","v":""},{"$f":"IF(E115=\"ZX-DECLDIV-IPコードレス電話機\",\"\",IF(キー割付!G668=\"\",\"\",キー割付!G668))","v":""},{"$f":"IF(E115=\"ZX-DECLDIV-IPコードレス電話機\",\"\",IF(キー割付!H668=\"\",\"\",キー割付!H668))","v":""},{"$f":"IF(E115=\"ZX-DECLDIV-IPコードレス電話機\",\"\",IF(キー割付!I668=\"\",\"\",キー割付!I668))","v":""},{"$f":"IF(E115=\"ZX-DECLDIV-IPコードレス電話機\",\"\",IF(キー割付!D676=\"\",\"\",キー割付!D676))","v":""},{"$f":"IF(E115=\"ZX-DECLDIV-IPコードレス電話機\",\"\",IF(キー割付!E676=\"\",\"\",キー割付!E676))","v":""},{"$f":"IF(E115=\"ZX-DECLDIV-IPコードレス電話機\",\"\",IF(キー割付!F676=\"\",\"\",キー割付!F676))","v":""},{"$f":"IF(E115=\"ZX-DECLDIV-IPコードレス電話機\",\"\",IF(キー割付!G676=\"\",\"\",キー割付!G676))","v":""},{"$f":"IF(E115=\"ZX-DECLDIV-IPコードレス電話機\",\"\",IF(キー割付!H676=\"\",\"\",キー割付!H676))","v":""},{"$f":"IF(E115=\"ZX-DECLDIV-IPコードレス電話機\",\"\",IF(キー割付!I676=\"\",\"\",キー割付!I676))","v":""},{"$f":"IF(E115=\"ZX-DECLDIV-IPコードレス電話機\",\"\",IF(キー割付!D684=\"\",\"\",キー割付!D684))","v":""},{"$f":"IF(E115=\"ZX-DECLDIV-IPコードレス電話機\",\"\",IF(キー割付!E684=\"\",\"\",キー割付!E684))","v":""},{"$f":"IF(E115=\"ZX-DECLDIV-IPコードレス電話機\",\"\",IF(キー割付!F684=\"\",\"\",キー割付!F684))","v":""},{"$f":"IF(E115=\"ZX-DECLDIV-IPコードレス電話機\",\"\",IF(キー割付!G684=\"\",\"\",キー割付!G684))","v":""},{"$f":"IF(E115=\"ZX-DECLDIV-IPコードレス電話機\",\"\",IF(キー割付!H684=\"\",\"\",キー割付!H684))","v":""},{"$f":"IF(E115=\"ZX-DECLDIV-IPコードレス電話機\",\"\",IF(キー割付!I684=\"\",\"\",キー割付!I684))","v":""}]
[null,38,{"$f":"IF(IFERROR(VALUE(VLOOKUP(B118,内線_キー割用,2,FALSE)),\"\")=0,\"\",IFERROR(VALUE(VLOOKUP(B118,内線_キー割用,2,FALSE)),\"\"))","v":""},{"$f":"IF(IFERROR(VALUE(VLOOKUP(B118,内線_キー割用,4,FALSE)),\"\")=0,\"\",IFERROR(VALUE(VLOOKUP(B118,内線_キー割用,4,FALSE)),\"\"))","v":""},{"$f":"IF(IFERROR(VLOOKUP(B118,内線_キー割用,3,FALSE),\"\")=0,\"\",IFERROR(VLOOKUP(B118,内線_キー割用,3,FALSE),\"\"))","v":""},{"$f":"IF(キー割付!N658=\"\",\"\",キー割付!N658)","v":""},{"$f":"IF(キー割付!O658=\"\",\"\",キー割付!O658)","v":""},{"$f":"IF(キー割付!P658=\"\",\"\",キー割付!P658)","v":""},{"$f":"IF(キー割付!Q658=\"\",\"\",キー割付!Q658)","v":""},{"$f":"IF(キー割付!R658=\"\",\"\",キー割付!R658)","v":""},{"$f":"IF(キー割付!S658=\"\",\"\",キー割付!S658)","v":""},{"$f":"IF(キー割付!N666=\"\",\"\",キー割付!N666)","v":""},{"$f":"IF(キー割付!O666=\"\",\"\",キー割付!O666)","v":""},{"$f":"IF(E118=\"ZX-DECLDIV-IPコードレス電話機\",\"\",IF(キー割付!P666=\"\",\"\",キー割付!P666))","v":""},{"$f":"IF(E118=\"ZX-DECLDIV-IPコードレス電話機\",\"\",IF(キー割付!Q666=\"\",\"\",キー割付!Q666))","v":""},{"$f":"IF(E118=\"ZX-DECLDIV-IPコードレス電話機\",\"\",IF(キー割付!R666=\"\",\"\",キー割付!R666))","v":""},{"$f":"IF(E118=\"ZX-DECLDIV-IPコードレス電話機\",\"\",IF(キー割付!S666=\"\",\"\",キー割付!S666))","v":""},{"$f":"IF(E118=\"ZX-DECLDIV-IPコードレス電話機\",\"\",IF(キー割付!N674=\"\",\"\",キー割付!N674))","v":""},{"$f":"IF(E118=\"ZX-DECLDIV-IPコードレス電話機\",\"\",IF(キー割付!O674=\"\",\"\",キー割付!O674))","v":""},{"$f":"IF(E118=\"ZX-DECLDIV-IPコードレス電話機\",\"\",IF(キー割付!P674=\"\",\"\",キー割付!P674))","v":""},{"$f":"IF(E118=\"ZX-DECLDIV-IPコードレス電話機\",\"\",IF(キー割付!Q674=\"\",\"\",キー割付!Q674))","v":""},{"$f":"IF(E118=\"ZX-DECLDIV-IPコードレス電話機\",\"\",IF(キー割付!R674=\"\",\"\",キー割付!R674))","v":""},{"$f":"IF(E118=\"ZX-DECLDIV-IPコードレス電話機\",\"\",IF(キー割付!S674=\"\",\"\",キー割付!S674))","v":""},{"$f":"IF(E118=\"ZX-DECLDIV-IPコードレス電話機\",\"\",IF(キー割付!N682=\"\",\"\",キー割付!N682))","v":""},{"$f":"IF(E118=\"ZX-DECLDIV-IPコードレス電話機\",\"\",IF(キー割付!O682=\"\",\"\",キー割付!O682))","v":""},{"$f":"IF(E118=\"ZX-DECLDIV-IPコードレス電話機\",\"\",IF(キー割付!P682=\"\",\"\",キー割付!P682))","v":""},{"$f":"IF(E118=\"ZX-DECLDIV-IPコードレス電話機\",\"\",IF(キー割付!Q682=\"\",\"\",キー割付!Q682))","v":""},{"$f":"IF(E118=\"ZX-DECLDIV-IPコードレス電話機\",\"\",IF(キー割付!R682=\"\",\"\",キー割付!R682))","v":""},{"$f":"IF(E118=\"ZX-DECLDIV-IPコードレス電話機\",\"\",IF(キー割付!S682=\"\",\"\",キー割付!S682))","v":""}]
[null,null,null,null,null,{"$f":"IF(キー割付!N659=\"\",\"\",キー割付!N659)","v":""},{"$f":"IF(キー割付!O659=\"\",\"\",キー割付!O659)","v":""},{"$f":"IF(キー割付!P659=\"\",\"\",キー割付!P659)","v":""},{"$f":"IF(キー割付!Q659=\"\",\"\",キー割付!Q659)","v":""},{"$f":"IF(キー割付!R659=\"\",\"\",キー割付!R659)","v":""},{"$f":"IF(キー割付!S659=\"\",\"\",キー割付!S659)","v":""},{"$f":"IF(キー割付!N667=\"\",\"\",キー割付!N667)","v":""},{"$f":"IF(キー割付!O667=\"\",\"\",キー割付!O667)","v":""},{"$f":"IF(E118=\"ZX-DECLDIV-IPコードレス電話機\",\"\",IF(キー割付!P667=\"\",\"\",キー割付!P667))","v":""},{"$f":"IF(E118=\"ZX-DECLDIV-IPコードレス電話機\",\"\",IF(キー割付!Q667=\"\",\"\",キー割付!Q667))","v":""},{"$f":"IF(E118=\"ZX-DECLDIV-IPコードレス電話機\",\"\",IF(キー割付!R667=\"\",\"\",キー割付!R667))","v":""},{"$f":"IF(E118=\"ZX-DECLDIV-IPコードレス電話機\",\"\",IF(キー割付!S667=\"\",\"\",キー割付!S667))","v":""},{"$f":"IF(E118=\"ZX-DECLDIV-IPコードレス電話機\",\"\",IF(キー割付!N675=\"\",\"\",キー割付!N675))","v":""},{"$f":"IF(E118=\"ZX-DECLDIV-IPコードレス電話機\",\"\",IF(キー割付!O675=\"\",\"\",キー割付!O675))","v":""},{"$f":"IF(E118=\"ZX-DECLDIV-IPコードレス電話機\",\"\",IF(キー割付!P675=\"\",\"\",キー割付!P675))","v":""},{"$f":"IF(E118=\"ZX-DECLDIV-IPコードレス電話機\",\"\",IF(キー割付!Q675=\"\",\"\",キー割付!Q675))","v":""},{"$f":"IF(E118=\"ZX-DECLDIV-IPコードレス電話機\",\"\",IF(キー割付!R675=\"\",\"\",キー割付!R675))","v":""},{"$f":"IF(E118=\"ZX-DECLDIV-IPコードレス電話機\",\"\",IF(キー割付!S675=\"\",\"\",キー割付!S675))","v":""},{"$f":"IF(E118=\"ZX-DECLDIV-IPコードレス電話機\",\"\",IF(キー割付!N683=\"\",\"\",キー割付!N683))","v":""},{"$f":"IF(E118=\"ZX-DECLDIV-IPコードレス電話機\",\"\",IF(キー割付!O683=\"\",\"\",キー割付!O683))","v":""},{"$f":"IF(E118=\"ZX-DECLDIV-IPコードレス電話機\",\"\",IF(キー割付!P683=\"\",\"\",キー割付!P683))","v":""},{"$f":"IF(E118=\"ZX-DECLDIV-IPコードレス電話機\",\"\",IF(キー割付!Q683=\"\",\"\",キー割付!Q683))","v":""},{"$f":"IF(E118=\"ZX-DECLDIV-IPコードレス電話機\",\"\",IF(キー割付!R683=\"\",\"\",キー割付!R683))","v":""},{"$f":"IF(E118=\"ZX-DECLDIV-IPコードレス電話機\",\"\",IF(キー割付!S683=\"\",\"\",キー割付!S683))","v":""}]
[null,null,null,null,null,{"$f":"IF(キー割付!N660=\"\",\"\",キー割付!N660)","v":""},{"$f":"IF(キー割付!O660=\"\",\"\",キー割付!O660)","v":""},{"$f":"IF(キー割付!P660=\"\",\"\",キー割付!P660)","v":""},{"$f":"IF(キー割付!Q660=\"\",\"\",キー割付!Q660)","v":""},{"$f":"IF(キー割付!R660=\"\",\"\",キー割付!R660)","v":""},{"$f":"IF(キー割付!S660=\"\",\"\",キー割付!S660)","v":""},{"$f":"IF(キー割付!N668=\"\",\"\",キー割付!N668)","v":""},{"$f":"IF(キー割付!O668=\"\",\"\",キー割付!O668)","v":""},{"$f":"IF(E118=\"ZX-DECLDIV-IPコードレス電話機\",\"\",IF(キー割付!P668=\"\",\"\",キー割付!P668))","v":""},{"$f":"IF(E118=\"ZX-DECLDIV-IPコードレス電話機\",\"\",IF(キー割付!Q668=\"\",\"\",キー割付!Q668))","v":""},{"$f":"IF(E118=\"ZX-DECLDIV-IPコードレス電話機\",\"\",IF(キー割付!R668=\"\",\"\",キー割付!R668))","v":""},{"$f":"IF(E118=\"ZX-DECLDIV-IPコードレス電話機\",\"\",IF(キー割付!S668=\"\",\"\",キー割付!S668))","v":""},{"$f":"IF(E118=\"ZX-DECLDIV-IPコードレス電話機\",\"\",IF(キー割付!N676=\"\",\"\",キー割付!N676))","v":""},{"$f":"IF(E118=\"ZX-DECLDIV-IPコードレス電話機\",\"\",IF(キー割付!O676=\"\",\"\",キー割付!O676))","v":""},{"$f":"IF(E118=\"ZX-DECLDIV-IPコードレス電話機\",\"\",IF(キー割付!P676=\"\",\"\",キー割付!P676))","v":""},{"$f":"IF(E118=\"ZX-DECLDIV-IPコードレス電話機\",\"\",IF(キー割付!Q676=\"\",\"\",キー割付!Q676))","v":""},{"$f":"IF(E118=\"ZX-DECLDIV-IPコードレス電話機\",\"\",IF(キー割付!R676=\"\",\"\",キー割付!R676))","v":""},{"$f":"IF(E118=\"ZX-DECLDIV-IPコードレス電話機\",\"\",IF(キー割付!S676=\"\",\"\",キー割付!S676))","v":""},{"$f":"IF(E118=\"ZX-DECLDIV-IPコードレス電話機\",\"\",IF(キー割付!N684=\"\",\"\",キー割付!N684))","v":""},{"$f":"IF(E118=\"ZX-DECLDIV-IPコードレス電話機\",\"\",IF(キー割付!O684=\"\",\"\",キー割付!O684))","v":""},{"$f":"IF(E118=\"ZX-DECLDIV-IPコードレス電話機\",\"\",IF(キー割付!P684=\"\",\"\",キー割付!P684))","v":""},{"$f":"IF(E118=\"ZX-DECLDIV-IPコードレス電話機\",\"\",IF(キー割付!Q684=\"\",\"\",キー割付!Q684))","v":""},{"$f":"IF(E118=\"ZX-DECLDIV-IPコードレス電話機\",\"\",IF(キー割付!R684=\"\",\"\",キー割付!R684))","v":""},{"$f":"IF(E118=\"ZX-DECLDIV-IPコードレス電話機\",\"\",IF(キー割付!S684=\"\",\"\",キー割付!S684))","v":""}]
[null,39,{"$f":"IF(IFERROR(VALUE(VLOOKUP(B121,内線_キー割用,2,FALSE)),\"\")=0,\"\",IFERROR(VALUE(VLOOKUP(B121,内線_キー割用,2,FALSE)),\"\"))","v":""},{"$f":"IF(IFERROR(VALUE(VLOOKUP(B121,内線_キー割用,4,FALSE)),\"\")=0,\"\",IFERROR(VALUE(VLOOKUP(B121,内線_キー割用,4,FALSE)),\"\"))","v":""},{"$f":"IF(IFERROR(VLOOKUP(B121,内線_キー割用,3,FALSE),\"\")=0,\"\",IFERROR(VLOOKUP(B121,内線_キー割用,3,FALSE),\"\"))","v":""},{"$f":"IF(キー割付!D694=\"\",\"\",キー割付!D694)","v":""},{"$f":"IF(キー割付!E694=\"\",\"\",キー割付!E694)","v":""},{"$f":"IF(キー割付!F694=\"\",\"\",キー割付!F694)","v":""},{"$f":"IF(キー割付!G694=\"\",\"\",キー割付!G694)","v":""},{"$f":"IF(キー割付!H694=\"\",\"\",キー割付!H694)","v":""},{"$f":"IF(キー割付!I694=\"\",\"\",キー割付!I694)","v":""},{"$f":"IF(キー割付!D702=\"\",\"\",キー割付!D702)","v":""},{"$f":"IF(キー割付!E702=\"\",\"\",キー割付!E702)","v":""},{"$f":"IF(E121=\"ZX-DECLDIV-IPコードレス電話機\",\"\",IF(キー割付!F702=\"\",\"\",キー割付!F702))","v":""},{"$f":"IF(E121=\"ZX-DECLDIV-IPコードレス電話機\",\"\",IF(キー割付!G702=\"\",\"\",キー割付!G702))","v":""},{"$f":"IF(E121=\"ZX-DECLDIV-IPコードレス電話機\",\"\",IF(キー割付!H702=\"\",\"\",キー割付!H702))","v":""},{"$f":"IF(E121=\"ZX-DECLDIV-IPコードレス電話機\",\"\",IF(キー割付!I702=\"\",\"\",キー割付!I702))","v":""},{"$f":"IF(E121=\"ZX-DECLDIV-IPコードレス電話機\",\"\",IF(キー割付!D710=\"\",\"\",キー割付!D710))","v":""},{"$f":"IF(E121=\"ZX-DECLDIV-IPコードレス電話機\",\"\",IF(キー割付!E710=\"\",\"\",キー割付!E710))","v":""},{"$f":"IF(E121=\"ZX-DECLDIV-IPコードレス電話機\",\"\",IF(キー割付!F710=\"\",\"\",キー割付!F710))","v":""},{"$f":"IF(E121=\"ZX-DECLDIV-IPコードレス電話機\",\"\",IF(キー割付!G710=\"\",\"\",キー割付!G710))","v":""},{"$f":"IF(E121=\"ZX-DECLDIV-IPコードレス電話機\",\"\",IF(キー割付!H710=\"\",\"\",キー割付!H710))","v":""},{"$f":"IF(E121=\"ZX-DECLDIV-IPコードレス電話機\",\"\",IF(キー割付!I710=\"\",\"\",キー割付!I710))","v":""},{"$f":"IF(E121=\"ZX-DECLDIV-IPコードレス電話機\",\"\",IF(キー割付!D718=\"\",\"\",キー割付!D718))","v":""},{"$f":"IF(E121=\"ZX-DECLDIV-IPコードレス電話機\",\"\",IF(キー割付!E718=\"\",\"\",キー割付!E718))","v":""},{"$f":"IF(E121=\"ZX-DECLDIV-IPコードレス電話機\",\"\",IF(キー割付!F718=\"\",\"\",キー割付!F718))","v":""},{"$f":"IF(E121=\"ZX-DECLDIV-IPコードレス電話機\",\"\",IF(キー割付!G718=\"\",\"\",キー割付!G718))","v":""},{"$f":"IF(E121=\"ZX-DECLDIV-IPコードレス電話機\",\"\",IF(キー割付!H718=\"\",\"\",キー割付!H718))","v":""},{"$f":"IF(E121=\"ZX-DECLDIV-IPコードレス電話機\",\"\",IF(キー割付!I718=\"\",\"\",キー割付!I718))","v":""}]
[null,null,null,null,null,{"$f":"IF(キー割付!D695=\"\",\"\",キー割付!D695)","v":""},{"$f":"IF(キー割付!E695=\"\",\"\",キー割付!E695)","v":""},{"$f":"IF(キー割付!F695=\"\",\"\",キー割付!F695)","v":""},{"$f":"IF(キー割付!G695=\"\",\"\",キー割付!G695)","v":""},{"$f":"IF(キー割付!H695=\"\",\"\",キー割付!H695)","v":""},{"$f":"IF(キー割付!I695=\"\",\"\",キー割付!I695)","v":""},{"$f":"IF(キー割付!D703=\"\",\"\",キー割付!D703)","v":""},{"$f":"IF(キー割付!E703=\"\",\"\",キー割付!E703)","v":""},{"$f":"IF(E121=\"ZX-DECLDIV-IPコードレス電話機\",\"\",IF(キー割付!F703=\"\",\"\",キー割付!F703))","v":""},{"$f":"IF(E121=\"ZX-DECLDIV-IPコードレス電話機\",\"\",IF(キー割付!G703=\"\",\"\",キー割付!G703))","v":""},{"$f":"IF(E121=\"ZX-DECLDIV-IPコードレス電話機\",\"\",IF(キー割付!H703=\"\",\"\",キー割付!H703))","v":""},{"$f":"IF(E121=\"ZX-DECLDIV-IPコードレス電話機\",\"\",IF(キー割付!I703=\"\",\"\",キー割付!I703))","v":""},{"$f":"IF(E121=\"ZX-DECLDIV-IPコードレス電話機\",\"\",IF(キー割付!D711=\"\",\"\",キー割付!D711))","v":""},{"$f":"IF(E121=\"ZX-DECLDIV-IPコードレス電話機\",\"\",IF(キー割付!E711=\"\",\"\",キー割付!E711))","v":""},{"$f":"IF(E121=\"ZX-DECLDIV-IPコードレス電話機\",\"\",IF(キー割付!F711=\"\",\"\",キー割付!F711))","v":""},{"$f":"IF(E121=\"ZX-DECLDIV-IPコードレス電話機\",\"\",IF(キー割付!G711=\"\",\"\",キー割付!G711))","v":""},{"$f":"IF(E121=\"ZX-DECLDIV-IPコードレス電話機\",\"\",IF(キー割付!H711=\"\",\"\",キー割付!H711))","v":""},{"$f":"IF(E121=\"ZX-DECLDIV-IPコードレス電話機\",\"\",IF(キー割付!I711=\"\",\"\",キー割付!I711))","v":""},{"$f":"IF(E121=\"ZX-DECLDIV-IPコードレス電話機\",\"\",IF(キー割付!D719=\"\",\"\",キー割付!D719))","v":""},{"$f":"IF(E121=\"ZX-DECLDIV-IPコードレス電話機\",\"\",IF(キー割付!E719=\"\",\"\",キー割付!E719))","v":""},{"$f":"IF(E121=\"ZX-DECLDIV-IPコードレス電話機\",\"\",IF(キー割付!F719=\"\",\"\",キー割付!F719))","v":""},{"$f":"IF(E121=\"ZX-DECLDIV-IPコードレス電話機\",\"\",IF(キー割付!G719=\"\",\"\",キー割付!G719))","v":""},{"$f":"IF(E121=\"ZX-DECLDIV-IPコードレス電話機\",\"\",IF(キー割付!H719=\"\",\"\",キー割付!H719))","v":""},{"$f":"IF(E121=\"ZX-DECLDIV-IPコードレス電話機\",\"\",IF(キー割付!I719=\"\",\"\",キー割付!I719))","v":""}]
[null,null,null,null,null,{"$f":"IF(キー割付!D696=\"\",\"\",キー割付!D696)","v":""},{"$f":"IF(キー割付!E696=\"\",\"\",キー割付!E696)","v":""},{"$f":"IF(キー割付!F696=\"\",\"\",キー割付!F696)","v":""},{"$f":"IF(キー割付!G696=\"\",\"\",キー割付!G696)","v":""},{"$f":"IF(キー割付!H696=\"\",\"\",キー割付!H696)","v":""},{"$f":"IF(キー割付!I696=\"\",\"\",キー割付!I696)","v":""},{"$f":"IF(キー割付!D704=\"\",\"\",キー割付!D704)","v":""},{"$f":"IF(キー割付!E704=\"\",\"\",キー割付!E704)","v":""},{"$f":"IF(E121=\"ZX-DECLDIV-IPコードレス電話機\",\"\",IF(キー割付!F704=\"\",\"\",キー割付!F704))","v":""},{"$f":"IF(E121=\"ZX-DECLDIV-IPコードレス電話機\",\"\",IF(キー割付!G704=\"\",\"\",キー割付!G704))","v":""},{"$f":"IF(E121=\"ZX-DECLDIV-IPコードレス電話機\",\"\",IF(キー割付!H704=\"\",\"\",キー割付!H704))","v":""},{"$f":"IF(E121=\"ZX-DECLDIV-IPコードレス電話機\",\"\",IF(キー割付!I704=\"\",\"\",キー割付!I704))","v":""},{"$f":"IF(E121=\"ZX-DECLDIV-IPコードレス電話機\",\"\",IF(キー割付!D712=\"\",\"\",キー割付!D712))","v":""},{"$f":"IF(E121=\"ZX-DECLDIV-IPコードレス電話機\",\"\",IF(キー割付!E712=\"\",\"\",キー割付!E712))","v":""},{"$f":"IF(E121=\"ZX-DECLDIV-IPコードレス電話機\",\"\",IF(キー割付!F712=\"\",\"\",キー割付!F712))","v":""},{"$f":"IF(E121=\"ZX-DECLDIV-IPコードレス電話機\",\"\",IF(キー割付!G712=\"\",\"\",キー割付!G712))","v":""},{"$f":"IF(E121=\"ZX-DECLDIV-IPコードレス電話機\",\"\",IF(キー割付!H712=\"\",\"\",キー割付!H712))","v":""},{"$f":"IF(E121=\"ZX-DECLDIV-IPコードレス電話機\",\"\",IF(キー割付!I712=\"\",\"\",キー割付!I712))","v":""},{"$f":"IF(E121=\"ZX-DECLDIV-IPコードレス電話機\",\"\",IF(キー割付!D720=\"\",\"\",キー割付!D720))","v":""},{"$f":"IF(E121=\"ZX-DECLDIV-IPコードレス電話機\",\"\",IF(キー割付!E720=\"\",\"\",キー割付!E720))","v":""},{"$f":"IF(E121=\"ZX-DECLDIV-IPコードレス電話機\",\"\",IF(キー割付!F720=\"\",\"\",キー割付!F720))","v":""},{"$f":"IF(E121=\"ZX-DECLDIV-IPコードレス電話機\",\"\",IF(キー割付!G720=\"\",\"\",キー割付!G720))","v":""},{"$f":"IF(E121=\"ZX-DECLDIV-IPコードレス電話機\",\"\",IF(キー割付!H720=\"\",\"\",キー割付!H720))","v":""},{"$f":"IF(E121=\"ZX-DECLDIV-IPコードレス電話機\",\"\",IF(キー割付!I720=\"\",\"\",キー割付!I720))","v":""}]
[null,40,{"$f":"IF(IFERROR(VALUE(VLOOKUP(B124,内線_キー割用,2,FALSE)),\"\")=0,\"\",IFERROR(VALUE(VLOOKUP(B124,内線_キー割用,2,FALSE)),\"\"))","v":""},{"$f":"IF(IFERROR(VALUE(VLOOKUP(B124,内線_キー割用,4,FALSE)),\"\")=0,\"\",IFERROR(VALUE(VLOOKUP(B124,内線_キー割用,4,FALSE)),\"\"))","v":""},{"$f":"IF(IFERROR(VLOOKUP(B124,内線_キー割用,3,FALSE),\"\")=0,\"\",IFERROR(VLOOKUP(B124,内線_キー割用,3,FALSE),\"\"))","v":""},{"$f":"IF(キー割付!N694=\"\",\"\",キー割付!N694)","v":""},{"$f":"IF(キー割付!O694=\"\",\"\",キー割付!O694)","v":""},{"$f":"IF(キー割付!P694=\"\",\"\",キー割付!P694)","v":""},{"$f":"IF(キー割付!Q694=\"\",\"\",キー割付!Q694)","v":""},{"$f":"IF(キー割付!R694=\"\",\"\",キー割付!R694)","v":""},{"$f":"IF(キー割付!S694=\"\",\"\",キー割付!S694)","v":""},{"$f":"IF(キー割付!N702=\"\",\"\",キー割付!N702)","v":""},{"$f":"IF(キー割付!O702=\"\",\"\",キー割付!O702)","v":""},{"$f":"IF(E124=\"ZX-DECLDIV-IPコードレス電話機\",\"\",IF(キー割付!P702=\"\",\"\",キー割付!P702))","v":""},{"$f":"IF(E124=\"ZX-DECLDIV-IPコードレス電話機\",\"\",IF(キー割付!Q702=\"\",\"\",キー割付!Q702))","v":""},{"$f":"IF(E124=\"ZX-DECLDIV-IPコードレス電話機\",\"\",IF(キー割付!R702=\"\",\"\",キー割付!R702))","v":""},{"$f":"IF(E124=\"ZX-DECLDIV-IPコードレス電話機\",\"\",IF(キー割付!S702=\"\",\"\",キー割付!S702))","v":""},{"$f":"IF(E124=\"ZX-DECLDIV-IPコードレス電話機\",\"\",IF(キー割付!N710=\"\",\"\",キー割付!N710))","v":""},{"$f":"IF(E124=\"ZX-DECLDIV-IPコードレス電話機\",\"\",IF(キー割付!O710=\"\",\"\",キー割付!O710))","v":""},{"$f":"IF(E124=\"ZX-DECLDIV-IPコードレス電話機\",\"\",IF(キー割付!P710=\"\",\"\",キー割付!P710))","v":""},{"$f":"IF(E124=\"ZX-DECLDIV-IPコードレス電話機\",\"\",IF(キー割付!Q710=\"\",\"\",キー割付!Q710))","v":""},{"$f":"IF(E124=\"ZX-DECLDIV-IPコードレス電話機\",\"\",IF(キー割付!R710=\"\",\"\",キー割付!R710))","v":""},{"$f":"IF(E124=\"ZX-DECLDIV-IPコードレス電話機\",\"\",IF(キー割付!S710=\"\",\"\",キー割付!S710))","v":""},{"$f":"IF(E124=\"ZX-DECLDIV-IPコードレス電話機\",\"\",IF(キー割付!N718=\"\",\"\",キー割付!N718))","v":""},{"$f":"IF(E124=\"ZX-DECLDIV-IPコードレス電話機\",\"\",IF(キー割付!O718=\"\",\"\",キー割付!O718))","v":""},{"$f":"IF(E124=\"ZX-DECLDIV-IPコードレス電話機\",\"\",IF(キー割付!P718=\"\",\"\",キー割付!P718))","v":""},{"$f":"IF(E124=\"ZX-DECLDIV-IPコードレス電話機\",\"\",IF(キー割付!Q718=\"\",\"\",キー割付!Q718))","v":""},{"$f":"IF(E124=\"ZX-DECLDIV-IPコードレス電話機\",\"\",IF(キー割付!R718=\"\",\"\",キー割付!R718))","v":""},{"$f":"IF(E124=\"ZX-DECLDIV-IPコードレス電話機\",\"\",IF(キー割付!S718=\"\",\"\",キー割付!S718))","v":""}]
[null,null,null,null,null,{"$f":"IF(キー割付!N695=\"\",\"\",キー割付!N695)","v":""},{"$f":"IF(キー割付!O695=\"\",\"\",キー割付!O695)","v":""},{"$f":"IF(キー割付!P695=\"\",\"\",キー割付!P695)","v":""},{"$f":"IF(キー割付!Q695=\"\",\"\",キー割付!Q695)","v":""},{"$f":"IF(キー割付!R695=\"\",\"\",キー割付!R695)","v":""},{"$f":"IF(キー割付!S695=\"\",\"\",キー割付!S695)","v":""},{"$f":"IF(キー割付!N703=\"\",\"\",キー割付!N703)","v":""},{"$f":"IF(キー割付!O703=\"\",\"\",キー割付!O703)","v":""},{"$f":"IF(E124=\"ZX-DECLDIV-IPコードレス電話機\",\"\",IF(キー割付!P703=\"\",\"\",キー割付!P703))","v":""},{"$f":"IF(E124=\"ZX-DECLDIV-IPコードレス電話機\",\"\",IF(キー割付!Q703=\"\",\"\",キー割付!Q703))","v":""},{"$f":"IF(E124=\"ZX-DECLDIV-IPコードレス電話機\",\"\",IF(キー割付!R703=\"\",\"\",キー割付!R703))","v":""},{"$f":"IF(E124=\"ZX-DECLDIV-IPコードレス電話機\",\"\",IF(キー割付!S703=\"\",\"\",キー割付!S703))","v":""},{"$f":"IF(E124=\"ZX-DECLDIV-IPコードレス電話機\",\"\",IF(キー割付!N711=\"\",\"\",キー割付!N711))","v":""},{"$f":"IF(E124=\"ZX-DECLDIV-IPコードレス電話機\",\"\",IF(キー割付!O711=\"\",\"\",キー割付!O711))","v":""},{"$f":"IF(E124=\"ZX-DECLDIV-IPコードレス電話機\",\"\",IF(キー割付!P711=\"\",\"\",キー割付!P711))","v":""},{"$f":"IF(E124=\"ZX-DECLDIV-IPコードレス電話機\",\"\",IF(キー割付!Q711=\"\",\"\",キー割付!Q711))","v":""},{"$f":"IF(E124=\"ZX-DECLDIV-IPコードレス電話機\",\"\",IF(キー割付!R711=\"\",\"\",キー割付!R711))","v":""},{"$f":"IF(E124=\"ZX-DECLDIV-IPコードレス電話機\",\"\",IF(キー割付!S711=\"\",\"\",キー割付!S711))","v":""},{"$f":"IF(E124=\"ZX-DECLDIV-IPコードレス電話機\",\"\",IF(キー割付!N719=\"\",\"\",キー割付!N719))","v":""},{"$f":"IF(E124=\"ZX-DECLDIV-IPコードレス電話機\",\"\",IF(キー割付!O719=\"\",\"\",キー割付!O719))","v":""},{"$f":"IF(E124=\"ZX-DECLDIV-IPコードレス電話機\",\"\",IF(キー割付!P719=\"\",\"\",キー割付!P719))","v":""},{"$f":"IF(E124=\"ZX-DECLDIV-IPコードレス電話機\",\"\",IF(キー割付!Q719=\"\",\"\",キー割付!Q719))","v":""},{"$f":"IF(E124=\"ZX-DECLDIV-IPコードレス電話機\",\"\",IF(キー割付!R719=\"\",\"\",キー割付!R719))","v":""},{"$f":"IF(E124=\"ZX-DECLDIV-IPコードレス電話機\",\"\",IF(キー割付!S719=\"\",\"\",キー割付!S719))","v":""}]
[null,null,null,null,null,{"$f":"IF(キー割付!N696=\"\",\"\",キー割付!N696)","v":""},{"$f":"IF(キー割付!O696=\"\",\"\",キー割付!O696)","v":""},{"$f":"IF(キー割付!P696=\"\",\"\",キー割付!P696)","v":""},{"$f":"IF(キー割付!Q696=\"\",\"\",キー割付!Q696)","v":""},{"$f":"IF(キー割付!R696=\"\",\"\",キー割付!R696)","v":""},{"$f":"IF(キー割付!S696=\"\",\"\",キー割付!S696)","v":""},{"$f":"IF(キー割付!N704=\"\",\"\",キー割付!N704)","v":""},{"$f":"IF(キー割付!O704=\"\",\"\",キー割付!O704)","v":""},{"$f":"IF(E124=\"ZX-DECLDIV-IPコードレス電話機\",\"\",IF(キー割付!P704=\"\",\"\",キー割付!P704))","v":""},{"$f":"IF(E124=\"ZX-DECLDIV-IPコードレス電話機\",\"\",IF(キー割付!Q704=\"\",\"\",キー割付!Q704))","v":""},{"$f":"IF(E124=\"ZX-DECLDIV-IPコードレス電話機\",\"\",IF(キー割付!R704=\"\",\"\",キー割付!R704))","v":""},{"$f":"IF(E124=\"ZX-DECLDIV-IPコードレス電話機\",\"\",IF(キー割付!S704=\"\",\"\",キー割付!S704))","v":""},{"$f":"IF(E124=\"ZX-DECLDIV-IPコードレス電話機\",\"\",IF(キー割付!N712=\"\",\"\",キー割付!N712))","v":""},{"$f":"IF(E124=\"ZX-DECLDIV-IPコードレス電話機\",\"\",IF(キー割付!O712=\"\",\"\",キー割付!O712))","v":""},{"$f":"IF(E124=\"ZX-DECLDIV-IPコードレス電話機\",\"\",IF(キー割付!P712=\"\",\"\",キー割付!P712))","v":""},{"$f":"IF(E124=\"ZX-DECLDIV-IPコードレス電話機\",\"\",IF(キー割付!Q712=\"\",\"\",キー割付!Q712))","v":""},{"$f":"IF(E124=\"ZX-DECLDIV-IPコードレス電話機\",\"\",IF(キー割付!R712=\"\",\"\",キー割付!R712))","v":""},{"$f":"IF(E124=\"ZX-DECLDIV-IPコードレス電話機\",\"\",IF(キー割付!S712=\"\",\"\",キー割付!S712))","v":""},{"$f":"IF(E124=\"ZX-DECLDIV-IPコードレス電話機\",\"\",IF(キー割付!N720=\"\",\"\",キー割付!N720))","v":""},{"$f":"IF(E124=\"ZX-DECLDIV-IPコードレス電話機\",\"\",IF(キー割付!O720=\"\",\"\",キー割付!O720))","v":""},{"$f":"IF(E124=\"ZX-DECLDIV-IPコードレス電話機\",\"\",IF(キー割付!P720=\"\",\"\",キー割付!P720))","v":""},{"$f":"IF(E124=\"ZX-DECLDIV-IPコードレス電話機\",\"\",IF(キー割付!Q720=\"\",\"\",キー割付!Q720))","v":""},{"$f":"IF(E124=\"ZX-DECLDIV-IPコードレス電話機\",\"\",IF(キー割付!R720=\"\",\"\",キー割付!R720))","v":""},{"$f":"IF(E124=\"ZX-DECLDIV-IPコードレス電話機\",\"\",IF(キー割付!S720=\"\",\"\",キー割付!S720))","v":""}]

{"sheet":"key_編集用","index":18,"n_rows":251,"n_cols":30,"rows_kept":251,"cut":false,"hidden":true,"merged":[[0,6,0,10],[1,6,1,10],[2,5,3,5],[2,6,3,10],[6,1,8,1],[6,2,8,2],[6,3,8,3],[6,4,8,4],[15,1,17,1],[15,2,17,2],[15,3,17,3],[15,4,17,4],[18,1,20,1],[18,2,20,2],[18,3,20,3],[18,4,20,4],[9,1,11,1],[9,2,11,2],[9,3,11,3],[9,4,11,4],[12,1,14,1],[12,2,14,2],[12,3,14,3],[12,4,14,4],[27,1,29,1],[27,2,29,2],[27,3,29,3],[27,4,29,4],[30,1,32,1],[30,2,32,2],[30,3,32,3],[30,4,32,4],[21,1,23,1],[21,2,23,2],[21,3,23,3],[21,4,23,4],[24,1,26,1],[24,2,26,2],[24,3,26,3],[24,4,26,4],[39,1,41,1],[39,2,41,2],[39,3,41,3],[39,4,41,4],[42,1,44,1],[42,2,44,2],[42,3,44,3],[42,4,44,4],[33,1,35,1],[33,2,35,2],[33,3,35,3],[33,4,35,4],[36,1,38,1],[36,2,38,2],[36,3,38,3],[36,4,38,4],[51,1,53,1],[51,2,53,2],[51,3,53,3],[51,4,53,4],[54,1,56,1],[54,2,56,2],[54,3,56,3],[54,4,56,4],[45,1,47,1],[45,2,47,2],[45,3,47,3],[45,4,47,4],[48,1,50,1],[48,2,50,2],[48,3,50,3],[48,4,50,4],[63,1,65,1],[63,2,65,2],[63,3,65,3],[63,4,65,4],[66,1,68,1],[66,2,68,2],[66,3,68,3],[66,4,68,4],[57,1,59,1],[57,2,59,2],[57,3,59,3],[57,4,59,4],[60,1,62,1],[60,2,62,2],[60,3,62,3],[60,4,62,4],[75,1,77,1],[75,2,77,2],[75,3,77,3],[75,4,77,4],[78,1,80,1],[78,2,80,2],[78,3,80,3],[78,4,80,4],[69,1,71,1],[69,2,71,2],[69,3,71,3],[69,4,71,4],[72,1,74,1],[72,2,74,2],[72,3,74,3],[72,4,74,4],[87,1,89,1],[87,2,89,2],[87,3,89,3],[87,4,89,4],[90,1,92,1],[90,2,92,2],[90,3,92,3],[90,4,92,4],[81,1,83,1],[81,2,83,2],[81,3,83,3],[81,4,83,4],[84,1,86,1],[84,2,86,2],[84,3,86,3],[84,4,86,4],[99,1,101,1],[99,2,101,2],[99,3,101,3],[99,4,101,4],[102,1,104,1],[102,2,104,2],[102,3,104,3],[102,4,104,4],[93,1,95,1],[93,2,95,2],[93,3,95,3],[93,4,95,4],[96,1,98,1],[96,2,98,2],[96,3,98,3],[96,4,98,4],[111,1,113,1],[111,2,113,2],[111,3,113,3],[111,4,113,4],[114,1,116,1],[114,2,116,2],[114,3,116,3],[114,4,116,4],[105,1,107,1],[105,2,107,2],[105,3,107,3],[105,4,107,4],[108,1,110,1],[108,2,110,2],[108,3,110,3],[108,4,110,4],[123,1,125,1],[123,2,125,2],[123,3,125,3],[123,4,125,4],[131,1,133,1],[131,2,133,2],[131,3,133,3],[131,4,133,4],[117,1,119,1],[117,2,119,2],[117,3,119,3],[117,4,119,4],[120,1,122,1],[120,2,122,2],[120,3,122,3],[120,4,122,4],[140,1,142,1],[140,2,142,2],[140,3,142,3],[140,4,142,4],[143,1,145,1],[143,2,145,2],[143,3,145,3],[143,4,145,4],[134,1,136,1],[134,2,136,2],[134,3,136,3],[134,4,136,4],[137,1,139,1],[137,2,139,2],[137,3,139,3],[137,4,139,4],[152,1,154,1],[152,2,154,2],[152,3,154,3],[152,4,154,4],[155,1,157,1],[155,2,157,2],[155,3,157,3],[155,4,157,4],[146,1,148,1],[146,2,148,2],[146,3,148,3],[146,4,148,4],[149,1,151,1],[149,2,151,2],[149,3,151,3],[149,4,151,4],[164,1,166,1],[164,2,166,2],[164,3,166,3],[164,4,166,4],[167,1,169,1],[167,2,169,2],[167,3,169,3],[167,4,169,4],[158,1,160,1],[158,2,160,2],[158,3,160,3],[158,4,160,4],[161,1,163,1],[161,2,163,2],[161,3,163,3],[161,4,163,4],[176,1,178,1],[176,2,178,2],[176,3,178,3],[176,4,178,4],[179,1,181,1],[179,2,181,2],[179,3,181,3],[179,4,181,4],[170,1,172,1],[170,2,172,2],[170,3,172,3],[170,4,172,4],[173,1,175,1],[173,2,175,2],[173,3,175,3],[173,4,175,4],[188,1,190,1],[188,2,190,2],[188,3,190,3],[188,4,190,4],[191,1,193,1],[191,2,193,2],[191,3,193,3],[191,4,193,4],[182,1,184,1],[182,2,184,2],[182,3,184,3],[182,4,184,4],[185,1,187,1],[185,2,187,2],[185,3,187,3],[185,4,187,4],[200,1,202,1],[200,2,202,2],[200,3,202,3],[200,4,202,4],[203,1,205,1],[203,2,205,2],[203,3,205,3],[203,4,205,4],[194,1,196,1],[194,2,196,2],[194,3,196,3],[194,4,196,4],[197,1,199,1],[197,2,199,2],[197,3,199,3],[197,4,199,4],[212,1,214,1],[212,2,214,2],[212,3,214,3],[212,4,214,4],[215,1,217,1],[215,2,217,2],[215,3,217,3],[215,4,217,4],[206,1,208,1],[206,2,208,2],[206,3,208,3],[206,4,208,4],[209,1,211,1],[209,2,211,2],[209,3,211,3],[209,4,211,4],[224,1,226,1],[224,2,226,2],[224,3,226,3],[224,4,226,4],[227,1,229,1],[227,2,229,2],[227,3,229,3],[227,4,229,4],[218,1,220,1],[218,2,220,2],[218,3,220,3],[218,4,220,4],[221,1,223,1],[221,2,223,2],[221,3,223,3],[221,4,223,4],[236,1,238,1],[236,2,238,2],[236,3,238,3],[236,4,238,4],[239,1,241,1],[239,2,241,2],[239,3,241,3],[239,4,241,4],[230,1,232,1],[230,2,232,2],[230,3,232,3],[230,4,232,4],[233,1,235,1],[233,2,235,2],[233,3,235,3],[233,4,235,4],[248,1,250,1],[248,2,250,2],[248,3,250,3],[248,4,250,4],[242,1,244,1],[242,2,244,2],[242,3,244,3],[242,4,244,4],[245,1,247,1],[245,2,247,2],[245,3,247,3],[245,4,247,4]]}
[null,null,null,null,null,"1行目","02-03 回線キー設定"]
[null,null,null,null,null,"2行目","02-26 着信音色設定"]
[null,null,null,null,null,"3行目","02-10～13 着信鳴動割付キー設定"]
[]
[]
[null,"内線No.","TEN","6-01\n内線番号","2-01\n機種","LK1","LK2","LK3","LK4","LK5","LK6","LK7","LK8","LK9","LK10","LK11","LK12","LK13","LK14","LK15","LK16","LK17","LK18","LK19","LK20","LK21","LK22","LK23","LK24"]
[null,1,null,null,null,"未使用","未使用","未使用","未使用","未使用","未使用","未使用","未使用","未使用","未使用","未使用","未使用","未使用","未使用","未使用","未使用","未使用","未使用","未使用","未使用","未使用","未使用","未使用","未使用"]
[null,null,null,null,null,"トーン1","トーン1","トーン1","トーン1","トーン1","トーン1","トーン1","トーン1","トーン1","トーン1","トーン1","トーン1","トーン1","トーン1","トーン1","トーン1","トーン1","トーン1","トーン1","トーン1","トーン1","トーン1","トーン1","トーン1"]
[null,null,null,null,null,"-","-","-","-","-","-","-","-","-","-","-","-","-","-","-","-","-","-","-","-","-","-","-","-"]
[null,2,null,null,null,"未使用","未使用","未使用","未使用","未使用","未使用","未使用","未使用","未使用","未使用","未使用","未使用","未使用","未使用","未使用","未使用","未使用","未使用","未使用","未使用","未使用","未使用","未使用","未使用"]
[null,null,null,null,null,"トーン1","トーン1","トーン1","トーン1","トーン1","トーン1","トーン1","トーン1","トーン1","トーン1","トーン1","トーン1","トーン1","トーン1","トーン1","トーン1","トーン1","トーン1","トーン1","トーン1","トーン1","トーン1","トーン1","トーン1"]
[null,null,null,null,null,"-","-","-","-","-","-","-","-","-","-","-","-","-","-","-","-","-","-","-","-","-","-","-","-"]
[null,3,null,null,null,"未使用","未使用","未使用","未使用","未使用","未使用","未使用","未使用","未使用","未使用","未使用","未使用","未使用","未使用","未使用","未使用","未使用","未使用","未使用","未使用","未使用","未使用","未使用","未使用"]
[null,null,null,null,null,"トーン1","トーン1","トーン1","トーン1","トーン1","トーン1","トーン1","トーン1","トーン1","トーン1","トーン1","トーン1","トーン1","トーン1","トーン1","トーン1","トーン1","トーン1","トーン1","トーン1","トーン1","トーン1","トーン1","トーン1"]
[null,null,null,null,null,"-","-","-","-","-","-","-","-","-","-","-","-","-","-","-","-","-","-","-","-","-","-","-","-"]
[null,4,null,null,null,"未使用","未使用","未使用","未使用","未使用","未使用","未使用","未使用","未使用","未使用","未使用","未使用","未使用","未使用","未使用","未使用","未使用","未使用","未使用","未使用","未使用","未使用","未使用","未使用"]
[null,null,null,null,null,"トーン1","トーン1","トーン1","トーン1","トーン1","トーン1","トーン1","トーン1","トーン1","トーン1","トーン1","トーン1","トーン1","トーン1","トーン1","トーン1","トーン1","トーン1","トーン1","トーン1","トーン1","トーン1","トーン1","トーン1"]
[null,null,null,null,null,"-","-","-","-","-","-","-","-","-","-","-","-","-","-","-","-","-","-","-","-","-","-","-","-"]
[null,5,null,null,null,"未使用","未使用","未使用","未使用","未使用","未使用","未使用","未使用","未使用","未使用","未使用","未使用","未使用","未使用","未使用","未使用","未使用","未使用","未使用","未使用","未使用","未使用","未使用","未使用"]
[null,null,null,null,null,"トーン1","トーン1","トーン1","トーン1","トーン1","トーン1","トーン1","トーン1","トーン1","トーン1","トーン1","トーン1","トーン1","トーン1","トーン1","トーン1","トーン1","トーン1","トーン1","トーン1","トーン1","トーン1","トーン1","トーン1"]
[null,null,null,null,null,"-","-","-","-","-","-","-","-","-","-","-","-","-","-","-","-","-","-","-","-","-","-","-","-"]
[null,6,null,null,null,"未使用","未使用","未使用","未使用","未使用","未使用","未使用","未使用","未使用","未使用","未使用","未使用","未使用","未使用","未使用","未使用","未使用","未使用","未使用","未使用","未使用","未使用","未使用","未使用"]
[null,null,null,null,null,"トーン1","トーン1","トーン1","トーン1","トーン1","トーン1","トーン1","トーン1","トーン1","トーン1","トーン1","トーン1","トーン1","トーン1","トーン1","トーン1","トーン1","トーン1","トーン1","トーン1","トーン1","トーン1","トーン1","トーン1"]
[null,null,null,null,null,"-","-","-","-","-","-","-","-","-","-","-","-","-","-","-","-","-","-","-","-","-","-","-","-"]
[null,7,null,null,null,"未使用","未使用","未使用","未使用","未使用","未使用","未使用","未使用","未使用","未使用","未使用","未使用","未使用","未使用","未使用","未使用","未使用","未使用","未使用","未使用","未使用","未使用","未使用","未使用"]
[null,null,null,null,null,"トーン1","トーン1","トーン1","トーン1","トーン1","トーン1","トーン1","トーン1","トーン1","トーン1","トーン1","トーン1","トーン1","トーン1","トーン1","トーン1","トーン1","トーン1","トーン1","トーン1","トーン1","トーン1","トーン1","トーン1"]
[null,null,null,null,null,"-","-","-","-","-","-","-","-","-","-","-","-","-","-","-","-","-","-","-","-","-","-","-","-"]
[null,8,null,null,null,"未使用","未使用","未使用","未使用","未使用","未使用","未使用","未使用","未使用","未使用","未使用","未使用","未使用","未使用","未使用","未使用","未使用","未使用","未使用","未使用","未使用","未使用","未使用","未使用"]
[null,null,null,null,null,"トーン1","トーン1","トーン1","トーン1","トーン1","トーン1","トーン1","トーン1","トーン1","トーン1","トーン1","トーン1","トーン1","トーン1","トーン1","トーン1","トーン1","トーン1","トーン1","トーン1","トーン1","トーン1","トーン1","トーン1"]
[null,null,null,null,null,"-","-","-","-","-","-","-","-","-","-","-","-","-","-","-","-","-","-","-","-","-","-","-","-"]
[null,9,null,null,null,"未使用","未使用","未使用","未使用","未使用","未使用","未使用","未使用","未使用","未使用","未使用","未使用","未使用","未使用","未使用","未使用","未使用","未使用","未使用","未使用","未使用","未使用","未使用","未使用"]
[null,null,null,null,null,"トーン1","トーン1","トーン1","トーン1","トーン1","トーン1","トーン1","トーン1","トーン1","トーン1","トーン1","トーン1","トーン1","トーン1","トーン1","トーン1","トーン1","トーン1","トーン1","トーン1","トーン1","トーン1","トーン1","トーン1"]
[null,null,null,null,null,"-","-","-","-","-","-","-","-","-","-","-","-","-","-","-","-","-","-","-","-","-","-","-","-"]
[null,10,null,null,null,"未使用","未使用","未使用","未使用","未使用","未使用","未使用","未使用","未使用","未使用","未使用","未使用","未使用","未使用","未使用","未使用","未使用","未使用","未使用","未使用","未使用","未使用","未使用","未使用"]
[null,null,null,null,null,"トーン1","トーン1","トーン1","トーン1","トーン1","トーン1","トーン1","トーン1","トーン1","トーン1","トーン1","トーン1","トーン1","トーン1","トーン1","トーン1","トーン1","トーン1","トーン1","トーン1","トーン1","トーン1","トーン1","トーン1"]
[null,null,null,null,null,"-","-","-","-","-","-","-","-","-","-","-","-","-","-","-","-","-","-","-","-","-","-","-","-"]
[null,11,null,null,null,"未使用","未使用","未使用","未使用","未使用","未使用","未使用","未使用","未使用","未使用","未使用","未使用","未使用","未使用","未使用","未使用","未使用","未使用","未使用","未使用","未使用","未使用","未使用","未使用"]
[null,null,null,null,null,"トーン1","トーン1","トーン1","トーン1","トーン1","トーン1","トーン1","トーン1","トーン1","トーン1","トーン1","トーン1","トーン1","トーン1","トーン1","トーン1","トーン1","トーン1","トーン1","トーン1","トーン1","トーン1","トーン1","トーン1"]
[null,null,null,null,null,"-","-","-","-","-","-","-","-","-","-","-","-","-","-","-","-","-","-","-","-","-","-","-","-"]
[null,12,null,null,null,"未使用","未使用","未使用","未使用","未使用","未使用","未使用","未使用","未使用","未使用","未使用","未使用","未使用","未使用","未使用","未使用","未使用","未使用","未使用","未使用","未使用","未使用","未使用","未使用"]
[null,null,null,null,null,"トーン1","トーン1","トーン1","トーン1","トーン1","トーン1","トーン1","トーン1","トーン1","トーン1","トーン1","トーン1","トーン1","トーン1","トーン1","トーン1","トーン1","トーン1","トーン1","トーン1","トーン1","トーン1","トーン1","トーン1"]
[null,null,null,null,null,"-","-","-","-","-","-","-","-","-","-","-","-","-","-","-","-","-","-","-","-","-","-","-","-"]
[null,13,null,null,null,"未使用","未使用","未使用","未使用","未使用","未使用","未使用","未使用","未使用","未使用","未使用","未使用","未使用","未使用","未使用","未使用","未使用","未使用","未使用","未使用","未使用","未使用","未使用","未使用"]
[null,null,null,null,null,"トーン1","トーン1","トーン1","トーン1","トーン1","トーン1","トーン1","トーン1","トーン1","トーン1","トーン1","トーン1","トーン1","トーン1","トーン1","トーン1","トーン1","トーン1","トーン1","トーン1","トーン1","トーン1","トーン1","トーン1"]
[null,null,null,null,null,"-","-","-","-","-","-","-","-","-","-","-","-","-","-","-","-","-","-","-","-","-","-","-","-"]
[null,14,null,null,null,"未使用","未使用","未使用","未使用","未使用","未使用","未使用","未使用","未使用","未使用","未使用","未使用","未使用","未使用","未使用","未使用","未使用","未使用","未使用","未使用","未使用","未使用","未使用","未使用"]
[null,null,null,null,null,"トーン1","トーン1","トーン1","トーン1","トーン1","トーン1","トーン1","トーン1","トーン1","トーン1","トーン1","トーン1","トーン1","トーン1","トーン1","トーン1","トーン1","トーン1","トーン1","トーン1","トーン1","トーン1","トーン1","トーン1"]
[null,null,null,null,null,"-","-","-","-","-","-","-","-","-","-","-","-","-","-","-","-","-","-","-","-","-","-","-","-"]
[null,15,null,null,null,"未使用","未使用","未使用","未使用","未使用","未使用","未使用","未使用","未使用","未使用","未使用","未使用","未使用","未使用","未使用","未使用","未使用","未使用","未使用","未使用","未使用","未使用","未使用","未使用"]
[null,null,null,null,null,"トーン1","トーン1","トーン1","トーン1","トーン1","トーン1","トーン1","トーン1","トーン1","トーン1","トーン1","トーン1","トーン1","トーン1","トーン1","トーン1","トーン1","トーン1","トーン1","トーン1","トーン1","トーン1","トーン1","トーン1"]
[null,null,null,null,null,"-","-","-","-","-","-","-","-","-","-","-","-","-","-","-","-","-","-","-","-","-","-","-","-"]
[null,16,null,null,null,"未使用","未使用","未使用","未使用","未使用","未使用","未使用","未使用","未使用","未使用","未使用","未使用","未使用","未使用","未使用","未使用","未使用","未使用","未使用","未使用","未使用","未使用","未使用","未使用"]
[null,null,null,null,null,"トーン1","トーン1","トーン1","トーン1","トーン1","トーン1","トーン1","トーン1","トーン1","トーン1","トーン1","トーン1","トーン1","トーン1","トーン1","トーン1","トーン1","トーン1","トーン1","トーン1","トーン1","トーン1","トーン1","トーン1"]
[null,null,null,null,null,"-","-","-","-","-","-","-","-","-","-","-","-","-","-","-","-","-","-","-","-","-","-","-","-"]
[null,17,null,null,null,"未使用","未使用","未使用","未使用","未使用","未使用","未使用","未使用","未使用","未使用","未使用","未使用","未使用","未使用","未使用","未使用","未使用","未使用","未使用","未使用","未使用","未使用","未使用","未使用"]
[null,null,null,null,null,"トーン1","トーン1","トーン1","トーン1","トーン1","トーン1","トーン1","トーン1","トーン1","トーン1","トーン1","トーン1","トーン1","トーン1","トーン1","トーン1","トーン1","トーン1","トーン1","トーン1","トーン1","トーン1","トーン1","トーン1"]
[null,null,null,null,null,"-","-","-","-","-","-","-","-","-","-","-","-","-","-","-","-","-","-","-","-","-","-","-","-"]
[null,18,null,null,null,"未使用","未使用","未使用","未使用","未使用","未使用","未使用","未使用","未使用","未使用","未使用","未使用","未使用","未使用","未使用","未使用","未使用","未使用","未使用","未使用","未使用","未使用","未使用","未使用"]
[null,null,null,null,null,"トーン1","トーン1","トーン1","トーン1","トーン1","トーン1","トーン1","トーン1","トーン1","トーン1","トーン1","トーン1","トーン1","トーン1","トーン1","トーン1","トーン1","トーン1","トーン1","トーン1","トーン1","トーン1","トーン1","トーン1"]
[null,null,null,null,null,"-","-","-","-","-","-","-","-","-","-","-","-","-","-","-","-","-","-","-","-","-","-","-","-"]
[null,19,null,null,null,"未使用","未使用","未使用","未使用","未使用","未使用","未使用","未使用","未使用","未使用","未使用","未使用","未使用","未使用","未使用","未使用","未使用","未使用","未使用","未使用","未使用","未使用","未使用","未使用"]
[null,null,null,null,null,"トーン1","トーン1","トーン1","トーン1","トーン1","トーン1","トーン1","トーン1","トーン1","トーン1","トーン1","トーン1","トーン1","トーン1","トーン1","トーン1","トーン1","トーン1","トーン1","トーン1","トーン1","トーン1","トーン1","トーン1"]
[null,null,null,null,null,"-","-","-","-","-","-","-","-","-","-","-","-","-","-","-","-","-","-","-","-","-","-","-","-"]
[null,20,null,null,null,"未使用","未使用","未使用","未使用","未使用","未使用","未使用","未使用","未使用","未使用","未使用","未使用","未使用","未使用","未使用","未使用","未使用","未使用","未使用","未使用","未使用","未使用","未使用","未使用"]
[null,null,null,null,null,"トーン1","トーン1","トーン1","トーン1","トーン1","トーン1","トーン1","トーン1","トーン1","トーン1","トーン1","トーン1","トーン1","トーン1","トーン1","トーン1","トーン1","トーン1","トーン1","トーン1","トーン1","トーン1","トーン1","トーン1"]
[null,null,null,null,null,"-","-","-","-","-","-","-","-","-","-","-","-","-","-","-","-","-","-","-","-","-","-","-","-"]
[null,21,null,null,null,"未使用","未使用","未使用","未使用","未使用","未使用","未使用","未使用","未使用","未使用","未使用","未使用","未使用","未使用","未使用","未使用","未使用","未使用","未使用","未使用","未使用","未使用","未使用","未使用"]
[null,null,null,null,null,"トーン1","トーン1","トーン1","トーン1","トーン1","トーン1","トーン1","トーン1","トーン1","トーン1","トーン1","トーン1","トーン1","トーン1","トーン1","トーン1","トーン1","トーン1","トーン1","トーン1","トーン1","トーン1","トーン1","トーン1"]
[null,null,null,null,null,"-","-","-","-","-","-","-","-","-","-","-","-","-","-","-","-","-","-","-","-","-","-","-","-"]
[null,22,null,null,null,"未使用","未使用","未使用","未使用","未使用","未使用","未使用","未使用","未使用","未使用","未使用","未使用","未使用","未使用","未使用","未使用","未使用","未使用","未使用","未使用","未使用","未使用","未使用","未使用"]
[null,null,null,null,null,"トーン1","トーン1","トーン1","トーン1","トーン1","トーン1","トーン1","トーン1","トーン1","トーン1","トーン1","トーン1","トーン1","トーン1","トーン1","トーン1","トーン1","トーン1","トーン1","トーン1","トーン1","トーン1","トーン1","トーン1"]
[null,null,null,null,null,"-","-","-","-","-","-","-","-","-","-","-","-","-","-","-","-","-","-","-","-","-","-","-","-"]
[null,23,null,null,null,"未使用","未使用","未使用","未使用","未使用","未使用","未使用","未使用","未使用","未使用","未使用","未使用","未使用","未使用","未使用","未使用","未使用","未使用","未使用","未使用","未使用","未使用","未使用","未使用"]
[null,null,null,null,null,"トーン1","トーン1","トーン1","トーン1","トーン1","トーン1","トーン1","トーン1","トーン1","トーン1","トーン1","トーン1","トーン1","トーン1","トーン1","トーン1","トーン1","トーン1","トーン1","トーン1","トーン1","トーン1","トーン1","トーン1"]
[null,null,null,null,null,"-","-","-","-","-","-","-","-","-","-","-","-","-","-","-","-","-","-","-","-","-","-","-","-"]
[null,24,null,null,null,"未使用","未使用","未使用","未使用","未使用","未使用","未使用","未使用","未使用","未使用","未使用","未使用","未使用","未使用","未使用","未使用","未使用","未使用","未使用","未使用","未使用","未使用","未使用","未使用"]
[null,null,null,null,null,"トーン1","トーン1","トーン1","トーン1","トーン1","トーン1","トーン1","トーン1","トーン1","トーン1","トーン1","トーン1","トーン1","トーン1","トーン1","トーン1","トーン1","トーン1","トーン1","トーン1","トーン1","トーン1","トーン1","トーン1"]
[null,null,null,null,null,"-","-","-","-","-","-","-","-","-","-","-","-","-","-","-","-","-","-","-","-","-","-","-","-"]
[null,25,null,null,null,"未使用","未使用","未使用","未使用","未使用","未使用","未使用","未使用","未使用","未使用","未使用","未使用","未使用","未使用","未使用","未使用","未使用","未使用","未使用","未使用","未使用","未使用","未使用","未使用"]
[null,null,null,null,null,"トーン1","トーン1","トーン1","トーン1","トーン1","トーン1","トーン1","トーン1","トーン1","トーン1","トーン1","トーン1","トーン1","トーン1","トーン1","トーン1","トーン1","トーン1","トーン1","トーン1","トーン1","トーン1","トーン1","トーン1"]
[null,null,null,null,null,"-","-","-","-","-","-","-","-","-","-","-","-","-","-","-","-","-","-","-","-","-","-","-","-"]
[null,26,null,null,null,"未使用","未使用","未使用","未使用","未使用","未使用","未使用","未使用","未使用","未使用","未使用","未使用","未使用","未使用","未使用","未使用","未使用","未使用","未使用","未使用","未使用","未使用","未使用","未使用"]
[null,null,null,null,null,"トーン1","トーン1","トーン1","トーン1","トーン1","トーン1","トーン1","トーン1","トーン1","トーン1","トーン1","トーン1","トーン1","トーン1","トーン1","トーン1","トーン1","トーン1","トーン1","トーン1","トーン1","トーン1","トーン1","トーン1"]
[null,null,null,null,null,"-","-","-","-","-","-","-","-","-","-","-","-","-","-","-","-","-","-","-","-","-","-","-","-"]
[null,27,null,null,null,"未使用","未使用","未使用","未使用","未使用","未使用","未使用","未使用","未使用","未使用","未使用","未使用","未使用","未使用","未使用","未使用","未使用","未使用","未使用","未使用","未使用","未使用","未使用","未使用"]
[null,null,null,null,null,"トーン1","トーン1","トーン1","トーン1","トーン1","トーン1","トーン1","トーン1","トーン1","トーン1","トーン1","トーン1","トーン1","トーン1","トーン1","トーン1","トーン1","トーン1","トーン1","トーン1","トーン1","トーン1","トーン1","トーン1"]
[null,null,null,null,null,"-","-","-","-","-","-","-","-","-","-","-","-","-","-","-","-","-","-","-","-","-","-","-","-"]
[null,28,null,null,null,"未使用","未使用","未使用","未使用","未使用","未使用","未使用","未使用","未使用","未使用","未使用","未使用","未使用","未使用","未使用","未使用","未使用","未使用","未使用","未使用","未使用","未使用","未使用","未使用"]
[null,null,null,null,null,"トーン1","トーン1","トーン1","トーン1","トーン1","トーン1","トーン1","トーン1","トーン1","トーン1","トーン1","トーン1","トーン1","トーン1","トーン1","トーン1","トーン1","トーン1","トーン1","トーン1","トーン1","トーン1","トーン1","トーン1"]
[null,null,null,null,null,"-","-","-","-","-","-","-","-","-","-","-","-","-","-","-","-","-","-","-","-","-","-","-","-"]
[null,29,null,null,null,"未使用","未使用","未使用","未使用","未使用","未使用","未使用","未使用","未使用","未使用","未使用","未使用","未使用","未使用","未使用","未使用","未使用","未使用","未使用","未使用","未使用","未使用","未使用","未使用"]
[null,null,null,null,null,"トーン1","トーン1","トーン1","トーン1","トーン1","トーン1","トーン1","トーン1","トーン1","トーン1","トーン1","トーン1","トーン1","トーン1","トーン1","トーン1","トーン1","トーン1","トーン1","トーン1","トーン1","トーン1","トーン1","トーン1"]
[null,null,null,null,null,"-","-","-","-","-","-","-","-","-","-","-","-","-","-","-","-","-","-","-","-","-","-","-","-"]
[null,30,null,null,null,"未使用","未使用","未使用","未使用","未使用","未使用","未使用","未使用","未使用","未使用","未使用","未使用","未使用","未使用","未使用","未使用","未使用","未使用","未使用","未使用","未使用","未使用","未使用","未使用"]
[null,null,null,null,null,"トーン1","トーン1","トーン1","トーン1","トーン1","トーン1","トーン1","トーン1","トーン1","トーン1","トーン1","トーン1","トーン1","トーン1","トーン1","トーン1","トーン1","トーン1","トーン1","トーン1","トーン1","トーン1","トーン1","トーン1"]
[null,null,null,null,null,"-","-","-","-","-","-","-","-","-","-","-","-","-","-","-","-","-","-","-","-","-","-","-","-"]
[null,31,null,null,null,"未使用","未使用","未使用","未使用","未使用","未使用","未使用","未使用","未使用","未使用","未使用","未使用","未使用","未使用","未使用","未使用","未使用","未使用","未使用","未使用","未使用","未使用","未使用","未使用"]
[null,null,null,null,null,"トーン1","トーン1","トーン1","トーン1","トーン1","トーン1","トーン1","トーン1","トーン1","トーン1","トーン1","トーン1","トーン1","トーン1","トーン1","トーン1","トーン1","トーン1","トーン1","トーン1","トーン1","トーン1","トーン1","トーン1"]
[null,null,null,null,null,"-","-","-","-","-","-","-","-","-","-","-","-","-","-","-","-","-","-","-","-","-","-","-","-"]
[null,32,null,null,null,"未使用","未使用","未使用","未使用","未使用","未使用","未使用","未使用","未使用","未使用","未使用","未使用","未使用","未使用","未使用","未使用","未使用","未使用","未使用","未使用","未使用","未使用","未使用","未使用"]
[null,null,null,null,null,"トーン1","トーン1","トーン1","トーン1","トーン1","トーン1","トーン1","トーン1","トーン1","トーン1","トーン1","トーン1","トーン1","トーン1","トーン1","トーン1","トーン1","トーン1","トーン1","トーン1","トーン1","トーン1","トーン1","トーン1"]
[null,null,null,null,null,"-","-","-","-","-","-","-","-","-","-","-","-","-","-","-","-","-","-","-","-","-","-","-","-"]
[null,33,null,null,null,"未使用","未使用","未使用","未使用","未使用","未使用","未使用","未使用","未使用","未使用","未使用","未使用","未使用","未使用","未使用","未使用","未使用","未使用","未使用","未使用","未使用","未使用","未使用","未使用"]
[null,null,null,null,null,"トーン1","トーン1","トーン1","トーン1","トーン1","トーン1","トーン1","トーン1","トーン1","トーン1","トーン1","トーン1","トーン1","トーン1","トーン1","トーン1","トーン1","トーン1","トーン1","トーン1","トーン1","トーン1","トーン1","トーン1"]
[null,null,null,null,null,"-","-","-","-","-","-","-","-","-","-","-","-","-","-","-","-","-","-","-","-","-","-","-","-"]
[null,34,null,null,null,"未使用","未使用","未使用","未使用","未使用","未使用","未使用","未使用","未使用","未使用","未使用","未使用","未使用","未使用","未使用","未使用","未使用","未使用","未使用","未使用","未使用","未使用","未使用","未使用"]
[null,null,null,null,null,"トーン1","トーン1","トーン1","トーン1","トーン1","トーン1","トーン1","トーン1","トーン1","トーン1","トーン1","トーン1","トーン1","トーン1","トーン1","トーン1","トーン1","トーン1","トーン1","トーン1","トーン1","トーン1","トーン1","トーン1"]
[null,null,null,null,null,"-","-","-","-","-","-","-","-","-","-","-","-","-","-","-","-","-","-","-","-","-","-","-","-"]
[null,35,null,null,null,"未使用","未使用","未使用","未使用","未使用","未使用","未使用","未使用","未使用","未使用","未使用","未使用","未使用","未使用","未使用","未使用","未使用","未使用","未使用","未使用","未使用","未使用","未使用","未使用"]
[null,null,null,null,null,"トーン1","トーン1","トーン1","トーン1","トーン1","トーン1","トーン1","トーン1","トーン1","トーン1","トーン1","トーン1","トーン1","トーン1","トーン1","トーン1","トーン1","トーン1","トーン1","トーン1","トーン1","トーン1","トーン1","トーン1"]
[null,null,null,null,null,"-","-","-","-","-","-","-","-","-","-","-","-","-","-","-","-","-","-","-","-","-","-","-","-"]
[null,36,null,null,null,"未使用","未使用","未使用","未使用","未使用","未使用","未使用","未使用","未使用","未使用","未使用","未使用","未使用","未使用","未使用","未使用","未使用","未使用","未使用","未使用","未使用","未使用","未使用","未使用"]
[null,null,null,null,null,"トーン1","トーン1","トーン1","トーン1","トーン1","トーン1","トーン1","トーン1","トーン1","トーン1","トーン1","トーン1","トーン1","トーン1","トーン1","トーン1","トーン1","トーン1","トーン1","トーン1","トーン1","トーン1","トーン1","トーン1"]
[null,null,null,null,null,"-","-","-","-","-","-","-","-","-","-","-","-","-","-","-","-","-","-","-","-","-","-","-","-"]
[null,37,null,null,null,"未使用","未使用","未使用","未使用","未使用","未使用","未使用","未使用","未使用","未使用","未使用","未使用","未使用","未使用","未使用","未使用","未使用","未使用","未使用","未使用","未使用","未使用","未使用","未使用"]
[null,null,null,null,null,"トーン1","トーン1","トーン1","トーン1","トーン1","トーン1","トーン1","トーン1","トーン1","トーン1","トーン1","トーン1","トーン1","トーン1","トーン1","トーン1","トーン1","トーン1","トーン1","トーン1","トーン1","トーン1","トーン1","トーン1"]
[null,null,null,null,null,"-","-","-","-","-","-","-","-","-","-","-","-","-","-","-","-","-","-","-","-","-","-","-","-"]
[null,38,null,null,null,"未使用","未使用","未使用","未使用","未使用","未使用","未使用","未使用","未使用","未使用","未使用","未使用","未使用","未使用","未使用","未使用","未使用","未使用","未使用","未使用","未使用","未使用","未使用","未使用"]
[null,null,null,null,null,"トーン1","トーン1","トーン1","トーン1","トーン1","トーン1","トーン1","トーン1","トーン1","トーン1","トーン1","トーン1","トーン1","トーン1","トーン1","トーン1","トーン1","トーン1","トーン1","トーン1","トーン1","トーン1","トーン1","トーン1"]
[null,null,null,null,null,"-","-","-","-","-","-","-","-","-","-","-","-","-","-","-","-","-","-","-","-","-","-","-","-"]
[null,39,null,null,null,"未使用","未使用","未使用","未使用","未使用","未使用","未使用","未使用","未使用","未使用","未使用","未使用","未使用","未使用","未使用","未使用","未使用","未使用","未使用","未使用","未使用","未使用","未使用","未使用"]
[null,null,null,null,null,"トーン1","トーン1","トーン1","トーン1","トーン1","トーン1","トーン1","トーン1","トーン1","トーン1","トーン1","トーン1","トーン1","トーン1","トーン1","トーン1","トーン1","トーン1","トーン1","トーン1","トーン1","トーン1","トーン1","トーン1"]
[null,null,null,null,null,"-","-","-","-","-","-","-","-","-","-","-","-","-","-","-","-","-","-","-","-","-","-","-","-"]
[null,40,null,null,null,"未使用","未使用","未使用","未使用","未使用","未使用","未使用","未使用","未使用","未使用","未使用","未使用","未使用","未使用","未使用","未使用","未使用","未使用","未使用","未使用","未使用","未使用","未使用","未使用"]
[null,null,null,null,null,"トーン1","トーン1","トーン1","トーン1","トーン1","トーン1","トーン1","トーン1","トーン1","トーン1","トーン1","トーン1","トーン1","トーン1","トーン1","トーン1","トーン1","トーン1","トーン1","トーン1","トーン1","トーン1","トーン1","トーン1"]
[null,null,null,null,null,"-","-","-","-","-","-","-","-","-","-","-","-","-","-","-","-","-","-","-","-","-","-","-","-"]
[]
[]
[]
[]
[null,"TEN","TEN","6-01\n内線番号","2-01\n機種","LK1","LK2","LK3","LK4","LK5","LK6","LK7","LK8","LK9","LK10","LK11","LK12","LK13","LK14","LK15","LK16","LK17","LK18","LK19","LK20","LK21","LK22","LK23","LK24"]
[null,1,null,null,null,"","","","","","","","","","","","","","","","","","","","","","","","","着信拒否"]
[null,null,null,null,null,"","","","","","","","","","","","","","","","","","","","","","","","","モード切替"]
[null,null,null,null,null,"","","","","","","","","","","","","","","","","","","","","","","","","留守応答"]
[null,2,null,null,null,"","","","","","","","","","","","","","","","","","","","","","","",""]
[null,null,null,null,null,"","","","","","","","","","","","","","","","","","","","","","","",""]
[null,null,null,null,null,"","","","","","","","","","","","","","","","","","","","","","","",""]
[null,3,null,null,null,"","","","","","","","","","","","","","","","","","","","","","","",""]
[null,null,null,null,null,"","","","","","","","","","","","","","","","","","","","","","","",""]
[null,null,null,null,null,"","","","","","","","","","","","","","","","","","","","","","","",""]
[null,4,null,null,null,"","","","","","","","","","","","","","","","","","","","","","","",""]
[null,null,null,null,null,"","","","","","","","","","","","","","","","","","","","","","","",""]
[null,null,null,null,null,"","","","","","","","","","","","","","","","","","","","","","","",""]
[null,5,null,null,null,"","","","","","","","","","","","","","","","","","","","","","","",""]
[null,null,null,null,null,"","","","","","","","","","","","","","","","","","","","","","","",""]
[null,null,null,null,null,"","","","","","","","","","","","","","","","","","","","","","","",""]
[null,6,null,null,null,"","","","","","","","","","","","","","","","","","","","","","","",""]
[null,null,null,null,null,"","","","","","","","","","","","","","","","","","","","","","","",""]
[null,null,null,null,null,"","","","","","","","","","","","","","","","","","","","","","","",""]
[null,7,null,null,null,"","","","","","","","","","","","","","","","","","","","","","","",""]
[null,null,null,null,null,"","","","","","","","","","","","","","","","","","","","","","","",""]
[null,null,null,null,null,"","","","","","","","","","","","","","","","","","","","","","","",""]
[null,8,null,null,null,"","","","","","","","","","","","","","","","","","","","","","","",""]
[null,null,null,null,null,"","","","","","","","","","","","","","","","","","","","","","","",""]
[null,null,null,null,null,"","","","","","","","","","","","","","","","","","","","","","","",""]
[null,9,null,null,null,"","","","","","","","","","","","","","","","","","","","","","","",""]
[null,null,null,null,null,"","","","","","","","","","","","","","","","","","","","","","","",""]
[null,null,null,null,null,"","","","","","","","","","","","","","","","","","","","","","","",""]
[null,10,null,null,null,"","","","","","","","","","","","","","","","","","","","","","","",""]
[null,null,null,null,null,"","","","","","","","","","","","","","","","","","","","","","","",""]
[null,null,null,null,null,"","","","","","","","","","","","","","","","","","","","","","","",""]
[null,11,null,null,null,"","","","","","","","","","","","","","","","","","","","","","","",""]
[null,null,null,null,null,"","","","","","","","","","","","","","","","","","","","","","","",""]
[null,null,null,null,null,"","","","","","","","","","","","","","","","","","","","","","","",""]
[null,12,null,null,null,"","","","","","","","","","","","","","","","","","","","","","","",""]
[null,null,null,null,null,"","","","","","","","","","","","","","","","","","","","","","","",""]
[null,null,null,null,null,"","","","","","","","","","","","","","","","","","","","","","","",""]
[null,13,null,null,null,"","","","","","","","","","","","","","","","","","","","","","","",""]
[null,null,null,null,null,"","","","","","","","","","","","","","","","","","","","","","","",""]
[null,null,null,null,null,"","","","","","","","","","","","","","","","","","","","","","","",""]
[null,14,null,null,null,"","","","","","","","","","","","","","","","","","","","","","","",""]
[null,null,null,null,null,"","","","","","","","","","","","","","","","","","","","","","","",""]
[null,null,null,null,null,"","","","","","","","","","","","","","","","","","","","","","","",""]
[null,15,null,null,null,"","","","","","","","","","","","","","","","","","","","","","","",""]
[null,null,null,null,null,"","","","","","","","","","","","","","","","","","","","","","","",""]
[null,null,null,null,null,"","","","","","","","","","","","","","","","","","","","","","","",""]
[null,16,null,null,null,"","","","","","","","","","","","","","","","","","","","","","","",""]
[null,null,null,null,null,"","","","","","","","","","","","","","","","","","","","","","","",""]
[null,null,null,null,null,"","","","","","","","","","","","","","","","","","","","","","","",""]
[null,17,null,null,null,"","","","","","","","","","","","","","","","","","","","","","","",""]
[null,null,null,null,null,"","","","","","","","","","","","","","","","","","","","","","","",""]
[null,null,null,null,null,"","","","","","","","","","","","","","","","","","","","","","","",""]
[null,18,null,null,null,"","","","","","","","","","","","","","","","","","","","","","","",""]
[null,null,null,null,null,"","","","","","","","","","","","","","","","","","","","","","","",""]
[null,null,null,null,null,"","","","","","","","","","","","","","","","","","","","","","","",""]
[null,19,null,null,null,"","","","","","","","","","","","","","","","","","","","","","","",""]
[null,null,null,null,null,"","","","","","","","","","","","","","","","","","","","","","","",""]
[null,null,null,null,null,"","","","","","","","","","","","","","","","","","","","","","","",""]
[null,20,null,null,null,"","","","","","","","","","","","","","","","","","","","","","","",""]
[null,null,null,null,null,"","","","","","","","","","","","","","","","","","","","","","","",""]
[null,null,null,null,null,"","","","","","","","","","","","","","","","","","","","","","","",""]
[null,21,null,null,null,"","","","","","","","","","","","","","","","","","","","","","","",""]
[null,null,null,null,null,"","","","","","","","","","","","","","","","","","","","","","","",""]
[null,null,null,null,null,"","","","","","","","","","","","","","","","","","","","","","","",""]
[null,22,null,null,null,"","","","","","","","","","","","","","","","","","","","","","","",""]
[null,null,null,null,null,"","","","","","","","","","","","","","","","","","","","","","","",""]
[null,null,null,null,null,"","","","","","","","","","","","","","","","","","","","","","","",""]
[null,23,null,null,null,"","","","","","","","","","","","","","","","","","","","","","","",""]
[null,null,null,null,null,"","","","","","","","","","","","","","","","","","","","","","","",""]
[null,null,null,null,null,"","","","","","","","","","","","","","","","","","","","","","","",""]
[null,24,null,null,null,"","","","","","","","","","","","","","","","","","","","","","","",""]
[null,null,null,null,null,"","","","","","","","","","","","","","","","","","","","","","","",""]
[null,null,null,null,null,"","","","","","","","","","","","","","","","","","","","","","","",""]
[null,25,null,null,null,"","","","","","","","","","","","","","","","","","","","","","","",""]
[null,null,null,null,null,"","","","","","","","","","","","","","","","","","","","","","","",""]
[null,null,null,null,null,"","","","","","","","","","","","","","","","","","","","","","","",""]
[null,26,null,null,null,"","","","","","","","","","","","","","","","","","","","","","","",""]
[null,null,null,null,null,"","","","","","","","","","","","","","","","","","","","","","","",""]
[null,null,null,null,null,"","","","","","","","","","","","","","","","","","","","","","","",""]
[null,27,null,null,null,"","","","","","","","","","","","","","","","","","","","","","","",""]
[null,null,null,null,null,"","","","","","","","","","","","","","","","","","","","","","","",""]
[null,null,null,null,null,"","","","","","","","","","","","","","","","","","","","","","","",""]
[null,28,null,null,null,"","","","","","","","","","","","","","","","","","","","","","","",""]
[null,null,null,null,null,"","","","","","","","","","","","","","","","","","","","","","","",""]
[null,null,null,null,null,"","","","","","","","","","","","","","","","","","","","","","","",""]
[null,29,null,null,null,"","","","","","","","","","","","","","","","","","","","","","","",""]
[null,null,null,null,null,"","","","","","","","","","","","","","","","","","","","","","","",""]
[null,null,null,null,null,"","","","","","","","","","","","","","","","","","","","","","","",""]
[null,30,null,null,null,"","","","","","","","","","","","","","","","","","","","","","","",""]
[null,null,null,null,null,"","","","","","","","","","","","","","","","","","","","","","","",""]
[null,null,null,null,null,"","","","","","","","","","","","","","","","","","","","","","","",""]
[null,31,null,null,null,"","","","","","","","","","","","","","","","","","","","","","","",""]
[null,null,null,null,null,"","","","","","","","","","","","","","","","","","","","","","","",""]
[null,null,null,null,null,"","","","","","","","","","","","","","","","","","","","","","","",""]
[null,32,null,null,null,"","","","","","","","","","","","","","","","","","","","","","","",""]
[null,null,null,null,null,"","","","","","","","","","","","","","","","","","","","","","","",""]
[null,null,null,null,null,"","","","","","","","","","","","","","","","","","","","","","","",""]
[null,33,null,null,null,"","","","","","","","","","","","","","","","","","","","","","","",""]
[null,null,null,null,null,"","","","","","","","","","","","","","","","","","","","","","","",""]
[null,null,null,null,null,"","","","","","","","","","","","","","","","","","","","","","","",""]
[null,34,null,null,null,"","","","","","","","","","","","","","","","","","","","","","","",""]
[null,null,null,null,null,"","","","","","","","","","","","","","","","","","","","","","","",""]
[null,null,null,null,null,"","","","","","","","","","","","","","","","","","","","","","","",""]
[null,35,null,null,null,"","","","","","","","","","","","","","","","","","","","","","","",""]
[null,null,null,null,null,"","","","","","","","","","","","","","","","","","","","","","","",""]
[null,null,null,null,null,"","","","","","","","","","","","","","","","","","","","","","","",""]
[null,36,null,null,null,"","","","","","","","","","","","","","","","","","","","","","","",""]
[null,null,null,null,null,"","","","","","","","","","","","","","","","","","","","","","","",""]
[null,null,null,null,null,"","","","","","","","","","","","","","","","","","","","","","","",""]
[null,37,null,null,null,"","","","","","","","","","","","","","","","","","","","","","","",""]
[null,null,null,null,null,"","","","","","","","","","","","","","","","","","","","","","","",""]
[null,null,null,null,null,"","","","","","","","","","","","","","","","","","","","","","","",""]
[null,38,null,null,null,"","","","","","","","","","","","","","","","","","","","","","","",""]
[null,null,null,null,null,"","","","","","","","","","","","","","","","","","","","","","","",""]
[null,null,null,null,null,"","","","","","","","","","","","","","","","","","","","","","","",""]
[null,39,null,null,null,"","","","","","","","","","","","","","","","","","","","","","","",""]
[null,null,null,null,null,"","","","","","","","","","","","","","","","","","","","","","","",""]
[null,null,null,null,null,"","","","","","","","","","","","","","","","","","","","","","","",""]
[null,40,null,null,null,"","","","","","","","","","","","","","","","","","","","","","","",""]
[null,null,null,null,null,"","","","","","","","","","","","","","","","","","","","","","","",""]
[null,null,null,null,null,"","","","","","","","","","","","","","","","","","","","","","","",""]