Workbook

Sheet 本紙
B1: 【様式8】変更等依頼書
B5: 本様式は利用開始日以降に詳細設定を希望する場合に用いる申込書です | AQ5: Ver.5.11(2025.12.03～）
B6: 設定内容に応じて別紙を記載してください
B7: 本様式は1契約IDごとに起票願います
B8: 設定申込欄の記載がない場合は設定対象といたしませんのでご注意ください
B10: ご利用者名 （法人名） | H10: フリガナ
B13: 契約ID | Z13: 設定変更希望日※1 | AH13: 西暦 | AO13: 年 | AS13: 月 | AW13: 日
B14: 申込担当者名※2 | Z14: 連絡先電話番号※2
B15: ※1 設定変更希望日の指定をする場合、利用開始日以降、様式送付日から一週間以内の日付で指定いただきますようお願いします 例：4/3様式送付→4/10までの間で日にち指定可能(4/11以降の指定は不可) ご希望に添えない場合、ギガらくWi-Fiサポートセンタより相談の連絡をさせていただくことがございます ※2 ご依頼内容に対し不明な点があった際、ギガらくWi-Fiサポートセンタより連絡先電話番号へ連絡させていただくことがございます
B16: 設定内容 | R16: プラン | AH16: 記入が必要な別紙 | AT16: 設定申込（該当シートは有にすること）
J19: 詳細
B22: SSID設定変更時 | R22: 全て | AH22: 別紙①
B25: 連絡先変更時 | R25: 全て | AH25: 別紙②
B28: 契約ID全体の設定 | R28: ハイエンド６/ハイエンド/ハイエンドＥｘ | AH28: 別紙③-1
R31: ベーシック/ライト/ライト６ | AH31: 別紙③-2
B34: AP別の詳細設定 | R34: ハイエンド６/ハイエンド/ハイエンドEx | AH34: 別紙④-1
R37: ベーシック/ライト/ライト６ | AH37: 別紙④-2
B40: SSID毎の詳細設定 | R40: ハイエンド６/ハイエンド/ハイエンドEx | AH40: 別紙⑤-1
J43: MACアドレス認証／ ＩＤパスワード認証 | AH43: 別紙⑤-2
J46: ファイアウォール（ＩＰ指定）／通信速度制限 （ＩＰ指定） | AH46: 別紙⑤-3
J49: ファイアウォール （アプリ指定） | AH49: 別紙⑤-4
J52: 通信速度制限 （アプリ指定） | AH52: 別紙⑤-5
J55: Webリダイレクト 詳細設定 | AH55: 別紙⑥
J58: 外部Radius連携設定 （Open Roaming連携設定もこちら） | AH58: 別紙⑦
B61: SSID毎の詳細設定 | R61: ベーシック | AH61: 別紙⑤-6
R64: ライト/ライト６ | AH64: 別紙⑤-7
J67: MACアドレス認証 | R67: ベーシック/ライト/ライト６ | AH67: 別紙⑤-8
B70: 無線環境パラメータ調整設定 | R70: ハイエンド６/ハイエンド/ハイエンドＥｘ | AH70: 別紙⑧
B73: ダッシュボード上のNW名変更 AP名変更 | R73: ハイエンド６/ハイエンド/ハイエンドＥｘ | AH73: 別紙⑨

Sheet WiFi設定の説明
B1: Wi-Fi設定の説明
D3: =本紙!AQ5 -> Ver.5.11(2025.12.03～）
B4: 設定項目 | D4: 説明
B5: 利用者の認証 | C5: パスワード認証（標準設定） ハイエンド系: 別紙⑤-1参照 ライト・ライト６：別紙⑤-7参照 | D5: 一般的な認証方法です。
C7: MACアドレス認証 ハイエンド系: 別紙⑤-1参照 ライト・ライト６：別紙⑤-7参照 | D7: モバイル端末のMACアドレスによる認証です。 （オフィスのネットワークへの設定等の変更は不要です。）
C9: ID/パスワード認証 （WPA2-EAP） | D9: ユーザID、パスワードによる認証です。 モバイル端末にID／パスワードの設定が必要です。
C11: パスワード無し ※非推奨 （OPEN：暗号化なし） | D11: パスワード／暗号化共になしの為、不正利用や盗聴のリスクがあります。 ご利用になられる場合は、ご契約ISP様の利用規約をご確認ください。
C13: 外部Radius連携 | D13: お客様用意のRadiusサーバによる認証が可能なよう、アクセスポイント装置へ設定を 実施します。
B14: SSIDの表示 | C14: 非表示 | D14: Ｗｉ-Ｆｉネットワークの一覧にSSIDを表示しません。 SSIDを第三者に見せない事で、Ｗｉ-Ｆｉのセキュリティを高めます。 モバイル端末は、SSIDを手動設定する必要があります。
B17: SSIDあたりの通信速度制限 | C17: 帯域制限有 | D17: SSIDあたりの通信速度を制限します。（Mbps単位） マルチSSIDを使っている際に、特定SSIDが通信を占有する事を防げます。
B19: 端末あたりの通信速度制限 | C19: 帯域制限有 | D19: 端末あたりの通信速度（Mbps単位）を制限します。 本機能により、一部の端末が通信を占有する事を防げます。
B21: 電波のON/OFF | C21: 指定時間ＯＮ | D21: SSIDごとに電波オン・オフの週間スケジュールが設定できます。 SSIDの電波をOFFにする事で、業務時間外等の無線接続を禁止する事ができ、Ｗｉ-Ｆｉのセキュリティを高めます。
B23: VLAN | C23: ON | D23: Wi-Fiアクセスポイント装置のLAN側ポートで、VLAN（802.1q）が動作します。 指定のSSIDと指定のVLAN番号が括り付けられます。 VLANを活用している有線LANと同一ポリシーで、無線LANを使えます。
B26: 周波数帯 | C26: 5GHzのみ | D26: SSIDごとに、干渉が発生しやすい2.4GHz周波数帯の電波をオフに設定できます。 ※5GHzを使用できないモバイル端末は、無線接続ができなくなります。
B28: L2間の通信制限 | C28: ON | D28: L2通信をブロックするセキュリティ機能です。 デフォルト ゲートウェイのMACアドレスの通信のみ、L2ファイアーウォールで許可されます。業務用Ｗｉ-Ｆｉの標準設定は、通信をブロックしません。 (来訪者向けＷｉ-Ｆｉでは、NATモードが設定されているため無線端末間通信をブロックします。)
B32: プライベートIPアドレスへの通信 | C32: 通信不可 | D32: 宛先がプライベートIPアドレスの通信をブロックすることができます。 （一般的に、オフィス内は、プライベートIPアドレスを使用しています。 本機能により、オフィス内への通信をブロックできます。） 業務用Ｗｉ-Ｆｉの標準設定では、通信をブロックしません。 来訪者向けＷｉ-Ｆｉの標準設定では、通信をブロックします。
B37: ファイアウォール（ＩＰ指定） | C37: ＯＮ | D37: SSIDごとに、指定したIPアドレス向けの通信をブロックします。
B39: ファイアウォール（アプリ指定） | C39: ＯＮ | D39: SSIDごとに、指定したアプリケーションの利用をブロックします。
B41: 通信速度制限（ＩＰ指定） | C41: 帯域制限有 | D41: SSIDごとに、指定したIPアドレス向けの通信速度を制限します。 （Mbps単位/最大設定速度2000Mbps）
B43: 通信速度制限（アプリ指定） | C43: 帯域制限有 | D43: SSIDごとに、指定したアプリケーションの通信速度を制限します。 （Mbps単位/最大設定速度2000Mbps）
... B48: 無線チャネル | C48: チャネル固定 | D48: Wi-Fi通信で使用する無線チャネルを、ご指定のチャネル番号に固定します。 ※ただし5GHzのW53(52～64ch)、W56(100～140ch)では、気象レーダー等を検出するとDFS(Dynamic Frequency Selection)により自動的に他のチャネルに変更します。
C51: 自動選択(W52のみ) | D51: 5GHzで自動選択する無線チャネルをW52(36,40,44,48ch)のいずれかに限定します。 DFS(Dynamic Frequency Selection)のチャネル変更によるWi-Fi通信の一時的な切断を回避することができます。
C54: 自動選択(W56のみ) | D54: 5GHzで自動選択する無線チャネルをW56(100,104,108,112,116,120,124,128,132,136,140ch)のいずれかに限定します。
B57: 無線帯域幅 | C57: 20MHz固定 | D57: Wi-Fi通信で使用する無線電波の帯域幅を狭くして干渉を減らします。 ※Wi-Fi通信の最大通信速度が低下します。
B59: 電波出力自動調整 | C59: ON | D59: 高密度にWi-Fiのアクセスポイント装置を設置しても、自動的に電波出力を調整して干渉を減らしパフォーマンスを最適化します。 ※自動調整範囲を指定することも可能ですが、指定する場合は電波調査などを基に厳密な設計をお願いします。（電波出力の推奨値などはサポート対象外です。） ※電波出力の最大値については電波法上許容される範囲に自動調整されます。
B60: 最小ビットレート値 | C60: 2.4GHz：1Mbps 5GHz：6Mbps | D60: 端末が接続可能な最小ビットレート値を指定します。 ※最小ビットレート値を変更すると端末の対応状況により接続できなくなる場合があります。
B61: マルチホップ機能 | C61: ON | D61: ２台のWi-Fiアクセスポイント装置間を無線で接続し、ＬＡＮ配線なしでWi-Fiエリアの拡張が可能となる機能を利用するための基本設定となります。 本機能がONになっていても、それぞれの機器でLAN配線で接続されている場合は有線接続が優先されます。
B62: Open Roaming連携 | C62: - | D62: Open Roaming※に対応したSSIDを送波するための連携機能です。 ※Open Roaming：Wireless Broadband Alliance (WBA) が推進する、ワールドワイドでのシームレスな接続プラットフォーム。

Sheet 別紙①
A2: 別紙①_SSIDの設定変更(一括変更申込) | D2: ●本様式は本紙に記載した契約IDに紐づく全てのAPに対する一括申込に使用する様式です
D3: ●AP毎に異なる設定を希望する場合は別紙④-1～別紙④-2に記載願います
A4: 【注意】本シートへのSSID・パスワードの入力時に コピー&ペーストを使用しないこと
D5: 【SSID・パスワード使用可能文字】 半角英字（大文字、小文字）、半角数字、半角記号の-（ハイフン）、_（アンダーバー）、 .（ドット）、@（アットマーク）、#（ハッシュタグ）、 $（ドル）を使用できます | G5: =本紙!AQ5 -> Ver.5.11(2025.12.03～）
E7: ※「来訪者用」を選択した場合、プライベートIPアドレス向けの通信をブロックします
A8: 申込 NO | B8: 申込内容 | C8: SSIDの用途変更有無 | D8: 対象のSSID | E8: 設定するSSID用途※ | F8: 設定するSSID 最大32文字以内 | G8: 設定するパスワード ８文字以上63文字以内
A11: 例1 | B11: SSID/パスワードの設定変更 | C11: 有 | D11: xxxxxxxxxxx | E11: 業務用 | F11: xxxxxxxx
A12: 例2 | B12: SSIDの削除 | D12: yyyyyyyyyyy
A13: 1
A14: =SUM(A13)+1 -> 2
A15: =SUM(A14)+1 -> 3
A16: =SUM(A15)+1 -> 4
A17: =SUM(A16)+1 -> 5
A18: =SUM(A17)+1 -> 6
A19: =SUM(A18)+1 -> 7
A20: =SUM(A19)+1 -> 8
A21: =SUM(A20)+1 -> 9
A22: =SUM(A21)+1 -> 10

Sheet 別紙②
B2: 別紙②_連絡先変更時利用
AS6: =本紙!AQ5 -> Ver.5.11(2025.12.03～）
B7: 連絡先の変更
B12: 変更後の連絡先 | H12: 部署名
H14: 氏名 | M14: フリガナ | AE14: 日中の連絡先 電話番号
AK15: （ | AO15: ） | AS15: －
B17: 変更後の サポート情報送付先 メールアドレス ※フリガナは自動反映 | H17: フリガナ | K17: =IF(H18="","",_xlfn.CONCAT(別紙①②④_ﾌﾘｶﾞﾅ!$H$6:$H$69," アットマーク ",別紙①②④_ﾌﾘｶﾞﾅ!M6:M69))
AH18: @

Sheet 別紙③-1
B2: 別紙③-1_契約ID全体の設定(ハイエンド６プラン/ハイエンドプラン/ハイエンドＥｘプラン用)
AT6: =本紙!AQ5 -> Ver.5.11(2025.12.03～）
B7: 詳細な設定を行なう場合、以下を記入してください
B12: 共通の設定
B14: 設定項目 | O14: 標準設定 | AF14: 詳細な設定
B15: 無線チャネル (2.4GHz) | O15: 自動選択
AG16: □ | AI16: チャネル固定 | AO16: チャネル番号 | AT16: （ | AX16: ） | AY16: ※1
AG17: AP毎に個別設定する場合は別紙④-1へ記載
AG19: □ | AI19: 自動選択 【標準設定】
B21: 無線チャネル (5GHz) | O21: 自動選択(W52/W53/W56) | AG21: 【複数選択不可】
AG22: □ | AI22: 自動選択(W52のみ)
AG24: □ | AI24: 自動選択(W53のみ)
AG26: □ | AI26: 自動選択(W56のみ)
AG28: □ | AI28: チャネル固定 | AO28: チャネル番号 | AT28: （ | AX28: ） | AY28: ※2
AG29: AP毎に個別設定する場合は別紙④-1へ記載
AG31: □ | AI31: 自動選択(W52/W53/W56) 【標準設定】
B33: 無線帯域幅 (5GHz) | O33: 自動選択(20/40/80MHz)
AG34: □ | AI34: 20MHz固定
AG36: □ | AI36: 40MHz固定
AG38: □ | AI38: 80MHz固定
AG40: □ | AI40: 自動選択(20/40/80MHz) 【標準設定】
B42: 電波出力自動調整 | O42: ON
AG43: □ | AI43: ON 【標準設定】
AG45: □ | AI45: OFF （常時100％）
B47: マルチホップ機能 | O47: ON
AG48: □ | AI48: ON 【標準設定】
AG50: □ | AI50: OFF
AF53: ※1 固定する無線チャネル番号を1～11の中から1つ記入
AF54: ※2 固定する無線チャネル番号を36～64、100～140の中から
AH55: 1つ記入 （4の倍数のチャネルのみ設定可能）
AH56: 52～140を設定した場合、気象レーダー等を検出すると
AH57: 自動的に他のチャネルに変更します
B59: Japan Wi-Fi連携・ブラウザ認証の設定
B61: Japan Wi-Fi連携 | O61: OFF | AG61: 【複数選択不可】
AG62: □ | AI62: Japan Wi-Fi連携
AI63: （.Free Wi-Fi for Application）
AG65: □ | AI65: Japan Wi-Fi連携+ブラウザ認証（メール&SNS）
AI66: （.Free_Wi-Fi_1）
AG68: □ | AI68: ブラウザ認証（メール&SNS）のみ
AI69: （.Free_Wi-Fi_2）
...

Sheet 別紙③-2
B2: 別紙③-2_契約ID全体の設定(ベーシック/ライトプラン/ライト６プラン用)
AT6: =本紙!AQ5 -> Ver.5.11(2025.12.03～）
B8: 詳細な設定を行なう場合、以下を記入してください
B12: 設定項目 | O12: 標準設定 | AF12: 詳細な設定
B13: 無線チャネル | O13: 自動選択
AG14: □ | AI14: チャネル固定
AJ15: 2.4GHz チャネル番号※1 | AR15: （ | AV15: ）
AJ16: 5GHz チャネル番号※2 | AR16: （ | AV16: ）
AG17: AP毎に個別設定する場合は別紙④-2へ記載
AG19: □ | AI19: 自動選択 【標準設定】
AG21: □ | AI21: 自動選択(W52のみ)
AG23: □ | AI23: 自動選択(W53のみ)
AG25: □ | AI25: 自動選択(W56のみ)
B27: 無線帯域幅 (5GHz) | O27: 自動選択(20/40/80MHz)
AG28: □ | AI28: 20MHz固定
AG30: □ | AI30: 自動選択（20/40MHz)
AG32: □ | AI32: 自動選択(20/40/80MHz) 【標準設定】
AF35: ※1 固定する無線チャネル番号を1～11の中から1つ記入
AF36: ※2 固定する無線チャネル番号を36～64、100～140の中から
AH37: 1つ記入 （4の倍数のチャネルのみ設定可能）
AH38: 52～140を設定した場合、気象レーダー等を検出すると
AH39: 自動的に他のチャネルに変更します

Sheet 別紙④-1
A2: 別紙④-1_【AP個別の設定】一括変更申込 (ハイエンド６プラン/ハイエンドプラン/ハイエンドExプラン用) | E2: ●本様式は「AP個別の設定」の一括申込に使用する様式です | I2: ※1 SSID追加の場合、設定数の上限は既存のSSID含め15個までです（各プラン共通）
E3: ●本シートには「追加/変更/削除する項目のみ」を記載願います | I3: ※2 「来訪者用」を選択した場合、プライベートIPアドレス向けの通信をブロックします
I4: ※3 無線チャネル(5GHz)の詳細な設定を複数同時利用することは出来ません
A5: 【注意】 本シートへのSSID・パスワードの入力時にコピー&ペーストを使用しないこと | F5: 【SSID・パスワード使用可能文字】 半角英字（大文字、小文字）、半角数字、半角記号-（ハイフン）、_（アンダーバー）、 .（ドット）、@（アットマーク）、#（ハッシュタグ）、 $（ドル） | I5: ※4 52～140を設定した場合、気象レーダー等を検出すると自動的に他のチャネルに変更します
N6: =本紙!AQ5 -> Ver.5.11(2025.12.03～）
A8: 申込 NO | B8: 設定するAPのシリアルNo. | C8: 申込内容※1 | D8: SSIDの用途変更有無 | E8: 対象のSSID | F8: 設定するSSIDの用途※2 | G8: 設定するSSID 最大32文字以内 1AP毎のSSIDの総数は15個まで 動作上はAP毎のSSIDは4個までを推奨 | H8: 設定するパスワード ８文字以上63文字以内 | I8: 無線チャネル設定 （2.4Ghz） | J8: チャネル番号 (2.4GHz） チャネル固定の場合 | K8: 無線チャネル設定 （5Ghz）※3 | L8: チャネル番号 （5GHz）※4 チャネル固定の 場合 | M8: 無線帯域幅 （5Ghz） | N8: 電波出力自動調整
A11: 例1 | B11: xxxx-xxxx-xxxx | C11: SSID/パスワードの変更 | D11: 有 | E11: xxxxxxxxxxx | F11: 業務用 | G11: xxxxxxxx | H11: zzzzzzzz
A12: 例2 | B12: yyyy-yyyy-yyyy | C12: SSIDの削除 | E12: yyyyyyyyyyy | K12: チャネル固定 | L12: 116 | M12: 20MHz
A13: 1
A14: =SUM(A13)+1 -> 2
A15: =SUM(A14)+1 -> 3
A16: =SUM(A15)+1 -> 4
A17: =SUM(A16)+1 -> 5
A18: =SUM(A17)+1 -> 6
A19: =SUM(A18)+1 -> 7
A20: =SUM(A19)+1 -> 8
A21: =SUM(A20)+1 -> 9
A22: =SUM(A21)+1 -> 10
A23: =SUM(A22)+1 -> 11
A24: =SUM(A23)+1 -> 12
A25: =SUM(A24)+1 -> 13
... A32: =SUM(A31)+1 -> 20

Sheet 別紙④-2
A2: 別紙④-2_【AP個別の設定】一括変更申込 (ベーシックプラン/ライトプラン/ライト６プラン用) | E2: ●本様式は「AP個別の設定」の一括申込に使用する様式です
E3: ●本シートには「追加/変更/削除する項目のみ」を記載願います | J3: ※1 SSID追加の場合、設定数の上限は既存のSSID含め8個までです（各プラン共通）
J4: ※2 「来訪者用」を選択した場合、プライベートIPアドレス向けの通信をブロックします
A5: 【注意】 本シートへのSSID・パスワードの入力時にコピー&ペーストを使用しないこと | G5: 【SSID・パスワード使用可能文字】 半角英字（大文字、小文字）、半角数字、半角記号-（ハイフン）、_（アンダーバー）、 .（ドット）、@（アットマーク）、#（ハッシュタグ）、 $（ドル） | J5: ※3 無線チャネル(5GHz)の詳細な設定を複数同時利用することは出来ません | M5: =本紙!AQ5 -> Ver.5.11(2025.12.03～）
J6: ※4 52～140を設定した場合、気象レーダー等を検出すると自動的に他のチャネルに変更します
A8: 申込 NO | B8: 設定するAPのdeviceUID ※「S/N:」から始まるID ではないので注意 | C8: 申込内容※1 | D8: SSIDの用途変更有無 | E8: 対象のSSID | F8: 設定するSSIDの用途※2 | G8: 設定するSSID 最大32文字以内 1AP毎のSSIDの総数は8個まで 動作上はAP毎のSSIDは4個までを推奨 | H8: 設定するパスワード ８文字以上63文字以内 | I8: 無線チャネル設定 （2.4Ghz） | J8: チャネル番号 (2.4GHz） チャネル固定の場合 | K8: 無線チャネル設定 （5Ghz）※3 | L8: チャネル番号 （5GHz）※4 チャネル固定の 場合 | M8: 無線帯域幅 （5Ghz）
A11: 例1 | B11: xxxx-xxxx-xxxx | C11: SSID/パスワードの変更 | D11: 有 | E11: xxxxxxxxxxx | F11: 業務用 | G11: xxxxxxxx | H11: zzzzzzzz
A12: 例2 | B12: yyyy-yyyy-yyyy | C12: SSIDの削除 | E12: yyyyyyyyyyy | K12: チャネル固定 | L12: 116 | M12: 20MHz
A13: 1
A14: =SUM(A13)+1 -> 2
A15: =SUM(A14)+1 -> 3
A16: =SUM(A15)+1 -> 4
A17: =SUM(A16)+1 -> 5
A18: =SUM(A17)+1 -> 6
A19: =SUM(A18)+1 -> 7
A20: =SUM(A19)+1 -> 8
A21: =SUM(A20)+1 -> 9
A22: =SUM(A21)+1 -> 10
A23: =SUM(A22)+1 -> 11
A24: =SUM(A23)+1 -> 12
A25: =SUM(A24)+1 -> 13
... A32: =SUM(A31)+1 -> 20

Sheet 別紙①②④_ﾌﾘｶﾞﾅ
G4: 別紙② | L4: 別紙②
B5: a | C5: エー | D5: =IFERROR(CODE(B5),"") -> 97 | F5: 桁数 | G5: メール(＠前) | H5: フリガナ① | I5: 数値① | J5: 判定① | L5: メール(@後） | M5: フリガナ① | N5: 数値① | O5: 判定①
B6: b | C6: ビー | D6: =IFERROR(CODE(B6),"") -> 98 | F6: 1 | G6: =+LEFT(別紙②!$H$18,1) | H6: =IFERROR((VLOOKUP(G6,$B$5:$C$72,2,FALSE)),"") | I6: =IFERROR(CODE(G6),"") | J6: =IF(I6="",0,IF(OR(AND(I6<=122,I6>=97),AND(I6<=90,I6>=65),AND(I6<=57,I6>=48),I6=45,I6=46,I6=64,I6=95,I6=36,I6=35),0,1)) -> 0 | L6: =+LEFT(別紙②!$AJ$18,1) | M6: =IFERROR((VLOOKUP(L6,$B$5:$C$72,2,FALSE)),"") | N6: =IFERROR(CODE(L6),"") | O6: =IF(N6="",0,IF(OR(AND(N6<=122,N6>=97),AND(N6<=90,N6>=65),AND(N6<=57,N6>=48),N6=45,N6=46,N6=64,N6=95,N6=36,N6=35),0,1)) -> 0
B7: c | C7: シー | D7: =IFERROR(CODE(B7),"") -> 99 | F7: 2 | G7: =+MID(別紙②!$H$18,$F7,1) | H7: =IFERROR((VLOOKUP(G7,$B$5:$C$72,2,FALSE)),"") | I7: =IFERROR(CODE(G7),"") | J7: =IF(I7="",0,IF(OR(AND(I7<=122,I7>=97),AND(I7<=90,I7>=65),AND(I7<=57,I7>=48),I7=45,I7=46,I7=64,I7=95,I7=36,I7=35),0,1)) -> 0 | L7: =+MID(別紙②!$AJ$18,$F7,1) | M7: =IFERROR((VLOOKUP(L7,$B$5:$C$72,2,FALSE)),"") | N7: =IFERROR(CODE(L7),"") | O7: =IF(N7="",0,IF(OR(AND(N7<=122,N7>=97),AND(N7<=90,N7>=65),AND(N7<=57,N7>=48),N7=45,N7=46,N7=64,N7=95,N7=36,N7=35),0,1)) -> 0
B8: d | C8: ディー | D8: =IFERROR(CODE(B8),"") -> 100 | F8: 3 | G8: =+MID(別紙②!$H$18,$F8,1) | H8: =IFERROR((VLOOKUP(G8,$B$5:$C$72,2,FALSE)),"") | I8: =IFERROR(CODE(G8),"") | J8: =IF(I8="",0,IF(OR(AND(I8<=122,I8>=97),AND(I8<=90,I8>=65),AND(I8<=57,I8>=48),I8=45,I8=46,I8=64,I8=95,I8=36,I8=35),0,1)) -> 0 | L8: =+MID(別紙②!$AJ$18,$F8,1) | M8: =IFERROR((VLOOKUP(L8,$B$5:$C$72,2,FALSE)),"") | N8: =IFERROR(CODE(L8),"") | O8: =IF(N8="",0,IF(OR(AND(N8<=122,N8>=97),AND(N8<=90,N8>=65),AND(N8<=57,N8>=48),N8=45,N8=46,N8=64,N8=95,N8=36,N8=35),0,1)) -> 0
B9: e | C9: イー | D9: =IFERROR(CODE(B9),"") -> 101 | F9: 4 | G9: =+MID(別紙②!$H$18,$F9,1) | H9: =IFERROR((VLOOKUP(G9,$B$5:$C$72,2,FALSE)),"") | I9: =IFERROR(CODE(G9),"") | J9: =IF(I9="",0,IF(OR(AND(I9<=122,I9>=97),AND(I9<=90,I9>=65),AND(I9<=57,I9>=48),I9=45,I9=46,I9=64,I9=95,I9=36,I9=35),0,1)) -> 0 | L9: =+MID(別紙②!$AJ$18,$F9,1) | M9: =IFERROR((VLOOKUP(L9,$B$5:$C$72,2,FALSE)),"") | N9: =IFERROR(CODE(L9),"") | O9: =IF(N9="",0,IF(OR(AND(N9<=122,N9>=97),AND(N9<=90,N9>=65),AND(N9<=57,N9>=48),N9=45,N9=46,N9=64,N9=95,N9=36,N9=35),0,1)) -> 0
B10: f | C10: エフ | D10: =IFERROR(CODE(B10),"") -> 102 | F10: 5 | G10: =+MID(別紙②!$H$18,$F10,1) | H10: =IFERROR((VLOOKUP(G10,$B$5:$C$72,2,FALSE)),"") | I10: =IFERROR(CODE(G10),"") | J10: =IF(I10="",0,IF(OR(AND(I10<=122,I10>=97),AND(I10<=90,I10>=65),AND(I10<=57,I10>=48),I10=45,I10=46,I10=64,I10=95,I10=36,I10=35),0,1)) -> 0 | L10: =+MID(別紙②!$AJ$18,$F10,1) | M10: =IFERROR((VLOOKUP(L10,$B$5:$C$72,2,FALSE)),"") | N10: =IFERROR(CODE(L10),"") | O10: =IF(N10="",0,IF(OR(AND(N10<=122,N10>=97),AND(N10<=90,N10>=65),AND(N10<=57,N10>=48),N10=45,N10=46,N10=64,N10=95,N10=36,N10=35),0,1)) -> 0
B11: g | C11: ジー | D11: =IFERROR(CODE(B11),"") -> 103 | F11: 6 | G11: =+MID(別紙②!$H$18,$F11,1) | H11: =IFERROR((VLOOKUP(G11,$B$5:$C$72,2,FALSE)),"") | I11: =IFERROR(CODE(G11),"") | J11: =IF(I11="",0,IF(OR(AND(I11<=122,I11>=97),AND(I11<=90,I11>=65),AND(I11<=57,I11>=48),I11=45,I11=46,I11=64,I11=95,I11=36,I11=35),0,1)) -> 0 | L11: =+MID(別紙②!$AJ$18,$F11,1) | M11: =IFERROR((VLOOKUP(L11,$B$5:$C$72,2,FALSE)),"") | N11: =IFERROR(CODE(L11),"") | O11: =IF(N11="",0,IF(OR(AND(N11<=122,N11>=97),AND(N11<=90,N11>=65),AND(N11<=57,N11>=48),N11=45,N11=46,N11=64,N11=95,N11=36,N11=35),0,1)) -> 0
B12: h | C12: エイチ | D12: =IFERROR(CODE(B12),"") -> 104 | F12: 7 | G12: =+MID(別紙②!$H$18,$F12,1) | H12: =IFERROR((VLOOKUP(G12,$B$5:$C$72,2,FALSE)),"") | I12: =IFERROR(CODE(G12),"") | J12: =IF(I12="",0,IF(OR(AND(I12<=122,I12>=97),AND(I12<=90,I12>=65),AND(I12<=57,I12>=48),I12=45,I12=46,I12=64,I12=95,I12=36,I12=35),0,1)) -> 0 | L12: =+MID(別紙②!$AJ$18,$F12,1) | M12: =IFERROR((VLOOKUP(L12,$B$5:$C$72,2,FALSE)),"") | N12: =IFERROR(CODE(L12),"") | O12: =IF(N12="",0,IF(OR(AND(N12<=122,N12>=97),AND(N12<=90,N12>=65),AND(N12<=57,N12>=48),N12=45,N12=46,N12=64,N12=95,N12=36,N12=35),0,1)) -> 0
B13: i | C13: アイ | D13: =IFERROR(CODE(B13),"") -> 105 | F13: 8 | G13: =+MID(別紙②!$H$18,$F13,1) | H13: =IFERROR((VLOOKUP(G13,$B$5:$C$72,2,FALSE)),"") | I13: =IFERROR(CODE(G13),"") | J13: =IF(I13="",0,IF(OR(AND(I13<=122,I13>=97),AND(I13<=90,I13>=65),AND(I13<=57,I13>=48),I13=45,I13=46,I13=64,I13=95,I13=36,I13=35),0,1)) -> 0 | L13: =+MID(別紙②!$AJ$18,$F13,1) | M13: =IFERROR((VLOOKUP(L13,$B$5:$C$72,2,FALSE)),"") | N13: =IFERROR(CODE(L13),"") | O13: =IF(N13="",0,IF(OR(AND(N13<=122,N13>=97),AND(N13<=90,N13>=65),AND(N13<=57,N13>=48),N13=45,N13=46,N13=64,N13=95,N13=36,N13=35),0,1)) -> 0
B14: j | C14: ジェー | D14: =IFERROR(CODE(B14),"") -> 106 | F14: 9 | G14: =+MID(別紙②!$H$18,$F14,1) | H14: =IFERROR((VLOOKUP(G14,$B$5:$C$72,2,FALSE)),"") | I14: =IFERROR(CODE(G14),"") | J14: =IF(I14="",0,IF(OR(AND(I14<=122,I14>=97),AND(I14<=90,I14>=65),AND(I14<=57,I14>=48),I14=45,I14=46,I14=64,I14=95,I14=36,I14=35),0,1)) -> 0 | L14: =+MID(別紙②!$AJ$18,$F14,1) | M14: =IFERROR((VLOOKUP(L14,$B$5:$C$72,2,FALSE)),"") | N14: =IFERROR(CODE(L14),"") | O14: =IF(N14="",0,IF(OR(AND(N14<=122,N14>=97),AND(N14<=90,N14>=65),AND(N14<=57,N14>=48),N14=45,N14=46,N14=64,N14=95,N14=36,N14=35),0,1)) -> 0
B15: k | C15: ケー | D15: =IFERROR(CODE(B15),"") -> 107 | F15: 10 | G15: =+MID(別紙②!$H$18,$F15,1) | H15: =IFERROR((VLOOKUP(G15,$B$5:$C$72,2,FALSE)),"") | I15: =IFERROR(CODE(G15),"") | J15: =IF(I15="",0,IF(OR(AND(I15<=122,I15>=97),AND(I15<=90,I15>=65),AND(I15<=57,I15>=48),I15=45,I15=46,I15=64,I15=95,I15=36,I15=35),0,1)) -> 0 | L15: =+MID(別紙②!$AJ$18,$F15,1) | M15: =IFERROR((VLOOKUP(L15,$B$5:$C$72,2,FALSE)),"") | N15: =IFERROR(CODE(L15),"") | O15: =IF(N15="",0,IF(OR(AND(N15<=122,N15>=97),AND(N15<=90,N15>=65),AND(N15<=57,N15>=48),N15=45,N15=46,N15=64,N15=95,N15=36,N15=35),0,1)) -> 0
B16: l | C16: エル | D16: =IFERROR(CODE(B16),"") -> 108 | F16: 11 | G16: =+MID(別紙②!$H$18,$F16,1) | H16: =IFERROR((VLOOKUP(G16,$B$5:$C$72,2,FALSE)),"") | I16: =IFERROR(CODE(G16),"") | J16: =IF(I16="",0,IF(OR(AND(I16<=122,I16>=97),AND(I16<=90,I16>=65),AND(I16<=57,I16>=48),I16=45,I16=46,I16=64,I16=95,I16=36,I16=35),0,1)) -> 0 | L16: =+MID(別紙②!$AJ$18,$F16,1) | M16: =IFERROR((VLOOKUP(L16,$B$5:$C$72,2,FALSE)),"") | N16: =IFERROR(CODE(L16),"") | O16: =IF(N16="",0,IF(OR(AND(N16<=122,N16>=97),AND(N16<=90,N16>=65),AND(N16<=57,N16>=48),N16=45,N16=46,N16=64,N16=95,N16=36,N16=35),0,1)) -> 0
B17: m | C17: エム | D17: =IFERROR(CODE(B17),"") -> 109 | F17: 12 | G17: =+MID(別紙②!$H$18,$F17,1) | H17: =IFERROR((VLOOKUP(G17,$B$5:$C$72,2,FALSE)),"") | I17: =IFERROR(CODE(G17),"") | J17: =IF(I17="",0,IF(OR(AND(I17<=122,I17>=97),AND(I17<=90,I17>=65),AND(I17<=57,I17>=48),I17=45,I17=46,I17=64,I17=95,I17=36,I17=35),0,1)) -> 0 | L17: =+MID(別紙②!$AJ$18,$F17,1) | M17: =IFERROR((VLOOKUP(L17,$B$5:$C$72,2,FALSE)),"") | N17: =IFERROR(CODE(L17),"") | O17: =IF(N17="",0,IF(OR(AND(N17<=122,N17>=97),AND(N17<=90,N17>=65),AND(N17<=57,N17>=48),N17=45,N17=46,N17=64,N17=95,N17=36,N17=35),0,1)) -> 0
B18: n | C18: エヌ | D18: =IFERROR(CODE(B18),"") -> 110 | F18: 13 | G18: =+MID(別紙②!$H$18,$F18,1) | H18: =IFERROR((VLOOKUP(G18,$B$5:$C$72,2,FALSE)),"") | I18: =IFERROR(CODE(G18),"") | J18: =IF(I18="",0,IF(OR(AND(I18<=122,I18>=97),AND(I18<=90,I18>=65),AND(I18<=57,I18>=48),I18=45,I18=46,I18=64,I18=95,I18=36,I18=35),0,1)) -> 0 | L18: =+MID(別紙②!$AJ$18,$F18,1) | M18: =IFERROR((VLOOKUP(L18,$B$5:$C$72,2,FALSE)),"") | N18: =IFERROR(CODE(L18),"") | O18: =IF(N18="",0,IF(OR(AND(N18<=122,N18>=97),AND(N18<=90,N18>=65),AND(N18<=57,N18>=48),N18=45,N18=46,N18=64,N18=95,N18=36,N18=35),0,1)) -> 0
... B69: 0 | C69: ゼロ | D69: =IFERROR(CODE(B69),"") -> 48 | F69: 64 | G69: =+MID(別紙②!$H$18,$F69,1) | H69: =IFERROR((VLOOKUP(G69,$B$5:$C$72,2,FALSE)),"") | I69: =IFERROR(CODE(G69),"") | J69: =IF(I69="",0,IF(OR(AND(I69<=122,I69>=97),AND(I69<=90,I69>=65),AND(I69<=57,I69>=48),I69=45,I69=46,I69=64,I69=95,I69=36,I69=35),0,1)) -> 0 | L69: =+MID(別紙②!$AJ$18,$F69,1) | M69: =IFERROR((VLOOKUP(L69,$B$5:$C$72,2,FALSE)),"") | N69: =IFERROR(CODE(L69),"") | O69: =IF(N69="",0,IF(OR(AND(N69<=122,N69>=97),AND(N69<=90,N69>=65),AND(N69<=57,N69>=48),N69=45,N69=46,N69=64,N69=95,N69=36,N69=35),0,1)) -> 0
B70: . | C70: ドット | D70: =IFERROR(CODE(B70),"") -> 46 | J70: =SUM(J6:J69) -> 0 | O70: =SUM(O6:O69) -> 0
B71: _ | C71: ｱﾝﾀﾞｰﾊﾞｰ | D71: =IFERROR(CODE(B71),"") -> 95
B72: $ | C72: ドル | D72: =IFERROR(CODE(B72),"") -> 36

Sheet 別紙⑤-1
B2: 別紙⑤-1_SSID毎の詳細設定(ハイエンド６/ハイエンドプラン/ハイエンドExプラン用)
AU6: =本紙!AQ5 -> Ver.5.11(2025.12.03～）
B7: 詳細な設定を行なう場合、以下を記入してください
B10: 設定するSSID名 | AC10: 設定するSSID種別 | AK10: □ | AM10: 業務用 | AQ10: □ | AS10: 来訪者用
B12: 設定項目 | O12: 標準設定 | AF12: 詳細な設定
B13: 利用者の認証 | O13: パスワード認証 (WPA2＋WPA3(AES)) | AF13: 複 数 選 択 不 可 | AG13: パスワード認証
AG14: □ | AI14: WPA3 only(SAE)
AI15: ※クライアント端末の対応状況に注意
AG17: □ | AI17: WPA2＋WPA3(AES) 【標準設定】
AG19: □ | AI19: WPA2 only(AES)
AG21: □ | AI21: WPA＋WPA2(AES+TKIP) ※非推奨
AI22: TKIPを使用する場合はこちらを選択
AG24: MACアドレス認証
AG25: ※下記選択時は別紙⑤-2も記載すること
AG26: □ | AI26: WPA2+WPA3(AES)
AG28: □ | AI28: WPA2 only(AES)
AG30: □ | AI30: WPA+WPA2(AES+TKIP) ※非推奨
AI31: TKIPを使用する場合はこちらを選択
AG32: その他
AG33: □ | AI33: ID/パスワードによるユーザ認証（WPA2-EAP)
AG35: □ | AI35: 外部Radius連携
AI36: 別紙⑦に記載要
AG37: □ | AI37: パスワード無し（OPEN：暗号化なし）※非推奨
B39: SSIDの表示 | O39: 表示
AG40: □ | AI40: 非表示
AG42: □ | AI42: 表示【標準設定】
B44: SSIDあたりの通信速度制限 | O44: 制限無
AG45: □ | AI45: 制限有 | AN45: 帯域制限 | AR45: （ | AW45: Mbps）
AG47: □ | AI47: 制限無 【標準設定】
B49: 端末あたりの通信速度制限 | O49: 制限無
AG50: □ | AI50: 制限有 | AN50: 帯域制限 | AR50: （ | AW50: Mbps）
AG52: □ | AI52: 制限無 【標準設定】
B54: 電波のON/OFF | O54: 常時ON
AG55: □ | AI55: 指定時間ON
AH56: 月 | AI56: （ | AJ56: ： | AM56: ～ | AN56: ： | AQ56: ） | AR56: 火 | AS56: （ | AT56: ： | AW56: ～ | AX56: ： | BA56: ）
AH57: 水 | AI57: （ | AJ57: ： | AM57: ～ | AN57: ： | AQ57: ） | AR57: 木 | AS57: （ | AT57: ： | AW57: ～ | AX57: ： | BA57: ）
AH58: 金 | AI58: （ | AJ58: ： | AM58: ～ | AN58: ： | AQ58: ） | AR58: 土 | AS58: （ | AT58: ： | AW58: ～ | AX58: ： | BA58: ）
AH59: 日 | AI59: （ | AJ59: ： | AM59: ～ | AN59: ： | AQ59: ）
AG60: ※終日OFFにする場合は（0:0～0:0）と記入して下さい
AG62: □ | AI62: 常時ON 【標準設定】
...

Sheet 別紙⑤-2
B2: 別紙⑤-2_SSID毎の詳細設定(ハイエンド６/ハイエンドプラン/ハイエンドＥｘプラン用) MACアドレス認証／ＩＤパスワードによるユーザ認証用
BA6: =本紙!AQ5 -> Ver.5.11(2025.12.03～）
B8: 設定するSSID名
B10: MACアドレス認証を利用する／やめる方はＷｉ-Ｆｉ接続を許可する／ しない端末のＭＡＣアドレスを記入し、プルダウンより追加／削除を 選択してください | AG10: ID/パスワードによるユーザ認証（WPA2-EAP)を利用する／やめる方は Ｗｉ-Ｆｉ接続を行う／行わない方のメールアドレス・パスワードを記入し、 プルダウンより追加／変更／削除を選択してください IDを追加する場合、記入いただいたメールアドレス宛に登録完了メールを 送付します
B13: MACアドレス認証端末の追加・削除 | AG13: ID/パスワードによるユーザ認証端末の追加・変更・削除
B17: MACアドレス情報 | W17: 追加/削除 | AG17: ID（メールアドレス） | AT17: パスワード | BB17: 追加/変更/削除
B18: 例 ０１：２３：４５：６７：８９：ａｂ | W18: 追加 | AG18: 例 ntt@east.ntt.co.jp | AT18: 例 abcd1234 | BB18: 削除
W19: 選択してください | BB19: 選択してください
W20: 選択してください | BB20: 選択してください
W21: 選択してください | BB21: 選択してください
W22: 選択してください | BB22: 選択してください
W23: 選択してください | BB23: 選択してください
W24: 選択してください | BB24: 選択してください
W25: 選択してください | BB25: 選択してください
W26: 選択してください | BB26: 選択してください
W27: 選択してください | BB27: 選択してください
W28: 選択してください | BB28: 選択してください
W29: 選択してください | BB29: 選択してください
W30: 選択してください | BB30: 選択してください
... W41: 選択してください | BB41: 選択してください
AG42: パスワードは8文字以上、半角文字(英字大文字、英字小文字、数字、記号)のうち 3種類を混合してください。 パスワード欄が空欄の場合、パスワードは自動生成となります パスワード自動生成かつ複数拠点でご利用する場合、同一IDでも拠点毎に別々の パスワードとなりますのでご注意ください （自動生成の認証用パスワードは記入いただいたメールアドレス宛にメールで 通知いたします）

Sheet 別紙⑤-3
B2: 別紙⑤-3_SSID毎の詳細設定(ハイエンド６/ハイエンド/ハイエンドExプラン用)
B6: ファイアウォール（ＩＰ指定）／通信速度制限（ＩＰ指定）用
AT8: =本紙!AQ5 -> Ver.5.11(2025.12.03～）
C10: 設定するSSID名
D12: ファイアウォール（IP指定）
C14: ファイアウォールの適用順番 | M14: ポリシー | V14: プロトコル | AE14: 宛先アドレス | AQ14: 宛先ポート番号
C15: 数字が低い順番にファイアウォールが適用される 例 １ | M15: 下記を選択 ・許可 ・禁止 例 禁止 | V15: 下記を選択 ・TCP ・UDP ・Any 例 TCP | AE15: 宛先のIPv4ネットワークアドレス ネットワークアドレス/サブネットマスク 例 192.168.0.0/24 ※特定の端末のみを許可/禁止する場合は、サブネットの値を24ではなく32にする必要があります 例 192.168.0.100/32 | AQ15: ポート番号 例 80
D23: 通信速度制限（IP指定）
C25: 通信速度（Mbps) | V25: 宛先アドレス | AQ25: 宛先ポート番号
C26: 記入した値に通信速度を制限。 １Mbpsに制限する場合の例 １ | V26: 宛先のIPv4ネットワークアドレス ネットワークアドレス/サブネットマスク 例 192.168.0.0/24 | AQ26: ポート番号 例 80

Sheet 別紙⑤-4
B1: 別紙⑤-4_SSID毎の詳細設定(ハイエンド６/ハイエンドプラン/ハイエンドＥｘプラン用)
B6: ファイアウォール（アプリ指定）用
B9: 設定するSSID名
B11: 停止対象のアプリケーションに「○」を記入してください | BJ11: =本紙!AQ5 -> Ver.5.11(2025.12.03～）
B13: アプリケーション | N13: 停止対象 | T13: アプリケーション | AF13: 停止対象 | AL13: アプリケーション | AX13: 停止対象 | BC13: アプリケーション | BO13: 停止対象
B14: 例 Gmail | N14: 例 〇 | T14: Social web & photo sharing | AL14: Web file sharing | BC14: Health care
B15: Blogging | T15: All Social web & photo sharing（以下全て） | AL15: All Web file sharing（以下全て） | BC15: All Health care（以下全て）
B16: All Blogging（以下全て） | T16: Facebook | AL16: 4shared.com | BC16: Allscripts
B17: Blogger | T17: Flickr | AL17: download.com | BC17: Cerner
B18: WordPress | T18: ImageShack | AL18: Easynews | BC18: CureMD
B19: Email | T19: img.ly | AL19: easyshare.com | BC19: Epic EHR
B20: All Email（以下全て） | T20: imgur.com | AL20: filefactory.com | BC20: GE Healthcare
B21: Gmail | T21: Instagram | AL21: filefront.com | BC21: McKesson
B22: Host-based email (POP3/IMAP/SMTP) | T22: Line | AL22: filer.com | BC22: Web payments
B23: Hotmail | T23: MySpace | AL23: filestube.com | BC23: All Web payments（以下全て）
B24: Rackspace Hosted Exchange | T24: photobucket.com | AL24: gigeshare.com | BC24: Intuit
B25: Web based email | T25: Picasa | AL25: hotfile.com | BC25: Lightspeed Retail POS
B26: Windows Live Hotmail and Outlook | T26: Pinterest | AL26: massmirror.com | BC26: LivePOS
... B41: Blizzard | T41: All Video & music（以下全て） | AL41: Security | BC41: All Advertisings（以下全て）
B42: GameSpot | AL42: All Security（以下全て） | BC42: Advertising.com
B43: IGN | T43: BBC iPlayer | AL43: avast | BC43: AppNexus
B44: Miniclip | T44: blip.tv | AL44: DigiCert | BC44: Brightroll
B45: PlayStation | T45: Dailymotion | AL45: Productivity | BC45: DoubleVerify
B46: pogo.com | T46: grooveshark.com | AL46: All Productivity（以下全て） | BC46: Google advertising
B47: Steam | T47: HBO GO | AL47: Adobe Creative Cloud | BC47: Integral Ad Science
B48: World of Warcraft | T48: hulu.com | AL48: Sharepoint | BC48: LKQD
B49: Xbox LIVE | T49: iTunes | AL49: Simphony.NET | BC49: moatads
B50: Zynga | T50: last.fm | AL50: Slack | BC50: mopub
B51: News | T51: megavideo.com | AL51: Windows Live Office | BC51: OpenX
B52: All News（以下全て） | T52: Miscellaneous audio | AL52: Windows Office365 | BC52: Pubmatic
B53: ABC News | T53: Miscellaneous video | AL53: Remote monitoring & management | BC53: SpringServe
B54: CNN | T54: Netflix | AL54: All Remote monitoring & management（以下全て）
B55: Fox News | T55: Niconico | AL55: auvik
B56: Gizmodo | T56: Pandora | AL56: Citrix ICA
B57: MSN | T57: rdio.com | AL57: Citrix Online
B58: New York Times | T58: Rhapsody | AL58: Marconet
B59: sina.com.cn | T59: soundcloud.com | AL59: MyRMM
B60: TechCrunch | T60: Spotify | AL60: Remote desktop
B61: turner.com | T61: ustream.tv | AL61: Business management
B62: Online backup | T62: Vimeo | AL62: All Business management（以下全て）
...

Sheet 別紙⑤-5
B2: 別紙⑤-5_SSID毎の詳細設定(ハイエンド６/ハイエンドプラン/ハイエンドＥｘプラン用)
B6: 通信速度制限（アプリ指定）用
BJ7: =本紙!AQ5 -> Ver.5.11(2025.12.03～）
B9: 設定するSSID名
B11: 通信速度制限対象のアプリケーションに制限速度（Mbps）を記入してください（通信速度を1Mに制限する際の例：１）
B13: アプリケーション | N13: 制限対象 | T13: アプリケーション | AF13: 制限対象 | AL13: アプリケーション | AX13: 制限対象 | BC13: アプリケーション | BO13: 制限対象
B14: 例 Gmail | N14: 例 1 | T14: Social web & photo sharing | AL14: Web file sharing | BC14: Health care
B15: Blogging | T15: All Social web & photo sharing（以下全て） | AL15: All Web file sharing（以下全て） | BC15: All Health care（以下全て）
B16: All Blogging（以下全て） | T16: Facebook | AL16: 4shared.com | BC16: Allscripts
B17: Blogger | T17: Flickr | AL17: download.com | BC17: Cerner
B18: WordPress | T18: ImageShack | AL18: Easynews | BC18: CureMD
B19: Email | T19: img.ly | AL19: easyshare.com | BC19: Epic EHR
B20: All Email（以下全て） | T20: imgur.com | AL20: filefactory.com | BC20: GE Healthcare
B21: Gmail | T21: Instagram | AL21: filefront.com | BC21: McKesson
B22: Host-based email (POP3/IMAP/SMTP) | T22: Line | AL22: filer.com | BC22: Web payments
B23: Hotmail | T23: MySpace | AL23: filestube.com | BC23: All Web payments（以下全て）
B24: Rackspace Hosted Exchange | T24: photobucket.com | AL24: gigeshare.com | BC24: Intuit
B25: Web based email | T25: Picasa | AL25: hotfile.com | BC25: Lightspeed Retail POS
B26: Windows Live Hotmail and Outlook | T26: Pinterest | AL26: massmirror.com | BC26: LivePOS
... B41: Blizzard | T41: All Video & music（以下全て） | AL41: Security | BC41: All Advertisings（以下全て）
B42: GameSpot | AL42: All Security（以下全て） | BC42: Advertising.com
B43: IGN | T43: BBC iPlayer | AL43: avast | BC43: AppNexus
B44: Miniclip | T44: blip.tv | AL44: DigiCert | BC44: Brightroll
B45: PlayStation | T45: Dailymotion | AL45: Productivity | BC45: DoubleVerify
B46: pogo.com | T46: grooveshark.com | AL46: All Productivity（以下全て） | BC46: Google advertising
B47: Steam | T47: HBO GO | AL47: Adobe Creative Cloud | BC47: Integral Ad Science
B48: World of Warcraft | T48: hulu.com | AL48: Sharepoint | BC48: LKQD
B49: Xbox LIVE | T49: iTunes | AL49: Simphony.NET | BC49: moatads
B50: Zynga | T50: last.fm | AL50: Slack | BC50: mopub
B51: News | T51: megavideo.com | AL51: Windows Live Office | BC51: OpenX
B52: All News（以下全て） | T52: Miscellaneous audio | AL52: Windows Office365 | BC52: Pubmatic
B53: ABC News | T53: Miscellaneous video | AL53: Remote monitoring & management | BC53: SpringServe
B54: CNN | T54: Netflix | AL54: All Remote monitoring & management（以下全て）
B55: Fox News | T55: Niconico | AL55: auvik
B56: Gizmodo | T56: Pandora | AL56: Citrix ICA
B57: MSN | T57: rdio.com | AL57: Citrix Online
B58: New York Times | T58: Rhapsody | AL58: Marconet
B59: sina.com.cn | T59: soundcloud.com | AL59: MyRMM
B60: TechCrunch | T60: Spotify | AL60: Remote desktop
B61: turner.com | T61: ustream.tv | AL61: Business management
...

Sheet 別紙⑤-6
B2: 別紙⑤-6_SSID毎の詳細設定(ベーシックプラン用)
AT6: =本紙!AQ5 -> Ver.5.11(2025.12.03～）
B8: 詳細な設定を行なう場合、以下を記入してください
B11: 設定するSSID名 | AC11: 設定するSSID種別 | AK11: □ | AM11: 業務用 | AQ11: □ | AS11: 来訪者用
B13: 設定項目 | O13: 標準設定 | AF13: 詳細な設定
B14: 利用者の認証 | O14: パスワード認証 （WPA＋WPA2) | AG14: 【複数選択不可】
AG15: □ | AI15: MACアドレス認証（WPA＋WPA2)
AI16: 別紙⑤-8に記載要
AG18: □ | AI18: パスワード認証（暗号化：WEP)※非推奨
AI19: パスワードを記入（数字および a～f で26文字以内）
AG22: □ | AI22: パスワード無し（OPEN：暗号化なし）※非推奨
AG24: □ | AI24: パスワード認証(WPA＋WPA2) 【標準設定】
B26: SSIDの表示 | O26: 表示
AG27: □ | AI27: 非表示
AG29: □ | AI29: 表示【標準設定】
B31: 通信速度制限 | O31: 制限無 | AG31: 【複数選択不可】
AG32: □ | AI32: SSIDあたりの通信速度制限
AI33: 帯域制限 | AM33: （ | AR33: Mbps）
AG35: □ | AI35: 端末あたりの通信速度制限
AI36: 帯域制限 | AM36: （ | AR36: Mbps）
AG38: □ | AI38: 制限無 【標準設定】
B40: 電波のON/OFF | O40: 常時ON
AG41: □ | AI41: 指定時間ON
AH42: 月 | AI42: （ | AJ42: ： | AM42: ～ | AN42: ： | AQ42: ） | AR42: 火 | AS42: （ | AT42: ： | AW42: ～ | AX42: ： | BA42: ）
AH43: 水 | AI43: （ | AJ43: ： | AM43: ～ | AN43: ： | AQ43: ） | AR43: 木 | AS43: （ | AT43: ： | AW43: ～ | AX43: ： | BA43: ）
AH44: 金 | AI44: （ | AJ44: ： | AM44: ～ | AN44: ： | AQ44: ） | AR44: 土 | AS44: （ | AT44: ： | AW44: ～ | AX44: ： | BA44: ）
AH45: 日 | AI45: （ | AJ45: ： | AM45: ～ | AN45: ： | AQ45: ）
AG46: 終日OFFにする場合は（0:0～0:0）と記入
AG48: □ | AI48: 常時ON 【標準設定】
B50: VLAN | O50: OFF
AG51: □ | AI51: ON VLAN番号 | AO51: （ | AU51: ）
AG53: □ | AI53: OFF 【標準設定】
B55: 周波数帯 | O55: 2.4GHz+5GHzデュアルバンド
AG56: □ | AI56: 5GHzのみ
AG58: □ | AI58: 2.4GHz+5GHzデュアルバンド 【標準設定】

Sheet 別紙⑤-7
B2: 別紙⑤-7_SSID毎の詳細設定(ライトプラン・ライト６プラン用)
AT6: =本紙!AQ5 -> Ver.5.11(2025.12.03～）
B8: 詳細な設定を行なう場合、以下を記入してください
B11: 設定するSSID名 | AC11: 設定するSSID種別 | AK11: □ | AM11: 業務用 | AQ11: □ | AS11: 来訪者用
B13: 設定項目 | O13: 標準設定 | AF13: 詳細な設定
B14: 利用者の認証 | O14: パスワード認証 ライト６プラン： WPA2＋WPA3(AES) ライトプラン： WPA＋WPA2(AES) | AF14: 複 数 選 択 不 可 | AG14: パスワード認証
AG15: □ | AI15: WPA3 only (SAE)
AI16: ※クライアント端末の対応状況に注意
AG18: □ | AI18: WPA2＋WPA3(AES) 【ライト６プラン標準設定】
AG20: □ | AI20: WPA2 only(AES)
AG22: □ | AI22: WPA＋WPA2(AES) 【ライトプラン標準設定】
AG24: □ | AI24: WPA＋WPA2(AES+TKIP) ※非推奨
AI25: TKIPを使用する場合はこちらを選択
AG26: MACアドレス認証
AG27: ※下記選択時は別紙⑤-8も記載すること
AG28: □ | AI28: WPA2＋WPA3(AES)
AG30: □ | AI30: WPA2 only(AES)
AG32: □ | AI32: WPA＋WPA2(AES)
AG34: □ | AI34: WPA＋WPA2(AES+TKIP) ※非推奨
AI35: TKIPを使用する場合はこちらを選択
AG36: その他
AG37: □ | AI37: パスワード無し（OPEN：暗号化なし） ※非推奨
B39: SSIDの表示 | O39: 表示
AG40: □ | AI40: 非表示
AG42: □ | AI42: 表示 【標準設定】
B44: 通信速度制限※ | O44: 制限無 | AG44: 【複数選択不可】
AG45: □ | AI45: SSIDあたりの通信速度制限
AI46: 帯域制限 | AM46: （ | AR46: Mbps）
AG48: □ | AI48: 端末あたりの通信速度制限
AI49: 帯域制限 | AM49: （ | AR49: Mbps）
AG51: □ | AI51: 制限なし 【標準設定】
B53: 電波のON/OFF | O53: 常時ON
AG54: □ | AI54: 指定時間ON
AH55: 月 | AI55: （ | AJ55: ： | AM55: ～ | AN55: ： | AQ55: ） | AR55: 火 | AS55: （ | AT55: ： | AW55: ～ | AX55: ： | BA55: ）
AH56: 水 | AI56: （ | AJ56: ： | AM56: ～ | AN56: ： | AQ56: ） | AR56: 木 | AS56: （ | AT56: ： | AW56: ～ | AX56: ： | BA56: ）
AH57: 金 | AI57: （ | AJ57: ： | AM57: ～ | AN57: ： | AQ57: ） | AR57: 土 | AS57: （ | AT57: ： | AW57: ～ | AX57: ： | BA57: ）
AH58: 日 | AI58: （ | AJ58: ： | AM58: ～ | AN58: ： | AQ58: ）
AG59: ※終日OFFにする場合は（0:0～0:0）と記入して下さい
AG61: □ | AI61: 常時ON 【標準設定】
B63: VLAN | O63: OFF
...

Sheet 別紙⑤-8
B2: 別紙⑤-8_SSID毎の詳細設定（ベーシックプラン/ライトプラン/ライト６プラン用） MACアドレス認証
AR6: =本紙!AQ5 -> Ver.5.11(2025.12.03～）
C8: 設定するSSID名
D10: MACアドレス認証を利用する／やめる方はＷｉ-Ｆｉ接続を許可する／しない端末のＭＡＣアドレスを記入し、 プルダウンより追加／削除を選択してください
P13: MACアドレス情報 | AK13: 追加/削除
P14: 例 ０１：２３：４５：６７：８９：ａｂ | AK14: 追加
AK15: 選択してください
AK16: 選択してください
AK17: 選択してください
AK18: 選択してください
AK19: 選択してください
AK20: 選択してください
AK21: 選択してください
AK22: 選択してください
AK23: 選択してください
AK24: 選択してください
AK25: 選択してください
AK26: 選択してください
... AK37: 選択してください

Sheet 別紙⑥
B2: 別紙⑥_Webリダイレクト詳細設定・利用規約表示申込書(ハイエンド６プラン/ハイエンドプラン/ハイエンドＥｘプラン用)
BB6: =本紙!AQ5 -> Ver.5.11(2025.12.03～）
B7: Webリダイレクトの詳細設定や利用規約表示を依頼する場合、以下を記入してください
B12: 設定するSSID名
B14: 設定項目 | O14: 詳細な設定
B15: 接続画面再表示までの間隔 （デフォルト値：１時間） | P15: □ | Q15: 30分ごと | W15: □ | X15: 1時間ごと | AC15: □ | AD15: 2時間ごと | AJ15: □ | AK15: 4時間ごと | AQ15: □ | AR15: 8時間ごと | AX15: □ | AY15: 12時間ごと
P16: □ | Q16: 18時間ごと | W16: □ | X16: 毎日 | AC16: □ | AD16: 2日間ごと | AJ16: □ | AK16: 4日ごと | AQ16: □ | AR16: 5日間ごと | AX16: □ | AY16: 毎週
P17: □ | Q17: 2週間ごと | W17: □ | X17: 30日おき | AC17: □ | AD17: 60日おき | AJ17: □ | AK17: 90日おき
B18: ロゴの有無※1 （デフォルト値：無し）
P19: □ | R19: 有り(ロゴは別ファイルで送付)
P21: □ | R21: 無し
B23: インターネットへの接続ボタンの 言語表示 （デフォルト値：日本語）
P24: □ | R24: 日本語 | W24: （表示：インターネットへ接続する）
P26: □ | R26: 英語 | W26: （表示：Continue to the Internet)
B28: 利用規約の表示有無 （デフォルト値：無し）
P29: □ | R29: 有り
P31: □ | R31: 無し（Webリダイレクトのみ利用）
B33: 利用規約の文面※2
B67: ※1 ロゴの画像データ形式はPNG、JPEG、GIFが対応可能です。200×100サイズを超える画像はリサイズされます。
B68: ※2 利用規約文面は改行等がされずに続き文字で表示されます（改行等が必要な場合はhtmlでご依頼いただければ対応可能です）

Sheet 別紙⑦
B2: 別紙⑦_外部Radius連携用申込書(ハイエンド６プラン/ハイエンドプラン/ハイエンドＥｘプラン用)
AT6: =本紙!AQ5 -> Ver.5.11(2025.12.03～）
B7: 外部Radius連携を利用する場合、以下を記入してください
B11: 設定するSSID名
B13: 設定項目 | O13: 詳細な設定
B14: Open Roaming連携
S15: 利用なし【標準設定】 | AF15: 利用あり(パターン1) | AS15: 利用あり(パターン2)
Q17: Open Roaming連携をご利用の場合、右図でパターンおよび留意事項を確認し"利用あり"にチェック"・"をつけてください。
O19: 1 | Q19: 利用にあたっては、公衆無線LANサービスに関するガイドライン（総務省や無線LANビジネス推進連絡会等により策定）に従ってください。
Q20: パターン1の場合、AP - Radius Proxy間の認証通信にRadSec(RADIUS over TLS)は適用できません。
Q21: パターン2の場合、AP - Radius Proxy間の認証通信にRadSecが適用されます。
Q23: Open Roaming連携 利用あり の場合、以下項目もチェック"■"をお願いします。
Q25: ・ | S25: 国内ですでに運用中のOpen Roaming対応SSIDと同名のSSIDを送波する場合、
S26: 同名のSSIDを送波することを、SSID管理者等へ承諾を得ていますか
V27: □ | X27: 承諾を得ている
B29: Radiusサーバの IP/ポート番号/共通鍵 | O29: RadiusサーバIPアドレス | AC29: Radiusサーバ ポート番号 ※一般的なRadiuss認証用ポート番号:1812 | AQ29: クライアント-サーバ間の共通鍵
O31: 1
O32: 2 | Q32: Radiusサーバが2台ある場合以下に記載
O34: 3 | Q34: Radiusサーバが3台ある場合以下に記載
B36: Radiusのテストアカウント | O36: テストアカウントはアクセスポイント装置～Radiusサーバ間のRadius連携の動作確認に必要になります
O37: ユーザ名 | AK37: パスワード
O39: 1
O40: 2 | Q40: Radiusサーバが２台ある場合以下に記載
O42: 3 | Q42: Radiusサーバが3台ある場合以下に記載
B44: Dynamic VLAN
P45: □ | R45: Dynamic VLANの設定必要あり | AJ45: □ | AL45: デフォルトに戻す（無効）
Q47: 指定されたRadiusサーバがDynamicVLANに対応かつ設定している場合、
Q48: ”Dynamic VLANの設定必要あり”にチェック”■"をつけてください。
Q49: RadiusサーバのTunnel-Private-Group-IDにより動的に対応させることが可能です。
B51: Radius利用上の注意事項 | O51: お客様Radiusサーバに、Radiusクライアントとしてアクセスポイント装置のIPアドレスを登録願います アクセスポイント装置のIPアドレスを固定IPとして設定願います（DHCPは原則NG） アクセスポイント装置のIPアドレスとRadiusサーバが疎通可能な必要があります
B56: Radiusアカウンティングサーバの IP/ポート番号/共通鍵 (設定が必要な場合のみ記載) | O56: Radiusアカウンティングサーバ IPアドレス | AC56: Radiusアカウンティングサーバ ポート番号 | AQ56: クライアント-サーバ間の 共通鍵
O58: 1
O59: 2 | Q59: Radiusアカウンティングサーバが2台ある場合以下に記載
O61: 3 | Q61: Radiusアカウンティングサーバが3台ある場合以下に記載

Sheet 別紙⑧
B2: 別紙⑧_無線環境パラメータ調整用申込書(ハイエンド６プラン/ハイエンドプラン/ハイエンドＥｘプラン用) | BD2: ＜記入例＞別紙⑧ 無線環境パラメータ調整用申込書(ハイエンド６プラン/ハイエンドプラン/ハイエンドＥｘプラン用)
AT7: =本紙!AQ5 -> Ver.5.11(2025.12.03～）
B9: 無線環境調整のため以下のパラメータ調整をする場合は記入してください | BD9: 無線環境調整のため以下のパラメータ調整をする場合、記入してください
B12: 設定するAPのシリアルNo. | BD12: 設定するAPのシリアルNo. | BQ12: xxxx-xxxx-xxxxx
B14: 設定項目 | O14: 詳細な設定
B15: 電波出力自動調整の範囲指定
Q16: 範囲指定
Z17: 下限 | AJ17: 上限
U18: 2.4GHz | Y18: （ | AC18: ） | AF18: ～ | AI18: （ | AM18: ）dBm
U20: 5GHｚ | Y20: （ | AC20: ） | AF20: ～ | AI20: （ | AM20: ）dBm
S22: ・上限下限とも2～30の整数値で記入
S23: ・指定する場合は厳密な設計が必要です
S24: （設置個所の電波状況に大きく影響するため、指定値に関するサポートはありません）
S25: ・全SSID共通の設定となります
S26: ・本設定は「電波出力自動調整」の設定よりも優先されます
B28: 最小ビットレート値
Q29: 指定
U30: 2.4GHz | Z30: （ | AE30: Mbps | AF30: ）
U32: 5GHｚ | Z32: （ | AE32: Mbps | AF32: ）
R34: ※ | S34: 最小ビットレート値を指定すると古いデバイスなどが接続不可となる場合があります

Sheet 別紙⑨
B2: 別紙⑨_ダッシュボード上のNW名・AP名変更設定(ハイエンド６プラン/ハイエンドプラン/ハイエンドＥｘプラン用)
BN7: =本紙!AQ5 -> Ver.5.11(2025.12.03～）
B9: 契約ID | K9: =本紙!H13&本紙!M13
B11: 設定項目 | K11: 標準設定 | AF11: 設定変更
B12: ダッシュボードのNW名 | K12: 契約IDがCAF0123456789の場合 CAF0123456789-001 | AQ12: ="--"&$K$9 -> -- | BC12: ・左側が自由記述欄
BC13: 例：契約IDがCAF0123456789の場合
BC14: Osaka-CAF0123456789
BC15: ・入力可能文字：半角英数および半角記号（. @ # _ -）
B18: 契約ID(NW名) | N18: 変更したい名前 | AC18: ="--"&$K$9 -> -- | AN18: 契約ID(NW名) | AZ18: 変更したい名前 | BO18: ="--"&$K$9 -> --
B19: 契約ID(NW名) | N19: 変更したい名前 | AC19: ="--"&$K$9 -> -- | AN19: 契約ID(NW名) | AZ19: 変更したい名前 | BO19: ="--"&$K$9 -> --
B20: 契約ID(NW名) | N20: 変更したい名前 | AC20: ="--"&$K$9 -> -- | AN20: 契約ID(NW名) | AZ20: 変更したい名前 | BO20: ="--"&$K$9 -> --
B21: 契約ID(NW名) | N21: 変更したい名前 | AC21: ="--"&$K$9 -> -- | AN21: 契約ID(NW名) | AZ21: 変更したい名前 | BO21: ="--"&$K$9 -> --
B22: 契約ID(NW名) | N22: 変更したい名前 | AC22: ="--"&$K$9 -> -- | AN22: 契約ID(NW名) | AZ22: 変更したい名前 | BO22: ="--"&$K$9 -> --
B23: 契約ID(NW名) | N23: 変更したい名前 | AC23: ="--"&$K$9 -> -- | AN23: 契約ID(NW名) | AZ23: 変更したい名前 | BO23: ="--"&$K$9 -> --
B24: 契約ID(NW名) | N24: 変更したい名前 | AC24: ="--"&$K$9 -> -- | AN24: 契約ID(NW名) | AZ24: 変更したい名前 | BO24: ="--"&$K$9 -> --
B25: 契約ID(NW名) | N25: 変更したい名前 | AC25: ="--"&$K$9 -> -- | AN25: 契約ID(NW名) | AZ25: 変更したい名前 | BO25: ="--"&$K$9 -> --
B26: 契約ID(NW名) | N26: 変更したい名前 | AC26: ="--"&$K$9 -> -- | AN26: 契約ID(NW名) | AZ26: 変更したい名前 | BO26: ="--"&$K$9 -> --
B27: 契約ID(NW名) | N27: 変更したい名前 | AC27: ="--"&$K$9 -> -- | AN27: 契約ID(NW名) | AZ27: 変更したい名前 | BO27: ="--"&$K$9 -> --
B31: APID | Y31: ※ 対象AP番号は④-1で入れた番号と連動させること
B33: 設定項目 | K33: 標準設定 | AF33: 設定変更
B34: AP名 | K34: 001-001
BC35: ・自由記述
BC36: ・入力可能文字：半角英数および半角記号（. @ # _ -）
B41: AP-ID | N41: 変更したい名前 | AD41: AP-ID | AP41: 変更したい名前
B42: AP-ID | N42: 変更したい名前 | AD42: AP-ID | AP42: 変更したい名前
B43: AP-ID | N43: 変更したい名前 | AD43: AP-ID | AP43: 変更したい名前
B44: AP-ID | N44: 変更したい名前 | AD44: AP-ID | AP44: 変更したい名前
B45: AP-ID | N45: 変更したい名前 | AD45: AP-ID | AP45: 変更したい名前
B46: AP-ID | N46: 変更したい名前 | AD46: AP-ID | AP46: 変更したい名前
B47: AP-ID | N47: 変更したい名前 | AD47: AP-ID | AP47: 変更したい名前
B48: AP-ID | N48: 変更したい名前 | AD48: AP-ID | AP48: 変更したい名前
B49: AP-ID | N49: 変更したい名前 | AD49: AP-ID | AP49: 変更したい名前
B50: AP-ID | N50: 変更したい名前 | AD50: AP-ID | AP50: 変更したい名前

Sheet リスト
A1: 注文種別 | B1: 年 | C1: 月 | D1: 日 | E1: 有無 | F1: 注文種別 | G1: 詳細設定希望 | H1: 注文種別 | I1: 都道府県 | J1: 別紙⑨-1 変更申込内容 | K1: 別紙⑨-2 設定変更
A2: ■選択して下さい■ | B2: 2017 | C2: 1 | D2: 1 | E2: 有 | F2: ■選択して下さい■ | G2: ■選択して下さい■ | H2: ■選択して下さい■ | I2: 北海道 | J2: SSID/パスワードの変更 | K2: SSID/パスワードの追加
A3: AP別のSSID設定(ハイエンド/ハイエンドEx) | B3: 2018 | C3: 2 | D3: 2 | E3: 無 | F3: SSID設定変更 | G3: 希望する(本依頼書・設定変更詳細依頼書と別紙③～⑨を記載・送付してください) | H3: AP別のSSID設定(ハイエンド６/ハイエンド/ハイエンドEx) | I3: 青森県 | J3: メールアドレス変更 | K3: SSID/パスワードの削除
A4: AP別のSSID設定(ベーシック/ライト) | B4: 2019 | C4: 3 | D4: 3 | F4: 連絡先変更 | G4: 希望しない(本依頼書と別紙①～②を記載・送付してください) | H4: AP別のSSID設定(ベーシック/ライト) | I4: 岩手県
A5: SSID毎の詳細設定(ハイエンド) | B5: 2020 | C5: 4 | D5: 4 | H5: SSID毎の詳細設定(ハイエンド６/ハイエンド/ハイエンドEx) | I5: 宮城県
A6: SSID毎の詳細設定(ベーシック) | B6: 2021 | C6: 5 | D6: 5 | H6: SSID毎の詳細設定(ベーシック) | I6: 秋田県
A7: SSID毎の詳細設定(ライト) | B7: 2022 | C7: 6 | D7: 6 | H7: SSID毎の詳細設定(ライト) | I7: 山形県
B8: 2023 | C8: 7 | D8: 7 | H8: 利用規約表示設定（ハイエンド６/ハイエンド/ハイエンドEx） | I8: 福島県
B9: 2024 | C9: 8 | D9: 8 | H9: 外部Radius連携設定（ハイエンド６/ハイエンド/ハイエンドEx） | I9: 東京都
B10: 2025 | C10: 9 | D10: 9 | H10: 無線環境パラメータ調整設定（ハイエンド６/ハイエンド/ハイエンドEx） | I10: 神奈川県
B11: 2026 | C11: 10 | D11: 10 | H11: ダッシュボード上のNW名変更・AP名変更（ハイエンド６/ハイエンド/ハイエンドEx） | I11: 埼玉県
B12: 2027 | C12: 11 | D12: 11 | I12: 千葉県
B13: 2028 | C13: 12 | D13: 12 | I13: 茨城県
B14: 2029 | D14: 13 | I14: 栃木県
B15: 2030 | D15: 14 | I15: 群馬県
B16: 2031 | D16: 15 | I16: 山梨県
B17: 2032 | D17: 16 | I17: 新潟県
B18: 2033 | D18: 17 | I18: 長野県
B19: 2034 | D19: 18 | I19: 富山県
B20: 2035 | D20: 19 | I20: 石川県
B21: 2036 | D21: 20 | I21: 福井県
B22: 2037 | D22: 21 | I22: 愛知県
B23: 2038 | D23: 22 | I23: 岐阜県
B24: 2039 | D24: 23 | I24: 静岡県
B25: 2040 | D25: 24 | I25: 三重県
D26: 25 | I26: 大阪府
D27: 26 | I27: 兵庫県
D28: 27 | I28: 京都府
D29: 28 | I29: 滋賀県
D30: 29 | I30: 奈良県
D31: 30 | I31: 和歌山県
D32: 31 | I32: 鳥取県
I33: 島根県
I34: 岡山県
I35: 広島県
I36: 山口県
I37: 徳島県
I38: 香川県
I39: 愛媛県
I40: 高知県
...
